{"text_format":"1","workbook":"xlsx","n_sheets":8,"sheets":["Ref Data Entry","Revision log","Model Inputs","Ref Summary","AHRI 1200 Data Format","Ref_Instructions","Appendix G 2016","Constants"],"not_rendered":{"charts":0,"images":2,"macros":1,"external_links":0,"defined_names":31,"comments":0,"pivot_tables":0},"unopened":[],"bounds":{"document_bytes":16777216,"sheet_cells":100000,"rows_first":2000,"rows_last":500,"rows_between":2000,"halvings":0,"cell_chars":16384,"cell_head_chars":4096},"cells_cut":0,"cells_raw":0,"read":"whole","date_system":"1900"}

{"sheet":"Ref Data Entry","index":0,"n_rows":109,"n_cols":17,"rows_kept":109,"cut":false,"hidden":false,"merged":[[61,4,63,4],[77,4,81,4],[70,4,72,4],[73,4,76,4],[109,4,109,10],[14,5,14,9],[29,5,29,6],[30,4,60,4],[65,4,69,4],[15,5,15,10],[16,5,16,10],[17,5,17,10],[18,5,18,10],[19,5,19,10],[20,5,20,10],[21,5,21,10],[22,5,22,10]]}
[]
[]
[]
[]
[]
[null,null,null,null,null,"Pay for Performance"]
[null,null,null,null,null,"Technical Tip: Calculating Regulated Refrigeration Equipment Energy Consumption Version 1.1"]
[]
[null,null,null,null,null,"Color Legend"]
[null,null,null,null,null,null,"= Input required",null,null,"On this tab this = Critical input not yet entered"]
[null,null,null,null,null,null,"= Input optional",null,null,null,null,null,null,null,null,null,{"$f":"5/0","v":{"$error":"#DIV/0!"}}]
[null,null,null,null,null,null,"= Autopopulated, editable, explain overrides in notes section below"]
[null,null,null,null,null,null,"= Autopopulated not editable"]
[null,null,null,null,null,null,"= Inapplicable, leave blank"]
[null,null,null,null,null,"Instructions"]
[null,{"$f":"ROW()-ROW($B$15)","v":1},null,null,null,{"$f":"B16&\". Select the version of ASHRAE 90.1 that is applicable to this project.\"","v":"1. Select the version of ASHRAE 90.1 that is applicable to this project."}]
[null,{"$f":"ROW()-ROW($B$15)","v":2},null,null,null,{"$f":"CONCATENATE(B17,\". Enter AHRI 1200 manufacturer data for commercial display cases in the table below. For sample data format and link to the standard see the \"\"AHRI 1200 Data Format\"\" tab. \")&CONCATENATE(\"After filling out this tab move to the \"\"Model Inputs\"\" tab to assign refrigeration units to thermal zones. Leave fields blank if n/a.\")","v":"2. Enter AHRI 1200 manufacturer data for commercial display cases in the table below. For sample data format and link to the standard see the \"AHRI 1200 Data Format\" tab. After filling out this tab move to the \"Model Inputs\" tab to assign refrigeration units to thermal zones. Leave fields blank if n/a."}]
[null,{"$f":"ROW()-ROW($B$15)","v":3},null,null,null,{"$f":"B18&\". The baseline kWh/day values will autopopulate based upon ASHRAE 90.1-2016 Appendix G Tables G3.10.1 and  G3.10.2.\"","v":"3. The baseline kWh/day values will autopopulate based upon ASHRAE 90.1-2016 Appendix G Tables G3.10.1 and  G3.10.2."}]
[null,4,null,null,null,{"$f":"B19&\". Hatched out cells are not applicable and should remain empty.\"","v":"4. Hatched out cells are not applicable and should remain empty."}]
[null,5,null,null,null,{"$f":"B20&\". Click the \"\"Freeze Panes\"\" button to freeze and unfreeze the panes for the table to allow scrolling to the right and down while keeping the column and row headings visible.  Click a second time to unfreeze.\"","v":"5. Click the \"Freeze Panes\" button to freeze and unfreeze the panes for the table to allow scrolling to the right and down while keeping the column and row headings visible.  Click a second time to unfreeze."}]
[null,6,null,null,null,{"$f":"B21&\". Click the \"\"Add Unit\"\" to add more columns for additional refrigeration unit types.\"","v":"6. Click the \"Add Unit\" to add more columns for additional refrigeration unit types."}]
[null,7,null,null,null,{"$f":"B22&\". Click the \"\"?\"\" buttons on the left for help and for furthur details.\"&CHAR(10)&\"8. Bold red text indicates that the entered kWh/day value may be out of the the typical range and that the entries for TDA/V and kWh/day should be rechecked for accuracy.\"","v":"7. Click the \"?\" buttons on the left for help and for furthur details.\n8. Bold red text indicates that the entered kWh/day value may be out of the the typical range and that the entries for TDA/V and kWh/day should be rechecked for accuracy."}]
[null,8,{"$f":"5/0","v":{"$error":"#DIV/0!"}}]
[]
[]
[null,null,null,null,null,"Select the applicable version of ASHRAE 90.1:"]
[]
[null,null,{"$f":"5/0","v":{"$error":"#DIV/0!"}}]
[null,null,null,null,"Equipment Details"]
[null,null,null,null,null,"Display Case ID:",null,{"$f":"\"Unit #\"&COLUMN()-COLUMN($G$30)","v":"Unit #1"},{"$f":"\"Unit #\"&COLUMN()-COLUMN($G$30)","v":"Unit #2"},{"$f":"\"Unit #\"&COLUMN()-COLUMN($G$30)","v":"Unit #3"},"Unit #4","Unit #5","Unit #6","Unit #7","Unit #8","Unit #9","Unit #10"]
[null,{"$f":"ROW()-ROW($B$30)","v":1},null,null,"Proposed","Unit ID from Design Documents","-"]
[null,{"$f":"ROW()-ROW($B$30)","v":2},null,null,null,"Equipment Category","-"]
[null,3,null,null,null,"Equipment Family","-",{"$f":"IF(OR(H32=\"Other-Unregulated\",LEFT(H32,7)=\"Walk-In\",H32=\"Refrigerators/freezers with solid doors\"),\"n/a\",IF(H32=\"Self-Contained Commercial Refrigerators with Transparent Doors for Pull-Down Temperature Applications\",\"Pull-Down (PD)\",\"\"))","v":""},{"$f":"IF(OR(I32=\"Other-Unregulated\",LEFT(I32,7)=\"Walk-In\",I32=\"Refrigerators/freezers with solid doors\"),\"n/a\",IF(I32=\"Self-Contained Commercial Refrigerators with Transparent Doors for Pull-Down Temperature Applications\",\"Pull-Down (PD)\",\"\"))","v":""},null,{"$f":"IF(OR(LEFT(K32,7)=\"Walk-In\",K32=\"Refrigerators/freezers with solid doors\"),\"n/a\",IF(K32=\"Self-Contained Commercial Refrigerators with Transparent Doors for Pull-Down Temperature Applications\",\"Pull-Down (PD)\",\"\"))","v":""},null,null,{"$f":"IF(N32=\"Refrigerators/freezers with solid doors\",\"n/a\",IF(N32=\"Self-Contained Commercial Refrigerators with Transparent Doors for Pull-Down Temperature Applications\",\"Pull-Down (PD)\",\"\"))","v":""},{"$f":"IF(O32=\"Refrigerators/freezers with solid doors\",\"n/a\",IF(O32=\"Self-Contained Commercial Refrigerators with Transparent Doors for Pull-Down Temperature Applications\",\"Pull-Down (PD)\",\"\"))","v":""},{"$f":"IF(P32=\"Refrigerators/freezers with solid doors\",\"n/a\",IF(P32=\"Self-Contained Commercial Refrigerators with Transparent Doors for Pull-Down Temperature Applications\",\"Pull-Down (PD)\",\"\"))","v":""},{"$f":"IF(Q32=\"Refrigerators/freezers with solid doors\",\"n/a\",IF(Q32=\"Self-Contained Commercial Refrigerators with Transparent Doors for Pull-Down Temperature Applications\",\"Pull-Down (PD)\",\"\"))","v":""}]
[null,4,null,null,null,"Condensing Unit Configuration","-",{"$f":"IF(H32=\"Refrigerators/freezers with solid doors\",\"Self-Contained (SC)\",IF(OR(LEFT(H32,7)=\"Walk-In\",H32=\"Remote Condensing Commercial Refrigerators and Commercial Freezers\"),\"Remote (RC)\",IF(LEFT(H32,14)=\"Self-Contained\",\"Self-Contained (SC)\",\"\")))","v":""},{"$f":"IF(I32=\"Refrigerators/freezers with solid doors\",\"Self-Contained (SC)\",IF(OR(LEFT(I32,7)=\"Walk-In\",I32=\"Remote Condensing Commercial Refrigerators and Commercial Freezers\"),\"Remote (RC)\",IF(LEFT(I32,14)=\"Self-Contained\",\"Self-Contained (SC)\",\"\")))","v":""},null,{"$f":"IF(K32=\"Refrigerators/freezers with solid doors\",\"Self-Contained (SC)\",IF(OR(LEFT(K32,7)=\"Walk-In\",K32=\"Remote Condensing Commercial Refrigerators and Commercial Freezers\"),\"Remote (RC)\",IF(LEFT(K32,14)=\"Self-Contained\",\"Self-Contained (SC)\",\"\")))","v":""},null,null,{"$f":"IF(N32=\"Refrigerators/freezers with solid doors\",\"Self-Contained (SC)\",IF(N32=\"Remote Condensing Commercial Refrigerators and Commercial Freezers\",\"Remote (RC)\",IF(LEFT(N32,14)=\"Self-Contained\",\"Self-Contained (SC)\",\"\")))","v":""},{"$f":"IF(O32=\"Refrigerators/freezers with solid doors\",\"Self-Contained (SC)\",IF(O32=\"Remote Condensing Commercial Refrigerators and Commercial Freezers\",\"Remote (RC)\",IF(LEFT(O32,14)=\"Self-Contained\",\"Self-Contained (SC)\",\"\")))","v":""},{"$f":"IF(P32=\"Refrigerators/freezers with solid doors\",\"Self-Contained (SC)\",IF(P32=\"Remote Condensing Commercial Refrigerators and Commercial Freezers\",\"Remote (RC)\",IF(LEFT(P32,14)=\"Self-Contained\",\"Self-Contained (SC)\",\"\")))","v":""},{"$f":"IF(Q32=\"Refrigerators/freezers with solid doors\",\"Self-Contained (SC)\",IF(Q32=\"Remote Condensing Commercial Refrigerators and Commercial Freezers\",\"Remote (RC)\",IF(LEFT(Q32,14)=\"Self-Contained\",\"Self-Contained (SC)\",\"\")))","v":""}]
[null,5,null,null,null,"Rating Temperature","-",{"$f":"IF(H32=\"Refrigerators/freezers with solid doors\",\"Holding temperature\",IF(H32=\"Commercial Ice-Cream Freezers\",\"-15F\",IF(H32=\"Self-Contained Commercial Refrigerators with Transparent Doors for Pull-Down Temperature Applications\",\"38F (Medium)\",IF(H32=\"Walk-In Refrigerator\",\"35F (Medium)\",IF(H32=\"Walk-In Freezer\",\"-10F\",\"\")))))","v":""},{"$f":"IF(I32=\"Refrigerators/freezers with solid doors\",\"Holding temperature\",IF(I32=\"Commercial Ice-Cream Freezers\",\"-15F\",IF(I32=\"Self-Contained Commercial Refrigerators with Transparent Doors for Pull-Down Temperature Applications\",\"38F (Medium)\",IF(I32=\"Walk-In Refrigerator\",\"35F (Medium)\",IF(I32=\"Walk-In Freezer\",\"-10F\",\"\")))))","v":""},null,null,null,null,{"$f":"IF(N32=\"Refrigerators/freezers with solid doors\",\"Holding temperature\",IF(N32=\"Commercial Ice-Cream Freezers\",\"-15F\",IF(N32=\"Self-Contained Commercial Refrigerators with Transparent Doors for Pull-Down Temperature Applications\",\"38F (Medium)\",\"\")))","v":""},{"$f":"IF(O32=\"Refrigerators/freezers with solid doors\",\"Holding temperature\",IF(O32=\"Commercial Ice-Cream Freezers\",\"-15F\",IF(O32=\"Self-Contained Commercial Refrigerators with Transparent Doors for Pull-Down Temperature Applications\",\"38F (Medium)\",\"\")))","v":""},{"$f":"IF(P32=\"Refrigerators/freezers with solid doors\",\"Holding temperature\",IF(P32=\"Commercial Ice-Cream Freezers\",\"-15F\",IF(P32=\"Self-Contained Commercial Refrigerators with Transparent Doors for Pull-Down Temperature Applications\",\"38F (Medium)\",\"\")))","v":""},{"$f":"IF(Q32=\"Refrigerators/freezers with solid doors\",\"Holding temperature\",IF(Q32=\"Commercial Ice-Cream Freezers\",\"-15F\",IF(Q32=\"Self-Contained Commercial Refrigerators with Transparent Doors for Pull-Down Temperature Applications\",\"38F (Medium)\",\"\")))","v":""}]
[null,6,null,null,null,"Quantity of Identical Refrigeration Units","Qty"]
[null,7,null,null,null,"Make/Model Number, Length, # of Doors per Unit","-"]
[null,8,null,null,null,"AHRI 1200 kWh/day documentation available (Yes/No)?","-",{"$f":"IF(OR(H32=\"Other-Unregulated\",LEFT(H32,7)=\"Walk-In\"),\"n/a\",\"\")","v":""},{"$f":"IF(OR(I32=\"Other-Unregulated\",LEFT(I32,7)=\"Walk-In\"),\"n/a\",\"\")","v":""}]
[null,9,{"$f":"5/0","v":{"$error":"#DIV/0!"}},null,null,"Adjusted Dew Point (Refrigerant)","°F"]
[null,10,null,null,null,"Refrigeration Load per Unit","Btu/h"]
[null,11,{"$f":"5/0","v":{"$error":"#DIV/0!"}},null,null,"Length of Refrigerated Space, L per Unit","ft"]
[null,12,null,null,null,"Refrigerated Volume, V per Unit","ft3"]
[null,13,null,null,null,"Total Display Area, TDA or Floor Area for Walk-Ins per Unit","ft2"]
[null,14,{"$f":"5/0","v":{"$error":"#DIV/0!"}},null,null,"Unit Test Voltage","Volts"]
[null,15,{"$f":"5/0","v":{"$error":"#DIV/0!"}},null,null,"Evaporator Dew Point Temperature (Refrigerant), °F","°F"]
[null,16,{"$f":"5/0","v":{"$error":"#DIV/0!"}},null,null,"Integrated Average Temperature of Product Simulators, °F","°F"]
[null,17,{"$f":"5/0","v":{"$error":"#DIV/0!"}},null,null,"Compressor Energy Consumption, CEC per Unit","kWh/day"]
[null,18,{"$error":"#DIV/0!"},null,null,"Fan Energy Consumption, FEC per Unit","kWh/day"]
[null,19,{"$error":"#DIV/0!"},null,null,"Lighting Energy Consumption, LEC per Unit","kWh/day"]
[null,20,{"$error":"#DIV/0!"},null,null,"Anti-Condensate Energy Consumption, PEC per Unit","kWh/day"]
[null,21,{"$error":"#DIV/0!"},null,null,"Defrost Energy Consumption, AEC per Unit","kWh/day"]
[null,22,{"$error":"#DIV/0!"},null,null,"Condensate Evaporator Pan Energy Consumption, DEC per Unit","kWh/day"]
[null,23,null,null,null,"Calculated Daily Energy Consumption per Unit, CDEC or TDEC","kWh/day"]
[null,24,null,null,null,"Calculated Daily Energy Consumption Total","kWh/day",{"$f":"IF(H53=\"\",\"\",H53*H36)","v":""},{"$f":"IF(I53=\"\",\"\",I53*I36)","v":""},"","","","","","","",""]
[null,25,{"$f":"5/0","v":{"$error":"#DIV/0!"}},null,null,"CDEC or TDEC/Refrigerated Volume","kWh/ft3per day"]
[null,26,{"$f":"5/0","v":{"$error":"#DIV/0!"}},null,null,"CDEC or TDEC/Total Display Area","kWh/ft2per day"]
[null,27,null,null,null,"Other Loads per Unit","kWh/day"]
[null,28,null,null,null,"Other Loads Description","-"]
[null,29,null,null,null,"Proposed Daily Energy Consumption per Unit","kWh/day",{"$f":"IFERROR(IF(AND(H38=\"Yes\",H32<>\"Other-Unregulated\",LEFT(H32,7)<>\"Walk-In\"),(H57+H53),IF(AND(H38=\"No\",H32<>\"Other-Unregulated\",LEFT(H32,7)<>\"Walk-In\"),H106,IF(LEFT(H32,7)=\"Walk-In\",H74*H73,IF(H32=\"Other-Unregulated\",(H57+H53),0)))),0)","v":0},{"$f":"IFERROR(IF(AND(I38=\"Yes\",I32<>\"Other-Unregulated\",LEFT(I32,7)<>\"Walk-In\"),(I57+I53),IF(AND(I38=\"No\",I32<>\"Other-Unregulated\",LEFT(I32,7)<>\"Walk-In\"),I106,IF(LEFT(I32,7)=\"Walk-In\",I74*I73,IF(I32=\"Other-Unregulated\",(I57+I53),0)))),0)","v":0},0,0,0,0,0,0,0,0]
[null,30,null,null,null,"Proposed Daily Energy Consumption Total","kWh/day",{"$f":"IFERROR(H59*H36,0)","v":0},{"$f":"IFERROR(I59*I36,0)","v":0},0,0,0,0,0,0,0,0]
[null,31,null,null,null,"Equipment Classification","-",{"$f":"IFERROR(IF(AND(LEFT(H32,7)<>\"Walk-In\",H32<>\"Other-Unregulated\"),INDEX(ASHRAE_2016_Baseline,MATCH(H32&H33&H34&H35&2016,INDEX(ASHRAE_2016_Baseline,,17),0),6),\"-\"),\"-\")","v":"-"},"-","-","-","-","-","-","-","-","-"]
[null,32,null,null,"Baseline","Baseline Daily Energy Consumption per Unit","kWh/day",{"$f":"IFERROR(IF(AND(H32<>\"Other-Unregulated\",LEFT(H32,7)<>\"Walk-In\"),IF(H86=\"TDA\",H84*H43+H85,H84*H42+H85),IF(LEFT(H32,7)=\"Walk-In\",H79*H78,IF(H32=\"Other-Unregulated\",H59,0))),\"\")","v":""},{"$f":"IFERROR(IF(AND(I32<>\"Other-Unregulated\",LEFT(I32,7)<>\"Walk-In\"),IF(I86=\"TDA\",I84*I43+I85,I84*I42+I85),IF(LEFT(I32,7)=\"Walk-In\",I79*I78,IF(I32=\"Other-Unregulated\",I59,0))),\"\")","v":""},"","","","","","","",""]
[null,33,null,null,null,"Baseline Daily Energy Consumption Total","kWh/day",{"$f":"IFERROR(H62*H36,0)","v":0},{"$f":"IFERROR(I62*I36,0)","v":0},0,0,0,0,0,0,0,0]
[null,34,null,null,null,"Percent Savings, Baseline to Proposed","%",{"$f":"IFERROR(IF(H60=0,0,(H63-H60)/H63),0)","v":0},{"$f":"IFERROR(IF(I60=0,0,(I63-I60)/I63),0)","v":0},0,0,0,0,0,0,0,0]
[null,35]
[null,36,null,null,"Walk-Ins Only","Walk-ins Only, the Number of Glass Display Doors, N","-"]
[null,37,null,null,null,"Walk-ins Only, Proposed Power Density of Walk-in, PD","W/ft2",{"$f":"IF(LEFT(H32,7)<>\"Walk-In\",\"-\",SUMPRODUCT(--('Ref Data Entry'!H43>INDEX(Ref_Walk_In_W_sf,,'Appendix G 2016'!$AQ$5)),--('Ref Data Entry'!H43<INDEX(Ref_Walk_In_W_sf,,'Appendix G 2016'!$AR$5)),INDEX(Ref_Walk_In_W_sf,,IF(H32=\"Walk-In Refrigerator\",'Appendix G 2016'!$AS$5,'Appendix G 2016'!$AT$5))))","v":"-"},{"$f":"IF(LEFT(I32,7)<>\"Walk-In\",\"-\",SUMPRODUCT(--('Ref Data Entry'!I43>INDEX(Ref_Walk_In_W_sf,,'Appendix G 2016'!$AQ$5)),--('Ref Data Entry'!I43<INDEX(Ref_Walk_In_W_sf,,'Appendix G 2016'!$AR$5)),INDEX(Ref_Walk_In_W_sf,,IF(I32=\"Walk-In Refrigerator\",'Appendix G 2016'!$AS$5,'Appendix G 2016'!$AT$5))))","v":"-"},{"$f":"IF(LEFT(J32,7)<>\"Walk-In\",\"-\",SUMPRODUCT(--('Ref Data Entry'!J43>INDEX(Ref_Walk_In_W_sf,,'Appendix G 2016'!$AQ$5)),--('Ref Data Entry'!J43<INDEX(Ref_Walk_In_W_sf,,'Appendix G 2016'!$AR$5)),INDEX(Ref_Walk_In_W_sf,,IF(J32=\"Walk-In Refrigerator\",'Appendix G 2016'!$AS$5,'Appendix G 2016'!$AT$5))))","v":"-"},{"$f":"IF(LEFT(K32,7)<>\"Walk-In\",\"-\",SUMPRODUCT(--('Ref Data Entry'!K43>INDEX(Ref_Walk_In_W_sf,,'Appendix G 2016'!$AQ$5)),--('Ref Data Entry'!K43<INDEX(Ref_Walk_In_W_sf,,'Appendix G 2016'!$AR$5)),INDEX(Ref_Walk_In_W_sf,,IF(K32=\"Walk-In Refrigerator\",'Appendix G 2016'!$AS$5,'Appendix G 2016'!$AT$5))))","v":"-"},{"$f":"IF(LEFT(L32,7)<>\"Walk-In\",\"-\",SUMPRODUCT(--('Ref Data Entry'!L43>INDEX(Ref_Walk_In_W_sf,,'Appendix G 2016'!$AQ$5)),--('Ref Data Entry'!L43<INDEX(Ref_Walk_In_W_sf,,'Appendix G 2016'!$AR$5)),INDEX(Ref_Walk_In_W_sf,,IF(L32=\"Walk-In Refrigerator\",'Appendix G 2016'!$AS$5,'Appendix G 2016'!$AT$5))))","v":"-"},{"$f":"IF(LEFT(M32,7)<>\"Walk-In\",\"-\",SUMPRODUCT(--('Ref Data Entry'!M43>INDEX(Ref_Walk_In_W_sf,,'Appendix G 2016'!$AQ$5)),--('Ref Data Entry'!M43<INDEX(Ref_Walk_In_W_sf,,'Appendix G 2016'!$AR$5)),INDEX(Ref_Walk_In_W_sf,,IF(M32=\"Walk-In Refrigerator\",'Appendix G 2016'!$AS$5,'Appendix G 2016'!$AT$5))))","v":"-"},{"$f":"IF(LEFT(N32,7)<>\"Walk-In\",\"-\",SUMPRODUCT(--('Ref Data Entry'!N43>INDEX(Ref_Walk_In_W_sf,,'Appendix G 2016'!$AQ$5)),--('Ref Data Entry'!N43<INDEX(Ref_Walk_In_W_sf,,'Appendix G 2016'!$AR$5)),INDEX(Ref_Walk_In_W_sf,,IF(N32=\"Walk-In Refrigerator\",'Appendix G 2016'!$AS$5,'Appendix G 2016'!$AT$5))))","v":"-"},{"$f":"IF(LEFT(O32,7)<>\"Walk-In\",\"-\",SUMPRODUCT(--('Ref Data Entry'!O43>INDEX(Ref_Walk_In_W_sf,,'Appendix G 2016'!$AQ$5)),--('Ref Data Entry'!O43<INDEX(Ref_Walk_In_W_sf,,'Appendix G 2016'!$AR$5)),INDEX(Ref_Walk_In_W_sf,,IF(O32=\"Walk-In Refrigerator\",'Appendix G 2016'!$AS$5,'Appendix G 2016'!$AT$5))))","v":"-"},{"$f":"IF(LEFT(P32,7)<>\"Walk-In\",\"-\",SUMPRODUCT(--('Ref Data Entry'!P43>INDEX(Ref_Walk_In_W_sf,,'Appendix G 2016'!$AQ$5)),--('Ref Data Entry'!P43<INDEX(Ref_Walk_In_W_sf,,'Appendix G 2016'!$AR$5)),INDEX(Ref_Walk_In_W_sf,,IF(P32=\"Walk-In Refrigerator\",'Appendix G 2016'!$AS$5,'Appendix G 2016'!$AT$5))))","v":"-"},{"$f":"IF(LEFT(Q32,7)<>\"Walk-In\",\"-\",SUMPRODUCT(--('Ref Data Entry'!Q43>INDEX(Ref_Walk_In_W_sf,,'Appendix G 2016'!$AQ$5)),--('Ref Data Entry'!Q43<INDEX(Ref_Walk_In_W_sf,,'Appendix G 2016'!$AR$5)),INDEX(Ref_Walk_In_W_sf,,IF(Q32=\"Walk-In Refrigerator\",'Appendix G 2016'!$AS$5,'Appendix G 2016'!$AT$5))))","v":"-"}]
[null,38,null,null,null,"Walk-ins Only, Baseline Power Density of Walk-in, PD","W/ft2",{"$f":"IF(LEFT(H32,7)<>\"Walk-In\",\"-\",SUMPRODUCT(--('Ref Data Entry'!H43>INDEX(Ref_Walk_In_W_sf,,'Appendix G 2016'!$AQ$5)),--('Ref Data Entry'!H43<INDEX(Ref_Walk_In_W_sf,,'Appendix G 2016'!$AR$5)),INDEX(Ref_Walk_In_W_sf,,IF(H32=\"Walk-In Refrigerator\",'Appendix G 2016'!$AS$5,'Appendix G 2016'!$AT$5))))","v":"-"},{"$f":"IF(LEFT(I32,7)<>\"Walk-In\",\"-\",SUMPRODUCT(--('Ref Data Entry'!I43>INDEX(Ref_Walk_In_W_sf,,'Appendix G 2016'!$AQ$5)),--('Ref Data Entry'!I43<INDEX(Ref_Walk_In_W_sf,,'Appendix G 2016'!$AR$5)),INDEX(Ref_Walk_In_W_sf,,IF(I32=\"Walk-In Refrigerator\",'Appendix G 2016'!$AS$5,'Appendix G 2016'!$AT$5))))","v":"-"},{"$f":"IF(LEFT(J32,7)<>\"Walk-In\",\"-\",SUMPRODUCT(--('Ref Data Entry'!J43>INDEX(Ref_Walk_In_W_sf,,'Appendix G 2016'!$AQ$5)),--('Ref Data Entry'!J43<INDEX(Ref_Walk_In_W_sf,,'Appendix G 2016'!$AR$5)),INDEX(Ref_Walk_In_W_sf,,IF(J32=\"Walk-In Refrigerator\",'Appendix G 2016'!$AS$5,'Appendix G 2016'!$AT$5))))","v":"-"},{"$f":"IF(LEFT(K32,7)<>\"Walk-In\",\"-\",SUMPRODUCT(--('Ref Data Entry'!K43>INDEX(Ref_Walk_In_W_sf,,'Appendix G 2016'!$AQ$5)),--('Ref Data Entry'!K43<INDEX(Ref_Walk_In_W_sf,,'Appendix G 2016'!$AR$5)),INDEX(Ref_Walk_In_W_sf,,IF(K32=\"Walk-In Refrigerator\",'Appendix G 2016'!$AS$5,'Appendix G 2016'!$AT$5))))","v":"-"},{"$f":"IF(LEFT(L32,7)<>\"Walk-In\",\"-\",SUMPRODUCT(--('Ref Data Entry'!L43>INDEX(Ref_Walk_In_W_sf,,'Appendix G 2016'!$AQ$5)),--('Ref Data Entry'!L43<INDEX(Ref_Walk_In_W_sf,,'Appendix G 2016'!$AR$5)),INDEX(Ref_Walk_In_W_sf,,IF(L32=\"Walk-In Refrigerator\",'Appendix G 2016'!$AS$5,'Appendix G 2016'!$AT$5))))","v":"-"},{"$f":"IF(LEFT(M32,7)<>\"Walk-In\",\"-\",SUMPRODUCT(--('Ref Data Entry'!M43>INDEX(Ref_Walk_In_W_sf,,'Appendix G 2016'!$AQ$5)),--('Ref Data Entry'!M43<INDEX(Ref_Walk_In_W_sf,,'Appendix G 2016'!$AR$5)),INDEX(Ref_Walk_In_W_sf,,IF(M32=\"Walk-In Refrigerator\",'Appendix G 2016'!$AS$5,'Appendix G 2016'!$AT$5))))","v":"-"},{"$f":"IF(LEFT(N32,7)<>\"Walk-In\",\"-\",SUMPRODUCT(--('Ref Data Entry'!N43>INDEX(Ref_Walk_In_W_sf,,'Appendix G 2016'!$AQ$5)),--('Ref Data Entry'!N43<INDEX(Ref_Walk_In_W_sf,,'Appendix G 2016'!$AR$5)),INDEX(Ref_Walk_In_W_sf,,IF(N32=\"Walk-In Refrigerator\",'Appendix G 2016'!$AS$5,'Appendix G 2016'!$AT$5))))","v":"-"},{"$f":"IF(LEFT(O32,7)<>\"Walk-In\",\"-\",SUMPRODUCT(--('Ref Data Entry'!O43>INDEX(Ref_Walk_In_W_sf,,'Appendix G 2016'!$AQ$5)),--('Ref Data Entry'!O43<INDEX(Ref_Walk_In_W_sf,,'Appendix G 2016'!$AR$5)),INDEX(Ref_Walk_In_W_sf,,IF(O32=\"Walk-In Refrigerator\",'Appendix G 2016'!$AS$5,'Appendix G 2016'!$AT$5))))","v":"-"},{"$f":"IF(LEFT(P32,7)<>\"Walk-In\",\"-\",SUMPRODUCT(--('Ref Data Entry'!P43>INDEX(Ref_Walk_In_W_sf,,'Appendix G 2016'!$AQ$5)),--('Ref Data Entry'!P43<INDEX(Ref_Walk_In_W_sf,,'Appendix G 2016'!$AR$5)),INDEX(Ref_Walk_In_W_sf,,IF(P32=\"Walk-In Refrigerator\",'Appendix G 2016'!$AS$5,'Appendix G 2016'!$AT$5))))","v":"-"},{"$f":"IF(LEFT(Q32,7)<>\"Walk-In\",\"-\",SUMPRODUCT(--('Ref Data Entry'!Q43>INDEX(Ref_Walk_In_W_sf,,'Appendix G 2016'!$AQ$5)),--('Ref Data Entry'!Q43<INDEX(Ref_Walk_In_W_sf,,'Appendix G 2016'!$AR$5)),INDEX(Ref_Walk_In_W_sf,,IF(Q32=\"Walk-In Refrigerator\",'Appendix G 2016'!$AS$5,'Appendix G 2016'!$AT$5))))","v":"-"}]
[null,39,null,null,null,"Walk-ins Only, Proposed Power per Glass Display Door, D","W/door",{"$f":"IF(LEFT(H32,7)<>\"Walk-In\",\"-\",IF(H32=\"Walk-In Refrigerator\",105,IF(H32=\"Walk-In Freezer\",325,\"\")))","v":"-"},{"$f":"IF(LEFT(I32,7)<>\"Walk-In\",\"-\",IF(I32=\"Walk-In Refrigerator\",105,IF(I32=\"Walk-In Freezer\",325,\"\")))","v":"-"},"-","-","-","-","-","-",{"$f":"IF(LEFT(P32,7)<>\"Walk-In\",\"-\",IF(P32=\"Walk-In Refrigerator\",105,IF(P32=\"Walk-In Freezer\",325,\"\")))","v":"-"},"-"]
[null,40,null,null,null,"Walk-ins only, Baseline Power per Glass Display Door, D","W/door",{"$f":"IF(LEFT(H32,7)<>\"Walk-In\",\"-\",IF(H32=\"Walk-In Refrigerator\",105,IF(H32=\"Walk-In Freezer\",325,\"\")))","v":"-"},{"$f":"IF(LEFT(I32,7)<>\"Walk-In\",\"-\",IF(I32=\"Walk-In Refrigerator\",105,IF(I32=\"Walk-In Freezer\",325,\"\")))","v":"-"},"-","-","-","-","-","-",{"$f":"IF(LEFT(P32,7)<>\"Walk-In\",\"-\",IF(P32=\"Walk-In Refrigerator\",105,IF(P32=\"Walk-In Freezer\",325,\"\")))","v":"-"},"-"]
[null,41,null,null,"All","Remote Condenser Fraction, F","Unitless",{"$f":"IF(H$34=\"\",\"\",IF(LEFT(H32,7)=\"Walk-In\",\"n/a\",IF(H$34=\"Self-Contained (SC)\",0,1)))","v":""},{"$f":"IF(I$34=\"\",\"\",IF(LEFT(I32,7)=\"Walk-In\",\"n/a\",IF(I$34=\"Self-Contained (SC)\",0,1)))","v":""},"","","","","","",{"$f":"IF(P$34=\"\",\"\",IF(LEFT(P32,7)=\"Walk-In\",\"n/a\",IF(P$34=\"Self-Contained (SC)\",0,1)))","v":""},""]
[null,42,null,null,null,"Coefficient of Performance, COP (for heat removal calcs only)","Unitless",{"$f":"IF(H$35=\"\",\"\",IF(LEFT(H32,7)=\"Walk-In\",\"n/a\",IF(H$35=\"38F (Medium)\",3.6,1.8)))","v":""},{"$f":"IF(I$35=\"\",\"\",IF(LEFT(I32,7)=\"Walk-In\",\"n/a\",IF(I$35=\"38F (Medium)\",3.6,1.8)))","v":""},"","","","","","",{"$f":"IF(P$35=\"\",\"\",IF(LEFT(P32,7)=\"Walk-In\",\"n/a\",IF(P$35=\"38F (Medium)\",3.6,1.8)))","v":""},""]
[null,43,null,null,null,"Daily Hours of Operation","hours",{"$f":"IF(H$31=\"\",\"\",24)","v":""},{"$f":"IF(I$31=\"\",\"\",24)","v":""},"","","","","","","",""]
[null,44,null,null,"Proposed","Proposed kW per Unit","kW",{"$f":"IFERROR(IF(LEFT(H32,7)<>\"Walk-In\",H$59/H$73,((H$67*H$43)+(H66*H69))*(1/1000)),0)","v":0},{"$f":"IFERROR(IF(LEFT(I32,7)<>\"Walk-In\",I$59/I$73,((I$67*I$43)+(I66*I69))*(1/1000)),0)","v":0},0,0,0,0,0,0,{"$f":"IFERROR(IF(LEFT(P32,7)<>\"Walk-In\",P$59/P$73,((P$67*P$43)+(P66*P69))*(1/1000)),0)","v":0},0]
[null,45,null,null,null,"Proposed kW Total","kW",{"$f":"IFERROR(IF(LEFT(H32,7)<>\"Walk-In\",H$60/H$73,H$74*H$36),0)","v":0},{"$f":"IFERROR(IF(LEFT(I32,7)<>\"Walk-In\",I$60/I$73,I$74*I$36),0)","v":0},0,0,0,0,0,0,{"$f":"IFERROR(IF(LEFT(P32,7)<>\"Walk-In\",P$60/P$73,P$74*P$36),0)","v":0},0]
[null,46,null,null,null,"Proposed Rate of Heat Removal from Space, Q per Unit","kBtu/hr",{"$f":"IFERROR(IF(LEFT(H32,7)=\"Walk-In\",0,IF(H$34=\"Self-Contained (SC)\",((1-H$71)*H$74*3.413),IF(H96=1,H98,H97))),0)","v":0},{"$f":"IFERROR(IF(LEFT(I32,7)=\"Walk-In\",0,IF(I$34=\"Self-Contained (SC)\",((1-I$71)*I$74*3.413),IF(I96=1,I98,I97))),0)","v":0},0,0,0,0,0,0,0,0]
[null,47,null,null,null,"Proposed Rate of Heat Removal from Space, Q Total","kBtu/hr",{"$f":"IFERROR(H76*H36,0)","v":0},{"$f":"IFERROR(I76*I36,0)","v":0},0,0,0,0,0,0,0,0]
[null,48,null,null,"Baseline","Baseline Daily Hours of Operation","hours",{"$f":"IF(H$31=\"\",\"\",24)","v":""},{"$f":"IF(I$31=\"\",\"\",24)","v":""},"","","","","","","",""]
[null,49,null,null,null,"Baseline kW per Unit","kW",{"$f":"IFERROR(IF(LEFT(H32,7)<>\"Walk-In\",H$62/H$78,((H$68*H$43)+(H66*H70))*(1/1000)),0)","v":0},{"$f":"IFERROR(IF(LEFT(I32,7)<>\"Walk-In\",I$62/I$78,((I$68*I$43)+(I66*I70))*(1/1000)),0)","v":0},0,0,0,0,0,0,{"$f":"IFERROR(IF(LEFT(P32,7)<>\"Walk-In\",P$62/P$78,((P$68*P$43)+(P66*P70))*(1/1000)),0)","v":0},0]
[null,50,null,null,null,"Baseline kW Total","kW",{"$f":"IFERROR(IF(LEFT(H32,7)<>\"Walk-In\",H$63/H$78,H$79*H$36),0)","v":0},{"$f":"IFERROR(IF(LEFT(I32,7)<>\"Walk-In\",I$63/I$78,I$79*I$36),0)","v":0},0,0,0,0,0,0,{"$f":"IFERROR(IF(LEFT(P32,7)<>\"Walk-In\",P$63/P$78,P$79*P$36),0)","v":0},0]
[null,51,null,null,null,"Baseline Rate of Heat Removal from Space, Q per Unit","kBtu/hr",{"$f":"IFERROR(IF(LEFT(H32,7)=\"Walk-In\",0,IF(H$34=\"Self-Contained (SC)\",((1-H$71)*H$79*3.413),H76)),0)","v":0},{"$f":"IFERROR(IF(LEFT(I32,7)=\"Walk-In\",0,IF(I$34=\"Self-Contained (SC)\",((1-I$71)*I$79*3.413),I76)),0)","v":0},0,0,0,0,0,0,0,{"$f":"IFERROR(IF(LEFT(Q32,7)=\"Walk-In\",0,IF(Q$34=\"Self-Contained (SC)\",((1-Q$71)*Q$79*3.413),Q76)),0)","v":0}]
[null,52,null,null,null,"Baseline Rate of Heat Removal from Space, Q Total","kBtu/hr",{"$f":"IFERROR(H81*H36,0)","v":0},{"$f":"IFERROR(I81*I36,0)","v":0},0,0,0,0,0,0,0,0]
[null,53]
[null,54,{"$f":"5/0","v":{"$error":"#DIV/0!"}},null,null,"x Baseline",null,{"$f":"INDEX(ASHRAE_2016_Baseline,MATCH(H32&H33&H34&H35&2016,INDEX(ASHRAE_2016_Baseline,,17),0),8)","v":{"$error":"#N/A"}},{"$f":"INDEX(ASHRAE_2016_Baseline,MATCH(I32&I33&I34&I35&2016,INDEX(ASHRAE_2016_Baseline,,17),0),8)","v":{"$error":"#N/A"}},{"$error":"#N/A"},{"$error":"#N/A"},{"$error":"#N/A"},{"$error":"#N/A"},{"$error":"#N/A"},{"$error":"#N/A"},{"$error":"#N/A"},{"$error":"#N/A"}]
[null,55,{"$f":"5/0","v":{"$error":"#DIV/0!"}},null,null,"b Baseline",null,{"$f":"INDEX(ASHRAE_2016_Baseline,MATCH(H32&H33&H34&H35&2016,INDEX(ASHRAE_2016_Baseline,,17),0),12)","v":{"$error":"#N/A"}},{"$f":"INDEX(ASHRAE_2016_Baseline,MATCH(I32&I33&I34&I35&2016,INDEX(ASHRAE_2016_Baseline,,17),0),12)","v":{"$error":"#N/A"}},{"$error":"#N/A"},{"$error":"#N/A"},{"$error":"#N/A"},{"$error":"#N/A"},{"$error":"#N/A"},{"$error":"#N/A"},{"$error":"#N/A"},{"$error":"#N/A"}]
[null,56,{"$error":"#DIV/0!"},null,null,"TDA or V Baseline",null,{"$f":"INDEX(ASHRAE_2016_Baseline,MATCH(H32&H33&H34&H35&2016,INDEX(ASHRAE_2016_Baseline,,17),0),10)","v":{"$error":"#N/A"}},{"$f":"INDEX(ASHRAE_2016_Baseline,MATCH(I32&I33&I34&I35&2016,INDEX(ASHRAE_2016_Baseline,,17),0),10)","v":{"$error":"#N/A"}},{"$error":"#N/A"},{"$error":"#N/A"},{"$error":"#N/A"},{"$error":"#N/A"},{"$error":"#N/A"},{"$error":"#N/A"},{"$error":"#N/A"},{"$error":"#N/A"}]
[null,57,{"$error":"#DIV/0!"},null,null,"kWh/TDA or V",null,{"$f":"IFERROR(IF(H86=\"TDA\",H53/H43,H53/H42),0)","v":0},{"$f":"IFERROR(IF(I86=\"TDA\",I53/I43,I53/I42),0)","v":0},0,0,0,0,0,0,0,0]
[null,58,{"$error":"#DIV/0!"},null,null,"Low flag kWh/TDA or V",null,{"$f":"IFERROR(INDEX(ASHRAE_2016_Baseline,MATCH(H32&H33&H34&H35&2016,INDEX(ASHRAE_2016_Baseline,,17),0),25),0)","v":0},0,0,0,0,0,0,0,0,0]
[null,59,{"$error":"#DIV/0!"},null,null,"High flag kWh/TDA or V",null,{"$f":"IFERROR(INDEX(ASHRAE_2016_Baseline,MATCH(H32&H33&H34&H35&2016,INDEX(ASHRAE_2016_Baseline,,17),0),26),0)","v":0},0,0,0,0,0,0,0,0,0]
[null,60,{"$error":"#DIV/0!"},null,null,"Flag if out of range, flag = 1",null,{"$f":"IF(OR(H88=0,H89=0,H87=0),0,IF(OR(H87>H89,H87<H88),1,0))","v":0},{"$f":"IF(OR(I88=0,I89=0,I87=0),0,IF(OR(I87>I89,I87<I88),1,0))","v":0},0,0,0,0,0,0,0,0]
[null,61,{"$error":"#DIV/0!"},null,null,"Load factor adjustment for heat removal from the space",null,{"$f":"IFERROR(IF(OR(H$35=\"-10F\",H35=\"-15F\",H35=\"0F (Low)\"),Constant_LFadj_Low,Constant_LFadj_Medium),0)","v":0.84},0.84,0.84,0.84,0.84,0.84,0.84,0.84,0.84,0.84]
[null,62,{"$error":"#DIV/0!"},null,null,"Latent adjustment factor for heat removal from the space",null,{"$f":"IFERROR(IF(H33=\"n/a\",Constant_Latentadj_Reach_In,IF(AND(OR(H$35=\"-10F\",H35=\"-15F\",H35=\"0F (Low)\"),ISERROR(SEARCH(\"Open\",H33,1))=FALSE),Constant_Latentadj_Open_Low,IF(AND(H$35<>\"-10F\",H35<>\"-15F\",H35<>\"0F (Low)\",ISERROR(SEARCH(\"Open\",H33,1))=FALSE),Constant_Latentadj_Open_Med,Constant_Latentadj_Reach_In))),0)","v":0.91},0.91,0.91,0.91,0.91,0.91,0.91,0.91,0.91,0.91]
[null,63,{"$error":"#DIV/0!"},null,null,"Refrigeration credit for heat removal from the space",null,{"$f":"IFERROR(IF(H33=\"n/a\",Constant_Qadj_Doors,IF(ISERROR(SEARCH(\"Open\",H33,1)),Constant_Qadj_Doors,Constant_Qadj_Open)),0)","v":0.45},0.45,0.45,0.45,0.45,0.45,0.45,0.45,0.45,0.45]
[null,64,{"$error":"#DIV/0!"},null,null,"% total kWh CEC for heat removal from space",null,{"$f":"IFERROR(IF(H33=\"n/a\",Constant_Reach_In,IF(ISERROR(SEARCH(\"Open\",H33,1)),Constant_Reach_In,Constant_Open)),0)","v":0.4},0.4,0.4,0.4,0.4,0.4,0.4,0.4,0.4,0.4]
[null,65,{"$error":"#DIV/0!"},null,null,"CEC kW, calculated compressor energy consumption per unit",null,{"$f":"IFERROR((H59*H94*(1/22)),0)","v":0},{"$f":"IFERROR((I59*I94*(1/22)),0)","v":0},0,0,0,0,0,0,0,0]
[null,66,{"$error":"#DIV/0!"},null,null,"Heat removal based on ref load or calculated? 1 = calculated",null,{"$f":"IF(AND(H40<>\"\",H40>0),0,1)","v":1},{"$f":"IF(AND(I40<>\"\",I40>0),0,1)","v":1},1,1,1,1,1,1,1,1]
[null,67,{"$error":"#DIV/0!"},null,null,"Heat removal from space based on ref load per unit",null,{"$f":"IFERROR(IF(H33=\"n/a\",Constant_Credit_Doors,IF(ISERROR(SEARCH(\"Open\",H33,1)),Constant_Credit_Doors,Constant_Credit_Open))*-H40*(1/1000),0)","v":0},0,0,0,0,0,0,0,0,0]
[null,68,{"$error":"#DIV/0!"},null,null,"Heat removal from space calculated per unit",null,{"$f":"IFERROR(IF(LEFT(H32,7)=\"Walk-In\",0,IF(H$34=\"Self-Contained (SC)\",((1-H$71)*H$74*3.413),-(((H95*H72*3.413)-(((H59*(1/24))-H95)*3.413))*H91*H92*H93))),0)","v":0},{"$f":"IFERROR(IF(LEFT(I32,7)=\"Walk-In\",0,IF(I$34=\"Self-Contained (SC)\",((1-I$71)*I$74*3.413),-(((I95*I72*3.413)-(((I59*(1/24))-I95)*3.413))*I91*I92*I93))),0)","v":0},0,0,0,0,0,0,0,0]
[null,69,{"$error":"#DIV/0!"},null,null,"Overrides walk-in power density baseline",null,{"$f":"IF(LEFT(formulaTextCustom(H68),3)=\"=IF\",0,1)","v":0},{"$f":"IF(LEFT(formulaTextCustom(I68),3)=\"=IF\",0,1)","v":0},{"$f":"IF(LEFT(formulaTextCustom(J68),3)=\"=IF\",0,1)","v":0},{"$f":"IF(LEFT(formulaTextCustom(K68),3)=\"=IF\",0,1)","v":0},{"$f":"IF(LEFT(formulaTextCustom(L68),3)=\"=IF\",0,1)","v":0},{"$f":"IF(LEFT(formulaTextCustom(M68),3)=\"=IF\",0,1)","v":0},{"$f":"IF(LEFT(formulaTextCustom(N68),3)=\"=IF\",0,1)","v":0},{"$f":"IF(LEFT(formulaTextCustom(O68),3)=\"=IF\",0,1)","v":0},{"$f":"IF(LEFT(formulaTextCustom(P68),3)=\"=IF\",0,1)","v":0},{"$f":"IF(LEFT(formulaTextCustom(Q68),3)=\"=IF\",0,1)","v":0}]
[null,70,{"$error":"#DIV/0!"},null,null,"Overrides walk-in power density proposed",null,{"$f":"IF(LEFT(formulaTextCustom(H67),3)=\"=IF\",0,1)","v":0},{"$f":"IF(LEFT(formulaTextCustom(I67),3)=\"=IF\",0,1)","v":0},{"$f":"IF(LEFT(formulaTextCustom(J67),3)=\"=IF\",0,1)","v":0},{"$f":"IF(LEFT(formulaTextCustom(K67),3)=\"=IF\",0,1)","v":0},{"$f":"IF(LEFT(formulaTextCustom(L67),3)=\"=IF\",0,1)","v":0},{"$f":"IF(LEFT(formulaTextCustom(M67),3)=\"=IF\",0,1)","v":0},{"$f":"IF(LEFT(formulaTextCustom(N67),3)=\"=IF\",0,1)","v":0},{"$f":"IF(LEFT(formulaTextCustom(O67),3)=\"=IF\",0,1)","v":0},{"$f":"IF(LEFT(formulaTextCustom(P67),3)=\"=IF\",0,1)","v":0},{"$f":"IF(LEFT(formulaTextCustom(Q67),3)=\"=IF\",0,1)","v":0}]
[null,71,{"$error":"#DIV/0!"},null,null,"Overrides walk-in display door power proposed",null,{"$f":"IF(LEFT(formulaTextCustom(H69),3)=\"=IF\",0,1)","v":0},{"$f":"IF(LEFT(formulaTextCustom(I69),3)=\"=IF\",0,1)","v":0},{"$f":"IF(LEFT(formulaTextCustom(J69),3)=\"=IF\",0,1)","v":0},{"$f":"IF(LEFT(formulaTextCustom(K69),3)=\"=IF\",0,1)","v":0},{"$f":"IF(LEFT(formulaTextCustom(L69),3)=\"=IF\",0,1)","v":0},{"$f":"IF(LEFT(formulaTextCustom(M69),3)=\"=IF\",0,1)","v":0},{"$f":"IF(LEFT(formulaTextCustom(N69),3)=\"=IF\",0,1)","v":0},{"$f":"IF(LEFT(formulaTextCustom(O69),3)=\"=IF\",0,1)","v":0},{"$f":"IF(LEFT(formulaTextCustom(P69),3)=\"=IF\",0,1)","v":0},{"$f":"IF(LEFT(formulaTextCustom(Q69),3)=\"=IF\",0,1)","v":0}]
[null,72,{"$error":"#DIV/0!"},null,null,"Overrides walk-in display door power baseline",null,{"$f":"IF(LEFT(formulaTextCustom(H70),3)=\"=IF\",0,1)","v":0},{"$f":"IF(LEFT(formulaTextCustom(I70),3)=\"=IF\",0,1)","v":0},{"$f":"IF(LEFT(formulaTextCustom(J70),3)=\"=IF\",0,1)","v":0},{"$f":"IF(LEFT(formulaTextCustom(K70),3)=\"=IF\",0,1)","v":0},{"$f":"IF(LEFT(formulaTextCustom(L70),3)=\"=IF\",0,1)","v":0},{"$f":"IF(LEFT(formulaTextCustom(M70),3)=\"=IF\",0,1)","v":0},{"$f":"IF(LEFT(formulaTextCustom(N70),3)=\"=IF\",0,1)","v":0},{"$f":"IF(LEFT(formulaTextCustom(O70),3)=\"=IF\",0,1)","v":0},{"$f":"IF(LEFT(formulaTextCustom(P70),3)=\"=IF\",0,1)","v":0},{"$f":"IF(LEFT(formulaTextCustom(Q70),3)=\"=IF\",0,1)","v":0}]
[null,73,{"$error":"#DIV/0!"},null,null,"x Prescriptive",null,{"$f":"INDEX(ASHRAE_2016_Baseline,MATCH(H32&H33&H34&H35&2016,INDEX(ASHRAE_2016_Baseline,,17),0),IF(RIGHT(G26,4)=\"2013\",23,20))","v":{"$error":"#N/A"}},{"$f":"INDEX(ASHRAE_2016_Baseline,MATCH(I32&I33&I34&I35&2016,INDEX(ASHRAE_2016_Baseline,,17),0),IF(RIGHT(H26,4)=\"2013\",23,20))","v":{"$error":"#N/A"}},{"$f":"INDEX(ASHRAE_2016_Baseline,MATCH(J32&J33&J34&J35&2016,INDEX(ASHRAE_2016_Baseline,,17),0),IF(RIGHT(I26,4)=\"2013\",23,20))","v":{"$error":"#N/A"}},{"$f":"INDEX(ASHRAE_2016_Baseline,MATCH(K32&K33&K34&K35&2016,INDEX(ASHRAE_2016_Baseline,,17),0),IF(RIGHT(J26,4)=\"2013\",23,20))","v":{"$error":"#N/A"}},{"$f":"INDEX(ASHRAE_2016_Baseline,MATCH(L32&L33&L34&L35&2016,INDEX(ASHRAE_2016_Baseline,,17),0),IF(RIGHT(K26,4)=\"2013\",23,20))","v":{"$error":"#N/A"}},{"$f":"INDEX(ASHRAE_2016_Baseline,MATCH(M32&M33&M34&M35&2016,INDEX(ASHRAE_2016_Baseline,,17),0),IF(RIGHT(L26,4)=\"2013\",23,20))","v":{"$error":"#N/A"}},{"$f":"INDEX(ASHRAE_2016_Baseline,MATCH(N32&N33&N34&N35&2016,INDEX(ASHRAE_2016_Baseline,,17),0),IF(RIGHT(M26,4)=\"2013\",23,20))","v":{"$error":"#N/A"}},{"$f":"INDEX(ASHRAE_2016_Baseline,MATCH(O32&O33&O34&O35&2016,INDEX(ASHRAE_2016_Baseline,,17),0),IF(RIGHT(N26,4)=\"2013\",23,20))","v":{"$error":"#N/A"}},{"$f":"INDEX(ASHRAE_2016_Baseline,MATCH(P32&P33&P34&P35&2016,INDEX(ASHRAE_2016_Baseline,,17),0),IF(RIGHT(O26,4)=\"2013\",23,20))","v":{"$error":"#N/A"}},{"$f":"INDEX(ASHRAE_2016_Baseline,MATCH(Q32&Q33&Q34&Q35&2016,INDEX(ASHRAE_2016_Baseline,,17),0),IF(RIGHT(P26,4)=\"2013\",23,20))","v":{"$error":"#N/A"}}]
[null,74,{"$error":"#DIV/0!"},null,null,"b Prescriptive",null,{"$f":"INDEX(ASHRAE_2016_Baseline,MATCH(H32&H33&H34&H35&2016,INDEX(ASHRAE_2016_Baseline,,17),0),IF(RIGHT(G26,4)=\"2013\",24,21))","v":{"$error":"#N/A"}},{"$f":"INDEX(ASHRAE_2016_Baseline,MATCH(I32&I33&I34&I35&2016,INDEX(ASHRAE_2016_Baseline,,17),0),IF(RIGHT(H26,4)=\"2013\",24,21))","v":{"$error":"#N/A"}},{"$f":"INDEX(ASHRAE_2016_Baseline,MATCH(J32&J33&J34&J35&2016,INDEX(ASHRAE_2016_Baseline,,17),0),IF(RIGHT(I26,4)=\"2013\",24,21))","v":{"$error":"#N/A"}},{"$f":"INDEX(ASHRAE_2016_Baseline,MATCH(K32&K33&K34&K35&2016,INDEX(ASHRAE_2016_Baseline,,17),0),IF(RIGHT(J26,4)=\"2013\",24,21))","v":{"$error":"#N/A"}},{"$f":"INDEX(ASHRAE_2016_Baseline,MATCH(L32&L33&L34&L35&2016,INDEX(ASHRAE_2016_Baseline,,17),0),IF(RIGHT(K26,4)=\"2013\",24,21))","v":{"$error":"#N/A"}},{"$f":"INDEX(ASHRAE_2016_Baseline,MATCH(M32&M33&M34&M35&2016,INDEX(ASHRAE_2016_Baseline,,17),0),IF(RIGHT(L26,4)=\"2013\",24,21))","v":{"$error":"#N/A"}},{"$f":"INDEX(ASHRAE_2016_Baseline,MATCH(N32&N33&N34&N35&2016,INDEX(ASHRAE_2016_Baseline,,17),0),IF(RIGHT(M26,4)=\"2013\",24,21))","v":{"$error":"#N/A"}},{"$f":"INDEX(ASHRAE_2016_Baseline,MATCH(O32&O33&O34&O35&2016,INDEX(ASHRAE_2016_Baseline,,17),0),IF(RIGHT(N26,4)=\"2013\",24,21))","v":{"$error":"#N/A"}},{"$f":"INDEX(ASHRAE_2016_Baseline,MATCH(P32&P33&P34&P35&2016,INDEX(ASHRAE_2016_Baseline,,17),0),IF(RIGHT(O26,4)=\"2013\",24,21))","v":{"$error":"#N/A"}},{"$f":"INDEX(ASHRAE_2016_Baseline,MATCH(Q32&Q33&Q34&Q35&2016,INDEX(ASHRAE_2016_Baseline,,17),0),IF(RIGHT(P26,4)=\"2013\",24,21))","v":{"$error":"#N/A"}}]
[null,75,{"$error":"#DIV/0!"},null,null,"TDA or V Prescriptive",null,{"$f":"INDEX(ASHRAE_2016_Baseline,MATCH(H32&H33&H34&H35&2016,INDEX(ASHRAE_2016_Baseline,,17),0),IF(RIGHT(G26,4)=\"2013\",22,19))","v":{"$error":"#N/A"}},{"$f":"INDEX(ASHRAE_2016_Baseline,MATCH(I32&I33&I34&I35&2016,INDEX(ASHRAE_2016_Baseline,,17),0),IF(RIGHT(H26,4)=\"2013\",22,19))","v":{"$error":"#N/A"}},{"$f":"INDEX(ASHRAE_2016_Baseline,MATCH(J32&J33&J34&J35&2016,INDEX(ASHRAE_2016_Baseline,,17),0),IF(RIGHT(I26,4)=\"2013\",22,19))","v":{"$error":"#N/A"}},{"$f":"INDEX(ASHRAE_2016_Baseline,MATCH(K32&K33&K34&K35&2016,INDEX(ASHRAE_2016_Baseline,,17),0),IF(RIGHT(J26,4)=\"2013\",22,19))","v":{"$error":"#N/A"}},{"$f":"INDEX(ASHRAE_2016_Baseline,MATCH(L32&L33&L34&L35&2016,INDEX(ASHRAE_2016_Baseline,,17),0),IF(RIGHT(K26,4)=\"2013\",22,19))","v":{"$error":"#N/A"}},{"$f":"INDEX(ASHRAE_2016_Baseline,MATCH(M32&M33&M34&M35&2016,INDEX(ASHRAE_2016_Baseline,,17),0),IF(RIGHT(L26,4)=\"2013\",22,19))","v":{"$error":"#N/A"}},{"$f":"INDEX(ASHRAE_2016_Baseline,MATCH(N32&N33&N34&N35&2016,INDEX(ASHRAE_2016_Baseline,,17),0),IF(RIGHT(M26,4)=\"2013\",22,19))","v":{"$error":"#N/A"}},{"$f":"INDEX(ASHRAE_2016_Baseline,MATCH(O32&O33&O34&O35&2016,INDEX(ASHRAE_2016_Baseline,,17),0),IF(RIGHT(N26,4)=\"2013\",22,19))","v":{"$error":"#N/A"}},{"$f":"INDEX(ASHRAE_2016_Baseline,MATCH(P32&P33&P34&P35&2016,INDEX(ASHRAE_2016_Baseline,,17),0),IF(RIGHT(O26,4)=\"2013\",22,19))","v":{"$error":"#N/A"}},{"$f":"INDEX(ASHRAE_2016_Baseline,MATCH(Q32&Q33&Q34&Q35&2016,INDEX(ASHRAE_2016_Baseline,,17),0),IF(RIGHT(P26,4)=\"2013\",22,19))","v":{"$error":"#N/A"}}]
[null,null,null,null,"-","90.1 Mandatory Daily Energy Consumption per Unit Requirement","kWh/day",{"$f":"IFERROR(IF(LEFT(H32,7)<>\"Walk-In\",IF(H105=\"TDA\",H103*H43+H104,H103*H42+H104),IF(LEFT(H32,7)=\"Walk-In\",\"-\",\"-\")),\"-\")","v":"-"},{"$f":"IFERROR(IF(LEFT(I32,7)<>\"Walk-In\",IF(I105=\"TDA\",I103*I43+I104,I103*I42+I104),IF(LEFT(I32,7)=\"Walk-In\",\"-\",\"-\")),\"-\")","v":"-"},"-","-","-","-","-","-","-","-"]
[]
[]
[null,null,null,null,"Notes"]

{"sheet":"Revision log","index":1,"n_rows":4,"n_cols":2,"rows_kept":4,"cut":false,"hidden":true,"merged":[]}
["Janaury 2021","Changed calculation of Q for remote units. See the pop up help for the methodology. No longer use PNNL equation for remote units"]
["2021-04-01","Added functionality to flag kWh/day values out of the expected range."]
["2021-05-01","1. Modified add unit on the Ref Data Entry tab so that the macro adds more than 1 unit at a time.\n2. Modified calc methodology so that it uses our methodology if no Q is entered and if Q is enetered applies factors. See popups for detailed explanation."]
["2021-06-01","Made a few admin type mods to instructions"]

{"sheet":"Model Inputs","index":2,"n_rows":56,"n_cols":78,"rows_kept":56,"cut":false,"hidden":false,"merged":[[47,4,47,5],[48,4,48,5],[49,4,49,5],[50,4,50,5],[53,4,53,61],[8,4,8,42],[13,4,13,5],[15,4,15,5],[16,4,16,5],[12,6,12,7],[12,15,12,16],[12,24,12,25],[12,33,12,34],[12,42,12,43],[13,6,13,7],[13,15,13,16],[13,24,13,25],[13,33,13,34],[13,42,13,43],[23,4,23,5],[24,4,24,5],[25,4,25,5],[36,4,37,4],[38,4,39,4],[41,4,42,4],[43,4,44,4],[12,69,12,70],[26,4,26,5],[27,4,27,5],[17,4,17,5],[18,4,18,5],[19,4,19,5],[20,4,20,5],[21,4,21,5],[22,4,22,5],[13,69,13,70],[12,51,12,52],[13,51,13,52],[12,60,12,61],[13,60,13,61]]}
["D"]
["D"]
["D"]
["D"]
["D"]
["D",null,null,null,"Pay for Performance"]
["D",null,null,null,"Technical Tip: Model Inputs for Commercial Refrigeration"]
["D"]
["D",null,null,null,"Instructions\n1. Enter the thermal zone names from the energy simulation tool that have refrigeration equipment in the proposed design. The red fill indicates that the quantity entered on this tab for a specific unit type is greater than the total quantity of units specified on the \"Ref Data Entry\" tab.\n2. In the \"Select Refrigeration Unit Entered on the \"Ref Data Entry\" tab\"\" column select each refrigeration unit entered on the \"Ref Data Entry\" tab associated with the thermal zone corresponding to that column and enter the quantity of units associated with the thermal zone.\n3. Add more rows if needed.\n4. Click the \"Freeze Panes\" button to freeze and unfreeze the panes for the table to allow scrolling to the right and down while keeping the column and row headings visible.  Click a second time to unfreeze.\n5. Click the \"Add Zone\" button to add more columns for additional thermal zones.\n6. Click the \"?\" buttons on the left for help and for furthur details (if applicable)."]
["D"]
[{"$f":"5/0","v":{"$error":"#DIV/0!"}},{"$f":"5/0","v":{"$error":"#DIV/0!"}},{"$f":"5/0","v":{"$error":"#DIV/0!"}},null,null,null,null,null,{"$f":"5/0","v":{"$error":"#DIV/0!"}},{"$f":"5/0","v":{"$error":"#DIV/0!"}},{"$error":"#DIV/0!"},{"$error":"#DIV/0!"},{"$error":"#DIV/0!"},{"$error":"#DIV/0!"},{"$error":"#DIV/0!"},null,null,{"$f":"5/0","v":{"$error":"#DIV/0!"}},{"$f":"5/0","v":{"$error":"#DIV/0!"}},{"$error":"#DIV/0!"},{"$error":"#DIV/0!"},{"$error":"#DIV/0!"},{"$error":"#DIV/0!"},{"$error":"#DIV/0!"},null,null,{"$f":"5/0","v":{"$error":"#DIV/0!"}},{"$f":"5/0","v":{"$error":"#DIV/0!"}},{"$error":"#DIV/0!"},{"$error":"#DIV/0!"},{"$error":"#DIV/0!"},{"$error":"#DIV/0!"},{"$error":"#DIV/0!"},null,null,{"$f":"5/0","v":{"$error":"#DIV/0!"}},{"$f":"5/0","v":{"$error":"#DIV/0!"}},{"$error":"#DIV/0!"},{"$error":"#DIV/0!"},{"$error":"#DIV/0!"},{"$error":"#DIV/0!"},{"$error":"#DIV/0!"},null,null,{"$f":"5/0","v":{"$error":"#DIV/0!"}},{"$f":"5/0","v":{"$error":"#DIV/0!"}},{"$error":"#DIV/0!"},{"$error":"#DIV/0!"},{"$error":"#DIV/0!"},{"$error":"#DIV/0!"},{"$error":"#DIV/0!"},null,null,{"$f":"5/0","v":{"$error":"#DIV/0!"}},{"$f":"5/0","v":{"$error":"#DIV/0!"}},{"$error":"#DIV/0!"},{"$error":"#DIV/0!"},{"$error":"#DIV/0!"},{"$error":"#DIV/0!"},{"$error":"#DIV/0!"},null,null,{"$f":"5/0","v":{"$error":"#DIV/0!"}},{"$f":"5/0","v":{"$error":"#DIV/0!"}},{"$error":"#DIV/0!"},{"$error":"#DIV/0!"},{"$error":"#DIV/0!"},{"$error":"#DIV/0!"},{"$error":"#DIV/0!"},null,null,{"$f":"5/0","v":{"$error":"#DIV/0!"}},{"$f":"5/0","v":{"$error":"#DIV/0!"}},{"$error":"#DIV/0!"},{"$error":"#DIV/0!"},{"$error":"#DIV/0!"},{"$error":"#DIV/0!"},{"$error":"#DIV/0!"}]
["D",null,{"$f":"5/0","v":{"$error":"#DIV/0!"}},null,null,null,1,null,null,null,null,null,null,null,null,{"$f":"G12+1","v":2},null,null,null,null,null,null,null,null,{"$f":"P12+1","v":3},null,null,null,null,null,null,null,null,{"$f":"Y12+1","v":4},null,null,null,null,null,null,null,null,{"$f":"AH12+1","v":5},null,null,null,null,null,null,null,null,{"$f":"AQ12+1","v":6},null,null,null,null,null,null,null,null,{"$f":"AZ12+1","v":7},null,null,null,null,null,null,null,null,{"$f":"AQ12+1","v":6}]
["D",null,null,null,null,null,{"$f":"\"Thermal Zone \"&COLUMN()-COLUMN($F$13)","v":"Thermal Zone 1"},null,null,null,null,null,null,null,null,{"$f":"\"Thermal Zone \"&P12","v":"Thermal Zone 2"},null,null,null,null,null,null,null,null,{"$f":"\"Thermal Zone \"&Y12","v":"Thermal Zone 3"},null,null,null,null,null,null,null,null,{"$f":"\"Thermal Zone \"&AH12","v":"Thermal Zone 4"},null,null,null,null,null,null,null,null,{"$f":"\"Thermal Zone \"&AQ12","v":"Thermal Zone 5"},null,null,null,null,null,null,null,null,{"$f":"\"Thermal Zone \"&AZ12","v":"Thermal Zone 6"},null,null,null,null,null,null,null,null,{"$f":"\"Thermal Zone \"&BI12","v":"Thermal Zone 7"},null,null,null,null,null,null,null,null,{"$f":"\"Thermal Zone \"&BR12","v":"Thermal Zone 6"}]
["D",null,null,null,"Thermal Zone Name:"]
["D"]
["D",null,null,null,"Associated Refrigeration Equipment per Thermal Zone",null,"Select Refrigeration Unit Entered on the \"Ref Data Entry\" tab","Quantity of Selected Refrigeration Unit","Proposed Hours","ProposedkW","Proposed Q, kBtu/hr","Baseline Hours","BaselinekW","Baseline Q, kBtu/hr","Regulated = 1","Select Refrigeration Unit Entered on the \"Ref Data Entry\" tab","Quantity of Selected Refrigeration Unit","Proposed Hours","ProposedkW","Proposed Q, kBtu/hr","Baseline Hours","BaselinekW","Baseline Q, kBtu/hr","Regulated = 1","Select Refrigeration Unit Entered on the \"Ref Data Entry\" tab","Quantity of Selected Refrigeration Unit","Proposed Hours","ProposedkW","Proposed Q, kBtu/hr","Baseline Hours","BaselinekW","Baseline Q, kBtu/hr","Regulated = 1","Select Refrigeration Unit Entered on the \"Ref Data Entry\" tab","Quantity of Selected Refrigeration Unit","Proposed Hours","ProposedkW","Proposed Q, kBtu/hr","Baseline Hours","BaselinekW","Baseline Q, kBtu/hr","Regulated = 1","Select Refrigeration Unit Entered on the \"Ref Data Entry\" tab","Quantity of Selected Refrigeration Unit","Proposed Hours","ProposedkW","Proposed Q, kBtu/hr","Baseline Hours","BaselinekW","Baseline Q, kBtu/hr","Regulated = 1","Select Refrigeration Unit Entered on the \"Ref Data Entry\" tab","Quantity of Selected Refrigeration Unit","Proposed Hours","ProposedkW","Proposed Q, kBtu/hr","Baseline Hours","BaselinekW","Baseline Q, kBtu/hr","Regulated = 1","Select Refrigeration Unit Entered on the \"Ref Data Entry\" tab","Quantity of Selected Refrigeration Unit","Proposed Hours","ProposedkW","Proposed Q, kBtu/hr","Baseline Hours","BaselinekW","Baseline Q, kBtu/hr","Regulated = 1","Select Refrigeration Unit Entered on the \"Ref Data Entry\" tab","Quantity of Selected Refrigeration Unit","Proposed Hours","ProposedkW","Proposed Q, kBtu/hr","Baseline Hours","BaselinekW","Baseline Q, kBtu/hr","Regulated = 1"]
["D",null,null,null,{"$f":"\"Unit \"&ROW()-ROW($E$16)","v":"Unit 1"},null,null,null,{"$f":"IFERROR(INDEX(Ref_Data,'Ref Data Entry'!$B$73,MATCH(G17,INDEX(Ref_Data,1,0),0)),\"\")","v":""},{"$f":"IFERROR(INDEX(Ref_Data,'Ref Data Entry'!$B$74,MATCH(G17,INDEX(Ref_Data,1,0),0)),\"\")","v":""},{"$f":"IFERROR(INDEX(Ref_Data,'Ref Data Entry'!$B$76,MATCH(G17,INDEX(Ref_Data,1,0),0)),\"\")","v":""},{"$f":"IFERROR(INDEX(Ref_Data,'Ref Data Entry'!$B$78,MATCH(G17,INDEX(Ref_Data,1,0),0)),\"\")","v":""},{"$f":"IFERROR(INDEX(Ref_Data,'Ref Data Entry'!$B$79,MATCH(G17,INDEX(Ref_Data,1,0),0)),\"\")","v":""},{"$f":"IFERROR(INDEX(Ref_Data,'Ref Data Entry'!$B$81,MATCH(G17,INDEX(Ref_Data,1,0),0)),\"\")","v":""},{"$f":"IFERROR(IF(OR(LEFT(INDEX(Ref_Data,'Ref Data Entry'!$B$32,MATCH(G17,INDEX(Ref_Data,1,0),0)),7)=\"Walk-In\",INDEX(Ref_Data,'Ref Data Entry'!$B$32,MATCH(G17,INDEX(Ref_Data,1,0),0))=\"Other-Unregulated\"),0,1),\"\")","v":""},null,null,{"$f":"IFERROR(INDEX(Ref_Data,'Ref Data Entry'!$B$73,MATCH(P17,INDEX(Ref_Data,1,0),0)),\"\")","v":""},{"$f":"IFERROR(INDEX(Ref_Data,'Ref Data Entry'!$B$74,MATCH(P17,INDEX(Ref_Data,1,0),0)),\"\")","v":""},{"$f":"IFERROR(INDEX(Ref_Data,'Ref Data Entry'!$B$76,MATCH(P17,INDEX(Ref_Data,1,0),0)),\"\")","v":""},{"$f":"IFERROR(INDEX(Ref_Data,'Ref Data Entry'!$B$78,MATCH(P17,INDEX(Ref_Data,1,0),0)),\"\")","v":""},{"$f":"IFERROR(INDEX(Ref_Data,'Ref Data Entry'!$B$79,MATCH(P17,INDEX(Ref_Data,1,0),0)),\"\")","v":""},{"$f":"IFERROR(INDEX(Ref_Data,'Ref Data Entry'!$B$81,MATCH(P17,INDEX(Ref_Data,1,0),0)),\"\")","v":""},{"$f":"IFERROR(IF(OR(LEFT(INDEX(Ref_Data,'Ref Data Entry'!$B$32,MATCH(P17,INDEX(Ref_Data,1,0),0)),7)=\"Walk-In\",INDEX(Ref_Data,'Ref Data Entry'!$B$32,MATCH(P17,INDEX(Ref_Data,1,0),0))=\"Other-Unregulated\"),0,1),\"\")","v":""},null,null,{"$f":"IFERROR(INDEX(Ref_Data,'Ref Data Entry'!$B$73,MATCH(Y17,INDEX(Ref_Data,1,0),0)),\"\")","v":""},{"$f":"IFERROR(INDEX(Ref_Data,'Ref Data Entry'!$B$74,MATCH(Y17,INDEX(Ref_Data,1,0),0)),\"\")","v":""},{"$f":"IFERROR(INDEX(Ref_Data,'Ref Data Entry'!$B$76,MATCH(Y17,INDEX(Ref_Data,1,0),0)),\"\")","v":""},{"$f":"IFERROR(INDEX(Ref_Data,'Ref Data Entry'!$B$78,MATCH(Y17,INDEX(Ref_Data,1,0),0)),\"\")","v":""},{"$f":"IFERROR(INDEX(Ref_Data,'Ref Data Entry'!$B$79,MATCH(Y17,INDEX(Ref_Data,1,0),0)),\"\")","v":""},{"$f":"IFERROR(INDEX(Ref_Data,'Ref Data Entry'!$B$81,MATCH(Y17,INDEX(Ref_Data,1,0),0)),\"\")","v":""},{"$f":"IFERROR(IF(OR(LEFT(INDEX(Ref_Data,'Ref Data Entry'!$B$32,MATCH(Y17,INDEX(Ref_Data,1,0),0)),7)=\"Walk-In\",INDEX(Ref_Data,'Ref Data Entry'!$B$32,MATCH(Y17,INDEX(Ref_Data,1,0),0))=\"Other-Unregulated\"),0,1),\"\")","v":""},null,null,{"$f":"IFERROR(INDEX(Ref_Data,'Ref Data Entry'!$B$73,MATCH(AH17,INDEX(Ref_Data,1,0),0)),\"\")","v":""},{"$f":"IFERROR(INDEX(Ref_Data,'Ref Data Entry'!$B$74,MATCH(AH17,INDEX(Ref_Data,1,0),0)),\"\")","v":""},{"$f":"IFERROR(INDEX(Ref_Data,'Ref Data Entry'!$B$76,MATCH(AH17,INDEX(Ref_Data,1,0),0)),\"\")","v":""},{"$f":"IFERROR(INDEX(Ref_Data,'Ref Data Entry'!$B$78,MATCH(AH17,INDEX(Ref_Data,1,0),0)),\"\")","v":""},{"$f":"IFERROR(INDEX(Ref_Data,'Ref Data Entry'!$B$79,MATCH(AH17,INDEX(Ref_Data,1,0),0)),\"\")","v":""},{"$f":"IFERROR(INDEX(Ref_Data,'Ref Data Entry'!$B$81,MATCH(AH17,INDEX(Ref_Data,1,0),0)),\"\")","v":""},{"$f":"IFERROR(IF(OR(LEFT(INDEX(Ref_Data,'Ref Data Entry'!$B$32,MATCH(AH17,INDEX(Ref_Data,1,0),0)),7)=\"Walk-In\",INDEX(Ref_Data,'Ref Data Entry'!$B$32,MATCH(AH17,INDEX(Ref_Data,1,0),0))=\"Other-Unregulated\"),0,1),\"\")","v":""},null,null,{"$f":"IFERROR(INDEX(Ref_Data,'Ref Data Entry'!$B$73,MATCH(AQ17,INDEX(Ref_Data,1,0),0)),\"\")","v":""},{"$f":"IFERROR(INDEX(Ref_Data,'Ref Data Entry'!$B$74,MATCH(AQ17,INDEX(Ref_Data,1,0),0)),\"\")","v":""},{"$f":"IFERROR(INDEX(Ref_Data,'Ref Data Entry'!$B$76,MATCH(AQ17,INDEX(Ref_Data,1,0),0)),\"\")","v":""},{"$f":"IFERROR(INDEX(Ref_Data,'Ref Data Entry'!$B$78,MATCH(AQ17,INDEX(Ref_Data,1,0),0)),\"\")","v":""},{"$f":"IFERROR(INDEX(Ref_Data,'Ref Data Entry'!$B$79,MATCH(AQ17,INDEX(Ref_Data,1,0),0)),\"\")","v":""},{"$f":"IFERROR(INDEX(Ref_Data,'Ref Data Entry'!$B$81,MATCH(AQ17,INDEX(Ref_Data,1,0),0)),\"\")","v":""},{"$f":"IFERROR(IF(OR(LEFT(INDEX(Ref_Data,'Ref Data Entry'!$B$32,MATCH(AQ17,INDEX(Ref_Data,1,0),0)),7)=\"Walk-In\",INDEX(Ref_Data,'Ref Data Entry'!$B$32,MATCH(AQ17,INDEX(Ref_Data,1,0),0))=\"Other-Unregulated\"),0,1),\"\")","v":""},null,null,{"$f":"IFERROR(INDEX(Ref_Data,'Ref Data Entry'!$B$73,MATCH(AZ17,INDEX(Ref_Data,1,0),0)),\"\")","v":""},{"$f":"IFERROR(INDEX(Ref_Data,'Ref Data Entry'!$B$74,MATCH(AZ17,INDEX(Ref_Data,1,0),0)),\"\")","v":""},{"$f":"IFERROR(INDEX(Ref_Data,'Ref Data Entry'!$B$76,MATCH(AZ17,INDEX(Ref_Data,1,0),0)),\"\")","v":""},{"$f":"IFERROR(INDEX(Ref_Data,'Ref Data Entry'!$B$78,MATCH(AZ17,INDEX(Ref_Data,1,0),0)),\"\")","v":""},{"$f":"IFERROR(INDEX(Ref_Data,'Ref Data Entry'!$B$79,MATCH(AZ17,INDEX(Ref_Data,1,0),0)),\"\")","v":""},{"$f":"IFERROR(INDEX(Ref_Data,'Ref Data Entry'!$B$81,MATCH(AZ17,INDEX(Ref_Data,1,0),0)),\"\")","v":""},{"$f":"IFERROR(IF(OR(LEFT(INDEX(Ref_Data,'Ref Data Entry'!$B$32,MATCH(AZ17,INDEX(Ref_Data,1,0),0)),7)=\"Walk-In\",INDEX(Ref_Data,'Ref Data Entry'!$B$32,MATCH(AZ17,INDEX(Ref_Data,1,0),0))=\"Other-Unregulated\"),0,1),\"\")","v":""},null,null,{"$f":"IFERROR(INDEX(Ref_Data,'Ref Data Entry'!$B$73,MATCH(BI17,INDEX(Ref_Data,1,0),0)),\"\")","v":""},{"$f":"IFERROR(INDEX(Ref_Data,'Ref Data Entry'!$B$74,MATCH(BI17,INDEX(Ref_Data,1,0),0)),\"\")","v":""},{"$f":"IFERROR(INDEX(Ref_Data,'Ref Data Entry'!$B$76,MATCH(BI17,INDEX(Ref_Data,1,0),0)),\"\")","v":""},{"$f":"IFERROR(INDEX(Ref_Data,'Ref Data Entry'!$B$78,MATCH(BI17,INDEX(Ref_Data,1,0),0)),\"\")","v":""},{"$f":"IFERROR(INDEX(Ref_Data,'Ref Data Entry'!$B$79,MATCH(BI17,INDEX(Ref_Data,1,0),0)),\"\")","v":""},{"$f":"IFERROR(INDEX(Ref_Data,'Ref Data Entry'!$B$81,MATCH(BI17,INDEX(Ref_Data,1,0),0)),\"\")","v":""},{"$f":"IFERROR(IF(OR(LEFT(INDEX(Ref_Data,'Ref Data Entry'!$B$32,MATCH(BI17,INDEX(Ref_Data,1,0),0)),7)=\"Walk-In\",INDEX(Ref_Data,'Ref Data Entry'!$B$32,MATCH(BI17,INDEX(Ref_Data,1,0),0))=\"Other-Unregulated\"),0,1),\"\")","v":""},null,null,{"$f":"IFERROR(INDEX(Ref_Data,'Ref Data Entry'!$B$73,MATCH(BR17,INDEX(Ref_Data,1,0),0)),\"\")","v":""},{"$f":"IFERROR(INDEX(Ref_Data,'Ref Data Entry'!$B$74,MATCH(BR17,INDEX(Ref_Data,1,0),0)),\"\")","v":""},{"$f":"IFERROR(INDEX(Ref_Data,'Ref Data Entry'!$B$76,MATCH(BR17,INDEX(Ref_Data,1,0),0)),\"\")","v":""},{"$f":"IFERROR(INDEX(Ref_Data,'Ref Data Entry'!$B$78,MATCH(BR17,INDEX(Ref_Data,1,0),0)),\"\")","v":""},{"$f":"IFERROR(INDEX(Ref_Data,'Ref Data Entry'!$B$79,MATCH(BR17,INDEX(Ref_Data,1,0),0)),\"\")","v":""},{"$f":"IFERROR(INDEX(Ref_Data,'Ref Data Entry'!$B$81,MATCH(BR17,INDEX(Ref_Data,1,0),0)),\"\")","v":""},{"$f":"IFERROR(IF(OR(LEFT(INDEX(Ref_Data,'Ref Data Entry'!$B$32,MATCH(BR17,INDEX(Ref_Data,1,0),0)),7)=\"Walk-In\",INDEX(Ref_Data,'Ref Data Entry'!$B$32,MATCH(BR17,INDEX(Ref_Data,1,0),0))=\"Other-Unregulated\"),0,1),\"\")","v":""}]
["D",null,null,null,{"$f":"\"Unit \"&ROW()-ROW($E$16)","v":"Unit 2"},null,null,null,{"$f":"IFERROR(INDEX(Ref_Data,'Ref Data Entry'!$B$73,MATCH(G18,INDEX(Ref_Data,1,0),0)),\"\")","v":""},{"$f":"IFERROR(INDEX(Ref_Data,'Ref Data Entry'!$B$74,MATCH(G18,INDEX(Ref_Data,1,0),0)),\"\")","v":""},{"$f":"IFERROR(INDEX(Ref_Data,'Ref Data Entry'!$B$76,MATCH(G18,INDEX(Ref_Data,1,0),0)),\"\")","v":""},{"$f":"IFERROR(INDEX(Ref_Data,'Ref Data Entry'!$B$78,MATCH(G18,INDEX(Ref_Data,1,0),0)),\"\")","v":""},{"$f":"IFERROR(INDEX(Ref_Data,'Ref Data Entry'!$B$79,MATCH(G18,INDEX(Ref_Data,1,0),0)),\"\")","v":""},{"$f":"IFERROR(INDEX(Ref_Data,'Ref Data Entry'!$B$81,MATCH(G18,INDEX(Ref_Data,1,0),0)),\"\")","v":""},{"$f":"IFERROR(IF(OR(LEFT(INDEX(Ref_Data,'Ref Data Entry'!$B$32,MATCH(G18,INDEX(Ref_Data,1,0),0)),7)=\"Walk-In\",INDEX(Ref_Data,'Ref Data Entry'!$B$32,MATCH(G18,INDEX(Ref_Data,1,0),0))=\"Other-Unregulated\"),0,1),\"\")","v":""},null,null,{"$f":"IFERROR(INDEX(Ref_Data,'Ref Data Entry'!$B$73,MATCH(P18,INDEX(Ref_Data,1,0),0)),\"\")","v":""},{"$f":"IFERROR(INDEX(Ref_Data,'Ref Data Entry'!$B$74,MATCH(P18,INDEX(Ref_Data,1,0),0)),\"\")","v":""},{"$f":"IFERROR(INDEX(Ref_Data,'Ref Data Entry'!$B$76,MATCH(P18,INDEX(Ref_Data,1,0),0)),\"\")","v":""},{"$f":"IFERROR(INDEX(Ref_Data,'Ref Data Entry'!$B$78,MATCH(P18,INDEX(Ref_Data,1,0),0)),\"\")","v":""},{"$f":"IFERROR(INDEX(Ref_Data,'Ref Data Entry'!$B$79,MATCH(P18,INDEX(Ref_Data,1,0),0)),\"\")","v":""},{"$f":"IFERROR(INDEX(Ref_Data,'Ref Data Entry'!$B$81,MATCH(P18,INDEX(Ref_Data,1,0),0)),\"\")","v":""},{"$f":"IFERROR(IF(OR(LEFT(INDEX(Ref_Data,'Ref Data Entry'!$B$32,MATCH(P18,INDEX(Ref_Data,1,0),0)),7)=\"Walk-In\",INDEX(Ref_Data,'Ref Data Entry'!$B$32,MATCH(P18,INDEX(Ref_Data,1,0),0))=\"Other-Unregulated\"),0,1),\"\")","v":""},null,null,{"$f":"IFERROR(INDEX(Ref_Data,'Ref Data Entry'!$B$73,MATCH(Y18,INDEX(Ref_Data,1,0),0)),\"\")","v":""},{"$f":"IFERROR(INDEX(Ref_Data,'Ref Data Entry'!$B$74,MATCH(Y18,INDEX(Ref_Data,1,0),0)),\"\")","v":""},{"$f":"IFERROR(INDEX(Ref_Data,'Ref Data Entry'!$B$76,MATCH(Y18,INDEX(Ref_Data,1,0),0)),\"\")","v":""},{"$f":"IFERROR(INDEX(Ref_Data,'Ref Data Entry'!$B$78,MATCH(Y18,INDEX(Ref_Data,1,0),0)),\"\")","v":""},{"$f":"IFERROR(INDEX(Ref_Data,'Ref Data Entry'!$B$79,MATCH(Y18,INDEX(Ref_Data,1,0),0)),\"\")","v":""},{"$f":"IFERROR(INDEX(Ref_Data,'Ref Data Entry'!$B$81,MATCH(Y18,INDEX(Ref_Data,1,0),0)),\"\")","v":""},{"$f":"IFERROR(IF(OR(LEFT(INDEX(Ref_Data,'Ref Data Entry'!$B$32,MATCH(Y18,INDEX(Ref_Data,1,0),0)),7)=\"Walk-In\",INDEX(Ref_Data,'Ref Data Entry'!$B$32,MATCH(Y18,INDEX(Ref_Data,1,0),0))=\"Other-Unregulated\"),0,1),\"\")","v":""},null,null,{"$f":"IFERROR(INDEX(Ref_Data,'Ref Data Entry'!$B$73,MATCH(AH18,INDEX(Ref_Data,1,0),0)),\"\")","v":""},{"$f":"IFERROR(INDEX(Ref_Data,'Ref Data Entry'!$B$74,MATCH(AH18,INDEX(Ref_Data,1,0),0)),\"\")","v":""},{"$f":"IFERROR(INDEX(Ref_Data,'Ref Data Entry'!$B$76,MATCH(AH18,INDEX(Ref_Data,1,0),0)),\"\")","v":""},{"$f":"IFERROR(INDEX(Ref_Data,'Ref Data Entry'!$B$78,MATCH(AH18,INDEX(Ref_Data,1,0),0)),\"\")","v":""},{"$f":"IFERROR(INDEX(Ref_Data,'Ref Data Entry'!$B$79,MATCH(AH18,INDEX(Ref_Data,1,0),0)),\"\")","v":""},{"$f":"IFERROR(INDEX(Ref_Data,'Ref Data Entry'!$B$81,MATCH(AH18,INDEX(Ref_Data,1,0),0)),\"\")","v":""},{"$f":"IFERROR(IF(OR(LEFT(INDEX(Ref_Data,'Ref Data Entry'!$B$32,MATCH(AH18,INDEX(Ref_Data,1,0),0)),7)=\"Walk-In\",INDEX(Ref_Data,'Ref Data Entry'!$B$32,MATCH(AH18,INDEX(Ref_Data,1,0),0))=\"Other-Unregulated\"),0,1),\"\")","v":""},null,null,{"$f":"IFERROR(INDEX(Ref_Data,'Ref Data Entry'!$B$73,MATCH(AQ18,INDEX(Ref_Data,1,0),0)),\"\")","v":""},{"$f":"IFERROR(INDEX(Ref_Data,'Ref Data Entry'!$B$74,MATCH(AQ18,INDEX(Ref_Data,1,0),0)),\"\")","v":""},{"$f":"IFERROR(INDEX(Ref_Data,'Ref Data Entry'!$B$76,MATCH(AQ18,INDEX(Ref_Data,1,0),0)),\"\")","v":""},{"$f":"IFERROR(INDEX(Ref_Data,'Ref Data Entry'!$B$78,MATCH(AQ18,INDEX(Ref_Data,1,0),0)),\"\")","v":""},{"$f":"IFERROR(INDEX(Ref_Data,'Ref Data Entry'!$B$79,MATCH(AQ18,INDEX(Ref_Data,1,0),0)),\"\")","v":""},{"$f":"IFERROR(INDEX(Ref_Data,'Ref Data Entry'!$B$81,MATCH(AQ18,INDEX(Ref_Data,1,0),0)),\"\")","v":""},{"$f":"IFERROR(IF(OR(LEFT(INDEX(Ref_Data,'Ref Data Entry'!$B$32,MATCH(AQ18,INDEX(Ref_Data,1,0),0)),7)=\"Walk-In\",INDEX(Ref_Data,'Ref Data Entry'!$B$32,MATCH(AQ18,INDEX(Ref_Data,1,0),0))=\"Other-Unregulated\"),0,1),\"\")","v":""},null,null,{"$f":"IFERROR(INDEX(Ref_Data,'Ref Data Entry'!$B$73,MATCH(AZ18,INDEX(Ref_Data,1,0),0)),\"\")","v":""},{"$f":"IFERROR(INDEX(Ref_Data,'Ref Data Entry'!$B$74,MATCH(AZ18,INDEX(Ref_Data,1,0),0)),\"\")","v":""},{"$f":"IFERROR(INDEX(Ref_Data,'Ref Data Entry'!$B$76,MATCH(AZ18,INDEX(Ref_Data,1,0),0)),\"\")","v":""},{"$f":"IFERROR(INDEX(Ref_Data,'Ref Data Entry'!$B$78,MATCH(AZ18,INDEX(Ref_Data,1,0),0)),\"\")","v":""},{"$f":"IFERROR(INDEX(Ref_Data,'Ref Data Entry'!$B$79,MATCH(AZ18,INDEX(Ref_Data,1,0),0)),\"\")","v":""},{"$f":"IFERROR(INDEX(Ref_Data,'Ref Data Entry'!$B$81,MATCH(AZ18,INDEX(Ref_Data,1,0),0)),\"\")","v":""},{"$f":"IFERROR(IF(OR(LEFT(INDEX(Ref_Data,'Ref Data Entry'!$B$32,MATCH(AZ18,INDEX(Ref_Data,1,0),0)),7)=\"Walk-In\",INDEX(Ref_Data,'Ref Data Entry'!$B$32,MATCH(AZ18,INDEX(Ref_Data,1,0),0))=\"Other-Unregulated\"),0,1),\"\")","v":""},null,null,{"$f":"IFERROR(INDEX(Ref_Data,'Ref Data Entry'!$B$73,MATCH(BI18,INDEX(Ref_Data,1,0),0)),\"\")","v":""},{"$f":"IFERROR(INDEX(Ref_Data,'Ref Data Entry'!$B$74,MATCH(BI18,INDEX(Ref_Data,1,0),0)),\"\")","v":""},{"$f":"IFERROR(INDEX(Ref_Data,'Ref Data Entry'!$B$76,MATCH(BI18,INDEX(Ref_Data,1,0),0)),\"\")","v":""},{"$f":"IFERROR(INDEX(Ref_Data,'Ref Data Entry'!$B$78,MATCH(BI18,INDEX(Ref_Data,1,0),0)),\"\")","v":""},{"$f":"IFERROR(INDEX(Ref_Data,'Ref Data Entry'!$B$79,MATCH(BI18,INDEX(Ref_Data,1,0),0)),\"\")","v":""},{"$f":"IFERROR(INDEX(Ref_Data,'Ref Data Entry'!$B$81,MATCH(BI18,INDEX(Ref_Data,1,0),0)),\"\")","v":""},{"$f":"IFERROR(IF(OR(LEFT(INDEX(Ref_Data,'Ref Data Entry'!$B$32,MATCH(BI18,INDEX(Ref_Data,1,0),0)),7)=\"Walk-In\",INDEX(Ref_Data,'Ref Data Entry'!$B$32,MATCH(BI18,INDEX(Ref_Data,1,0),0))=\"Other-Unregulated\"),0,1),\"\")","v":""},null,null,{"$f":"IFERROR(INDEX(Ref_Data,'Ref Data Entry'!$B$73,MATCH(BR18,INDEX(Ref_Data,1,0),0)),\"\")","v":""},{"$f":"IFERROR(INDEX(Ref_Data,'Ref Data Entry'!$B$74,MATCH(BR18,INDEX(Ref_Data,1,0),0)),\"\")","v":""},{"$f":"IFERROR(INDEX(Ref_Data,'Ref Data Entry'!$B$76,MATCH(BR18,INDEX(Ref_Data,1,0),0)),\"\")","v":""},{"$f":"IFERROR(INDEX(Ref_Data,'Ref Data Entry'!$B$78,MATCH(BR18,INDEX(Ref_Data,1,0),0)),\"\")","v":""},{"$f":"IFERROR(INDEX(Ref_Data,'Ref Data Entry'!$B$79,MATCH(BR18,INDEX(Ref_Data,1,0),0)),\"\")","v":""},{"$f":"IFERROR(INDEX(Ref_Data,'Ref Data Entry'!$B$81,MATCH(BR18,INDEX(Ref_Data,1,0),0)),\"\")","v":""},{"$f":"IFERROR(IF(OR(LEFT(INDEX(Ref_Data,'Ref Data Entry'!$B$32,MATCH(BR18,INDEX(Ref_Data,1,0),0)),7)=\"Walk-In\",INDEX(Ref_Data,'Ref Data Entry'!$B$32,MATCH(BR18,INDEX(Ref_Data,1,0),0))=\"Other-Unregulated\"),0,1),\"\")","v":""}]
["D",null,null,null,"Unit 3",null,null,null,{"$f":"IFERROR(INDEX(Ref_Data,'Ref Data Entry'!$B$73,MATCH(G19,INDEX(Ref_Data,1,0),0)),\"\")","v":""},{"$f":"IFERROR(INDEX(Ref_Data,'Ref Data Entry'!$B$74,MATCH(G19,INDEX(Ref_Data,1,0),0)),\"\")","v":""},{"$f":"IFERROR(INDEX(Ref_Data,'Ref Data Entry'!$B$76,MATCH(G19,INDEX(Ref_Data,1,0),0)),\"\")","v":""},{"$f":"IFERROR(INDEX(Ref_Data,'Ref Data Entry'!$B$78,MATCH(G19,INDEX(Ref_Data,1,0),0)),\"\")","v":""},{"$f":"IFERROR(INDEX(Ref_Data,'Ref Data Entry'!$B$79,MATCH(G19,INDEX(Ref_Data,1,0),0)),\"\")","v":""},{"$f":"IFERROR(INDEX(Ref_Data,'Ref Data Entry'!$B$81,MATCH(G19,INDEX(Ref_Data,1,0),0)),\"\")","v":""},{"$f":"IFERROR(IF(OR(LEFT(INDEX(Ref_Data,'Ref Data Entry'!$B$32,MATCH(G19,INDEX(Ref_Data,1,0),0)),7)=\"Walk-In\",INDEX(Ref_Data,'Ref Data Entry'!$B$32,MATCH(G19,INDEX(Ref_Data,1,0),0))=\"Other-Unregulated\"),0,1),\"\")","v":""},null,null,{"$f":"IFERROR(INDEX(Ref_Data,'Ref Data Entry'!$B$73,MATCH(P19,INDEX(Ref_Data,1,0),0)),\"\")","v":""},{"$f":"IFERROR(INDEX(Ref_Data,'Ref Data Entry'!$B$74,MATCH(P19,INDEX(Ref_Data,1,0),0)),\"\")","v":""},{"$f":"IFERROR(INDEX(Ref_Data,'Ref Data Entry'!$B$76,MATCH(P19,INDEX(Ref_Data,1,0),0)),\"\")","v":""},{"$f":"IFERROR(INDEX(Ref_Data,'Ref Data Entry'!$B$78,MATCH(P19,INDEX(Ref_Data,1,0),0)),\"\")","v":""},{"$f":"IFERROR(INDEX(Ref_Data,'Ref Data Entry'!$B$79,MATCH(P19,INDEX(Ref_Data,1,0),0)),\"\")","v":""},{"$f":"IFERROR(INDEX(Ref_Data,'Ref Data Entry'!$B$81,MATCH(P19,INDEX(Ref_Data,1,0),0)),\"\")","v":""},{"$f":"IFERROR(IF(OR(LEFT(INDEX(Ref_Data,'Ref Data Entry'!$B$32,MATCH(P19,INDEX(Ref_Data,1,0),0)),7)=\"Walk-In\",INDEX(Ref_Data,'Ref Data Entry'!$B$32,MATCH(P19,INDEX(Ref_Data,1,0),0))=\"Other-Unregulated\"),0,1),\"\")","v":""},null,null,{"$f":"IFERROR(INDEX(Ref_Data,'Ref Data Entry'!$B$73,MATCH(Y19,INDEX(Ref_Data,1,0),0)),\"\")","v":""},{"$f":"IFERROR(INDEX(Ref_Data,'Ref Data Entry'!$B$74,MATCH(Y19,INDEX(Ref_Data,1,0),0)),\"\")","v":""},{"$f":"IFERROR(INDEX(Ref_Data,'Ref Data Entry'!$B$76,MATCH(Y19,INDEX(Ref_Data,1,0),0)),\"\")","v":""},{"$f":"IFERROR(INDEX(Ref_Data,'Ref Data Entry'!$B$78,MATCH(Y19,INDEX(Ref_Data,1,0),0)),\"\")","v":""},{"$f":"IFERROR(INDEX(Ref_Data,'Ref Data Entry'!$B$79,MATCH(Y19,INDEX(Ref_Data,1,0),0)),\"\")","v":""},{"$f":"IFERROR(INDEX(Ref_Data,'Ref Data Entry'!$B$81,MATCH(Y19,INDEX(Ref_Data,1,0),0)),\"\")","v":""},{"$f":"IFERROR(IF(OR(LEFT(INDEX(Ref_Data,'Ref Data Entry'!$B$32,MATCH(Y19,INDEX(Ref_Data,1,0),0)),7)=\"Walk-In\",INDEX(Ref_Data,'Ref Data Entry'!$B$32,MATCH(Y19,INDEX(Ref_Data,1,0),0))=\"Other-Unregulated\"),0,1),\"\")","v":""},null,null,{"$f":"IFERROR(INDEX(Ref_Data,'Ref Data Entry'!$B$73,MATCH(AH19,INDEX(Ref_Data,1,0),0)),\"\")","v":""},{"$f":"IFERROR(INDEX(Ref_Data,'Ref Data Entry'!$B$74,MATCH(AH19,INDEX(Ref_Data,1,0),0)),\"\")","v":""},{"$f":"IFERROR(INDEX(Ref_Data,'Ref Data Entry'!$B$76,MATCH(AH19,INDEX(Ref_Data,1,0),0)),\"\")","v":""},{"$f":"IFERROR(INDEX(Ref_Data,'Ref Data Entry'!$B$78,MATCH(AH19,INDEX(Ref_Data,1,0),0)),\"\")","v":""},{"$f":"IFERROR(INDEX(Ref_Data,'Ref Data Entry'!$B$79,MATCH(AH19,INDEX(Ref_Data,1,0),0)),\"\")","v":""},{"$f":"IFERROR(INDEX(Ref_Data,'Ref Data Entry'!$B$81,MATCH(AH19,INDEX(Ref_Data,1,0),0)),\"\")","v":""},{"$f":"IFERROR(IF(OR(LEFT(INDEX(Ref_Data,'Ref Data Entry'!$B$32,MATCH(AH19,INDEX(Ref_Data,1,0),0)),7)=\"Walk-In\",INDEX(Ref_Data,'Ref Data Entry'!$B$32,MATCH(AH19,INDEX(Ref_Data,1,0),0))=\"Other-Unregulated\"),0,1),\"\")","v":""},null,null,{"$f":"IFERROR(INDEX(Ref_Data,'Ref Data Entry'!$B$73,MATCH(AQ19,INDEX(Ref_Data,1,0),0)),\"\")","v":""},{"$f":"IFERROR(INDEX(Ref_Data,'Ref Data Entry'!$B$74,MATCH(AQ19,INDEX(Ref_Data,1,0),0)),\"\")","v":""},{"$f":"IFERROR(INDEX(Ref_Data,'Ref Data Entry'!$B$76,MATCH(AQ19,INDEX(Ref_Data,1,0),0)),\"\")","v":""},{"$f":"IFERROR(INDEX(Ref_Data,'Ref Data Entry'!$B$78,MATCH(AQ19,INDEX(Ref_Data,1,0),0)),\"\")","v":""},{"$f":"IFERROR(INDEX(Ref_Data,'Ref Data Entry'!$B$79,MATCH(AQ19,INDEX(Ref_Data,1,0),0)),\"\")","v":""},{"$f":"IFERROR(INDEX(Ref_Data,'Ref Data Entry'!$B$81,MATCH(AQ19,INDEX(Ref_Data,1,0),0)),\"\")","v":""},{"$f":"IFERROR(IF(OR(LEFT(INDEX(Ref_Data,'Ref Data Entry'!$B$32,MATCH(AQ19,INDEX(Ref_Data,1,0),0)),7)=\"Walk-In\",INDEX(Ref_Data,'Ref Data Entry'!$B$32,MATCH(AQ19,INDEX(Ref_Data,1,0),0))=\"Other-Unregulated\"),0,1),\"\")","v":""},null,null,{"$f":"IFERROR(INDEX(Ref_Data,'Ref Data Entry'!$B$73,MATCH(AZ19,INDEX(Ref_Data,1,0),0)),\"\")","v":""},{"$f":"IFERROR(INDEX(Ref_Data,'Ref Data Entry'!$B$74,MATCH(AZ19,INDEX(Ref_Data,1,0),0)),\"\")","v":""},{"$f":"IFERROR(INDEX(Ref_Data,'Ref Data Entry'!$B$76,MATCH(AZ19,INDEX(Ref_Data,1,0),0)),\"\")","v":""},{"$f":"IFERROR(INDEX(Ref_Data,'Ref Data Entry'!$B$78,MATCH(AZ19,INDEX(Ref_Data,1,0),0)),\"\")","v":""},{"$f":"IFERROR(INDEX(Ref_Data,'Ref Data Entry'!$B$79,MATCH(AZ19,INDEX(Ref_Data,1,0),0)),\"\")","v":""},{"$f":"IFERROR(INDEX(Ref_Data,'Ref Data Entry'!$B$81,MATCH(AZ19,INDEX(Ref_Data,1,0),0)),\"\")","v":""},{"$f":"IFERROR(IF(OR(LEFT(INDEX(Ref_Data,'Ref Data Entry'!$B$32,MATCH(AZ19,INDEX(Ref_Data,1,0),0)),7)=\"Walk-In\",INDEX(Ref_Data,'Ref Data Entry'!$B$32,MATCH(AZ19,INDEX(Ref_Data,1,0),0))=\"Other-Unregulated\"),0,1),\"\")","v":""},null,null,{"$f":"IFERROR(INDEX(Ref_Data,'Ref Data Entry'!$B$73,MATCH(BI19,INDEX(Ref_Data,1,0),0)),\"\")","v":""},{"$f":"IFERROR(INDEX(Ref_Data,'Ref Data Entry'!$B$74,MATCH(BI19,INDEX(Ref_Data,1,0),0)),\"\")","v":""},{"$f":"IFERROR(INDEX(Ref_Data,'Ref Data Entry'!$B$76,MATCH(BI19,INDEX(Ref_Data,1,0),0)),\"\")","v":""},{"$f":"IFERROR(INDEX(Ref_Data,'Ref Data Entry'!$B$78,MATCH(BI19,INDEX(Ref_Data,1,0),0)),\"\")","v":""},{"$f":"IFERROR(INDEX(Ref_Data,'Ref Data Entry'!$B$79,MATCH(BI19,INDEX(Ref_Data,1,0),0)),\"\")","v":""},{"$f":"IFERROR(INDEX(Ref_Data,'Ref Data Entry'!$B$81,MATCH(BI19,INDEX(Ref_Data,1,0),0)),\"\")","v":""},{"$f":"IFERROR(IF(OR(LEFT(INDEX(Ref_Data,'Ref Data Entry'!$B$32,MATCH(BI19,INDEX(Ref_Data,1,0),0)),7)=\"Walk-In\",INDEX(Ref_Data,'Ref Data Entry'!$B$32,MATCH(BI19,INDEX(Ref_Data,1,0),0))=\"Other-Unregulated\"),0,1),\"\")","v":""},null,null,{"$f":"IFERROR(INDEX(Ref_Data,'Ref Data Entry'!$B$73,MATCH(BR19,INDEX(Ref_Data,1,0),0)),\"\")","v":""},{"$f":"IFERROR(INDEX(Ref_Data,'Ref Data Entry'!$B$74,MATCH(BR19,INDEX(Ref_Data,1,0),0)),\"\")","v":""},{"$f":"IFERROR(INDEX(Ref_Data,'Ref Data Entry'!$B$76,MATCH(BR19,INDEX(Ref_Data,1,0),0)),\"\")","v":""},{"$f":"IFERROR(INDEX(Ref_Data,'Ref Data Entry'!$B$78,MATCH(BR19,INDEX(Ref_Data,1,0),0)),\"\")","v":""},{"$f":"IFERROR(INDEX(Ref_Data,'Ref Data Entry'!$B$79,MATCH(BR19,INDEX(Ref_Data,1,0),0)),\"\")","v":""},{"$f":"IFERROR(INDEX(Ref_Data,'Ref Data Entry'!$B$81,MATCH(BR19,INDEX(Ref_Data,1,0),0)),\"\")","v":""},{"$f":"IFERROR(IF(OR(LEFT(INDEX(Ref_Data,'Ref Data Entry'!$B$32,MATCH(BR19,INDEX(Ref_Data,1,0),0)),7)=\"Walk-In\",INDEX(Ref_Data,'Ref Data Entry'!$B$32,MATCH(BR19,INDEX(Ref_Data,1,0),0))=\"Other-Unregulated\"),0,1),\"\")","v":""}]
["D",null,null,null,"Unit 4",null,null,null,{"$f":"IFERROR(INDEX(Ref_Data,'Ref Data Entry'!$B$73,MATCH(G20,INDEX(Ref_Data,1,0),0)),\"\")","v":""},{"$f":"IFERROR(INDEX(Ref_Data,'Ref Data Entry'!$B$74,MATCH(G20,INDEX(Ref_Data,1,0),0)),\"\")","v":""},{"$f":"IFERROR(INDEX(Ref_Data,'Ref Data Entry'!$B$76,MATCH(G20,INDEX(Ref_Data,1,0),0)),\"\")","v":""},{"$f":"IFERROR(INDEX(Ref_Data,'Ref Data Entry'!$B$78,MATCH(G20,INDEX(Ref_Data,1,0),0)),\"\")","v":""},{"$f":"IFERROR(INDEX(Ref_Data,'Ref Data Entry'!$B$79,MATCH(G20,INDEX(Ref_Data,1,0),0)),\"\")","v":""},{"$f":"IFERROR(INDEX(Ref_Data,'Ref Data Entry'!$B$81,MATCH(G20,INDEX(Ref_Data,1,0),0)),\"\")","v":""},{"$f":"IFERROR(IF(OR(LEFT(INDEX(Ref_Data,'Ref Data Entry'!$B$32,MATCH(G20,INDEX(Ref_Data,1,0),0)),7)=\"Walk-In\",INDEX(Ref_Data,'Ref Data Entry'!$B$32,MATCH(G20,INDEX(Ref_Data,1,0),0))=\"Other-Unregulated\"),0,1),\"\")","v":""},null,null,{"$f":"IFERROR(INDEX(Ref_Data,'Ref Data Entry'!$B$73,MATCH(P20,INDEX(Ref_Data,1,0),0)),\"\")","v":""},{"$f":"IFERROR(INDEX(Ref_Data,'Ref Data Entry'!$B$74,MATCH(P20,INDEX(Ref_Data,1,0),0)),\"\")","v":""},{"$f":"IFERROR(INDEX(Ref_Data,'Ref Data Entry'!$B$76,MATCH(P20,INDEX(Ref_Data,1,0),0)),\"\")","v":""},{"$f":"IFERROR(INDEX(Ref_Data,'Ref Data Entry'!$B$78,MATCH(P20,INDEX(Ref_Data,1,0),0)),\"\")","v":""},{"$f":"IFERROR(INDEX(Ref_Data,'Ref Data Entry'!$B$79,MATCH(P20,INDEX(Ref_Data,1,0),0)),\"\")","v":""},{"$f":"IFERROR(INDEX(Ref_Data,'Ref Data Entry'!$B$81,MATCH(P20,INDEX(Ref_Data,1,0),0)),\"\")","v":""},{"$f":"IFERROR(IF(OR(LEFT(INDEX(Ref_Data,'Ref Data Entry'!$B$32,MATCH(P20,INDEX(Ref_Data,1,0),0)),7)=\"Walk-In\",INDEX(Ref_Data,'Ref Data Entry'!$B$32,MATCH(P20,INDEX(Ref_Data,1,0),0))=\"Other-Unregulated\"),0,1),\"\")","v":""},null,null,{"$f":"IFERROR(INDEX(Ref_Data,'Ref Data Entry'!$B$73,MATCH(Y20,INDEX(Ref_Data,1,0),0)),\"\")","v":""},{"$f":"IFERROR(INDEX(Ref_Data,'Ref Data Entry'!$B$74,MATCH(Y20,INDEX(Ref_Data,1,0),0)),\"\")","v":""},{"$f":"IFERROR(INDEX(Ref_Data,'Ref Data Entry'!$B$76,MATCH(Y20,INDEX(Ref_Data,1,0),0)),\"\")","v":""},{"$f":"IFERROR(INDEX(Ref_Data,'Ref Data Entry'!$B$78,MATCH(Y20,INDEX(Ref_Data,1,0),0)),\"\")","v":""},{"$f":"IFERROR(INDEX(Ref_Data,'Ref Data Entry'!$B$79,MATCH(Y20,INDEX(Ref_Data,1,0),0)),\"\")","v":""},{"$f":"IFERROR(INDEX(Ref_Data,'Ref Data Entry'!$B$81,MATCH(Y20,INDEX(Ref_Data,1,0),0)),\"\")","v":""},{"$f":"IFERROR(IF(OR(LEFT(INDEX(Ref_Data,'Ref Data Entry'!$B$32,MATCH(Y20,INDEX(Ref_Data,1,0),0)),7)=\"Walk-In\",INDEX(Ref_Data,'Ref Data Entry'!$B$32,MATCH(Y20,INDEX(Ref_Data,1,0),0))=\"Other-Unregulated\"),0,1),\"\")","v":""},null,null,{"$f":"IFERROR(INDEX(Ref_Data,'Ref Data Entry'!$B$73,MATCH(AH20,INDEX(Ref_Data,1,0),0)),\"\")","v":""},{"$f":"IFERROR(INDEX(Ref_Data,'Ref Data Entry'!$B$74,MATCH(AH20,INDEX(Ref_Data,1,0),0)),\"\")","v":""},{"$f":"IFERROR(INDEX(Ref_Data,'Ref Data Entry'!$B$76,MATCH(AH20,INDEX(Ref_Data,1,0),0)),\"\")","v":""},{"$f":"IFERROR(INDEX(Ref_Data,'Ref Data Entry'!$B$78,MATCH(AH20,INDEX(Ref_Data,1,0),0)),\"\")","v":""},{"$f":"IFERROR(INDEX(Ref_Data,'Ref Data Entry'!$B$79,MATCH(AH20,INDEX(Ref_Data,1,0),0)),\"\")","v":""},{"$f":"IFERROR(INDEX(Ref_Data,'Ref Data Entry'!$B$81,MATCH(AH20,INDEX(Ref_Data,1,0),0)),\"\")","v":""},{"$f":"IFERROR(IF(OR(LEFT(INDEX(Ref_Data,'Ref Data Entry'!$B$32,MATCH(AH20,INDEX(Ref_Data,1,0),0)),7)=\"Walk-In\",INDEX(Ref_Data,'Ref Data Entry'!$B$32,MATCH(AH20,INDEX(Ref_Data,1,0),0))=\"Other-Unregulated\"),0,1),\"\")","v":""},null,null,{"$f":"IFERROR(INDEX(Ref_Data,'Ref Data Entry'!$B$73,MATCH(AQ20,INDEX(Ref_Data,1,0),0)),\"\")","v":""},{"$f":"IFERROR(INDEX(Ref_Data,'Ref Data Entry'!$B$74,MATCH(AQ20,INDEX(Ref_Data,1,0),0)),\"\")","v":""},{"$f":"IFERROR(INDEX(Ref_Data,'Ref Data Entry'!$B$76,MATCH(AQ20,INDEX(Ref_Data,1,0),0)),\"\")","v":""},{"$f":"IFERROR(INDEX(Ref_Data,'Ref Data Entry'!$B$78,MATCH(AQ20,INDEX(Ref_Data,1,0),0)),\"\")","v":""},{"$f":"IFERROR(INDEX(Ref_Data,'Ref Data Entry'!$B$79,MATCH(AQ20,INDEX(Ref_Data,1,0),0)),\"\")","v":""},{"$f":"IFERROR(INDEX(Ref_Data,'Ref Data Entry'!$B$81,MATCH(AQ20,INDEX(Ref_Data,1,0),0)),\"\")","v":""},{"$f":"IFERROR(IF(OR(LEFT(INDEX(Ref_Data,'Ref Data Entry'!$B$32,MATCH(AQ20,INDEX(Ref_Data,1,0),0)),7)=\"Walk-In\",INDEX(Ref_Data,'Ref Data Entry'!$B$32,MATCH(AQ20,INDEX(Ref_Data,1,0),0))=\"Other-Unregulated\"),0,1),\"\")","v":""},null,null,{"$f":"IFERROR(INDEX(Ref_Data,'Ref Data Entry'!$B$73,MATCH(AZ20,INDEX(Ref_Data,1,0),0)),\"\")","v":""},{"$f":"IFERROR(INDEX(Ref_Data,'Ref Data Entry'!$B$74,MATCH(AZ20,INDEX(Ref_Data,1,0),0)),\"\")","v":""},{"$f":"IFERROR(INDEX(Ref_Data,'Ref Data Entry'!$B$76,MATCH(AZ20,INDEX(Ref_Data,1,0),0)),\"\")","v":""},{"$f":"IFERROR(INDEX(Ref_Data,'Ref Data Entry'!$B$78,MATCH(AZ20,INDEX(Ref_Data,1,0),0)),\"\")","v":""},{"$f":"IFERROR(INDEX(Ref_Data,'Ref Data Entry'!$B$79,MATCH(AZ20,INDEX(Ref_Data,1,0),0)),\"\")","v":""},{"$f":"IFERROR(INDEX(Ref_Data,'Ref Data Entry'!$B$81,MATCH(AZ20,INDEX(Ref_Data,1,0),0)),\"\")","v":""},{"$f":"IFERROR(IF(OR(LEFT(INDEX(Ref_Data,'Ref Data Entry'!$B$32,MATCH(AZ20,INDEX(Ref_Data,1,0),0)),7)=\"Walk-In\",INDEX(Ref_Data,'Ref Data Entry'!$B$32,MATCH(AZ20,INDEX(Ref_Data,1,0),0))=\"Other-Unregulated\"),0,1),\"\")","v":""},null,null,{"$f":"IFERROR(INDEX(Ref_Data,'Ref Data Entry'!$B$73,MATCH(BI20,INDEX(Ref_Data,1,0),0)),\"\")","v":""},{"$f":"IFERROR(INDEX(Ref_Data,'Ref Data Entry'!$B$74,MATCH(BI20,INDEX(Ref_Data,1,0),0)),\"\")","v":""},{"$f":"IFERROR(INDEX(Ref_Data,'Ref Data Entry'!$B$76,MATCH(BI20,INDEX(Ref_Data,1,0),0)),\"\")","v":""},{"$f":"IFERROR(INDEX(Ref_Data,'Ref Data Entry'!$B$78,MATCH(BI20,INDEX(Ref_Data,1,0),0)),\"\")","v":""},{"$f":"IFERROR(INDEX(Ref_Data,'Ref Data Entry'!$B$79,MATCH(BI20,INDEX(Ref_Data,1,0),0)),\"\")","v":""},{"$f":"IFERROR(INDEX(Ref_Data,'Ref Data Entry'!$B$81,MATCH(BI20,INDEX(Ref_Data,1,0),0)),\"\")","v":""},{"$f":"IFERROR(IF(OR(LEFT(INDEX(Ref_Data,'Ref Data Entry'!$B$32,MATCH(BI20,INDEX(Ref_Data,1,0),0)),7)=\"Walk-In\",INDEX(Ref_Data,'Ref Data Entry'!$B$32,MATCH(BI20,INDEX(Ref_Data,1,0),0))=\"Other-Unregulated\"),0,1),\"\")","v":""},null,null,{"$f":"IFERROR(INDEX(Ref_Data,'Ref Data Entry'!$B$73,MATCH(BR20,INDEX(Ref_Data,1,0),0)),\"\")","v":""},{"$f":"IFERROR(INDEX(Ref_Data,'Ref Data Entry'!$B$74,MATCH(BR20,INDEX(Ref_Data,1,0),0)),\"\")","v":""},{"$f":"IFERROR(INDEX(Ref_Data,'Ref Data Entry'!$B$76,MATCH(BR20,INDEX(Ref_Data,1,0),0)),\"\")","v":""},{"$f":"IFERROR(INDEX(Ref_Data,'Ref Data Entry'!$B$78,MATCH(BR20,INDEX(Ref_Data,1,0),0)),\"\")","v":""},{"$f":"IFERROR(INDEX(Ref_Data,'Ref Data Entry'!$B$79,MATCH(BR20,INDEX(Ref_Data,1,0),0)),\"\")","v":""},{"$f":"IFERROR(INDEX(Ref_Data,'Ref Data Entry'!$B$81,MATCH(BR20,INDEX(Ref_Data,1,0),0)),\"\")","v":""},{"$f":"IFERROR(IF(OR(LEFT(INDEX(Ref_Data,'Ref Data Entry'!$B$32,MATCH(BR20,INDEX(Ref_Data,1,0),0)),7)=\"Walk-In\",INDEX(Ref_Data,'Ref Data Entry'!$B$32,MATCH(BR20,INDEX(Ref_Data,1,0),0))=\"Other-Unregulated\"),0,1),\"\")","v":""}]
["D",null,null,null,"Unit 5",null,null,null,{"$f":"IFERROR(INDEX(Ref_Data,'Ref Data Entry'!$B$73,MATCH(G21,INDEX(Ref_Data,1,0),0)),\"\")","v":""},{"$f":"IFERROR(INDEX(Ref_Data,'Ref Data Entry'!$B$74,MATCH(G21,INDEX(Ref_Data,1,0),0)),\"\")","v":""},{"$f":"IFERROR(INDEX(Ref_Data,'Ref Data Entry'!$B$76,MATCH(G21,INDEX(Ref_Data,1,0),0)),\"\")","v":""},{"$f":"IFERROR(INDEX(Ref_Data,'Ref Data Entry'!$B$78,MATCH(G21,INDEX(Ref_Data,1,0),0)),\"\")","v":""},{"$f":"IFERROR(INDEX(Ref_Data,'Ref Data Entry'!$B$79,MATCH(G21,INDEX(Ref_Data,1,0),0)),\"\")","v":""},{"$f":"IFERROR(INDEX(Ref_Data,'Ref Data Entry'!$B$81,MATCH(G21,INDEX(Ref_Data,1,0),0)),\"\")","v":""},{"$f":"IFERROR(IF(OR(LEFT(INDEX(Ref_Data,'Ref Data Entry'!$B$32,MATCH(G21,INDEX(Ref_Data,1,0),0)),7)=\"Walk-In\",INDEX(Ref_Data,'Ref Data Entry'!$B$32,MATCH(G21,INDEX(Ref_Data,1,0),0))=\"Other-Unregulated\"),0,1),\"\")","v":""},null,null,{"$f":"IFERROR(INDEX(Ref_Data,'Ref Data Entry'!$B$73,MATCH(P21,INDEX(Ref_Data,1,0),0)),\"\")","v":""},{"$f":"IFERROR(INDEX(Ref_Data,'Ref Data Entry'!$B$74,MATCH(P21,INDEX(Ref_Data,1,0),0)),\"\")","v":""},{"$f":"IFERROR(INDEX(Ref_Data,'Ref Data Entry'!$B$76,MATCH(P21,INDEX(Ref_Data,1,0),0)),\"\")","v":""},{"$f":"IFERROR(INDEX(Ref_Data,'Ref Data Entry'!$B$78,MATCH(P21,INDEX(Ref_Data,1,0),0)),\"\")","v":""},{"$f":"IFERROR(INDEX(Ref_Data,'Ref Data Entry'!$B$79,MATCH(P21,INDEX(Ref_Data,1,0),0)),\"\")","v":""},{"$f":"IFERROR(INDEX(Ref_Data,'Ref Data Entry'!$B$81,MATCH(P21,INDEX(Ref_Data,1,0),0)),\"\")","v":""},{"$f":"IFERROR(IF(OR(LEFT(INDEX(Ref_Data,'Ref Data Entry'!$B$32,MATCH(P21,INDEX(Ref_Data,1,0),0)),7)=\"Walk-In\",INDEX(Ref_Data,'Ref Data Entry'!$B$32,MATCH(P21,INDEX(Ref_Data,1,0),0))=\"Other-Unregulated\"),0,1),\"\")","v":""},null,null,{"$f":"IFERROR(INDEX(Ref_Data,'Ref Data Entry'!$B$73,MATCH(Y21,INDEX(Ref_Data,1,0),0)),\"\")","v":""},{"$f":"IFERROR(INDEX(Ref_Data,'Ref Data Entry'!$B$74,MATCH(Y21,INDEX(Ref_Data,1,0),0)),\"\")","v":""},{"$f":"IFERROR(INDEX(Ref_Data,'Ref Data Entry'!$B$76,MATCH(Y21,INDEX(Ref_Data,1,0),0)),\"\")","v":""},{"$f":"IFERROR(INDEX(Ref_Data,'Ref Data Entry'!$B$78,MATCH(Y21,INDEX(Ref_Data,1,0),0)),\"\")","v":""},{"$f":"IFERROR(INDEX(Ref_Data,'Ref Data Entry'!$B$79,MATCH(Y21,INDEX(Ref_Data,1,0),0)),\"\")","v":""},{"$f":"IFERROR(INDEX(Ref_Data,'Ref Data Entry'!$B$81,MATCH(Y21,INDEX(Ref_Data,1,0),0)),\"\")","v":""},{"$f":"IFERROR(IF(OR(LEFT(INDEX(Ref_Data,'Ref Data Entry'!$B$32,MATCH(Y21,INDEX(Ref_Data,1,0),0)),7)=\"Walk-In\",INDEX(Ref_Data,'Ref Data Entry'!$B$32,MATCH(Y21,INDEX(Ref_Data,1,0),0))=\"Other-Unregulated\"),0,1),\"\")","v":""},null,null,{"$f":"IFERROR(INDEX(Ref_Data,'Ref Data Entry'!$B$73,MATCH(AH21,INDEX(Ref_Data,1,0),0)),\"\")","v":""},{"$f":"IFERROR(INDEX(Ref_Data,'Ref Data Entry'!$B$74,MATCH(AH21,INDEX(Ref_Data,1,0),0)),\"\")","v":""},{"$f":"IFERROR(INDEX(Ref_Data,'Ref Data Entry'!$B$76,MATCH(AH21,INDEX(Ref_Data,1,0),0)),\"\")","v":""},{"$f":"IFERROR(INDEX(Ref_Data,'Ref Data Entry'!$B$78,MATCH(AH21,INDEX(Ref_Data,1,0),0)),\"\")","v":""},{"$f":"IFERROR(INDEX(Ref_Data,'Ref Data Entry'!$B$79,MATCH(AH21,INDEX(Ref_Data,1,0),0)),\"\")","v":""},{"$f":"IFERROR(INDEX(Ref_Data,'Ref Data Entry'!$B$81,MATCH(AH21,INDEX(Ref_Data,1,0),0)),\"\")","v":""},{"$f":"IFERROR(IF(OR(LEFT(INDEX(Ref_Data,'Ref Data Entry'!$B$32,MATCH(AH21,INDEX(Ref_Data,1,0),0)),7)=\"Walk-In\",INDEX(Ref_Data,'Ref Data Entry'!$B$32,MATCH(AH21,INDEX(Ref_Data,1,0),0))=\"Other-Unregulated\"),0,1),\"\")","v":""},null,null,{"$f":"IFERROR(INDEX(Ref_Data,'Ref Data Entry'!$B$73,MATCH(AQ21,INDEX(Ref_Data,1,0),0)),\"\")","v":""},{"$f":"IFERROR(INDEX(Ref_Data,'Ref Data Entry'!$B$74,MATCH(AQ21,INDEX(Ref_Data,1,0),0)),\"\")","v":""},{"$f":"IFERROR(INDEX(Ref_Data,'Ref Data Entry'!$B$76,MATCH(AQ21,INDEX(Ref_Data,1,0),0)),\"\")","v":""},{"$f":"IFERROR(INDEX(Ref_Data,'Ref Data Entry'!$B$78,MATCH(AQ21,INDEX(Ref_Data,1,0),0)),\"\")","v":""},{"$f":"IFERROR(INDEX(Ref_Data,'Ref Data Entry'!$B$79,MATCH(AQ21,INDEX(Ref_Data,1,0),0)),\"\")","v":""},{"$f":"IFERROR(INDEX(Ref_Data,'Ref Data Entry'!$B$81,MATCH(AQ21,INDEX(Ref_Data,1,0),0)),\"\")","v":""},{"$f":"IFERROR(IF(OR(LEFT(INDEX(Ref_Data,'Ref Data Entry'!$B$32,MATCH(AQ21,INDEX(Ref_Data,1,0),0)),7)=\"Walk-In\",INDEX(Ref_Data,'Ref Data Entry'!$B$32,MATCH(AQ21,INDEX(Ref_Data,1,0),0))=\"Other-Unregulated\"),0,1),\"\")","v":""},null,null,{"$f":"IFERROR(INDEX(Ref_Data,'Ref Data Entry'!$B$73,MATCH(AZ21,INDEX(Ref_Data,1,0),0)),\"\")","v":""},{"$f":"IFERROR(INDEX(Ref_Data,'Ref Data Entry'!$B$74,MATCH(AZ21,INDEX(Ref_Data,1,0),0)),\"\")","v":""},{"$f":"IFERROR(INDEX(Ref_Data,'Ref Data Entry'!$B$76,MATCH(AZ21,INDEX(Ref_Data,1,0),0)),\"\")","v":""},{"$f":"IFERROR(INDEX(Ref_Data,'Ref Data Entry'!$B$78,MATCH(AZ21,INDEX(Ref_Data,1,0),0)),\"\")","v":""},{"$f":"IFERROR(INDEX(Ref_Data,'Ref Data Entry'!$B$79,MATCH(AZ21,INDEX(Ref_Data,1,0),0)),\"\")","v":""},{"$f":"IFERROR(INDEX(Ref_Data,'Ref Data Entry'!$B$81,MATCH(AZ21,INDEX(Ref_Data,1,0),0)),\"\")","v":""},{"$f":"IFERROR(IF(OR(LEFT(INDEX(Ref_Data,'Ref Data Entry'!$B$32,MATCH(AZ21,INDEX(Ref_Data,1,0),0)),7)=\"Walk-In\",INDEX(Ref_Data,'Ref Data Entry'!$B$32,MATCH(AZ21,INDEX(Ref_Data,1,0),0))=\"Other-Unregulated\"),0,1),\"\")","v":""},null,null,{"$f":"IFERROR(INDEX(Ref_Data,'Ref Data Entry'!$B$73,MATCH(BI21,INDEX(Ref_Data,1,0),0)),\"\")","v":""},{"$f":"IFERROR(INDEX(Ref_Data,'Ref Data Entry'!$B$74,MATCH(BI21,INDEX(Ref_Data,1,0),0)),\"\")","v":""},{"$f":"IFERROR(INDEX(Ref_Data,'Ref Data Entry'!$B$76,MATCH(BI21,INDEX(Ref_Data,1,0),0)),\"\")","v":""},{"$f":"IFERROR(INDEX(Ref_Data,'Ref Data Entry'!$B$78,MATCH(BI21,INDEX(Ref_Data,1,0),0)),\"\")","v":""},{"$f":"IFERROR(INDEX(Ref_Data,'Ref Data Entry'!$B$79,MATCH(BI21,INDEX(Ref_Data,1,0),0)),\"\")","v":""},{"$f":"IFERROR(INDEX(Ref_Data,'Ref Data Entry'!$B$81,MATCH(BI21,INDEX(Ref_Data,1,0),0)),\"\")","v":""},{"$f":"IFERROR(IF(OR(LEFT(INDEX(Ref_Data,'Ref Data Entry'!$B$32,MATCH(BI21,INDEX(Ref_Data,1,0),0)),7)=\"Walk-In\",INDEX(Ref_Data,'Ref Data Entry'!$B$32,MATCH(BI21,INDEX(Ref_Data,1,0),0))=\"Other-Unregulated\"),0,1),\"\")","v":""},null,null,{"$f":"IFERROR(INDEX(Ref_Data,'Ref Data Entry'!$B$73,MATCH(BR21,INDEX(Ref_Data,1,0),0)),\"\")","v":""},{"$f":"IFERROR(INDEX(Ref_Data,'Ref Data Entry'!$B$74,MATCH(BR21,INDEX(Ref_Data,1,0),0)),\"\")","v":""},{"$f":"IFERROR(INDEX(Ref_Data,'Ref Data Entry'!$B$76,MATCH(BR21,INDEX(Ref_Data,1,0),0)),\"\")","v":""},{"$f":"IFERROR(INDEX(Ref_Data,'Ref Data Entry'!$B$78,MATCH(BR21,INDEX(Ref_Data,1,0),0)),\"\")","v":""},{"$f":"IFERROR(INDEX(Ref_Data,'Ref Data Entry'!$B$79,MATCH(BR21,INDEX(Ref_Data,1,0),0)),\"\")","v":""},{"$f":"IFERROR(INDEX(Ref_Data,'Ref Data Entry'!$B$81,MATCH(BR21,INDEX(Ref_Data,1,0),0)),\"\")","v":""},{"$f":"IFERROR(IF(OR(LEFT(INDEX(Ref_Data,'Ref Data Entry'!$B$32,MATCH(BR21,INDEX(Ref_Data,1,0),0)),7)=\"Walk-In\",INDEX(Ref_Data,'Ref Data Entry'!$B$32,MATCH(BR21,INDEX(Ref_Data,1,0),0))=\"Other-Unregulated\"),0,1),\"\")","v":""}]
["D",null,null,null,"Unit 6",null,null,null,{"$f":"IFERROR(INDEX(Ref_Data,'Ref Data Entry'!$B$73,MATCH(G22,INDEX(Ref_Data,1,0),0)),\"\")","v":""},{"$f":"IFERROR(INDEX(Ref_Data,'Ref Data Entry'!$B$74,MATCH(G22,INDEX(Ref_Data,1,0),0)),\"\")","v":""},{"$f":"IFERROR(INDEX(Ref_Data,'Ref Data Entry'!$B$76,MATCH(G22,INDEX(Ref_Data,1,0),0)),\"\")","v":""},{"$f":"IFERROR(INDEX(Ref_Data,'Ref Data Entry'!$B$78,MATCH(G22,INDEX(Ref_Data,1,0),0)),\"\")","v":""},{"$f":"IFERROR(INDEX(Ref_Data,'Ref Data Entry'!$B$79,MATCH(G22,INDEX(Ref_Data,1,0),0)),\"\")","v":""},{"$f":"IFERROR(INDEX(Ref_Data,'Ref Data Entry'!$B$81,MATCH(G22,INDEX(Ref_Data,1,0),0)),\"\")","v":""},{"$f":"IFERROR(IF(OR(LEFT(INDEX(Ref_Data,'Ref Data Entry'!$B$32,MATCH(G22,INDEX(Ref_Data,1,0),0)),7)=\"Walk-In\",INDEX(Ref_Data,'Ref Data Entry'!$B$32,MATCH(G22,INDEX(Ref_Data,1,0),0))=\"Other-Unregulated\"),0,1),\"\")","v":""},null,null,{"$f":"IFERROR(INDEX(Ref_Data,'Ref Data Entry'!$B$73,MATCH(P22,INDEX(Ref_Data,1,0),0)),\"\")","v":""},{"$f":"IFERROR(INDEX(Ref_Data,'Ref Data Entry'!$B$74,MATCH(P22,INDEX(Ref_Data,1,0),0)),\"\")","v":""},{"$f":"IFERROR(INDEX(Ref_Data,'Ref Data Entry'!$B$76,MATCH(P22,INDEX(Ref_Data,1,0),0)),\"\")","v":""},{"$f":"IFERROR(INDEX(Ref_Data,'Ref Data Entry'!$B$78,MATCH(P22,INDEX(Ref_Data,1,0),0)),\"\")","v":""},{"$f":"IFERROR(INDEX(Ref_Data,'Ref Data Entry'!$B$79,MATCH(P22,INDEX(Ref_Data,1,0),0)),\"\")","v":""},{"$f":"IFERROR(INDEX(Ref_Data,'Ref Data Entry'!$B$81,MATCH(P22,INDEX(Ref_Data,1,0),0)),\"\")","v":""},{"$f":"IFERROR(IF(OR(LEFT(INDEX(Ref_Data,'Ref Data Entry'!$B$32,MATCH(P22,INDEX(Ref_Data,1,0),0)),7)=\"Walk-In\",INDEX(Ref_Data,'Ref Data Entry'!$B$32,MATCH(P22,INDEX(Ref_Data,1,0),0))=\"Other-Unregulated\"),0,1),\"\")","v":""},null,null,{"$f":"IFERROR(INDEX(Ref_Data,'Ref Data Entry'!$B$73,MATCH(Y22,INDEX(Ref_Data,1,0),0)),\"\")","v":""},{"$f":"IFERROR(INDEX(Ref_Data,'Ref Data Entry'!$B$74,MATCH(Y22,INDEX(Ref_Data,1,0),0)),\"\")","v":""},{"$f":"IFERROR(INDEX(Ref_Data,'Ref Data Entry'!$B$76,MATCH(Y22,INDEX(Ref_Data,1,0),0)),\"\")","v":""},{"$f":"IFERROR(INDEX(Ref_Data,'Ref Data Entry'!$B$78,MATCH(Y22,INDEX(Ref_Data,1,0),0)),\"\")","v":""},{"$f":"IFERROR(INDEX(Ref_Data,'Ref Data Entry'!$B$79,MATCH(Y22,INDEX(Ref_Data,1,0),0)),\"\")","v":""},{"$f":"IFERROR(INDEX(Ref_Data,'Ref Data Entry'!$B$81,MATCH(Y22,INDEX(Ref_Data,1,0),0)),\"\")","v":""},{"$f":"IFERROR(IF(OR(LEFT(INDEX(Ref_Data,'Ref Data Entry'!$B$32,MATCH(Y22,INDEX(Ref_Data,1,0),0)),7)=\"Walk-In\",INDEX(Ref_Data,'Ref Data Entry'!$B$32,MATCH(Y22,INDEX(Ref_Data,1,0),0))=\"Other-Unregulated\"),0,1),\"\")","v":""},null,null,{"$f":"IFERROR(INDEX(Ref_Data,'Ref Data Entry'!$B$73,MATCH(AH22,INDEX(Ref_Data,1,0),0)),\"\")","v":""},{"$f":"IFERROR(INDEX(Ref_Data,'Ref Data Entry'!$B$74,MATCH(AH22,INDEX(Ref_Data,1,0),0)),\"\")","v":""},{"$f":"IFERROR(INDEX(Ref_Data,'Ref Data Entry'!$B$76,MATCH(AH22,INDEX(Ref_Data,1,0),0)),\"\")","v":""},{"$f":"IFERROR(INDEX(Ref_Data,'Ref Data Entry'!$B$78,MATCH(AH22,INDEX(Ref_Data,1,0),0)),\"\")","v":""},{"$f":"IFERROR(INDEX(Ref_Data,'Ref Data Entry'!$B$79,MATCH(AH22,INDEX(Ref_Data,1,0),0)),\"\")","v":""},{"$f":"IFERROR(INDEX(Ref_Data,'Ref Data Entry'!$B$81,MATCH(AH22,INDEX(Ref_Data,1,0),0)),\"\")","v":""},{"$f":"IFERROR(IF(OR(LEFT(INDEX(Ref_Data,'Ref Data Entry'!$B$32,MATCH(AH22,INDEX(Ref_Data,1,0),0)),7)=\"Walk-In\",INDEX(Ref_Data,'Ref Data Entry'!$B$32,MATCH(AH22,INDEX(Ref_Data,1,0),0))=\"Other-Unregulated\"),0,1),\"\")","v":""},null,null,{"$f":"IFERROR(INDEX(Ref_Data,'Ref Data Entry'!$B$73,MATCH(AQ22,INDEX(Ref_Data,1,0),0)),\"\")","v":""},{"$f":"IFERROR(INDEX(Ref_Data,'Ref Data Entry'!$B$74,MATCH(AQ22,INDEX(Ref_Data,1,0),0)),\"\")","v":""},{"$f":"IFERROR(INDEX(Ref_Data,'Ref Data Entry'!$B$76,MATCH(AQ22,INDEX(Ref_Data,1,0),0)),\"\")","v":""},{"$f":"IFERROR(INDEX(Ref_Data,'Ref Data Entry'!$B$78,MATCH(AQ22,INDEX(Ref_Data,1,0),0)),\"\")","v":""},{"$f":"IFERROR(INDEX(Ref_Data,'Ref Data Entry'!$B$79,MATCH(AQ22,INDEX(Ref_Data,1,0),0)),\"\")","v":""},{"$f":"IFERROR(INDEX(Ref_Data,'Ref Data Entry'!$B$81,MATCH(AQ22,INDEX(Ref_Data,1,0),0)),\"\")","v":""},{"$f":"IFERROR(IF(OR(LEFT(INDEX(Ref_Data,'Ref Data Entry'!$B$32,MATCH(AQ22,INDEX(Ref_Data,1,0),0)),7)=\"Walk-In\",INDEX(Ref_Data,'Ref Data Entry'!$B$32,MATCH(AQ22,INDEX(Ref_Data,1,0),0))=\"Other-Unregulated\"),0,1),\"\")","v":""},null,null,{"$f":"IFERROR(INDEX(Ref_Data,'Ref Data Entry'!$B$73,MATCH(AZ22,INDEX(Ref_Data,1,0),0)),\"\")","v":""},{"$f":"IFERROR(INDEX(Ref_Data,'Ref Data Entry'!$B$74,MATCH(AZ22,INDEX(Ref_Data,1,0),0)),\"\")","v":""},{"$f":"IFERROR(INDEX(Ref_Data,'Ref Data Entry'!$B$76,MATCH(AZ22,INDEX(Ref_Data,1,0),0)),\"\")","v":""},{"$f":"IFERROR(INDEX(Ref_Data,'Ref Data Entry'!$B$78,MATCH(AZ22,INDEX(Ref_Data,1,0),0)),\"\")","v":""},{"$f":"IFERROR(INDEX(Ref_Data,'Ref Data Entry'!$B$79,MATCH(AZ22,INDEX(Ref_Data,1,0),0)),\"\")","v":""},{"$f":"IFERROR(INDEX(Ref_Data,'Ref Data Entry'!$B$81,MATCH(AZ22,INDEX(Ref_Data,1,0),0)),\"\")","v":""},{"$f":"IFERROR(IF(OR(LEFT(INDEX(Ref_Data,'Ref Data Entry'!$B$32,MATCH(AZ22,INDEX(Ref_Data,1,0),0)),7)=\"Walk-In\",INDEX(Ref_Data,'Ref Data Entry'!$B$32,MATCH(AZ22,INDEX(Ref_Data,1,0),0))=\"Other-Unregulated\"),0,1),\"\")","v":""},null,null,{"$f":"IFERROR(INDEX(Ref_Data,'Ref Data Entry'!$B$73,MATCH(BI22,INDEX(Ref_Data,1,0),0)),\"\")","v":""},{"$f":"IFERROR(INDEX(Ref_Data,'Ref Data Entry'!$B$74,MATCH(BI22,INDEX(Ref_Data,1,0),0)),\"\")","v":""},{"$f":"IFERROR(INDEX(Ref_Data,'Ref Data Entry'!$B$76,MATCH(BI22,INDEX(Ref_Data,1,0),0)),\"\")","v":""},{"$f":"IFERROR(INDEX(Ref_Data,'Ref Data Entry'!$B$78,MATCH(BI22,INDEX(Ref_Data,1,0),0)),\"\")","v":""},{"$f":"IFERROR(INDEX(Ref_Data,'Ref Data Entry'!$B$79,MATCH(BI22,INDEX(Ref_Data,1,0),0)),\"\")","v":""},{"$f":"IFERROR(INDEX(Ref_Data,'Ref Data Entry'!$B$81,MATCH(BI22,INDEX(Ref_Data,1,0),0)),\"\")","v":""},{"$f":"IFERROR(IF(OR(LEFT(INDEX(Ref_Data,'Ref Data Entry'!$B$32,MATCH(BI22,INDEX(Ref_Data,1,0),0)),7)=\"Walk-In\",INDEX(Ref_Data,'Ref Data Entry'!$B$32,MATCH(BI22,INDEX(Ref_Data,1,0),0))=\"Other-Unregulated\"),0,1),\"\")","v":""},null,null,{"$f":"IFERROR(INDEX(Ref_Data,'Ref Data Entry'!$B$73,MATCH(BR22,INDEX(Ref_Data,1,0),0)),\"\")","v":""},{"$f":"IFERROR(INDEX(Ref_Data,'Ref Data Entry'!$B$74,MATCH(BR22,INDEX(Ref_Data,1,0),0)),\"\")","v":""},{"$f":"IFERROR(INDEX(Ref_Data,'Ref Data Entry'!$B$76,MATCH(BR22,INDEX(Ref_Data,1,0),0)),\"\")","v":""},{"$f":"IFERROR(INDEX(Ref_Data,'Ref Data Entry'!$B$78,MATCH(BR22,INDEX(Ref_Data,1,0),0)),\"\")","v":""},{"$f":"IFERROR(INDEX(Ref_Data,'Ref Data Entry'!$B$79,MATCH(BR22,INDEX(Ref_Data,1,0),0)),\"\")","v":""},{"$f":"IFERROR(INDEX(Ref_Data,'Ref Data Entry'!$B$81,MATCH(BR22,INDEX(Ref_Data,1,0),0)),\"\")","v":""},{"$f":"IFERROR(IF(OR(LEFT(INDEX(Ref_Data,'Ref Data Entry'!$B$32,MATCH(BR22,INDEX(Ref_Data,1,0),0)),7)=\"Walk-In\",INDEX(Ref_Data,'Ref Data Entry'!$B$32,MATCH(BR22,INDEX(Ref_Data,1,0),0))=\"Other-Unregulated\"),0,1),\"\")","v":""}]
["D",null,null,null,"Unit 7",null,null,null,{"$f":"IFERROR(INDEX(Ref_Data,'Ref Data Entry'!$B$73,MATCH(G23,INDEX(Ref_Data,1,0),0)),\"\")","v":""},{"$f":"IFERROR(INDEX(Ref_Data,'Ref Data Entry'!$B$74,MATCH(G23,INDEX(Ref_Data,1,0),0)),\"\")","v":""},{"$f":"IFERROR(INDEX(Ref_Data,'Ref Data Entry'!$B$76,MATCH(G23,INDEX(Ref_Data,1,0),0)),\"\")","v":""},{"$f":"IFERROR(INDEX(Ref_Data,'Ref Data Entry'!$B$78,MATCH(G23,INDEX(Ref_Data,1,0),0)),\"\")","v":""},{"$f":"IFERROR(INDEX(Ref_Data,'Ref Data Entry'!$B$79,MATCH(G23,INDEX(Ref_Data,1,0),0)),\"\")","v":""},{"$f":"IFERROR(INDEX(Ref_Data,'Ref Data Entry'!$B$81,MATCH(G23,INDEX(Ref_Data,1,0),0)),\"\")","v":""},{"$f":"IFERROR(IF(OR(LEFT(INDEX(Ref_Data,'Ref Data Entry'!$B$32,MATCH(G23,INDEX(Ref_Data,1,0),0)),7)=\"Walk-In\",INDEX(Ref_Data,'Ref Data Entry'!$B$32,MATCH(G23,INDEX(Ref_Data,1,0),0))=\"Other-Unregulated\"),0,1),\"\")","v":""},null,null,{"$f":"IFERROR(INDEX(Ref_Data,'Ref Data Entry'!$B$73,MATCH(P23,INDEX(Ref_Data,1,0),0)),\"\")","v":""},{"$f":"IFERROR(INDEX(Ref_Data,'Ref Data Entry'!$B$74,MATCH(P23,INDEX(Ref_Data,1,0),0)),\"\")","v":""},{"$f":"IFERROR(INDEX(Ref_Data,'Ref Data Entry'!$B$76,MATCH(P23,INDEX(Ref_Data,1,0),0)),\"\")","v":""},{"$f":"IFERROR(INDEX(Ref_Data,'Ref Data Entry'!$B$78,MATCH(P23,INDEX(Ref_Data,1,0),0)),\"\")","v":""},{"$f":"IFERROR(INDEX(Ref_Data,'Ref Data Entry'!$B$79,MATCH(P23,INDEX(Ref_Data,1,0),0)),\"\")","v":""},{"$f":"IFERROR(INDEX(Ref_Data,'Ref Data Entry'!$B$81,MATCH(P23,INDEX(Ref_Data,1,0),0)),\"\")","v":""},{"$f":"IFERROR(IF(OR(LEFT(INDEX(Ref_Data,'Ref Data Entry'!$B$32,MATCH(P23,INDEX(Ref_Data,1,0),0)),7)=\"Walk-In\",INDEX(Ref_Data,'Ref Data Entry'!$B$32,MATCH(P23,INDEX(Ref_Data,1,0),0))=\"Other-Unregulated\"),0,1),\"\")","v":""},null,null,{"$f":"IFERROR(INDEX(Ref_Data,'Ref Data Entry'!$B$73,MATCH(Y23,INDEX(Ref_Data,1,0),0)),\"\")","v":""},{"$f":"IFERROR(INDEX(Ref_Data,'Ref Data Entry'!$B$74,MATCH(Y23,INDEX(Ref_Data,1,0),0)),\"\")","v":""},{"$f":"IFERROR(INDEX(Ref_Data,'Ref Data Entry'!$B$76,MATCH(Y23,INDEX(Ref_Data,1,0),0)),\"\")","v":""},{"$f":"IFERROR(INDEX(Ref_Data,'Ref Data Entry'!$B$78,MATCH(Y23,INDEX(Ref_Data,1,0),0)),\"\")","v":""},{"$f":"IFERROR(INDEX(Ref_Data,'Ref Data Entry'!$B$79,MATCH(Y23,INDEX(Ref_Data,1,0),0)),\"\")","v":""},{"$f":"IFERROR(INDEX(Ref_Data,'Ref Data Entry'!$B$81,MATCH(Y23,INDEX(Ref_Data,1,0),0)),\"\")","v":""},{"$f":"IFERROR(IF(OR(LEFT(INDEX(Ref_Data,'Ref Data Entry'!$B$32,MATCH(Y23,INDEX(Ref_Data,1,0),0)),7)=\"Walk-In\",INDEX(Ref_Data,'Ref Data Entry'!$B$32,MATCH(Y23,INDEX(Ref_Data,1,0),0))=\"Other-Unregulated\"),0,1),\"\")","v":""},null,null,{"$f":"IFERROR(INDEX(Ref_Data,'Ref Data Entry'!$B$73,MATCH(AH23,INDEX(Ref_Data,1,0),0)),\"\")","v":""},{"$f":"IFERROR(INDEX(Ref_Data,'Ref Data Entry'!$B$74,MATCH(AH23,INDEX(Ref_Data,1,0),0)),\"\")","v":""},{"$f":"IFERROR(INDEX(Ref_Data,'Ref Data Entry'!$B$76,MATCH(AH23,INDEX(Ref_Data,1,0),0)),\"\")","v":""},{"$f":"IFERROR(INDEX(Ref_Data,'Ref Data Entry'!$B$78,MATCH(AH23,INDEX(Ref_Data,1,0),0)),\"\")","v":""},{"$f":"IFERROR(INDEX(Ref_Data,'Ref Data Entry'!$B$79,MATCH(AH23,INDEX(Ref_Data,1,0),0)),\"\")","v":""},{"$f":"IFERROR(INDEX(Ref_Data,'Ref Data Entry'!$B$81,MATCH(AH23,INDEX(Ref_Data,1,0),0)),\"\")","v":""},{"$f":"IFERROR(IF(OR(LEFT(INDEX(Ref_Data,'Ref Data Entry'!$B$32,MATCH(AH23,INDEX(Ref_Data,1,0),0)),7)=\"Walk-In\",INDEX(Ref_Data,'Ref Data Entry'!$B$32,MATCH(AH23,INDEX(Ref_Data,1,0),0))=\"Other-Unregulated\"),0,1),\"\")","v":""},null,null,{"$f":"IFERROR(INDEX(Ref_Data,'Ref Data Entry'!$B$73,MATCH(AQ23,INDEX(Ref_Data,1,0),0)),\"\")","v":""},{"$f":"IFERROR(INDEX(Ref_Data,'Ref Data Entry'!$B$74,MATCH(AQ23,INDEX(Ref_Data,1,0),0)),\"\")","v":""},{"$f":"IFERROR(INDEX(Ref_Data,'Ref Data Entry'!$B$76,MATCH(AQ23,INDEX(Ref_Data,1,0),0)),\"\")","v":""},{"$f":"IFERROR(INDEX(Ref_Data,'Ref Data Entry'!$B$78,MATCH(AQ23,INDEX(Ref_Data,1,0),0)),\"\")","v":""},{"$f":"IFERROR(INDEX(Ref_Data,'Ref Data Entry'!$B$79,MATCH(AQ23,INDEX(Ref_Data,1,0),0)),\"\")","v":""},{"$f":"IFERROR(INDEX(Ref_Data,'Ref Data Entry'!$B$81,MATCH(AQ23,INDEX(Ref_Data,1,0),0)),\"\")","v":""},{"$f":"IFERROR(IF(OR(LEFT(INDEX(Ref_Data,'Ref Data Entry'!$B$32,MATCH(AQ23,INDEX(Ref_Data,1,0),0)),7)=\"Walk-In\",INDEX(Ref_Data,'Ref Data Entry'!$B$32,MATCH(AQ23,INDEX(Ref_Data,1,0),0))=\"Other-Unregulated\"),0,1),\"\")","v":""},null,null,{"$f":"IFERROR(INDEX(Ref_Data,'Ref Data Entry'!$B$73,MATCH(AZ23,INDEX(Ref_Data,1,0),0)),\"\")","v":""},{"$f":"IFERROR(INDEX(Ref_Data,'Ref Data Entry'!$B$74,MATCH(AZ23,INDEX(Ref_Data,1,0),0)),\"\")","v":""},{"$f":"IFERROR(INDEX(Ref_Data,'Ref Data Entry'!$B$76,MATCH(AZ23,INDEX(Ref_Data,1,0),0)),\"\")","v":""},{"$f":"IFERROR(INDEX(Ref_Data,'Ref Data Entry'!$B$78,MATCH(AZ23,INDEX(Ref_Data,1,0),0)),\"\")","v":""},{"$f":"IFERROR(INDEX(Ref_Data,'Ref Data Entry'!$B$79,MATCH(AZ23,INDEX(Ref_Data,1,0),0)),\"\")","v":""},{"$f":"IFERROR(INDEX(Ref_Data,'Ref Data Entry'!$B$81,MATCH(AZ23,INDEX(Ref_Data,1,0),0)),\"\")","v":""},{"$f":"IFERROR(IF(OR(LEFT(INDEX(Ref_Data,'Ref Data Entry'!$B$32,MATCH(AZ23,INDEX(Ref_Data,1,0),0)),7)=\"Walk-In\",INDEX(Ref_Data,'Ref Data Entry'!$B$32,MATCH(AZ23,INDEX(Ref_Data,1,0),0))=\"Other-Unregulated\"),0,1),\"\")","v":""},null,null,{"$f":"IFERROR(INDEX(Ref_Data,'Ref Data Entry'!$B$73,MATCH(BI23,INDEX(Ref_Data,1,0),0)),\"\")","v":""},{"$f":"IFERROR(INDEX(Ref_Data,'Ref Data Entry'!$B$74,MATCH(BI23,INDEX(Ref_Data,1,0),0)),\"\")","v":""},{"$f":"IFERROR(INDEX(Ref_Data,'Ref Data Entry'!$B$76,MATCH(BI23,INDEX(Ref_Data,1,0),0)),\"\")","v":""},{"$f":"IFERROR(INDEX(Ref_Data,'Ref Data Entry'!$B$78,MATCH(BI23,INDEX(Ref_Data,1,0),0)),\"\")","v":""},{"$f":"IFERROR(INDEX(Ref_Data,'Ref Data Entry'!$B$79,MATCH(BI23,INDEX(Ref_Data,1,0),0)),\"\")","v":""},{"$f":"IFERROR(INDEX(Ref_Data,'Ref Data Entry'!$B$81,MATCH(BI23,INDEX(Ref_Data,1,0),0)),\"\")","v":""},{"$f":"IFERROR(IF(OR(LEFT(INDEX(Ref_Data,'Ref Data Entry'!$B$32,MATCH(BI23,INDEX(Ref_Data,1,0),0)),7)=\"Walk-In\",INDEX(Ref_Data,'Ref Data Entry'!$B$32,MATCH(BI23,INDEX(Ref_Data,1,0),0))=\"Other-Unregulated\"),0,1),\"\")","v":""},null,null,{"$f":"IFERROR(INDEX(Ref_Data,'Ref Data Entry'!$B$73,MATCH(BR23,INDEX(Ref_Data,1,0),0)),\"\")","v":""},{"$f":"IFERROR(INDEX(Ref_Data,'Ref Data Entry'!$B$74,MATCH(BR23,INDEX(Ref_Data,1,0),0)),\"\")","v":""},{"$f":"IFERROR(INDEX(Ref_Data,'Ref Data Entry'!$B$76,MATCH(BR23,INDEX(Ref_Data,1,0),0)),\"\")","v":""},{"$f":"IFERROR(INDEX(Ref_Data,'Ref Data Entry'!$B$78,MATCH(BR23,INDEX(Ref_Data,1,0),0)),\"\")","v":""},{"$f":"IFERROR(INDEX(Ref_Data,'Ref Data Entry'!$B$79,MATCH(BR23,INDEX(Ref_Data,1,0),0)),\"\")","v":""},{"$f":"IFERROR(INDEX(Ref_Data,'Ref Data Entry'!$B$81,MATCH(BR23,INDEX(Ref_Data,1,0),0)),\"\")","v":""},{"$f":"IFERROR(IF(OR(LEFT(INDEX(Ref_Data,'Ref Data Entry'!$B$32,MATCH(BR23,INDEX(Ref_Data,1,0),0)),7)=\"Walk-In\",INDEX(Ref_Data,'Ref Data Entry'!$B$32,MATCH(BR23,INDEX(Ref_Data,1,0),0))=\"Other-Unregulated\"),0,1),\"\")","v":""}]
["D",null,null,null,"Unit 8",null,null,null,{"$f":"IFERROR(INDEX(Ref_Data,'Ref Data Entry'!$B$73,MATCH(G24,INDEX(Ref_Data,1,0),0)),\"\")","v":""},{"$f":"IFERROR(INDEX(Ref_Data,'Ref Data Entry'!$B$74,MATCH(G24,INDEX(Ref_Data,1,0),0)),\"\")","v":""},{"$f":"IFERROR(INDEX(Ref_Data,'Ref Data Entry'!$B$76,MATCH(G24,INDEX(Ref_Data,1,0),0)),\"\")","v":""},{"$f":"IFERROR(INDEX(Ref_Data,'Ref Data Entry'!$B$78,MATCH(G24,INDEX(Ref_Data,1,0),0)),\"\")","v":""},{"$f":"IFERROR(INDEX(Ref_Data,'Ref Data Entry'!$B$79,MATCH(G24,INDEX(Ref_Data,1,0),0)),\"\")","v":""},{"$f":"IFERROR(INDEX(Ref_Data,'Ref Data Entry'!$B$81,MATCH(G24,INDEX(Ref_Data,1,0),0)),\"\")","v":""},{"$f":"IFERROR(IF(OR(LEFT(INDEX(Ref_Data,'Ref Data Entry'!$B$32,MATCH(G24,INDEX(Ref_Data,1,0),0)),7)=\"Walk-In\",INDEX(Ref_Data,'Ref Data Entry'!$B$32,MATCH(G24,INDEX(Ref_Data,1,0),0))=\"Other-Unregulated\"),0,1),\"\")","v":""},null,null,{"$f":"IFERROR(INDEX(Ref_Data,'Ref Data Entry'!$B$73,MATCH(P24,INDEX(Ref_Data,1,0),0)),\"\")","v":""},{"$f":"IFERROR(INDEX(Ref_Data,'Ref Data Entry'!$B$74,MATCH(P24,INDEX(Ref_Data,1,0),0)),\"\")","v":""},{"$f":"IFERROR(INDEX(Ref_Data,'Ref Data Entry'!$B$76,MATCH(P24,INDEX(Ref_Data,1,0),0)),\"\")","v":""},{"$f":"IFERROR(INDEX(Ref_Data,'Ref Data Entry'!$B$78,MATCH(P24,INDEX(Ref_Data,1,0),0)),\"\")","v":""},{"$f":"IFERROR(INDEX(Ref_Data,'Ref Data Entry'!$B$79,MATCH(P24,INDEX(Ref_Data,1,0),0)),\"\")","v":""},{"$f":"IFERROR(INDEX(Ref_Data,'Ref Data Entry'!$B$81,MATCH(P24,INDEX(Ref_Data,1,0),0)),\"\")","v":""},{"$f":"IFERROR(IF(OR(LEFT(INDEX(Ref_Data,'Ref Data Entry'!$B$32,MATCH(P24,INDEX(Ref_Data,1,0),0)),7)=\"Walk-In\",INDEX(Ref_Data,'Ref Data Entry'!$B$32,MATCH(P24,INDEX(Ref_Data,1,0),0))=\"Other-Unregulated\"),0,1),\"\")","v":""},null,null,{"$f":"IFERROR(INDEX(Ref_Data,'Ref Data Entry'!$B$73,MATCH(Y24,INDEX(Ref_Data,1,0),0)),\"\")","v":""},{"$f":"IFERROR(INDEX(Ref_Data,'Ref Data Entry'!$B$74,MATCH(Y24,INDEX(Ref_Data,1,0),0)),\"\")","v":""},{"$f":"IFERROR(INDEX(Ref_Data,'Ref Data Entry'!$B$76,MATCH(Y24,INDEX(Ref_Data,1,0),0)),\"\")","v":""},{"$f":"IFERROR(INDEX(Ref_Data,'Ref Data Entry'!$B$78,MATCH(Y24,INDEX(Ref_Data,1,0),0)),\"\")","v":""},{"$f":"IFERROR(INDEX(Ref_Data,'Ref Data Entry'!$B$79,MATCH(Y24,INDEX(Ref_Data,1,0),0)),\"\")","v":""},{"$f":"IFERROR(INDEX(Ref_Data,'Ref Data Entry'!$B$81,MATCH(Y24,INDEX(Ref_Data,1,0),0)),\"\")","v":""},{"$f":"IFERROR(IF(OR(LEFT(INDEX(Ref_Data,'Ref Data Entry'!$B$32,MATCH(Y24,INDEX(Ref_Data,1,0),0)),7)=\"Walk-In\",INDEX(Ref_Data,'Ref Data Entry'!$B$32,MATCH(Y24,INDEX(Ref_Data,1,0),0))=\"Other-Unregulated\"),0,1),\"\")","v":""},null,null,{"$f":"IFERROR(INDEX(Ref_Data,'Ref Data Entry'!$B$73,MATCH(AH24,INDEX(Ref_Data,1,0),0)),\"\")","v":""},{"$f":"IFERROR(INDEX(Ref_Data,'Ref Data Entry'!$B$74,MATCH(AH24,INDEX(Ref_Data,1,0),0)),\"\")","v":""},{"$f":"IFERROR(INDEX(Ref_Data,'Ref Data Entry'!$B$76,MATCH(AH24,INDEX(Ref_Data,1,0),0)),\"\")","v":""},{"$f":"IFERROR(INDEX(Ref_Data,'Ref Data Entry'!$B$78,MATCH(AH24,INDEX(Ref_Data,1,0),0)),\"\")","v":""},{"$f":"IFERROR(INDEX(Ref_Data,'Ref Data Entry'!$B$79,MATCH(AH24,INDEX(Ref_Data,1,0),0)),\"\")","v":""},{"$f":"IFERROR(INDEX(Ref_Data,'Ref Data Entry'!$B$81,MATCH(AH24,INDEX(Ref_Data,1,0),0)),\"\")","v":""},{"$f":"IFERROR(IF(OR(LEFT(INDEX(Ref_Data,'Ref Data Entry'!$B$32,MATCH(AH24,INDEX(Ref_Data,1,0),0)),7)=\"Walk-In\",INDEX(Ref_Data,'Ref Data Entry'!$B$32,MATCH(AH24,INDEX(Ref_Data,1,0),0))=\"Other-Unregulated\"),0,1),\"\")","v":""},null,null,{"$f":"IFERROR(INDEX(Ref_Data,'Ref Data Entry'!$B$73,MATCH(AQ24,INDEX(Ref_Data,1,0),0)),\"\")","v":""},{"$f":"IFERROR(INDEX(Ref_Data,'Ref Data Entry'!$B$74,MATCH(AQ24,INDEX(Ref_Data,1,0),0)),\"\")","v":""},{"$f":"IFERROR(INDEX(Ref_Data,'Ref Data Entry'!$B$76,MATCH(AQ24,INDEX(Ref_Data,1,0),0)),\"\")","v":""},{"$f":"IFERROR(INDEX(Ref_Data,'Ref Data Entry'!$B$78,MATCH(AQ24,INDEX(Ref_Data,1,0),0)),\"\")","v":""},{"$f":"IFERROR(INDEX(Ref_Data,'Ref Data Entry'!$B$79,MATCH(AQ24,INDEX(Ref_Data,1,0),0)),\"\")","v":""},{"$f":"IFERROR(INDEX(Ref_Data,'Ref Data Entry'!$B$81,MATCH(AQ24,INDEX(Ref_Data,1,0),0)),\"\")","v":""},{"$f":"IFERROR(IF(OR(LEFT(INDEX(Ref_Data,'Ref Data Entry'!$B$32,MATCH(AQ24,INDEX(Ref_Data,1,0),0)),7)=\"Walk-In\",INDEX(Ref_Data,'Ref Data Entry'!$B$32,MATCH(AQ24,INDEX(Ref_Data,1,0),0))=\"Other-Unregulated\"),0,1),\"\")","v":""},null,null,{"$f":"IFERROR(INDEX(Ref_Data,'Ref Data Entry'!$B$73,MATCH(AZ24,INDEX(Ref_Data,1,0),0)),\"\")","v":""},{"$f":"IFERROR(INDEX(Ref_Data,'Ref Data Entry'!$B$74,MATCH(AZ24,INDEX(Ref_Data,1,0),0)),\"\")","v":""},{"$f":"IFERROR(INDEX(Ref_Data,'Ref Data Entry'!$B$76,MATCH(AZ24,INDEX(Ref_Data,1,0),0)),\"\")","v":""},{"$f":"IFERROR(INDEX(Ref_Data,'Ref Data Entry'!$B$78,MATCH(AZ24,INDEX(Ref_Data,1,0),0)),\"\")","v":""},{"$f":"IFERROR(INDEX(Ref_Data,'Ref Data Entry'!$B$79,MATCH(AZ24,INDEX(Ref_Data,1,0),0)),\"\")","v":""},{"$f":"IFERROR(INDEX(Ref_Data,'Ref Data Entry'!$B$81,MATCH(AZ24,INDEX(Ref_Data,1,0),0)),\"\")","v":""},{"$f":"IFERROR(IF(OR(LEFT(INDEX(Ref_Data,'Ref Data Entry'!$B$32,MATCH(AZ24,INDEX(Ref_Data,1,0),0)),7)=\"Walk-In\",INDEX(Ref_Data,'Ref Data Entry'!$B$32,MATCH(AZ24,INDEX(Ref_Data,1,0),0))=\"Other-Unregulated\"),0,1),\"\")","v":""},null,null,{"$f":"IFERROR(INDEX(Ref_Data,'Ref Data Entry'!$B$73,MATCH(BI24,INDEX(Ref_Data,1,0),0)),\"\")","v":""},{"$f":"IFERROR(INDEX(Ref_Data,'Ref Data Entry'!$B$74,MATCH(BI24,INDEX(Ref_Data,1,0),0)),\"\")","v":""},{"$f":"IFERROR(INDEX(Ref_Data,'Ref Data Entry'!$B$76,MATCH(BI24,INDEX(Ref_Data,1,0),0)),\"\")","v":""},{"$f":"IFERROR(INDEX(Ref_Data,'Ref Data Entry'!$B$78,MATCH(BI24,INDEX(Ref_Data,1,0),0)),\"\")","v":""},{"$f":"IFERROR(INDEX(Ref_Data,'Ref Data Entry'!$B$79,MATCH(BI24,INDEX(Ref_Data,1,0),0)),\"\")","v":""},{"$f":"IFERROR(INDEX(Ref_Data,'Ref Data Entry'!$B$81,MATCH(BI24,INDEX(Ref_Data,1,0),0)),\"\")","v":""},{"$f":"IFERROR(IF(OR(LEFT(INDEX(Ref_Data,'Ref Data Entry'!$B$32,MATCH(BI24,INDEX(Ref_Data,1,0),0)),7)=\"Walk-In\",INDEX(Ref_Data,'Ref Data Entry'!$B$32,MATCH(BI24,INDEX(Ref_Data,1,0),0))=\"Other-Unregulated\"),0,1),\"\")","v":""},null,null,{"$f":"IFERROR(INDEX(Ref_Data,'Ref Data Entry'!$B$73,MATCH(BR24,INDEX(Ref_Data,1,0),0)),\"\")","v":""},{"$f":"IFERROR(INDEX(Ref_Data,'Ref Data Entry'!$B$74,MATCH(BR24,INDEX(Ref_Data,1,0),0)),\"\")","v":""},{"$f":"IFERROR(INDEX(Ref_Data,'Ref Data Entry'!$B$76,MATCH(BR24,INDEX(Ref_Data,1,0),0)),\"\")","v":""},{"$f":"IFERROR(INDEX(Ref_Data,'Ref Data Entry'!$B$78,MATCH(BR24,INDEX(Ref_Data,1,0),0)),\"\")","v":""},{"$f":"IFERROR(INDEX(Ref_Data,'Ref Data Entry'!$B$79,MATCH(BR24,INDEX(Ref_Data,1,0),0)),\"\")","v":""},{"$f":"IFERROR(INDEX(Ref_Data,'Ref Data Entry'!$B$81,MATCH(BR24,INDEX(Ref_Data,1,0),0)),\"\")","v":""},{"$f":"IFERROR(IF(OR(LEFT(INDEX(Ref_Data,'Ref Data Entry'!$B$32,MATCH(BR24,INDEX(Ref_Data,1,0),0)),7)=\"Walk-In\",INDEX(Ref_Data,'Ref Data Entry'!$B$32,MATCH(BR24,INDEX(Ref_Data,1,0),0))=\"Other-Unregulated\"),0,1),\"\")","v":""}]
["D",null,null,null,"Unit 9",null,null,null,{"$f":"IFERROR(INDEX(Ref_Data,'Ref Data Entry'!$B$73,MATCH(G25,INDEX(Ref_Data,1,0),0)),\"\")","v":""},{"$f":"IFERROR(INDEX(Ref_Data,'Ref Data Entry'!$B$74,MATCH(G25,INDEX(Ref_Data,1,0),0)),\"\")","v":""},{"$f":"IFERROR(INDEX(Ref_Data,'Ref Data Entry'!$B$76,MATCH(G25,INDEX(Ref_Data,1,0),0)),\"\")","v":""},{"$f":"IFERROR(INDEX(Ref_Data,'Ref Data Entry'!$B$78,MATCH(G25,INDEX(Ref_Data,1,0),0)),\"\")","v":""},{"$f":"IFERROR(INDEX(Ref_Data,'Ref Data Entry'!$B$79,MATCH(G25,INDEX(Ref_Data,1,0),0)),\"\")","v":""},{"$f":"IFERROR(INDEX(Ref_Data,'Ref Data Entry'!$B$81,MATCH(G25,INDEX(Ref_Data,1,0),0)),\"\")","v":""},{"$f":"IFERROR(IF(OR(LEFT(INDEX(Ref_Data,'Ref Data Entry'!$B$32,MATCH(G25,INDEX(Ref_Data,1,0),0)),7)=\"Walk-In\",INDEX(Ref_Data,'Ref Data Entry'!$B$32,MATCH(G25,INDEX(Ref_Data,1,0),0))=\"Other-Unregulated\"),0,1),\"\")","v":""},null,null,{"$f":"IFERROR(INDEX(Ref_Data,'Ref Data Entry'!$B$73,MATCH(P25,INDEX(Ref_Data,1,0),0)),\"\")","v":""},{"$f":"IFERROR(INDEX(Ref_Data,'Ref Data Entry'!$B$74,MATCH(P25,INDEX(Ref_Data,1,0),0)),\"\")","v":""},{"$f":"IFERROR(INDEX(Ref_Data,'Ref Data Entry'!$B$76,MATCH(P25,INDEX(Ref_Data,1,0),0)),\"\")","v":""},{"$f":"IFERROR(INDEX(Ref_Data,'Ref Data Entry'!$B$78,MATCH(P25,INDEX(Ref_Data,1,0),0)),\"\")","v":""},{"$f":"IFERROR(INDEX(Ref_Data,'Ref Data Entry'!$B$79,MATCH(P25,INDEX(Ref_Data,1,0),0)),\"\")","v":""},{"$f":"IFERROR(INDEX(Ref_Data,'Ref Data Entry'!$B$81,MATCH(P25,INDEX(Ref_Data,1,0),0)),\"\")","v":""},{"$f":"IFERROR(IF(OR(LEFT(INDEX(Ref_Data,'Ref Data Entry'!$B$32,MATCH(P25,INDEX(Ref_Data,1,0),0)),7)=\"Walk-In\",INDEX(Ref_Data,'Ref Data Entry'!$B$32,MATCH(P25,INDEX(Ref_Data,1,0),0))=\"Other-Unregulated\"),0,1),\"\")","v":""},null,null,{"$f":"IFERROR(INDEX(Ref_Data,'Ref Data Entry'!$B$73,MATCH(Y25,INDEX(Ref_Data,1,0),0)),\"\")","v":""},{"$f":"IFERROR(INDEX(Ref_Data,'Ref Data Entry'!$B$74,MATCH(Y25,INDEX(Ref_Data,1,0),0)),\"\")","v":""},{"$f":"IFERROR(INDEX(Ref_Data,'Ref Data Entry'!$B$76,MATCH(Y25,INDEX(Ref_Data,1,0),0)),\"\")","v":""},{"$f":"IFERROR(INDEX(Ref_Data,'Ref Data Entry'!$B$78,MATCH(Y25,INDEX(Ref_Data,1,0),0)),\"\")","v":""},{"$f":"IFERROR(INDEX(Ref_Data,'Ref Data Entry'!$B$79,MATCH(Y25,INDEX(Ref_Data,1,0),0)),\"\")","v":""},{"$f":"IFERROR(INDEX(Ref_Data,'Ref Data Entry'!$B$81,MATCH(Y25,INDEX(Ref_Data,1,0),0)),\"\")","v":""},{"$f":"IFERROR(IF(OR(LEFT(INDEX(Ref_Data,'Ref Data Entry'!$B$32,MATCH(Y25,INDEX(Ref_Data,1,0),0)),7)=\"Walk-In\",INDEX(Ref_Data,'Ref Data Entry'!$B$32,MATCH(Y25,INDEX(Ref_Data,1,0),0))=\"Other-Unregulated\"),0,1),\"\")","v":""},null,null,{"$f":"IFERROR(INDEX(Ref_Data,'Ref Data Entry'!$B$73,MATCH(AH25,INDEX(Ref_Data,1,0),0)),\"\")","v":""},{"$f":"IFERROR(INDEX(Ref_Data,'Ref Data Entry'!$B$74,MATCH(AH25,INDEX(Ref_Data,1,0),0)),\"\")","v":""},{"$f":"IFERROR(INDEX(Ref_Data,'Ref Data Entry'!$B$76,MATCH(AH25,INDEX(Ref_Data,1,0),0)),\"\")","v":""},{"$f":"IFERROR(INDEX(Ref_Data,'Ref Data Entry'!$B$78,MATCH(AH25,INDEX(Ref_Data,1,0),0)),\"\")","v":""},{"$f":"IFERROR(INDEX(Ref_Data,'Ref Data Entry'!$B$79,MATCH(AH25,INDEX(Ref_Data,1,0),0)),\"\")","v":""},{"$f":"IFERROR(INDEX(Ref_Data,'Ref Data Entry'!$B$81,MATCH(AH25,INDEX(Ref_Data,1,0),0)),\"\")","v":""},{"$f":"IFERROR(IF(OR(LEFT(INDEX(Ref_Data,'Ref Data Entry'!$B$32,MATCH(AH25,INDEX(Ref_Data,1,0),0)),7)=\"Walk-In\",INDEX(Ref_Data,'Ref Data Entry'!$B$32,MATCH(AH25,INDEX(Ref_Data,1,0),0))=\"Other-Unregulated\"),0,1),\"\")","v":""},null,null,{"$f":"IFERROR(INDEX(Ref_Data,'Ref Data Entry'!$B$73,MATCH(AQ25,INDEX(Ref_Data,1,0),0)),\"\")","v":""},{"$f":"IFERROR(INDEX(Ref_Data,'Ref Data Entry'!$B$74,MATCH(AQ25,INDEX(Ref_Data,1,0),0)),\"\")","v":""},{"$f":"IFERROR(INDEX(Ref_Data,'Ref Data Entry'!$B$76,MATCH(AQ25,INDEX(Ref_Data,1,0),0)),\"\")","v":""},{"$f":"IFERROR(INDEX(Ref_Data,'Ref Data Entry'!$B$78,MATCH(AQ25,INDEX(Ref_Data,1,0),0)),\"\")","v":""},{"$f":"IFERROR(INDEX(Ref_Data,'Ref Data Entry'!$B$79,MATCH(AQ25,INDEX(Ref_Data,1,0),0)),\"\")","v":""},{"$f":"IFERROR(INDEX(Ref_Data,'Ref Data Entry'!$B$81,MATCH(AQ25,INDEX(Ref_Data,1,0),0)),\"\")","v":""},{"$f":"IFERROR(IF(OR(LEFT(INDEX(Ref_Data,'Ref Data Entry'!$B$32,MATCH(AQ25,INDEX(Ref_Data,1,0),0)),7)=\"Walk-In\",INDEX(Ref_Data,'Ref Data Entry'!$B$32,MATCH(AQ25,INDEX(Ref_Data,1,0),0))=\"Other-Unregulated\"),0,1),\"\")","v":""},null,null,{"$f":"IFERROR(INDEX(Ref_Data,'Ref Data Entry'!$B$73,MATCH(AZ25,INDEX(Ref_Data,1,0),0)),\"\")","v":""},{"$f":"IFERROR(INDEX(Ref_Data,'Ref Data Entry'!$B$74,MATCH(AZ25,INDEX(Ref_Data,1,0),0)),\"\")","v":""},{"$f":"IFERROR(INDEX(Ref_Data,'Ref Data Entry'!$B$76,MATCH(AZ25,INDEX(Ref_Data,1,0),0)),\"\")","v":""},{"$f":"IFERROR(INDEX(Ref_Data,'Ref Data Entry'!$B$78,MATCH(AZ25,INDEX(Ref_Data,1,0),0)),\"\")","v":""},{"$f":"IFERROR(INDEX(Ref_Data,'Ref Data Entry'!$B$79,MATCH(AZ25,INDEX(Ref_Data,1,0),0)),\"\")","v":""},{"$f":"IFERROR(INDEX(Ref_Data,'Ref Data Entry'!$B$81,MATCH(AZ25,INDEX(Ref_Data,1,0),0)),\"\")","v":""},{"$f":"IFERROR(IF(OR(LEFT(INDEX(Ref_Data,'Ref Data Entry'!$B$32,MATCH(AZ25,INDEX(Ref_Data,1,0),0)),7)=\"Walk-In\",INDEX(Ref_Data,'Ref Data Entry'!$B$32,MATCH(AZ25,INDEX(Ref_Data,1,0),0))=\"Other-Unregulated\"),0,1),\"\")","v":""},null,null,{"$f":"IFERROR(INDEX(Ref_Data,'Ref Data Entry'!$B$73,MATCH(BI25,INDEX(Ref_Data,1,0),0)),\"\")","v":""},{"$f":"IFERROR(INDEX(Ref_Data,'Ref Data Entry'!$B$74,MATCH(BI25,INDEX(Ref_Data,1,0),0)),\"\")","v":""},{"$f":"IFERROR(INDEX(Ref_Data,'Ref Data Entry'!$B$76,MATCH(BI25,INDEX(Ref_Data,1,0),0)),\"\")","v":""},{"$f":"IFERROR(INDEX(Ref_Data,'Ref Data Entry'!$B$78,MATCH(BI25,INDEX(Ref_Data,1,0),0)),\"\")","v":""},{"$f":"IFERROR(INDEX(Ref_Data,'Ref Data Entry'!$B$79,MATCH(BI25,INDEX(Ref_Data,1,0),0)),\"\")","v":""},{"$f":"IFERROR(INDEX(Ref_Data,'Ref Data Entry'!$B$81,MATCH(BI25,INDEX(Ref_Data,1,0),0)),\"\")","v":""},{"$f":"IFERROR(IF(OR(LEFT(INDEX(Ref_Data,'Ref Data Entry'!$B$32,MATCH(BI25,INDEX(Ref_Data,1,0),0)),7)=\"Walk-In\",INDEX(Ref_Data,'Ref Data Entry'!$B$32,MATCH(BI25,INDEX(Ref_Data,1,0),0))=\"Other-Unregulated\"),0,1),\"\")","v":""},null,null,{"$f":"IFERROR(INDEX(Ref_Data,'Ref Data Entry'!$B$73,MATCH(BR25,INDEX(Ref_Data,1,0),0)),\"\")","v":""},{"$f":"IFERROR(INDEX(Ref_Data,'Ref Data Entry'!$B$74,MATCH(BR25,INDEX(Ref_Data,1,0),0)),\"\")","v":""},{"$f":"IFERROR(INDEX(Ref_Data,'Ref Data Entry'!$B$76,MATCH(BR25,INDEX(Ref_Data,1,0),0)),\"\")","v":""},{"$f":"IFERROR(INDEX(Ref_Data,'Ref Data Entry'!$B$78,MATCH(BR25,INDEX(Ref_Data,1,0),0)),\"\")","v":""},{"$f":"IFERROR(INDEX(Ref_Data,'Ref Data Entry'!$B$79,MATCH(BR25,INDEX(Ref_Data,1,0),0)),\"\")","v":""},{"$f":"IFERROR(INDEX(Ref_Data,'Ref Data Entry'!$B$81,MATCH(BR25,INDEX(Ref_Data,1,0),0)),\"\")","v":""},{"$f":"IFERROR(IF(OR(LEFT(INDEX(Ref_Data,'Ref Data Entry'!$B$32,MATCH(BR25,INDEX(Ref_Data,1,0),0)),7)=\"Walk-In\",INDEX(Ref_Data,'Ref Data Entry'!$B$32,MATCH(BR25,INDEX(Ref_Data,1,0),0))=\"Other-Unregulated\"),0,1),\"\")","v":""}]
["D",null,null,null,"Unit 10",null,null,null,{"$f":"IFERROR(INDEX(Ref_Data,'Ref Data Entry'!$B$73,MATCH(G26,INDEX(Ref_Data,1,0),0)),\"\")","v":""},{"$f":"IFERROR(INDEX(Ref_Data,'Ref Data Entry'!$B$74,MATCH(G26,INDEX(Ref_Data,1,0),0)),\"\")","v":""},{"$f":"IFERROR(INDEX(Ref_Data,'Ref Data Entry'!$B$76,MATCH(G26,INDEX(Ref_Data,1,0),0)),\"\")","v":""},{"$f":"IFERROR(INDEX(Ref_Data,'Ref Data Entry'!$B$78,MATCH(G26,INDEX(Ref_Data,1,0),0)),\"\")","v":""},{"$f":"IFERROR(INDEX(Ref_Data,'Ref Data Entry'!$B$79,MATCH(G26,INDEX(Ref_Data,1,0),0)),\"\")","v":""},{"$f":"IFERROR(INDEX(Ref_Data,'Ref Data Entry'!$B$81,MATCH(G26,INDEX(Ref_Data,1,0),0)),\"\")","v":""},{"$f":"IFERROR(IF(OR(LEFT(INDEX(Ref_Data,'Ref Data Entry'!$B$32,MATCH(G26,INDEX(Ref_Data,1,0),0)),7)=\"Walk-In\",INDEX(Ref_Data,'Ref Data Entry'!$B$32,MATCH(G26,INDEX(Ref_Data,1,0),0))=\"Other-Unregulated\"),0,1),\"\")","v":""},null,null,{"$f":"IFERROR(INDEX(Ref_Data,'Ref Data Entry'!$B$73,MATCH(P26,INDEX(Ref_Data,1,0),0)),\"\")","v":""},{"$f":"IFERROR(INDEX(Ref_Data,'Ref Data Entry'!$B$74,MATCH(P26,INDEX(Ref_Data,1,0),0)),\"\")","v":""},{"$f":"IFERROR(INDEX(Ref_Data,'Ref Data Entry'!$B$76,MATCH(P26,INDEX(Ref_Data,1,0),0)),\"\")","v":""},{"$f":"IFERROR(INDEX(Ref_Data,'Ref Data Entry'!$B$78,MATCH(P26,INDEX(Ref_Data,1,0),0)),\"\")","v":""},{"$f":"IFERROR(INDEX(Ref_Data,'Ref Data Entry'!$B$79,MATCH(P26,INDEX(Ref_Data,1,0),0)),\"\")","v":""},{"$f":"IFERROR(INDEX(Ref_Data,'Ref Data Entry'!$B$81,MATCH(P26,INDEX(Ref_Data,1,0),0)),\"\")","v":""},{"$f":"IFERROR(IF(OR(LEFT(INDEX(Ref_Data,'Ref Data Entry'!$B$32,MATCH(P26,INDEX(Ref_Data,1,0),0)),7)=\"Walk-In\",INDEX(Ref_Data,'Ref Data Entry'!$B$32,MATCH(P26,INDEX(Ref_Data,1,0),0))=\"Other-Unregulated\"),0,1),\"\")","v":""},null,null,{"$f":"IFERROR(INDEX(Ref_Data,'Ref Data Entry'!$B$73,MATCH(Y26,INDEX(Ref_Data,1,0),0)),\"\")","v":""},{"$f":"IFERROR(INDEX(Ref_Data,'Ref Data Entry'!$B$74,MATCH(Y26,INDEX(Ref_Data,1,0),0)),\"\")","v":""},{"$f":"IFERROR(INDEX(Ref_Data,'Ref Data Entry'!$B$76,MATCH(Y26,INDEX(Ref_Data,1,0),0)),\"\")","v":""},{"$f":"IFERROR(INDEX(Ref_Data,'Ref Data Entry'!$B$78,MATCH(Y26,INDEX(Ref_Data,1,0),0)),\"\")","v":""},{"$f":"IFERROR(INDEX(Ref_Data,'Ref Data Entry'!$B$79,MATCH(Y26,INDEX(Ref_Data,1,0),0)),\"\")","v":""},{"$f":"IFERROR(INDEX(Ref_Data,'Ref Data Entry'!$B$81,MATCH(Y26,INDEX(Ref_Data,1,0),0)),\"\")","v":""},{"$f":"IFERROR(IF(OR(LEFT(INDEX(Ref_Data,'Ref Data Entry'!$B$32,MATCH(Y26,INDEX(Ref_Data,1,0),0)),7)=\"Walk-In\",INDEX(Ref_Data,'Ref Data Entry'!$B$32,MATCH(Y26,INDEX(Ref_Data,1,0),0))=\"Other-Unregulated\"),0,1),\"\")","v":""},null,null,{"$f":"IFERROR(INDEX(Ref_Data,'Ref Data Entry'!$B$73,MATCH(AH26,INDEX(Ref_Data,1,0),0)),\"\")","v":""},{"$f":"IFERROR(INDEX(Ref_Data,'Ref Data Entry'!$B$74,MATCH(AH26,INDEX(Ref_Data,1,0),0)),\"\")","v":""},{"$f":"IFERROR(INDEX(Ref_Data,'Ref Data Entry'!$B$76,MATCH(AH26,INDEX(Ref_Data,1,0),0)),\"\")","v":""},{"$f":"IFERROR(INDEX(Ref_Data,'Ref Data Entry'!$B$78,MATCH(AH26,INDEX(Ref_Data,1,0),0)),\"\")","v":""},{"$f":"IFERROR(INDEX(Ref_Data,'Ref Data Entry'!$B$79,MATCH(AH26,INDEX(Ref_Data,1,0),0)),\"\")","v":""},{"$f":"IFERROR(INDEX(Ref_Data,'Ref Data Entry'!$B$81,MATCH(AH26,INDEX(Ref_Data,1,0),0)),\"\")","v":""},{"$f":"IFERROR(IF(OR(LEFT(INDEX(Ref_Data,'Ref Data Entry'!$B$32,MATCH(AH26,INDEX(Ref_Data,1,0),0)),7)=\"Walk-In\",INDEX(Ref_Data,'Ref Data Entry'!$B$32,MATCH(AH26,INDEX(Ref_Data,1,0),0))=\"Other-Unregulated\"),0,1),\"\")","v":""},null,null,{"$f":"IFERROR(INDEX(Ref_Data,'Ref Data Entry'!$B$73,MATCH(AQ26,INDEX(Ref_Data,1,0),0)),\"\")","v":""},{"$f":"IFERROR(INDEX(Ref_Data,'Ref Data Entry'!$B$74,MATCH(AQ26,INDEX(Ref_Data,1,0),0)),\"\")","v":""},{"$f":"IFERROR(INDEX(Ref_Data,'Ref Data Entry'!$B$76,MATCH(AQ26,INDEX(Ref_Data,1,0),0)),\"\")","v":""},{"$f":"IFERROR(INDEX(Ref_Data,'Ref Data Entry'!$B$78,MATCH(AQ26,INDEX(Ref_Data,1,0),0)),\"\")","v":""},{"$f":"IFERROR(INDEX(Ref_Data,'Ref Data Entry'!$B$79,MATCH(AQ26,INDEX(Ref_Data,1,0),0)),\"\")","v":""},{"$f":"IFERROR(INDEX(Ref_Data,'Ref Data Entry'!$B$81,MATCH(AQ26,INDEX(Ref_Data,1,0),0)),\"\")","v":""},{"$f":"IFERROR(IF(OR(LEFT(INDEX(Ref_Data,'Ref Data Entry'!$B$32,MATCH(AQ26,INDEX(Ref_Data,1,0),0)),7)=\"Walk-In\",INDEX(Ref_Data,'Ref Data Entry'!$B$32,MATCH(AQ26,INDEX(Ref_Data,1,0),0))=\"Other-Unregulated\"),0,1),\"\")","v":""},null,null,{"$f":"IFERROR(INDEX(Ref_Data,'Ref Data Entry'!$B$73,MATCH(AZ26,INDEX(Ref_Data,1,0),0)),\"\")","v":""},{"$f":"IFERROR(INDEX(Ref_Data,'Ref Data Entry'!$B$74,MATCH(AZ26,INDEX(Ref_Data,1,0),0)),\"\")","v":""},{"$f":"IFERROR(INDEX(Ref_Data,'Ref Data Entry'!$B$76,MATCH(AZ26,INDEX(Ref_Data,1,0),0)),\"\")","v":""},{"$f":"IFERROR(INDEX(Ref_Data,'Ref Data Entry'!$B$78,MATCH(AZ26,INDEX(Ref_Data,1,0),0)),\"\")","v":""},{"$f":"IFERROR(INDEX(Ref_Data,'Ref Data Entry'!$B$79,MATCH(AZ26,INDEX(Ref_Data,1,0),0)),\"\")","v":""},{"$f":"IFERROR(INDEX(Ref_Data,'Ref Data Entry'!$B$81,MATCH(AZ26,INDEX(Ref_Data,1,0),0)),\"\")","v":""},{"$f":"IFERROR(IF(OR(LEFT(INDEX(Ref_Data,'Ref Data Entry'!$B$32,MATCH(AZ26,INDEX(Ref_Data,1,0),0)),7)=\"Walk-In\",INDEX(Ref_Data,'Ref Data Entry'!$B$32,MATCH(AZ26,INDEX(Ref_Data,1,0),0))=\"Other-Unregulated\"),0,1),\"\")","v":""},null,null,{"$f":"IFERROR(INDEX(Ref_Data,'Ref Data Entry'!$B$73,MATCH(BI26,INDEX(Ref_Data,1,0),0)),\"\")","v":""},{"$f":"IFERROR(INDEX(Ref_Data,'Ref Data Entry'!$B$74,MATCH(BI26,INDEX(Ref_Data,1,0),0)),\"\")","v":""},{"$f":"IFERROR(INDEX(Ref_Data,'Ref Data Entry'!$B$76,MATCH(BI26,INDEX(Ref_Data,1,0),0)),\"\")","v":""},{"$f":"IFERROR(INDEX(Ref_Data,'Ref Data Entry'!$B$78,MATCH(BI26,INDEX(Ref_Data,1,0),0)),\"\")","v":""},{"$f":"IFERROR(INDEX(Ref_Data,'Ref Data Entry'!$B$79,MATCH(BI26,INDEX(Ref_Data,1,0),0)),\"\")","v":""},{"$f":"IFERROR(INDEX(Ref_Data,'Ref Data Entry'!$B$81,MATCH(BI26,INDEX(Ref_Data,1,0),0)),\"\")","v":""},{"$f":"IFERROR(IF(OR(LEFT(INDEX(Ref_Data,'Ref Data Entry'!$B$32,MATCH(BI26,INDEX(Ref_Data,1,0),0)),7)=\"Walk-In\",INDEX(Ref_Data,'Ref Data Entry'!$B$32,MATCH(BI26,INDEX(Ref_Data,1,0),0))=\"Other-Unregulated\"),0,1),\"\")","v":""},null,null,{"$f":"IFERROR(INDEX(Ref_Data,'Ref Data Entry'!$B$73,MATCH(BR26,INDEX(Ref_Data,1,0),0)),\"\")","v":""},{"$f":"IFERROR(INDEX(Ref_Data,'Ref Data Entry'!$B$74,MATCH(BR26,INDEX(Ref_Data,1,0),0)),\"\")","v":""},{"$f":"IFERROR(INDEX(Ref_Data,'Ref Data Entry'!$B$76,MATCH(BR26,INDEX(Ref_Data,1,0),0)),\"\")","v":""},{"$f":"IFERROR(INDEX(Ref_Data,'Ref Data Entry'!$B$78,MATCH(BR26,INDEX(Ref_Data,1,0),0)),\"\")","v":""},{"$f":"IFERROR(INDEX(Ref_Data,'Ref Data Entry'!$B$79,MATCH(BR26,INDEX(Ref_Data,1,0),0)),\"\")","v":""},{"$f":"IFERROR(INDEX(Ref_Data,'Ref Data Entry'!$B$81,MATCH(BR26,INDEX(Ref_Data,1,0),0)),\"\")","v":""},{"$f":"IFERROR(IF(OR(LEFT(INDEX(Ref_Data,'Ref Data Entry'!$B$32,MATCH(BR26,INDEX(Ref_Data,1,0),0)),7)=\"Walk-In\",INDEX(Ref_Data,'Ref Data Entry'!$B$32,MATCH(BR26,INDEX(Ref_Data,1,0),0))=\"Other-Unregulated\"),0,1),\"\")","v":""}]
["D",{"$f":"COLUMNS(Model_Inputs_Ref_Units)","v":72},{"$f":"5/0","v":{"$error":"#DIV/0!"}},null,"Unit 11",null,null,null,{"$f":"IFERROR(INDEX(Ref_Data,'Ref Data Entry'!$B$73,MATCH(G27,INDEX(Ref_Data,1,0),0)),\"\")","v":""},{"$f":"IFERROR(INDEX(Ref_Data,'Ref Data Entry'!$B$74,MATCH(G27,INDEX(Ref_Data,1,0),0)),\"\")","v":""},{"$f":"IFERROR(INDEX(Ref_Data,'Ref Data Entry'!$B$76,MATCH(G27,INDEX(Ref_Data,1,0),0)),\"\")","v":""},{"$f":"IFERROR(INDEX(Ref_Data,'Ref Data Entry'!$B$78,MATCH(G27,INDEX(Ref_Data,1,0),0)),\"\")","v":""},{"$f":"IFERROR(INDEX(Ref_Data,'Ref Data Entry'!$B$79,MATCH(G27,INDEX(Ref_Data,1,0),0)),\"\")","v":""},{"$f":"IFERROR(INDEX(Ref_Data,'Ref Data Entry'!$B$81,MATCH(G27,INDEX(Ref_Data,1,0),0)),\"\")","v":""},{"$f":"IFERROR(IF(OR(LEFT(INDEX(Ref_Data,'Ref Data Entry'!$B$32,MATCH(G27,INDEX(Ref_Data,1,0),0)),7)=\"Walk-In\",INDEX(Ref_Data,'Ref Data Entry'!$B$32,MATCH(G27,INDEX(Ref_Data,1,0),0))=\"Other-Unregulated\"),0,1),\"\")","v":""},null,null,{"$f":"IFERROR(INDEX(Ref_Data,'Ref Data Entry'!$B$73,MATCH(P27,INDEX(Ref_Data,1,0),0)),\"\")","v":""},{"$f":"IFERROR(INDEX(Ref_Data,'Ref Data Entry'!$B$74,MATCH(P27,INDEX(Ref_Data,1,0),0)),\"\")","v":""},{"$f":"IFERROR(INDEX(Ref_Data,'Ref Data Entry'!$B$76,MATCH(P27,INDEX(Ref_Data,1,0),0)),\"\")","v":""},{"$f":"IFERROR(INDEX(Ref_Data,'Ref Data Entry'!$B$78,MATCH(P27,INDEX(Ref_Data,1,0),0)),\"\")","v":""},{"$f":"IFERROR(INDEX(Ref_Data,'Ref Data Entry'!$B$79,MATCH(P27,INDEX(Ref_Data,1,0),0)),\"\")","v":""},{"$f":"IFERROR(INDEX(Ref_Data,'Ref Data Entry'!$B$81,MATCH(P27,INDEX(Ref_Data,1,0),0)),\"\")","v":""},{"$f":"IFERROR(IF(OR(LEFT(INDEX(Ref_Data,'Ref Data Entry'!$B$32,MATCH(P27,INDEX(Ref_Data,1,0),0)),7)=\"Walk-In\",INDEX(Ref_Data,'Ref Data Entry'!$B$32,MATCH(P27,INDEX(Ref_Data,1,0),0))=\"Other-Unregulated\"),0,1),\"\")","v":""},null,null,{"$f":"IFERROR(INDEX(Ref_Data,'Ref Data Entry'!$B$73,MATCH(Y27,INDEX(Ref_Data,1,0),0)),\"\")","v":""},{"$f":"IFERROR(INDEX(Ref_Data,'Ref Data Entry'!$B$74,MATCH(Y27,INDEX(Ref_Data,1,0),0)),\"\")","v":""},{"$f":"IFERROR(INDEX(Ref_Data,'Ref Data Entry'!$B$76,MATCH(Y27,INDEX(Ref_Data,1,0),0)),\"\")","v":""},{"$f":"IFERROR(INDEX(Ref_Data,'Ref Data Entry'!$B$78,MATCH(Y27,INDEX(Ref_Data,1,0),0)),\"\")","v":""},{"$f":"IFERROR(INDEX(Ref_Data,'Ref Data Entry'!$B$79,MATCH(Y27,INDEX(Ref_Data,1,0),0)),\"\")","v":""},{"$f":"IFERROR(INDEX(Ref_Data,'Ref Data Entry'!$B$81,MATCH(Y27,INDEX(Ref_Data,1,0),0)),\"\")","v":""},{"$f":"IFERROR(IF(OR(LEFT(INDEX(Ref_Data,'Ref Data Entry'!$B$32,MATCH(Y27,INDEX(Ref_Data,1,0),0)),7)=\"Walk-In\",INDEX(Ref_Data,'Ref Data Entry'!$B$32,MATCH(Y27,INDEX(Ref_Data,1,0),0))=\"Other-Unregulated\"),0,1),\"\")","v":""},null,null,{"$f":"IFERROR(INDEX(Ref_Data,'Ref Data Entry'!$B$73,MATCH(AH27,INDEX(Ref_Data,1,0),0)),\"\")","v":""},{"$f":"IFERROR(INDEX(Ref_Data,'Ref Data Entry'!$B$74,MATCH(AH27,INDEX(Ref_Data,1,0),0)),\"\")","v":""},{"$f":"IFERROR(INDEX(Ref_Data,'Ref Data Entry'!$B$76,MATCH(AH27,INDEX(Ref_Data,1,0),0)),\"\")","v":""},{"$f":"IFERROR(INDEX(Ref_Data,'Ref Data Entry'!$B$78,MATCH(AH27,INDEX(Ref_Data,1,0),0)),\"\")","v":""},{"$f":"IFERROR(INDEX(Ref_Data,'Ref Data Entry'!$B$79,MATCH(AH27,INDEX(Ref_Data,1,0),0)),\"\")","v":""},{"$f":"IFERROR(INDEX(Ref_Data,'Ref Data Entry'!$B$81,MATCH(AH27,INDEX(Ref_Data,1,0),0)),\"\")","v":""},{"$f":"IFERROR(IF(OR(LEFT(INDEX(Ref_Data,'Ref Data Entry'!$B$32,MATCH(AH27,INDEX(Ref_Data,1,0),0)),7)=\"Walk-In\",INDEX(Ref_Data,'Ref Data Entry'!$B$32,MATCH(AH27,INDEX(Ref_Data,1,0),0))=\"Other-Unregulated\"),0,1),\"\")","v":""},null,null,{"$f":"IFERROR(INDEX(Ref_Data,'Ref Data Entry'!$B$73,MATCH(AQ27,INDEX(Ref_Data,1,0),0)),\"\")","v":""},{"$f":"IFERROR(INDEX(Ref_Data,'Ref Data Entry'!$B$74,MATCH(AQ27,INDEX(Ref_Data,1,0),0)),\"\")","v":""},{"$f":"IFERROR(INDEX(Ref_Data,'Ref Data Entry'!$B$76,MATCH(AQ27,INDEX(Ref_Data,1,0),0)),\"\")","v":""},{"$f":"IFERROR(INDEX(Ref_Data,'Ref Data Entry'!$B$78,MATCH(AQ27,INDEX(Ref_Data,1,0),0)),\"\")","v":""},{"$f":"IFERROR(INDEX(Ref_Data,'Ref Data Entry'!$B$79,MATCH(AQ27,INDEX(Ref_Data,1,0),0)),\"\")","v":""},{"$f":"IFERROR(INDEX(Ref_Data,'Ref Data Entry'!$B$81,MATCH(AQ27,INDEX(Ref_Data,1,0),0)),\"\")","v":""},{"$f":"IFERROR(IF(OR(LEFT(INDEX(Ref_Data,'Ref Data Entry'!$B$32,MATCH(AQ27,INDEX(Ref_Data,1,0),0)),7)=\"Walk-In\",INDEX(Ref_Data,'Ref Data Entry'!$B$32,MATCH(AQ27,INDEX(Ref_Data,1,0),0))=\"Other-Unregulated\"),0,1),\"\")","v":""},null,null,{"$f":"IFERROR(INDEX(Ref_Data,'Ref Data Entry'!$B$73,MATCH(AZ27,INDEX(Ref_Data,1,0),0)),\"\")","v":""},{"$f":"IFERROR(INDEX(Ref_Data,'Ref Data Entry'!$B$74,MATCH(AZ27,INDEX(Ref_Data,1,0),0)),\"\")","v":""},{"$f":"IFERROR(INDEX(Ref_Data,'Ref Data Entry'!$B$76,MATCH(AZ27,INDEX(Ref_Data,1,0),0)),\"\")","v":""},{"$f":"IFERROR(INDEX(Ref_Data,'Ref Data Entry'!$B$78,MATCH(AZ27,INDEX(Ref_Data,1,0),0)),\"\")","v":""},{"$f":"IFERROR(INDEX(Ref_Data,'Ref Data Entry'!$B$79,MATCH(AZ27,INDEX(Ref_Data,1,0),0)),\"\")","v":""},{"$f":"IFERROR(INDEX(Ref_Data,'Ref Data Entry'!$B$81,MATCH(AZ27,INDEX(Ref_Data,1,0),0)),\"\")","v":""},{"$f":"IFERROR(IF(OR(LEFT(INDEX(Ref_Data,'Ref Data Entry'!$B$32,MATCH(AZ27,INDEX(Ref_Data,1,0),0)),7)=\"Walk-In\",INDEX(Ref_Data,'Ref Data Entry'!$B$32,MATCH(AZ27,INDEX(Ref_Data,1,0),0))=\"Other-Unregulated\"),0,1),\"\")","v":""},null,null,{"$f":"IFERROR(INDEX(Ref_Data,'Ref Data Entry'!$B$73,MATCH(BI27,INDEX(Ref_Data,1,0),0)),\"\")","v":""},{"$f":"IFERROR(INDEX(Ref_Data,'Ref Data Entry'!$B$74,MATCH(BI27,INDEX(Ref_Data,1,0),0)),\"\")","v":""},{"$f":"IFERROR(INDEX(Ref_Data,'Ref Data Entry'!$B$76,MATCH(BI27,INDEX(Ref_Data,1,0),0)),\"\")","v":""},{"$f":"IFERROR(INDEX(Ref_Data,'Ref Data Entry'!$B$78,MATCH(BI27,INDEX(Ref_Data,1,0),0)),\"\")","v":""},{"$f":"IFERROR(INDEX(Ref_Data,'Ref Data Entry'!$B$79,MATCH(BI27,INDEX(Ref_Data,1,0),0)),\"\")","v":""},{"$f":"IFERROR(INDEX(Ref_Data,'Ref Data Entry'!$B$81,MATCH(BI27,INDEX(Ref_Data,1,0),0)),\"\")","v":""},{"$f":"IFERROR(IF(OR(LEFT(INDEX(Ref_Data,'Ref Data Entry'!$B$32,MATCH(BI27,INDEX(Ref_Data,1,0),0)),7)=\"Walk-In\",INDEX(Ref_Data,'Ref Data Entry'!$B$32,MATCH(BI27,INDEX(Ref_Data,1,0),0))=\"Other-Unregulated\"),0,1),\"\")","v":""},null,null,{"$f":"IFERROR(INDEX(Ref_Data,'Ref Data Entry'!$B$73,MATCH(BR27,INDEX(Ref_Data,1,0),0)),\"\")","v":""},{"$f":"IFERROR(INDEX(Ref_Data,'Ref Data Entry'!$B$74,MATCH(BR27,INDEX(Ref_Data,1,0),0)),\"\")","v":""},{"$f":"IFERROR(INDEX(Ref_Data,'Ref Data Entry'!$B$76,MATCH(BR27,INDEX(Ref_Data,1,0),0)),\"\")","v":""},{"$f":"IFERROR(INDEX(Ref_Data,'Ref Data Entry'!$B$78,MATCH(BR27,INDEX(Ref_Data,1,0),0)),\"\")","v":""},{"$f":"IFERROR(INDEX(Ref_Data,'Ref Data Entry'!$B$79,MATCH(BR27,INDEX(Ref_Data,1,0),0)),\"\")","v":""},{"$f":"IFERROR(INDEX(Ref_Data,'Ref Data Entry'!$B$81,MATCH(BR27,INDEX(Ref_Data,1,0),0)),\"\")","v":""},{"$f":"IFERROR(IF(OR(LEFT(INDEX(Ref_Data,'Ref Data Entry'!$B$32,MATCH(BR27,INDEX(Ref_Data,1,0),0)),7)=\"Walk-In\",INDEX(Ref_Data,'Ref Data Entry'!$B$32,MATCH(BR27,INDEX(Ref_Data,1,0),0))=\"Other-Unregulated\"),0,1),\"\")","v":""}]
["D",null,{"$f":"5/0","v":{"$error":"#DIV/0!"}},null,"Unit 12",null,null,null,{"$f":"IFERROR(INDEX(Ref_Data,'Ref Data Entry'!$B$73,MATCH(G28,INDEX(Ref_Data,1,0),0)),\"\")","v":""},{"$f":"IFERROR(INDEX(Ref_Data,'Ref Data Entry'!$B$74,MATCH(G28,INDEX(Ref_Data,1,0),0)),\"\")","v":""},{"$f":"IFERROR(INDEX(Ref_Data,'Ref Data Entry'!$B$76,MATCH(G28,INDEX(Ref_Data,1,0),0)),\"\")","v":""},{"$f":"IFERROR(INDEX(Ref_Data,'Ref Data Entry'!$B$78,MATCH(G28,INDEX(Ref_Data,1,0),0)),\"\")","v":""},{"$f":"IFERROR(INDEX(Ref_Data,'Ref Data Entry'!$B$79,MATCH(G28,INDEX(Ref_Data,1,0),0)),\"\")","v":""},{"$f":"IFERROR(INDEX(Ref_Data,'Ref Data Entry'!$B$81,MATCH(G28,INDEX(Ref_Data,1,0),0)),\"\")","v":""},{"$f":"IFERROR(IF(OR(LEFT(INDEX(Ref_Data,'Ref Data Entry'!$B$32,MATCH(G28,INDEX(Ref_Data,1,0),0)),7)=\"Walk-In\",INDEX(Ref_Data,'Ref Data Entry'!$B$32,MATCH(G28,INDEX(Ref_Data,1,0),0))=\"Other-Unregulated\"),0,1),\"\")","v":""},null,null,{"$f":"IFERROR(INDEX(Ref_Data,'Ref Data Entry'!$B$73,MATCH(P28,INDEX(Ref_Data,1,0),0)),\"\")","v":""},{"$f":"IFERROR(INDEX(Ref_Data,'Ref Data Entry'!$B$74,MATCH(P28,INDEX(Ref_Data,1,0),0)),\"\")","v":""},{"$f":"IFERROR(INDEX(Ref_Data,'Ref Data Entry'!$B$76,MATCH(P28,INDEX(Ref_Data,1,0),0)),\"\")","v":""},{"$f":"IFERROR(INDEX(Ref_Data,'Ref Data Entry'!$B$78,MATCH(P28,INDEX(Ref_Data,1,0),0)),\"\")","v":""},{"$f":"IFERROR(INDEX(Ref_Data,'Ref Data Entry'!$B$79,MATCH(P28,INDEX(Ref_Data,1,0),0)),\"\")","v":""},{"$f":"IFERROR(INDEX(Ref_Data,'Ref Data Entry'!$B$81,MATCH(P28,INDEX(Ref_Data,1,0),0)),\"\")","v":""},{"$f":"IFERROR(IF(OR(LEFT(INDEX(Ref_Data,'Ref Data Entry'!$B$32,MATCH(P28,INDEX(Ref_Data,1,0),0)),7)=\"Walk-In\",INDEX(Ref_Data,'Ref Data Entry'!$B$32,MATCH(P28,INDEX(Ref_Data,1,0),0))=\"Other-Unregulated\"),0,1),\"\")","v":""},null,null,{"$f":"IFERROR(INDEX(Ref_Data,'Ref Data Entry'!$B$73,MATCH(Y28,INDEX(Ref_Data,1,0),0)),\"\")","v":""},{"$f":"IFERROR(INDEX(Ref_Data,'Ref Data Entry'!$B$74,MATCH(Y28,INDEX(Ref_Data,1,0),0)),\"\")","v":""},{"$f":"IFERROR(INDEX(Ref_Data,'Ref Data Entry'!$B$76,MATCH(Y28,INDEX(Ref_Data,1,0),0)),\"\")","v":""},{"$f":"IFERROR(INDEX(Ref_Data,'Ref Data Entry'!$B$78,MATCH(Y28,INDEX(Ref_Data,1,0),0)),\"\")","v":""},{"$f":"IFERROR(INDEX(Ref_Data,'Ref Data Entry'!$B$79,MATCH(Y28,INDEX(Ref_Data,1,0),0)),\"\")","v":""},{"$f":"IFERROR(INDEX(Ref_Data,'Ref Data Entry'!$B$81,MATCH(Y28,INDEX(Ref_Data,1,0),0)),\"\")","v":""},{"$f":"IFERROR(IF(OR(LEFT(INDEX(Ref_Data,'Ref Data Entry'!$B$32,MATCH(Y28,INDEX(Ref_Data,1,0),0)),7)=\"Walk-In\",INDEX(Ref_Data,'Ref Data Entry'!$B$32,MATCH(Y28,INDEX(Ref_Data,1,0),0))=\"Other-Unregulated\"),0,1),\"\")","v":""},null,null,{"$f":"IFERROR(INDEX(Ref_Data,'Ref Data Entry'!$B$73,MATCH(AH28,INDEX(Ref_Data,1,0),0)),\"\")","v":""},{"$f":"IFERROR(INDEX(Ref_Data,'Ref Data Entry'!$B$74,MATCH(AH28,INDEX(Ref_Data,1,0),0)),\"\")","v":""},{"$f":"IFERROR(INDEX(Ref_Data,'Ref Data Entry'!$B$76,MATCH(AH28,INDEX(Ref_Data,1,0),0)),\"\")","v":""},{"$f":"IFERROR(INDEX(Ref_Data,'Ref Data Entry'!$B$78,MATCH(AH28,INDEX(Ref_Data,1,0),0)),\"\")","v":""},{"$f":"IFERROR(INDEX(Ref_Data,'Ref Data Entry'!$B$79,MATCH(AH28,INDEX(Ref_Data,1,0),0)),\"\")","v":""},{"$f":"IFERROR(INDEX(Ref_Data,'Ref Data Entry'!$B$81,MATCH(AH28,INDEX(Ref_Data,1,0),0)),\"\")","v":""},{"$f":"IFERROR(IF(OR(LEFT(INDEX(Ref_Data,'Ref Data Entry'!$B$32,MATCH(AH28,INDEX(Ref_Data,1,0),0)),7)=\"Walk-In\",INDEX(Ref_Data,'Ref Data Entry'!$B$32,MATCH(AH28,INDEX(Ref_Data,1,0),0))=\"Other-Unregulated\"),0,1),\"\")","v":""},null,null,{"$f":"IFERROR(INDEX(Ref_Data,'Ref Data Entry'!$B$73,MATCH(AQ28,INDEX(Ref_Data,1,0),0)),\"\")","v":""},{"$f":"IFERROR(INDEX(Ref_Data,'Ref Data Entry'!$B$74,MATCH(AQ28,INDEX(Ref_Data,1,0),0)),\"\")","v":""},{"$f":"IFERROR(INDEX(Ref_Data,'Ref Data Entry'!$B$76,MATCH(AQ28,INDEX(Ref_Data,1,0),0)),\"\")","v":""},{"$f":"IFERROR(INDEX(Ref_Data,'Ref Data Entry'!$B$78,MATCH(AQ28,INDEX(Ref_Data,1,0),0)),\"\")","v":""},{"$f":"IFERROR(INDEX(Ref_Data,'Ref Data Entry'!$B$79,MATCH(AQ28,INDEX(Ref_Data,1,0),0)),\"\")","v":""},{"$f":"IFERROR(INDEX(Ref_Data,'Ref Data Entry'!$B$81,MATCH(AQ28,INDEX(Ref_Data,1,0),0)),\"\")","v":""},{"$f":"IFERROR(IF(OR(LEFT(INDEX(Ref_Data,'Ref Data Entry'!$B$32,MATCH(AQ28,INDEX(Ref_Data,1,0),0)),7)=\"Walk-In\",INDEX(Ref_Data,'Ref Data Entry'!$B$32,MATCH(AQ28,INDEX(Ref_Data,1,0),0))=\"Other-Unregulated\"),0,1),\"\")","v":""},null,null,{"$f":"IFERROR(INDEX(Ref_Data,'Ref Data Entry'!$B$73,MATCH(AZ28,INDEX(Ref_Data,1,0),0)),\"\")","v":""},{"$f":"IFERROR(INDEX(Ref_Data,'Ref Data Entry'!$B$74,MATCH(AZ28,INDEX(Ref_Data,1,0),0)),\"\")","v":""},{"$f":"IFERROR(INDEX(Ref_Data,'Ref Data Entry'!$B$76,MATCH(AZ28,INDEX(Ref_Data,1,0),0)),\"\")","v":""},{"$f":"IFERROR(INDEX(Ref_Data,'Ref Data Entry'!$B$78,MATCH(AZ28,INDEX(Ref_Data,1,0),0)),\"\")","v":""},{"$f":"IFERROR(INDEX(Ref_Data,'Ref Data Entry'!$B$79,MATCH(AZ28,INDEX(Ref_Data,1,0),0)),\"\")","v":""},{"$f":"IFERROR(INDEX(Ref_Data,'Ref Data Entry'!$B$81,MATCH(AZ28,INDEX(Ref_Data,1,0),0)),\"\")","v":""},{"$f":"IFERROR(IF(OR(LEFT(INDEX(Ref_Data,'Ref Data Entry'!$B$32,MATCH(AZ28,INDEX(Ref_Data,1,0),0)),7)=\"Walk-In\",INDEX(Ref_Data,'Ref Data Entry'!$B$32,MATCH(AZ28,INDEX(Ref_Data,1,0),0))=\"Other-Unregulated\"),0,1),\"\")","v":""},null,null,{"$f":"IFERROR(INDEX(Ref_Data,'Ref Data Entry'!$B$73,MATCH(BI28,INDEX(Ref_Data,1,0),0)),\"\")","v":""},{"$f":"IFERROR(INDEX(Ref_Data,'Ref Data Entry'!$B$74,MATCH(BI28,INDEX(Ref_Data,1,0),0)),\"\")","v":""},{"$f":"IFERROR(INDEX(Ref_Data,'Ref Data Entry'!$B$76,MATCH(BI28,INDEX(Ref_Data,1,0),0)),\"\")","v":""},{"$f":"IFERROR(INDEX(Ref_Data,'Ref Data Entry'!$B$78,MATCH(BI28,INDEX(Ref_Data,1,0),0)),\"\")","v":""},{"$f":"IFERROR(INDEX(Ref_Data,'Ref Data Entry'!$B$79,MATCH(BI28,INDEX(Ref_Data,1,0),0)),\"\")","v":""},{"$f":"IFERROR(INDEX(Ref_Data,'Ref Data Entry'!$B$81,MATCH(BI28,INDEX(Ref_Data,1,0),0)),\"\")","v":""},{"$f":"IFERROR(IF(OR(LEFT(INDEX(Ref_Data,'Ref Data Entry'!$B$32,MATCH(BI28,INDEX(Ref_Data,1,0),0)),7)=\"Walk-In\",INDEX(Ref_Data,'Ref Data Entry'!$B$32,MATCH(BI28,INDEX(Ref_Data,1,0),0))=\"Other-Unregulated\"),0,1),\"\")","v":""},null,null,{"$f":"IFERROR(INDEX(Ref_Data,'Ref Data Entry'!$B$73,MATCH(BR28,INDEX(Ref_Data,1,0),0)),\"\")","v":""},{"$f":"IFERROR(INDEX(Ref_Data,'Ref Data Entry'!$B$74,MATCH(BR28,INDEX(Ref_Data,1,0),0)),\"\")","v":""},{"$f":"IFERROR(INDEX(Ref_Data,'Ref Data Entry'!$B$76,MATCH(BR28,INDEX(Ref_Data,1,0),0)),\"\")","v":""},{"$f":"IFERROR(INDEX(Ref_Data,'Ref Data Entry'!$B$78,MATCH(BR28,INDEX(Ref_Data,1,0),0)),\"\")","v":""},{"$f":"IFERROR(INDEX(Ref_Data,'Ref Data Entry'!$B$79,MATCH(BR28,INDEX(Ref_Data,1,0),0)),\"\")","v":""},{"$f":"IFERROR(INDEX(Ref_Data,'Ref Data Entry'!$B$81,MATCH(BR28,INDEX(Ref_Data,1,0),0)),\"\")","v":""},{"$f":"IFERROR(IF(OR(LEFT(INDEX(Ref_Data,'Ref Data Entry'!$B$32,MATCH(BR28,INDEX(Ref_Data,1,0),0)),7)=\"Walk-In\",INDEX(Ref_Data,'Ref Data Entry'!$B$32,MATCH(BR28,INDEX(Ref_Data,1,0),0))=\"Other-Unregulated\"),0,1),\"\")","v":""}]
["D"]
["D"]
["D",null,{"$f":"5/0","v":{"$error":"#DIV/0!"}},null,null,null,null,{"$f":"COLUMN()-COLUMN($G$31)","v":1},null,null,null,null,null,null,null,{"$f":"H31+9","v":10},{"$f":"P31+9","v":19},null,null,null,null,null,null,null,{"$f":"Q31+9","v":28},{"$f":"Y31+9","v":37},null,null,null,null,null,null,null,{"$f":"Z31+9","v":46},{"$f":"AH31+9","v":55},null,null,null,null,null,null,null,{"$f":"AI31+9","v":64},{"$f":"AQ31+9","v":73},null,null,null,null,null,null,null,{"$f":"AR31+9","v":82},{"$f":"AZ31+9","v":91},null,null,null,null,null,null,null,{"$f":"BA31+9","v":100},{"$f":"BI31+9","v":109},null,null,null,null,null,null,null,{"$f":"AR31+9","v":82},{"$f":"BR31+9","v":91}]
["D",null,null,null,"Modeling Inputs (Pr = Proposed Design, BL = Baseline Design)"]
["D",null,null,null,null,null,"Thermal Zone:",{"$f":"IF(ISNUMBER(H31)=FALSE,\"\",IFERROR(INDEX(Model_Inputs_Thermal_Zones,1,H$31),\"\"))","v":0},{"$f":"IF(ISNUMBER(I31)=FALSE,\"\",IFERROR(INDEX(Model_Inputs_Thermal_Zones,1,I$31),\"\"))","v":""},{"$f":"IF(ISNUMBER(J31)=FALSE,\"\",IFERROR(INDEX(Model_Inputs_Thermal_Zones,1,J$31),\"\"))","v":""},{"$f":"IF(ISNUMBER(K31)=FALSE,\"\",IFERROR(INDEX(Model_Inputs_Thermal_Zones,1,K$31),\"\"))","v":""},{"$f":"IF(ISNUMBER(L31)=FALSE,\"\",IFERROR(INDEX(Model_Inputs_Thermal_Zones,1,L$31),\"\"))","v":""},{"$f":"IF(ISNUMBER(M31)=FALSE,\"\",IFERROR(INDEX(Model_Inputs_Thermal_Zones,1,M$31),\"\"))","v":""},{"$f":"IF(ISNUMBER(N31)=FALSE,\"\",IFERROR(INDEX(Model_Inputs_Thermal_Zones,1,N$31),\"\"))","v":""},null,{"$f":"IF(ISNUMBER(P31)=FALSE,\"\",IFERROR(INDEX(Model_Inputs_Thermal_Zones,1,P$31),\"\"))","v":0},{"$f":"IF(ISNUMBER(Q31)=FALSE,\"\",IFERROR(INDEX(Model_Inputs_Thermal_Zones,1,Q$31),\"\"))","v":0},{"$f":"IF(ISNUMBER(R31)=FALSE,\"\",IFERROR(INDEX(Model_Inputs_Thermal_Zones,1,R$31),\"\"))","v":""},{"$f":"IF(ISNUMBER(S31)=FALSE,\"\",IFERROR(INDEX(Model_Inputs_Thermal_Zones,1,S$31),\"\"))","v":""},{"$f":"IF(ISNUMBER(T31)=FALSE,\"\",IFERROR(INDEX(Model_Inputs_Thermal_Zones,1,T$31),\"\"))","v":""},{"$f":"IF(ISNUMBER(U31)=FALSE,\"\",IFERROR(INDEX(Model_Inputs_Thermal_Zones,1,U$31),\"\"))","v":""},{"$f":"IF(ISNUMBER(V31)=FALSE,\"\",IFERROR(INDEX(Model_Inputs_Thermal_Zones,1,V$31),\"\"))","v":""},{"$f":"IF(ISNUMBER(W31)=FALSE,\"\",IFERROR(INDEX(Model_Inputs_Thermal_Zones,1,W$31),\"\"))","v":""},null,{"$f":"IF(ISNUMBER(Y31)=FALSE,\"\",IFERROR(INDEX(Model_Inputs_Thermal_Zones,1,Y$31),\"\"))","v":0},{"$f":"IF(ISNUMBER(Z31)=FALSE,\"\",IFERROR(INDEX(Model_Inputs_Thermal_Zones,1,Z$31),\"\"))","v":0},{"$f":"IF(ISNUMBER(AA31)=FALSE,\"\",IFERROR(INDEX(Model_Inputs_Thermal_Zones,1,AA$31),\"\"))","v":""},{"$f":"IF(ISNUMBER(AB31)=FALSE,\"\",IFERROR(INDEX(Model_Inputs_Thermal_Zones,1,AB$31),\"\"))","v":""},{"$f":"IF(ISNUMBER(AC31)=FALSE,\"\",IFERROR(INDEX(Model_Inputs_Thermal_Zones,1,AC$31),\"\"))","v":""},{"$f":"IF(ISNUMBER(AD31)=FALSE,\"\",IFERROR(INDEX(Model_Inputs_Thermal_Zones,1,AD$31),\"\"))","v":""},{"$f":"IF(ISNUMBER(AE31)=FALSE,\"\",IFERROR(INDEX(Model_Inputs_Thermal_Zones,1,AE$31),\"\"))","v":""},{"$f":"IF(ISNUMBER(AF31)=FALSE,\"\",IFERROR(INDEX(Model_Inputs_Thermal_Zones,1,AF$31),\"\"))","v":""},null,{"$f":"IF(ISNUMBER(AH31)=FALSE,\"\",IFERROR(INDEX(Model_Inputs_Thermal_Zones,1,AH$31),\"\"))","v":0},{"$f":"IF(ISNUMBER(AI31)=FALSE,\"\",IFERROR(INDEX(Model_Inputs_Thermal_Zones,1,AI$31),\"\"))","v":0},{"$f":"IF(ISNUMBER(AJ31)=FALSE,\"\",IFERROR(INDEX(Model_Inputs_Thermal_Zones,1,AJ$31),\"\"))","v":""},{"$f":"IF(ISNUMBER(AK31)=FALSE,\"\",IFERROR(INDEX(Model_Inputs_Thermal_Zones,1,AK$31),\"\"))","v":""},{"$f":"IF(ISNUMBER(AL31)=FALSE,\"\",IFERROR(INDEX(Model_Inputs_Thermal_Zones,1,AL$31),\"\"))","v":""},{"$f":"IF(ISNUMBER(AM31)=FALSE,\"\",IFERROR(INDEX(Model_Inputs_Thermal_Zones,1,AM$31),\"\"))","v":""},{"$f":"IF(ISNUMBER(AN31)=FALSE,\"\",IFERROR(INDEX(Model_Inputs_Thermal_Zones,1,AN$31),\"\"))","v":""},{"$f":"IF(ISNUMBER(AO31)=FALSE,\"\",IFERROR(INDEX(Model_Inputs_Thermal_Zones,1,AO$31),\"\"))","v":""},null,{"$f":"IF(ISNUMBER(AQ31)=FALSE,\"\",IFERROR(INDEX(Model_Inputs_Thermal_Zones,1,AQ$31),\"\"))","v":0},{"$f":"IF(ISNUMBER(AR31)=FALSE,\"\",IFERROR(INDEX(Model_Inputs_Thermal_Zones,1,AR$31),\"\"))","v":""},{"$f":"IF(ISNUMBER(AS31)=FALSE,\"\",IFERROR(INDEX(Model_Inputs_Thermal_Zones,1,AS$31),\"\"))","v":""},{"$f":"IF(ISNUMBER(AT31)=FALSE,\"\",IFERROR(INDEX(Model_Inputs_Thermal_Zones,1,AT$31),\"\"))","v":""},{"$f":"IF(ISNUMBER(AU31)=FALSE,\"\",IFERROR(INDEX(Model_Inputs_Thermal_Zones,1,AU$31),\"\"))","v":""},{"$f":"IF(ISNUMBER(AV31)=FALSE,\"\",IFERROR(INDEX(Model_Inputs_Thermal_Zones,1,AV$31),\"\"))","v":""},{"$f":"IF(ISNUMBER(AW31)=FALSE,\"\",IFERROR(INDEX(Model_Inputs_Thermal_Zones,1,AW$31),\"\"))","v":""},{"$f":"IF(ISNUMBER(AX31)=FALSE,\"\",IFERROR(INDEX(Model_Inputs_Thermal_Zones,1,AX$31),\"\"))","v":""},null,{"$f":"IF(ISNUMBER(AZ31)=FALSE,\"\",IFERROR(INDEX(Model_Inputs_Thermal_Zones,1,AZ$31),\"\"))","v":""},{"$f":"IF(ISNUMBER(BA31)=FALSE,\"\",IFERROR(INDEX(Model_Inputs_Thermal_Zones,1,BA$31),\"\"))","v":""},{"$f":"IF(ISNUMBER(BB31)=FALSE,\"\",IFERROR(INDEX(Model_Inputs_Thermal_Zones,1,BB$31),\"\"))","v":""},{"$f":"IF(ISNUMBER(BC31)=FALSE,\"\",IFERROR(INDEX(Model_Inputs_Thermal_Zones,1,BC$31),\"\"))","v":""},{"$f":"IF(ISNUMBER(BD31)=FALSE,\"\",IFERROR(INDEX(Model_Inputs_Thermal_Zones,1,BD$31),\"\"))","v":""},{"$f":"IF(ISNUMBER(BE31)=FALSE,\"\",IFERROR(INDEX(Model_Inputs_Thermal_Zones,1,BE$31),\"\"))","v":""},{"$f":"IF(ISNUMBER(BF31)=FALSE,\"\",IFERROR(INDEX(Model_Inputs_Thermal_Zones,1,BF$31),\"\"))","v":""},{"$f":"IF(ISNUMBER(BG31)=FALSE,\"\",IFERROR(INDEX(Model_Inputs_Thermal_Zones,1,BG$31),\"\"))","v":""},null,{"$f":"IF(ISNUMBER(BI31)=FALSE,\"\",IFERROR(INDEX(Model_Inputs_Thermal_Zones,1,BI$31),\"\"))","v":""},{"$f":"IF(ISNUMBER(BJ31)=FALSE,\"\",IFERROR(INDEX(Model_Inputs_Thermal_Zones,1,BJ$31),\"\"))","v":""},{"$f":"IF(ISNUMBER(BK31)=FALSE,\"\",IFERROR(INDEX(Model_Inputs_Thermal_Zones,1,BK$31),\"\"))","v":""},{"$f":"IF(ISNUMBER(BL31)=FALSE,\"\",IFERROR(INDEX(Model_Inputs_Thermal_Zones,1,BL$31),\"\"))","v":""},{"$f":"IF(ISNUMBER(BM31)=FALSE,\"\",IFERROR(INDEX(Model_Inputs_Thermal_Zones,1,BM$31),\"\"))","v":""},{"$f":"IF(ISNUMBER(BN31)=FALSE,\"\",IFERROR(INDEX(Model_Inputs_Thermal_Zones,1,BN$31),\"\"))","v":""},{"$f":"IF(ISNUMBER(BO31)=FALSE,\"\",IFERROR(INDEX(Model_Inputs_Thermal_Zones,1,BO$31),\"\"))","v":""},null,{"$f":"IF(ISNUMBER(BQ31)=FALSE,\"\",IFERROR(INDEX(Model_Inputs_Thermal_Zones,1,BQ$31),\"\"))","v":""},{"$f":"IF(ISNUMBER(BR31)=FALSE,\"\",IFERROR(INDEX(Model_Inputs_Thermal_Zones,1,BR$31),\"\"))","v":""},{"$f":"IF(ISNUMBER(BS31)=FALSE,\"\",IFERROR(INDEX(Model_Inputs_Thermal_Zones,1,BS$31),\"\"))","v":""},{"$f":"IF(ISNUMBER(BT31)=FALSE,\"\",IFERROR(INDEX(Model_Inputs_Thermal_Zones,1,BT$31),\"\"))","v":""},{"$f":"IF(ISNUMBER(BU31)=FALSE,\"\",IFERROR(INDEX(Model_Inputs_Thermal_Zones,1,BU$31),\"\"))","v":""},{"$f":"IF(ISNUMBER(BV31)=FALSE,\"\",IFERROR(INDEX(Model_Inputs_Thermal_Zones,1,BV$31),\"\"))","v":""},{"$f":"IF(ISNUMBER(BW31)=FALSE,\"\",IFERROR(INDEX(Model_Inputs_Thermal_Zones,1,BW$31),\"\"))","v":""},{"$f":"IF(ISNUMBER(BX31)=FALSE,\"\",IFERROR(INDEX(Model_Inputs_Thermal_Zones,1,BX$31),\"\"))","v":""},null,{"$f":"IF(ISNUMBER(BZ31)=FALSE,\"\",IFERROR(INDEX(Model_Inputs_Thermal_Zones,1,BZ$31),\"\"))","v":""}]
["D",2,null,null,"Pr","Rate of heat removal, Q, kBtu/hr",null,{"$f":"IF(H33=\"\",\"\",IFERROR(SUMPRODUCT(INDEX(Model_Inputs_Ref_Units,,MATCH(H$33,Model_Inputs_Thermal_Zones,0)+$B36),INDEX(Model_Inputs_Ref_Units,,MATCH(H$33,Model_Inputs_Thermal_Zones,0)+1)),\"\"))","v":""},"","","","","","","","","","","","","","","","","","","","","","","","","","","","","","","",{"$f":"IF(AN33=\"\",\"\",IFERROR(SUMPRODUCT(INDEX(Model_Inputs_Ref_Units,,MATCH(AN$33,Model_Inputs_Thermal_Zones,0)+$B36),INDEX(Model_Inputs_Ref_Units,,MATCH(AN$33,Model_Inputs_Thermal_Zones,0)+1)),\"\"))","v":""},"","","","","","","","","","","","","","","","","","","","","","","","","","","","","","","",{"$f":"IF(BT33=\"\",\"\",IFERROR(SUMPRODUCT(INDEX(Model_Inputs_Ref_Units,,MATCH(BT$33,Model_Inputs_Thermal_Zones,0)+$B36),INDEX(Model_Inputs_Ref_Units,,MATCH(BT$33,Model_Inputs_Thermal_Zones,0)+1)),\"\"))","v":""},"","","","","",""]
["D",3,null,null,"BL","Rate of heat removal, Q, kBtu/hr",null,{"$f":"IF(H33=\"\",\"\",IFERROR(SUMPRODUCT(INDEX(Model_Inputs_Ref_Units,,MATCH(H$33,Model_Inputs_Thermal_Zones,0)+$B39),INDEX(Model_Inputs_Ref_Units,,MATCH(H$33,Model_Inputs_Thermal_Zones,0)+1)),\"\"))","v":""},"","","","","","","","","","","","","","","","","","","","","","","","","","","","","","","",{"$f":"IF(AN33=\"\",\"\",IFERROR(SUMPRODUCT(INDEX(Model_Inputs_Ref_Units,,MATCH(AN$33,Model_Inputs_Thermal_Zones,0)+$B39),INDEX(Model_Inputs_Ref_Units,,MATCH(AN$33,Model_Inputs_Thermal_Zones,0)+1)),\"\"))","v":""},"","","","","","","","","","","","","","","","","","","","","","","","","","","","","","","",{"$f":"IF(BT33=\"\",\"\",IFERROR(SUMPRODUCT(INDEX(Model_Inputs_Ref_Units,,MATCH(BT$33,Model_Inputs_Thermal_Zones,0)+$B39),INDEX(Model_Inputs_Ref_Units,,MATCH(BT$33,Model_Inputs_Thermal_Zones,0)+1)),\"\"))","v":""},"","","","","",""]
["D",4,null,null,"Regulated"]
["D",5,null,null,"Pr","Daily hours of operation",null,{"$f":"IF(H33=\"\",\"\",IFERROR(SUMPRODUCT(--(INDEX(Model_Inputs_Ref_Units,,MATCH(H$33,Model_Inputs_Thermal_Zones,0)+$B40)=1),INDEX(Model_Inputs_Ref_Units,,MATCH(H$33,Model_Inputs_Thermal_Zones,0)+$B34),INDEX(Model_Inputs_Ref_Units,,MATCH(H$33,Model_Inputs_Thermal_Zones,0)+1))/SUMPRODUCT(--(INDEX(Model_Inputs_Ref_Units,,MATCH(H$33,Model_Inputs_Thermal_Zones,0)+$B40)=1),INDEX(Model_Inputs_Ref_Units,,MATCH(H$33,Model_Inputs_Thermal_Zones,0)+1)),\"\"))","v":""},{"$f":"IF(I33=\"\",\"\",IFERROR(SUMPRODUCT(--(INDEX(Model_Inputs_Ref_Units,,MATCH(I$33,Model_Inputs_Thermal_Zones,0)+$B40)=1),INDEX(Model_Inputs_Ref_Units,,MATCH(I$33,Model_Inputs_Thermal_Zones,0)+$B34),INDEX(Model_Inputs_Ref_Units,,MATCH(I$33,Model_Inputs_Thermal_Zones,0)+1))/SUMPRODUCT(--(INDEX(Model_Inputs_Ref_Units,,MATCH(I$33,Model_Inputs_Thermal_Zones,0)+$B40)=1),INDEX(Model_Inputs_Ref_Units,,MATCH(I$33,Model_Inputs_Thermal_Zones,0)+1)),\"\"))","v":""},{"$f":"IF(J33=\"\",\"\",IFERROR(SUMPRODUCT(--(INDEX(Model_Inputs_Ref_Units,,MATCH(J$33,Model_Inputs_Thermal_Zones,0)+$B40)=1),INDEX(Model_Inputs_Ref_Units,,MATCH(J$33,Model_Inputs_Thermal_Zones,0)+$B34),INDEX(Model_Inputs_Ref_Units,,MATCH(J$33,Model_Inputs_Thermal_Zones,0)+1))/SUMPRODUCT(--(INDEX(Model_Inputs_Ref_Units,,MATCH(J$33,Model_Inputs_Thermal_Zones,0)+$B40)=1),INDEX(Model_Inputs_Ref_Units,,MATCH(J$33,Model_Inputs_Thermal_Zones,0)+1)),\"\"))","v":""},{"$f":"IF(K33=\"\",\"\",IFERROR(SUMPRODUCT(--(INDEX(Model_Inputs_Ref_Units,,MATCH(K$33,Model_Inputs_Thermal_Zones,0)+$B40)=1),INDEX(Model_Inputs_Ref_Units,,MATCH(K$33,Model_Inputs_Thermal_Zones,0)+$B34),INDEX(Model_Inputs_Ref_Units,,MATCH(K$33,Model_Inputs_Thermal_Zones,0)+1))/SUMPRODUCT(--(INDEX(Model_Inputs_Ref_Units,,MATCH(K$33,Model_Inputs_Thermal_Zones,0)+$B40)=1),INDEX(Model_Inputs_Ref_Units,,MATCH(K$33,Model_Inputs_Thermal_Zones,0)+1)),\"\"))","v":""},{"$f":"IF(L33=\"\",\"\",IFERROR(SUMPRODUCT(--(INDEX(Model_Inputs_Ref_Units,,MATCH(L$33,Model_Inputs_Thermal_Zones,0)+$B40)=1),INDEX(Model_Inputs_Ref_Units,,MATCH(L$33,Model_Inputs_Thermal_Zones,0)+$B34),INDEX(Model_Inputs_Ref_Units,,MATCH(L$33,Model_Inputs_Thermal_Zones,0)+1))/SUMPRODUCT(--(INDEX(Model_Inputs_Ref_Units,,MATCH(L$33,Model_Inputs_Thermal_Zones,0)+$B40)=1),INDEX(Model_Inputs_Ref_Units,,MATCH(L$33,Model_Inputs_Thermal_Zones,0)+1)),\"\"))","v":""},{"$f":"IF(M33=\"\",\"\",IFERROR(SUMPRODUCT(--(INDEX(Model_Inputs_Ref_Units,,MATCH(M$33,Model_Inputs_Thermal_Zones,0)+$B40)=1),INDEX(Model_Inputs_Ref_Units,,MATCH(M$33,Model_Inputs_Thermal_Zones,0)+$B34),INDEX(Model_Inputs_Ref_Units,,MATCH(M$33,Model_Inputs_Thermal_Zones,0)+1))/SUMPRODUCT(--(INDEX(Model_Inputs_Ref_Units,,MATCH(M$33,Model_Inputs_Thermal_Zones,0)+$B40)=1),INDEX(Model_Inputs_Ref_Units,,MATCH(M$33,Model_Inputs_Thermal_Zones,0)+1)),\"\"))","v":""},{"$f":"IF(N33=\"\",\"\",IFERROR(SUMPRODUCT(--(INDEX(Model_Inputs_Ref_Units,,MATCH(N$33,Model_Inputs_Thermal_Zones,0)+$B40)=1),INDEX(Model_Inputs_Ref_Units,,MATCH(N$33,Model_Inputs_Thermal_Zones,0)+$B34),INDEX(Model_Inputs_Ref_Units,,MATCH(N$33,Model_Inputs_Thermal_Zones,0)+1))/SUMPRODUCT(--(INDEX(Model_Inputs_Ref_Units,,MATCH(N$33,Model_Inputs_Thermal_Zones,0)+$B40)=1),INDEX(Model_Inputs_Ref_Units,,MATCH(N$33,Model_Inputs_Thermal_Zones,0)+1)),\"\"))","v":""},{"$f":"IF(O33=\"\",\"\",IFERROR(SUMPRODUCT(--(INDEX(Model_Inputs_Ref_Units,,MATCH(O$33,Model_Inputs_Thermal_Zones,0)+$B40)=1),INDEX(Model_Inputs_Ref_Units,,MATCH(O$33,Model_Inputs_Thermal_Zones,0)+$B34),INDEX(Model_Inputs_Ref_Units,,MATCH(O$33,Model_Inputs_Thermal_Zones,0)+1))/SUMPRODUCT(--(INDEX(Model_Inputs_Ref_Units,,MATCH(O$33,Model_Inputs_Thermal_Zones,0)+$B40)=1),INDEX(Model_Inputs_Ref_Units,,MATCH(O$33,Model_Inputs_Thermal_Zones,0)+1)),\"\"))","v":""},{"$f":"IF(P33=\"\",\"\",IFERROR(SUMPRODUCT(--(INDEX(Model_Inputs_Ref_Units,,MATCH(P$33,Model_Inputs_Thermal_Zones,0)+$B40)=1),INDEX(Model_Inputs_Ref_Units,,MATCH(P$33,Model_Inputs_Thermal_Zones,0)+$B34),INDEX(Model_Inputs_Ref_Units,,MATCH(P$33,Model_Inputs_Thermal_Zones,0)+1))/SUMPRODUCT(--(INDEX(Model_Inputs_Ref_Units,,MATCH(P$33,Model_Inputs_Thermal_Zones,0)+$B40)=1),INDEX(Model_Inputs_Ref_Units,,MATCH(P$33,Model_Inputs_Thermal_Zones,0)+1)),\"\"))","v":""},{"$f":"IF(Q33=\"\",\"\",IFERROR(SUMPRODUCT(--(INDEX(Model_Inputs_Ref_Units,,MATCH(Q$33,Model_Inputs_Thermal_Zones,0)+$B40)=1),INDEX(Model_Inputs_Ref_Units,,MATCH(Q$33,Model_Inputs_Thermal_Zones,0)+$B34),INDEX(Model_Inputs_Ref_Units,,MATCH(Q$33,Model_Inputs_Thermal_Zones,0)+1))/SUMPRODUCT(--(INDEX(Model_Inputs_Ref_Units,,MATCH(Q$33,Model_Inputs_Thermal_Zones,0)+$B40)=1),INDEX(Model_Inputs_Ref_Units,,MATCH(Q$33,Model_Inputs_Thermal_Zones,0)+1)),\"\"))","v":""},{"$f":"IF(R33=\"\",\"\",IFERROR(SUMPRODUCT(--(INDEX(Model_Inputs_Ref_Units,,MATCH(R$33,Model_Inputs_Thermal_Zones,0)+$B40)=1),INDEX(Model_Inputs_Ref_Units,,MATCH(R$33,Model_Inputs_Thermal_Zones,0)+$B34),INDEX(Model_Inputs_Ref_Units,,MATCH(R$33,Model_Inputs_Thermal_Zones,0)+1))/SUMPRODUCT(--(INDEX(Model_Inputs_Ref_Units,,MATCH(R$33,Model_Inputs_Thermal_Zones,0)+$B40)=1),INDEX(Model_Inputs_Ref_Units,,MATCH(R$33,Model_Inputs_Thermal_Zones,0)+1)),\"\"))","v":""},{"$f":"IF(S33=\"\",\"\",IFERROR(SUMPRODUCT(--(INDEX(Model_Inputs_Ref_Units,,MATCH(S$33,Model_Inputs_Thermal_Zones,0)+$B40)=1),INDEX(Model_Inputs_Ref_Units,,MATCH(S$33,Model_Inputs_Thermal_Zones,0)+$B34),INDEX(Model_Inputs_Ref_Units,,MATCH(S$33,Model_Inputs_Thermal_Zones,0)+1))/SUMPRODUCT(--(INDEX(Model_Inputs_Ref_Units,,MATCH(S$33,Model_Inputs_Thermal_Zones,0)+$B40)=1),INDEX(Model_Inputs_Ref_Units,,MATCH(S$33,Model_Inputs_Thermal_Zones,0)+1)),\"\"))","v":""},{"$f":"IF(T33=\"\",\"\",IFERROR(SUMPRODUCT(--(INDEX(Model_Inputs_Ref_Units,,MATCH(T$33,Model_Inputs_Thermal_Zones,0)+$B40)=1),INDEX(Model_Inputs_Ref_Units,,MATCH(T$33,Model_Inputs_Thermal_Zones,0)+$B34),INDEX(Model_Inputs_Ref_Units,,MATCH(T$33,Model_Inputs_Thermal_Zones,0)+1))/SUMPRODUCT(--(INDEX(Model_Inputs_Ref_Units,,MATCH(T$33,Model_Inputs_Thermal_Zones,0)+$B40)=1),INDEX(Model_Inputs_Ref_Units,,MATCH(T$33,Model_Inputs_Thermal_Zones,0)+1)),\"\"))","v":""},{"$f":"IF(U33=\"\",\"\",IFERROR(SUMPRODUCT(--(INDEX(Model_Inputs_Ref_Units,,MATCH(U$33,Model_Inputs_Thermal_Zones,0)+$B40)=1),INDEX(Model_Inputs_Ref_Units,,MATCH(U$33,Model_Inputs_Thermal_Zones,0)+$B34),INDEX(Model_Inputs_Ref_Units,,MATCH(U$33,Model_Inputs_Thermal_Zones,0)+1))/SUMPRODUCT(--(INDEX(Model_Inputs_Ref_Units,,MATCH(U$33,Model_Inputs_Thermal_Zones,0)+$B40)=1),INDEX(Model_Inputs_Ref_Units,,MATCH(U$33,Model_Inputs_Thermal_Zones,0)+1)),\"\"))","v":""},{"$f":"IF(V33=\"\",\"\",IFERROR(SUMPRODUCT(--(INDEX(Model_Inputs_Ref_Units,,MATCH(V$33,Model_Inputs_Thermal_Zones,0)+$B40)=1),INDEX(Model_Inputs_Ref_Units,,MATCH(V$33,Model_Inputs_Thermal_Zones,0)+$B34),INDEX(Model_Inputs_Ref_Units,,MATCH(V$33,Model_Inputs_Thermal_Zones,0)+1))/SUMPRODUCT(--(INDEX(Model_Inputs_Ref_Units,,MATCH(V$33,Model_Inputs_Thermal_Zones,0)+$B40)=1),INDEX(Model_Inputs_Ref_Units,,MATCH(V$33,Model_Inputs_Thermal_Zones,0)+1)),\"\"))","v":""},{"$f":"IF(W33=\"\",\"\",IFERROR(SUMPRODUCT(--(INDEX(Model_Inputs_Ref_Units,,MATCH(W$33,Model_Inputs_Thermal_Zones,0)+$B40)=1),INDEX(Model_Inputs_Ref_Units,,MATCH(W$33,Model_Inputs_Thermal_Zones,0)+$B34),INDEX(Model_Inputs_Ref_Units,,MATCH(W$33,Model_Inputs_Thermal_Zones,0)+1))/SUMPRODUCT(--(INDEX(Model_Inputs_Ref_Units,,MATCH(W$33,Model_Inputs_Thermal_Zones,0)+$B40)=1),INDEX(Model_Inputs_Ref_Units,,MATCH(W$33,Model_Inputs_Thermal_Zones,0)+1)),\"\"))","v":""},{"$f":"IF(X33=\"\",\"\",IFERROR(SUMPRODUCT(--(INDEX(Model_Inputs_Ref_Units,,MATCH(X$33,Model_Inputs_Thermal_Zones,0)+$B40)=1),INDEX(Model_Inputs_Ref_Units,,MATCH(X$33,Model_Inputs_Thermal_Zones,0)+$B34),INDEX(Model_Inputs_Ref_Units,,MATCH(X$33,Model_Inputs_Thermal_Zones,0)+1))/SUMPRODUCT(--(INDEX(Model_Inputs_Ref_Units,,MATCH(X$33,Model_Inputs_Thermal_Zones,0)+$B40)=1),INDEX(Model_Inputs_Ref_Units,,MATCH(X$33,Model_Inputs_Thermal_Zones,0)+1)),\"\"))","v":""},{"$f":"IF(Y33=\"\",\"\",IFERROR(SUMPRODUCT(--(INDEX(Model_Inputs_Ref_Units,,MATCH(Y$33,Model_Inputs_Thermal_Zones,0)+$B40)=1),INDEX(Model_Inputs_Ref_Units,,MATCH(Y$33,Model_Inputs_Thermal_Zones,0)+$B34),INDEX(Model_Inputs_Ref_Units,,MATCH(Y$33,Model_Inputs_Thermal_Zones,0)+1))/SUMPRODUCT(--(INDEX(Model_Inputs_Ref_Units,,MATCH(Y$33,Model_Inputs_Thermal_Zones,0)+$B40)=1),INDEX(Model_Inputs_Ref_Units,,MATCH(Y$33,Model_Inputs_Thermal_Zones,0)+1)),\"\"))","v":""},{"$f":"IF(Z33=\"\",\"\",IFERROR(SUMPRODUCT(--(INDEX(Model_Inputs_Ref_Units,,MATCH(Z$33,Model_Inputs_Thermal_Zones,0)+$B40)=1),INDEX(Model_Inputs_Ref_Units,,MATCH(Z$33,Model_Inputs_Thermal_Zones,0)+$B34),INDEX(Model_Inputs_Ref_Units,,MATCH(Z$33,Model_Inputs_Thermal_Zones,0)+1))/SUMPRODUCT(--(INDEX(Model_Inputs_Ref_Units,,MATCH(Z$33,Model_Inputs_Thermal_Zones,0)+$B40)=1),INDEX(Model_Inputs_Ref_Units,,MATCH(Z$33,Model_Inputs_Thermal_Zones,0)+1)),\"\"))","v":""},{"$f":"IF(AA33=\"\",\"\",IFERROR(SUMPRODUCT(--(INDEX(Model_Inputs_Ref_Units,,MATCH(AA$33,Model_Inputs_Thermal_Zones,0)+$B40)=1),INDEX(Model_Inputs_Ref_Units,,MATCH(AA$33,Model_Inputs_Thermal_Zones,0)+$B34),INDEX(Model_Inputs_Ref_Units,,MATCH(AA$33,Model_Inputs_Thermal_Zones,0)+1))/SUMPRODUCT(--(INDEX(Model_Inputs_Ref_Units,,MATCH(AA$33,Model_Inputs_Thermal_Zones,0)+$B40)=1),INDEX(Model_Inputs_Ref_Units,,MATCH(AA$33,Model_Inputs_Thermal_Zones,0)+1)),\"\"))","v":""},{"$f":"IF(AB33=\"\",\"\",IFERROR(SUMPRODUCT(--(INDEX(Model_Inputs_Ref_Units,,MATCH(AB$33,Model_Inputs_Thermal_Zones,0)+$B40)=1),INDEX(Model_Inputs_Ref_Units,,MATCH(AB$33,Model_Inputs_Thermal_Zones,0)+$B34),INDEX(Model_Inputs_Ref_Units,,MATCH(AB$33,Model_Inputs_Thermal_Zones,0)+1))/SUMPRODUCT(--(INDEX(Model_Inputs_Ref_Units,,MATCH(AB$33,Model_Inputs_Thermal_Zones,0)+$B40)=1),INDEX(Model_Inputs_Ref_Units,,MATCH(AB$33,Model_Inputs_Thermal_Zones,0)+1)),\"\"))","v":""},{"$f":"IF(AC33=\"\",\"\",IFERROR(SUMPRODUCT(--(INDEX(Model_Inputs_Ref_Units,,MATCH(AC$33,Model_Inputs_Thermal_Zones,0)+$B40)=1),INDEX(Model_Inputs_Ref_Units,,MATCH(AC$33,Model_Inputs_Thermal_Zones,0)+$B34),INDEX(Model_Inputs_Ref_Units,,MATCH(AC$33,Model_Inputs_Thermal_Zones,0)+1))/SUMPRODUCT(--(INDEX(Model_Inputs_Ref_Units,,MATCH(AC$33,Model_Inputs_Thermal_Zones,0)+$B40)=1),INDEX(Model_Inputs_Ref_Units,,MATCH(AC$33,Model_Inputs_Thermal_Zones,0)+1)),\"\"))","v":""},{"$f":"IF(AD33=\"\",\"\",IFERROR(SUMPRODUCT(--(INDEX(Model_Inputs_Ref_Units,,MATCH(AD$33,Model_Inputs_Thermal_Zones,0)+$B40)=1),INDEX(Model_Inputs_Ref_Units,,MATCH(AD$33,Model_Inputs_Thermal_Zones,0)+$B34),INDEX(Model_Inputs_Ref_Units,,MATCH(AD$33,Model_Inputs_Thermal_Zones,0)+1))/SUMPRODUCT(--(INDEX(Model_Inputs_Ref_Units,,MATCH(AD$33,Model_Inputs_Thermal_Zones,0)+$B40)=1),INDEX(Model_Inputs_Ref_Units,,MATCH(AD$33,Model_Inputs_Thermal_Zones,0)+1)),\"\"))","v":""},{"$f":"IF(AE33=\"\",\"\",IFERROR(SUMPRODUCT(--(INDEX(Model_Inputs_Ref_Units,,MATCH(AE$33,Model_Inputs_Thermal_Zones,0)+$B40)=1),INDEX(Model_Inputs_Ref_Units,,MATCH(AE$33,Model_Inputs_Thermal_Zones,0)+$B34),INDEX(Model_Inputs_Ref_Units,,MATCH(AE$33,Model_Inputs_Thermal_Zones,0)+1))/SUMPRODUCT(--(INDEX(Model_Inputs_Ref_Units,,MATCH(AE$33,Model_Inputs_Thermal_Zones,0)+$B40)=1),INDEX(Model_Inputs_Ref_Units,,MATCH(AE$33,Model_Inputs_Thermal_Zones,0)+1)),\"\"))","v":""},{"$f":"IF(AF33=\"\",\"\",IFERROR(SUMPRODUCT(--(INDEX(Model_Inputs_Ref_Units,,MATCH(AF$33,Model_Inputs_Thermal_Zones,0)+$B40)=1),INDEX(Model_Inputs_Ref_Units,,MATCH(AF$33,Model_Inputs_Thermal_Zones,0)+$B34),INDEX(Model_Inputs_Ref_Units,,MATCH(AF$33,Model_Inputs_Thermal_Zones,0)+1))/SUMPRODUCT(--(INDEX(Model_Inputs_Ref_Units,,MATCH(AF$33,Model_Inputs_Thermal_Zones,0)+$B40)=1),INDEX(Model_Inputs_Ref_Units,,MATCH(AF$33,Model_Inputs_Thermal_Zones,0)+1)),\"\"))","v":""},{"$f":"IF(AG33=\"\",\"\",IFERROR(SUMPRODUCT(--(INDEX(Model_Inputs_Ref_Units,,MATCH(AG$33,Model_Inputs_Thermal_Zones,0)+$B40)=1),INDEX(Model_Inputs_Ref_Units,,MATCH(AG$33,Model_Inputs_Thermal_Zones,0)+$B34),INDEX(Model_Inputs_Ref_Units,,MATCH(AG$33,Model_Inputs_Thermal_Zones,0)+1))/SUMPRODUCT(--(INDEX(Model_Inputs_Ref_Units,,MATCH(AG$33,Model_Inputs_Thermal_Zones,0)+$B40)=1),INDEX(Model_Inputs_Ref_Units,,MATCH(AG$33,Model_Inputs_Thermal_Zones,0)+1)),\"\"))","v":""},{"$f":"IF(AH33=\"\",\"\",IFERROR(SUMPRODUCT(--(INDEX(Model_Inputs_Ref_Units,,MATCH(AH$33,Model_Inputs_Thermal_Zones,0)+$B40)=1),INDEX(Model_Inputs_Ref_Units,,MATCH(AH$33,Model_Inputs_Thermal_Zones,0)+$B34),INDEX(Model_Inputs_Ref_Units,,MATCH(AH$33,Model_Inputs_Thermal_Zones,0)+1))/SUMPRODUCT(--(INDEX(Model_Inputs_Ref_Units,,MATCH(AH$33,Model_Inputs_Thermal_Zones,0)+$B40)=1),INDEX(Model_Inputs_Ref_Units,,MATCH(AH$33,Model_Inputs_Thermal_Zones,0)+1)),\"\"))","v":""},{"$f":"IF(AI33=\"\",\"\",IFERROR(SUMPRODUCT(--(INDEX(Model_Inputs_Ref_Units,,MATCH(AI$33,Model_Inputs_Thermal_Zones,0)+$B40)=1),INDEX(Model_Inputs_Ref_Units,,MATCH(AI$33,Model_Inputs_Thermal_Zones,0)+$B34),INDEX(Model_Inputs_Ref_Units,,MATCH(AI$33,Model_Inputs_Thermal_Zones,0)+1))/SUMPRODUCT(--(INDEX(Model_Inputs_Ref_Units,,MATCH(AI$33,Model_Inputs_Thermal_Zones,0)+$B40)=1),INDEX(Model_Inputs_Ref_Units,,MATCH(AI$33,Model_Inputs_Thermal_Zones,0)+1)),\"\"))","v":""},{"$f":"IF(AJ33=\"\",\"\",IFERROR(SUMPRODUCT(--(INDEX(Model_Inputs_Ref_Units,,MATCH(AJ$33,Model_Inputs_Thermal_Zones,0)+$B40)=1),INDEX(Model_Inputs_Ref_Units,,MATCH(AJ$33,Model_Inputs_Thermal_Zones,0)+$B34),INDEX(Model_Inputs_Ref_Units,,MATCH(AJ$33,Model_Inputs_Thermal_Zones,0)+1))/SUMPRODUCT(--(INDEX(Model_Inputs_Ref_Units,,MATCH(AJ$33,Model_Inputs_Thermal_Zones,0)+$B40)=1),INDEX(Model_Inputs_Ref_Units,,MATCH(AJ$33,Model_Inputs_Thermal_Zones,0)+1)),\"\"))","v":""},{"$f":"IF(AK33=\"\",\"\",IFERROR(SUMPRODUCT(--(INDEX(Model_Inputs_Ref_Units,,MATCH(AK$33,Model_Inputs_Thermal_Zones,0)+$B40)=1),INDEX(Model_Inputs_Ref_Units,,MATCH(AK$33,Model_Inputs_Thermal_Zones,0)+$B34),INDEX(Model_Inputs_Ref_Units,,MATCH(AK$33,Model_Inputs_Thermal_Zones,0)+1))/SUMPRODUCT(--(INDEX(Model_Inputs_Ref_Units,,MATCH(AK$33,Model_Inputs_Thermal_Zones,0)+$B40)=1),INDEX(Model_Inputs_Ref_Units,,MATCH(AK$33,Model_Inputs_Thermal_Zones,0)+1)),\"\"))","v":""},{"$f":"IF(AL33=\"\",\"\",IFERROR(SUMPRODUCT(--(INDEX(Model_Inputs_Ref_Units,,MATCH(AL$33,Model_Inputs_Thermal_Zones,0)+$B40)=1),INDEX(Model_Inputs_Ref_Units,,MATCH(AL$33,Model_Inputs_Thermal_Zones,0)+$B34),INDEX(Model_Inputs_Ref_Units,,MATCH(AL$33,Model_Inputs_Thermal_Zones,0)+1))/SUMPRODUCT(--(INDEX(Model_Inputs_Ref_Units,,MATCH(AL$33,Model_Inputs_Thermal_Zones,0)+$B40)=1),INDEX(Model_Inputs_Ref_Units,,MATCH(AL$33,Model_Inputs_Thermal_Zones,0)+1)),\"\"))","v":""},{"$f":"IF(AM33=\"\",\"\",IFERROR(SUMPRODUCT(--(INDEX(Model_Inputs_Ref_Units,,MATCH(AM$33,Model_Inputs_Thermal_Zones,0)+$B40)=1),INDEX(Model_Inputs_Ref_Units,,MATCH(AM$33,Model_Inputs_Thermal_Zones,0)+$B34),INDEX(Model_Inputs_Ref_Units,,MATCH(AM$33,Model_Inputs_Thermal_Zones,0)+1))/SUMPRODUCT(--(INDEX(Model_Inputs_Ref_Units,,MATCH(AM$33,Model_Inputs_Thermal_Zones,0)+$B40)=1),INDEX(Model_Inputs_Ref_Units,,MATCH(AM$33,Model_Inputs_Thermal_Zones,0)+1)),\"\"))","v":""},{"$f":"IF(AN33=\"\",\"\",IFERROR(SUMPRODUCT(--(INDEX(Model_Inputs_Ref_Units,,MATCH(AN$33,Model_Inputs_Thermal_Zones,0)+$B40)=1),INDEX(Model_Inputs_Ref_Units,,MATCH(AN$33,Model_Inputs_Thermal_Zones,0)+$B34),INDEX(Model_Inputs_Ref_Units,,MATCH(AN$33,Model_Inputs_Thermal_Zones,0)+1))/SUMPRODUCT(--(INDEX(Model_Inputs_Ref_Units,,MATCH(AN$33,Model_Inputs_Thermal_Zones,0)+$B40)=1),INDEX(Model_Inputs_Ref_Units,,MATCH(AN$33,Model_Inputs_Thermal_Zones,0)+1)),\"\"))","v":""},{"$f":"IF(AO33=\"\",\"\",IFERROR(SUMPRODUCT(--(INDEX(Model_Inputs_Ref_Units,,MATCH(AO$33,Model_Inputs_Thermal_Zones,0)+$B40)=1),INDEX(Model_Inputs_Ref_Units,,MATCH(AO$33,Model_Inputs_Thermal_Zones,0)+$B34),INDEX(Model_Inputs_Ref_Units,,MATCH(AO$33,Model_Inputs_Thermal_Zones,0)+1))/SUMPRODUCT(--(INDEX(Model_Inputs_Ref_Units,,MATCH(AO$33,Model_Inputs_Thermal_Zones,0)+$B40)=1),INDEX(Model_Inputs_Ref_Units,,MATCH(AO$33,Model_Inputs_Thermal_Zones,0)+1)),\"\"))","v":""},{"$f":"IF(AP33=\"\",\"\",IFERROR(SUMPRODUCT(--(INDEX(Model_Inputs_Ref_Units,,MATCH(AP$33,Model_Inputs_Thermal_Zones,0)+$B40)=1),INDEX(Model_Inputs_Ref_Units,,MATCH(AP$33,Model_Inputs_Thermal_Zones,0)+$B34),INDEX(Model_Inputs_Ref_Units,,MATCH(AP$33,Model_Inputs_Thermal_Zones,0)+1))/SUMPRODUCT(--(INDEX(Model_Inputs_Ref_Units,,MATCH(AP$33,Model_Inputs_Thermal_Zones,0)+$B40)=1),INDEX(Model_Inputs_Ref_Units,,MATCH(AP$33,Model_Inputs_Thermal_Zones,0)+1)),\"\"))","v":""},{"$f":"IF(AQ33=\"\",\"\",IFERROR(SUMPRODUCT(--(INDEX(Model_Inputs_Ref_Units,,MATCH(AQ$33,Model_Inputs_Thermal_Zones,0)+$B40)=1),INDEX(Model_Inputs_Ref_Units,,MATCH(AQ$33,Model_Inputs_Thermal_Zones,0)+$B34),INDEX(Model_Inputs_Ref_Units,,MATCH(AQ$33,Model_Inputs_Thermal_Zones,0)+1))/SUMPRODUCT(--(INDEX(Model_Inputs_Ref_Units,,MATCH(AQ$33,Model_Inputs_Thermal_Zones,0)+$B40)=1),INDEX(Model_Inputs_Ref_Units,,MATCH(AQ$33,Model_Inputs_Thermal_Zones,0)+1)),\"\"))","v":""},{"$f":"IF(AR33=\"\",\"\",IFERROR(SUMPRODUCT(--(INDEX(Model_Inputs_Ref_Units,,MATCH(AR$33,Model_Inputs_Thermal_Zones,0)+$B40)=1),INDEX(Model_Inputs_Ref_Units,,MATCH(AR$33,Model_Inputs_Thermal_Zones,0)+$B34),INDEX(Model_Inputs_Ref_Units,,MATCH(AR$33,Model_Inputs_Thermal_Zones,0)+1))/SUMPRODUCT(--(INDEX(Model_Inputs_Ref_Units,,MATCH(AR$33,Model_Inputs_Thermal_Zones,0)+$B40)=1),INDEX(Model_Inputs_Ref_Units,,MATCH(AR$33,Model_Inputs_Thermal_Zones,0)+1)),\"\"))","v":""},{"$f":"IF(AS33=\"\",\"\",IFERROR(SUMPRODUCT(--(INDEX(Model_Inputs_Ref_Units,,MATCH(AS$33,Model_Inputs_Thermal_Zones,0)+$B40)=1),INDEX(Model_Inputs_Ref_Units,,MATCH(AS$33,Model_Inputs_Thermal_Zones,0)+$B34),INDEX(Model_Inputs_Ref_Units,,MATCH(AS$33,Model_Inputs_Thermal_Zones,0)+1))/SUMPRODUCT(--(INDEX(Model_Inputs_Ref_Units,,MATCH(AS$33,Model_Inputs_Thermal_Zones,0)+$B40)=1),INDEX(Model_Inputs_Ref_Units,,MATCH(AS$33,Model_Inputs_Thermal_Zones,0)+1)),\"\"))","v":""},{"$f":"IF(AT33=\"\",\"\",IFERROR(SUMPRODUCT(--(INDEX(Model_Inputs_Ref_Units,,MATCH(AT$33,Model_Inputs_Thermal_Zones,0)+$B40)=1),INDEX(Model_Inputs_Ref_Units,,MATCH(AT$33,Model_Inputs_Thermal_Zones,0)+$B34),INDEX(Model_Inputs_Ref_Units,,MATCH(AT$33,Model_Inputs_Thermal_Zones,0)+1))/SUMPRODUCT(--(INDEX(Model_Inputs_Ref_Units,,MATCH(AT$33,Model_Inputs_Thermal_Zones,0)+$B40)=1),INDEX(Model_Inputs_Ref_Units,,MATCH(AT$33,Model_Inputs_Thermal_Zones,0)+1)),\"\"))","v":""},{"$f":"IF(AU33=\"\",\"\",IFERROR(SUMPRODUCT(--(INDEX(Model_Inputs_Ref_Units,,MATCH(AU$33,Model_Inputs_Thermal_Zones,0)+$B40)=1),INDEX(Model_Inputs_Ref_Units,,MATCH(AU$33,Model_Inputs_Thermal_Zones,0)+$B34),INDEX(Model_Inputs_Ref_Units,,MATCH(AU$33,Model_Inputs_Thermal_Zones,0)+1))/SUMPRODUCT(--(INDEX(Model_Inputs_Ref_Units,,MATCH(AU$33,Model_Inputs_Thermal_Zones,0)+$B40)=1),INDEX(Model_Inputs_Ref_Units,,MATCH(AU$33,Model_Inputs_Thermal_Zones,0)+1)),\"\"))","v":""},{"$f":"IF(AV33=\"\",\"\",IFERROR(SUMPRODUCT(--(INDEX(Model_Inputs_Ref_Units,,MATCH(AV$33,Model_Inputs_Thermal_Zones,0)+$B40)=1),INDEX(Model_Inputs_Ref_Units,,MATCH(AV$33,Model_Inputs_Thermal_Zones,0)+$B34),INDEX(Model_Inputs_Ref_Units,,MATCH(AV$33,Model_Inputs_Thermal_Zones,0)+1))/SUMPRODUCT(--(INDEX(Model_Inputs_Ref_Units,,MATCH(AV$33,Model_Inputs_Thermal_Zones,0)+$B40)=1),INDEX(Model_Inputs_Ref_Units,,MATCH(AV$33,Model_Inputs_Thermal_Zones,0)+1)),\"\"))","v":""},{"$f":"IF(AW33=\"\",\"\",IFERROR(SUMPRODUCT(--(INDEX(Model_Inputs_Ref_Units,,MATCH(AW$33,Model_Inputs_Thermal_Zones,0)+$B40)=1),INDEX(Model_Inputs_Ref_Units,,MATCH(AW$33,Model_Inputs_Thermal_Zones,0)+$B34),INDEX(Model_Inputs_Ref_Units,,MATCH(AW$33,Model_Inputs_Thermal_Zones,0)+1))/SUMPRODUCT(--(INDEX(Model_Inputs_Ref_Units,,MATCH(AW$33,Model_Inputs_Thermal_Zones,0)+$B40)=1),INDEX(Model_Inputs_Ref_Units,,MATCH(AW$33,Model_Inputs_Thermal_Zones,0)+1)),\"\"))","v":""},{"$f":"IF(AX33=\"\",\"\",IFERROR(SUMPRODUCT(--(INDEX(Model_Inputs_Ref_Units,,MATCH(AX$33,Model_Inputs_Thermal_Zones,0)+$B40)=1),INDEX(Model_Inputs_Ref_Units,,MATCH(AX$33,Model_Inputs_Thermal_Zones,0)+$B34),INDEX(Model_Inputs_Ref_Units,,MATCH(AX$33,Model_Inputs_Thermal_Zones,0)+1))/SUMPRODUCT(--(INDEX(Model_Inputs_Ref_Units,,MATCH(AX$33,Model_Inputs_Thermal_Zones,0)+$B40)=1),INDEX(Model_Inputs_Ref_Units,,MATCH(AX$33,Model_Inputs_Thermal_Zones,0)+1)),\"\"))","v":""},{"$f":"IF(AY33=\"\",\"\",IFERROR(SUMPRODUCT(--(INDEX(Model_Inputs_Ref_Units,,MATCH(AY$33,Model_Inputs_Thermal_Zones,0)+$B40)=1),INDEX(Model_Inputs_Ref_Units,,MATCH(AY$33,Model_Inputs_Thermal_Zones,0)+$B34),INDEX(Model_Inputs_Ref_Units,,MATCH(AY$33,Model_Inputs_Thermal_Zones,0)+1))/SUMPRODUCT(--(INDEX(Model_Inputs_Ref_Units,,MATCH(AY$33,Model_Inputs_Thermal_Zones,0)+$B40)=1),INDEX(Model_Inputs_Ref_Units,,MATCH(AY$33,Model_Inputs_Thermal_Zones,0)+1)),\"\"))","v":""},{"$f":"IF(AZ33=\"\",\"\",IFERROR(SUMPRODUCT(--(INDEX(Model_Inputs_Ref_Units,,MATCH(AZ$33,Model_Inputs_Thermal_Zones,0)+$B40)=1),INDEX(Model_Inputs_Ref_Units,,MATCH(AZ$33,Model_Inputs_Thermal_Zones,0)+$B34),INDEX(Model_Inputs_Ref_Units,,MATCH(AZ$33,Model_Inputs_Thermal_Zones,0)+1))/SUMPRODUCT(--(INDEX(Model_Inputs_Ref_Units,,MATCH(AZ$33,Model_Inputs_Thermal_Zones,0)+$B40)=1),INDEX(Model_Inputs_Ref_Units,,MATCH(AZ$33,Model_Inputs_Thermal_Zones,0)+1)),\"\"))","v":""},{"$f":"IF(BA33=\"\",\"\",IFERROR(SUMPRODUCT(--(INDEX(Model_Inputs_Ref_Units,,MATCH(BA$33,Model_Inputs_Thermal_Zones,0)+$B40)=1),INDEX(Model_Inputs_Ref_Units,,MATCH(BA$33,Model_Inputs_Thermal_Zones,0)+$B34),INDEX(Model_Inputs_Ref_Units,,MATCH(BA$33,Model_Inputs_Thermal_Zones,0)+1))/SUMPRODUCT(--(INDEX(Model_Inputs_Ref_Units,,MATCH(BA$33,Model_Inputs_Thermal_Zones,0)+$B40)=1),INDEX(Model_Inputs_Ref_Units,,MATCH(BA$33,Model_Inputs_Thermal_Zones,0)+1)),\"\"))","v":""},{"$f":"IF(BB33=\"\",\"\",IFERROR(SUMPRODUCT(--(INDEX(Model_Inputs_Ref_Units,,MATCH(BB$33,Model_Inputs_Thermal_Zones,0)+$B40)=1),INDEX(Model_Inputs_Ref_Units,,MATCH(BB$33,Model_Inputs_Thermal_Zones,0)+$B34),INDEX(Model_Inputs_Ref_Units,,MATCH(BB$33,Model_Inputs_Thermal_Zones,0)+1))/SUMPRODUCT(--(INDEX(Model_Inputs_Ref_Units,,MATCH(BB$33,Model_Inputs_Thermal_Zones,0)+$B40)=1),INDEX(Model_Inputs_Ref_Units,,MATCH(BB$33,Model_Inputs_Thermal_Zones,0)+1)),\"\"))","v":""},{"$f":"IF(BC33=\"\",\"\",IFERROR(SUMPRODUCT(--(INDEX(Model_Inputs_Ref_Units,,MATCH(BC$33,Model_Inputs_Thermal_Zones,0)+$B40)=1),INDEX(Model_Inputs_Ref_Units,,MATCH(BC$33,Model_Inputs_Thermal_Zones,0)+$B34),INDEX(Model_Inputs_Ref_Units,,MATCH(BC$33,Model_Inputs_Thermal_Zones,0)+1))/SUMPRODUCT(--(INDEX(Model_Inputs_Ref_Units,,MATCH(BC$33,Model_Inputs_Thermal_Zones,0)+$B40)=1),INDEX(Model_Inputs_Ref_Units,,MATCH(BC$33,Model_Inputs_Thermal_Zones,0)+1)),\"\"))","v":""},{"$f":"IF(BD33=\"\",\"\",IFERROR(SUMPRODUCT(--(INDEX(Model_Inputs_Ref_Units,,MATCH(BD$33,Model_Inputs_Thermal_Zones,0)+$B40)=1),INDEX(Model_Inputs_Ref_Units,,MATCH(BD$33,Model_Inputs_Thermal_Zones,0)+$B34),INDEX(Model_Inputs_Ref_Units,,MATCH(BD$33,Model_Inputs_Thermal_Zones,0)+1))/SUMPRODUCT(--(INDEX(Model_Inputs_Ref_Units,,MATCH(BD$33,Model_Inputs_Thermal_Zones,0)+$B40)=1),INDEX(Model_Inputs_Ref_Units,,MATCH(BD$33,Model_Inputs_Thermal_Zones,0)+1)),\"\"))","v":""},{"$f":"IF(BE33=\"\",\"\",IFERROR(SUMPRODUCT(--(INDEX(Model_Inputs_Ref_Units,,MATCH(BE$33,Model_Inputs_Thermal_Zones,0)+$B40)=1),INDEX(Model_Inputs_Ref_Units,,MATCH(BE$33,Model_Inputs_Thermal_Zones,0)+$B34),INDEX(Model_Inputs_Ref_Units,,MATCH(BE$33,Model_Inputs_Thermal_Zones,0)+1))/SUMPRODUCT(--(INDEX(Model_Inputs_Ref_Units,,MATCH(BE$33,Model_Inputs_Thermal_Zones,0)+$B40)=1),INDEX(Model_Inputs_Ref_Units,,MATCH(BE$33,Model_Inputs_Thermal_Zones,0)+1)),\"\"))","v":""},{"$f":"IF(BF33=\"\",\"\",IFERROR(SUMPRODUCT(--(INDEX(Model_Inputs_Ref_Units,,MATCH(BF$33,Model_Inputs_Thermal_Zones,0)+$B40)=1),INDEX(Model_Inputs_Ref_Units,,MATCH(BF$33,Model_Inputs_Thermal_Zones,0)+$B34),INDEX(Model_Inputs_Ref_Units,,MATCH(BF$33,Model_Inputs_Thermal_Zones,0)+1))/SUMPRODUCT(--(INDEX(Model_Inputs_Ref_Units,,MATCH(BF$33,Model_Inputs_Thermal_Zones,0)+$B40)=1),INDEX(Model_Inputs_Ref_Units,,MATCH(BF$33,Model_Inputs_Thermal_Zones,0)+1)),\"\"))","v":""},{"$f":"IF(BG33=\"\",\"\",IFERROR(SUMPRODUCT(--(INDEX(Model_Inputs_Ref_Units,,MATCH(BG$33,Model_Inputs_Thermal_Zones,0)+$B40)=1),INDEX(Model_Inputs_Ref_Units,,MATCH(BG$33,Model_Inputs_Thermal_Zones,0)+$B34),INDEX(Model_Inputs_Ref_Units,,MATCH(BG$33,Model_Inputs_Thermal_Zones,0)+1))/SUMPRODUCT(--(INDEX(Model_Inputs_Ref_Units,,MATCH(BG$33,Model_Inputs_Thermal_Zones,0)+$B40)=1),INDEX(Model_Inputs_Ref_Units,,MATCH(BG$33,Model_Inputs_Thermal_Zones,0)+1)),\"\"))","v":""},{"$f":"IF(BH33=\"\",\"\",IFERROR(SUMPRODUCT(--(INDEX(Model_Inputs_Ref_Units,,MATCH(BH$33,Model_Inputs_Thermal_Zones,0)+$B40)=1),INDEX(Model_Inputs_Ref_Units,,MATCH(BH$33,Model_Inputs_Thermal_Zones,0)+$B34),INDEX(Model_Inputs_Ref_Units,,MATCH(BH$33,Model_Inputs_Thermal_Zones,0)+1))/SUMPRODUCT(--(INDEX(Model_Inputs_Ref_Units,,MATCH(BH$33,Model_Inputs_Thermal_Zones,0)+$B40)=1),INDEX(Model_Inputs_Ref_Units,,MATCH(BH$33,Model_Inputs_Thermal_Zones,0)+1)),\"\"))","v":""},{"$f":"IF(BI33=\"\",\"\",IFERROR(SUMPRODUCT(--(INDEX(Model_Inputs_Ref_Units,,MATCH(BI$33,Model_Inputs_Thermal_Zones,0)+$B40)=1),INDEX(Model_Inputs_Ref_Units,,MATCH(BI$33,Model_Inputs_Thermal_Zones,0)+$B34),INDEX(Model_Inputs_Ref_Units,,MATCH(BI$33,Model_Inputs_Thermal_Zones,0)+1))/SUMPRODUCT(--(INDEX(Model_Inputs_Ref_Units,,MATCH(BI$33,Model_Inputs_Thermal_Zones,0)+$B40)=1),INDEX(Model_Inputs_Ref_Units,,MATCH(BI$33,Model_Inputs_Thermal_Zones,0)+1)),\"\"))","v":""},{"$f":"IF(BJ33=\"\",\"\",IFERROR(SUMPRODUCT(--(INDEX(Model_Inputs_Ref_Units,,MATCH(BJ$33,Model_Inputs_Thermal_Zones,0)+$B40)=1),INDEX(Model_Inputs_Ref_Units,,MATCH(BJ$33,Model_Inputs_Thermal_Zones,0)+$B34),INDEX(Model_Inputs_Ref_Units,,MATCH(BJ$33,Model_Inputs_Thermal_Zones,0)+1))/SUMPRODUCT(--(INDEX(Model_Inputs_Ref_Units,,MATCH(BJ$33,Model_Inputs_Thermal_Zones,0)+$B40)=1),INDEX(Model_Inputs_Ref_Units,,MATCH(BJ$33,Model_Inputs_Thermal_Zones,0)+1)),\"\"))","v":""},{"$f":"IF(BK33=\"\",\"\",IFERROR(SUMPRODUCT(--(INDEX(Model_Inputs_Ref_Units,,MATCH(BK$33,Model_Inputs_Thermal_Zones,0)+$B40)=1),INDEX(Model_Inputs_Ref_Units,,MATCH(BK$33,Model_Inputs_Thermal_Zones,0)+$B34),INDEX(Model_Inputs_Ref_Units,,MATCH(BK$33,Model_Inputs_Thermal_Zones,0)+1))/SUMPRODUCT(--(INDEX(Model_Inputs_Ref_Units,,MATCH(BK$33,Model_Inputs_Thermal_Zones,0)+$B40)=1),INDEX(Model_Inputs_Ref_Units,,MATCH(BK$33,Model_Inputs_Thermal_Zones,0)+1)),\"\"))","v":""},{"$f":"IF(BL33=\"\",\"\",IFERROR(SUMPRODUCT(--(INDEX(Model_Inputs_Ref_Units,,MATCH(BL$33,Model_Inputs_Thermal_Zones,0)+$B40)=1),INDEX(Model_Inputs_Ref_Units,,MATCH(BL$33,Model_Inputs_Thermal_Zones,0)+$B34),INDEX(Model_Inputs_Ref_Units,,MATCH(BL$33,Model_Inputs_Thermal_Zones,0)+1))/SUMPRODUCT(--(INDEX(Model_Inputs_Ref_Units,,MATCH(BL$33,Model_Inputs_Thermal_Zones,0)+$B40)=1),INDEX(Model_Inputs_Ref_Units,,MATCH(BL$33,Model_Inputs_Thermal_Zones,0)+1)),\"\"))","v":""},{"$f":"IF(BM33=\"\",\"\",IFERROR(SUMPRODUCT(--(INDEX(Model_Inputs_Ref_Units,,MATCH(BM$33,Model_Inputs_Thermal_Zones,0)+$B40)=1),INDEX(Model_Inputs_Ref_Units,,MATCH(BM$33,Model_Inputs_Thermal_Zones,0)+$B34),INDEX(Model_Inputs_Ref_Units,,MATCH(BM$33,Model_Inputs_Thermal_Zones,0)+1))/SUMPRODUCT(--(INDEX(Model_Inputs_Ref_Units,,MATCH(BM$33,Model_Inputs_Thermal_Zones,0)+$B40)=1),INDEX(Model_Inputs_Ref_Units,,MATCH(BM$33,Model_Inputs_Thermal_Zones,0)+1)),\"\"))","v":""},{"$f":"IF(BN33=\"\",\"\",IFERROR(SUMPRODUCT(--(INDEX(Model_Inputs_Ref_Units,,MATCH(BN$33,Model_Inputs_Thermal_Zones,0)+$B40)=1),INDEX(Model_Inputs_Ref_Units,,MATCH(BN$33,Model_Inputs_Thermal_Zones,0)+$B34),INDEX(Model_Inputs_Ref_Units,,MATCH(BN$33,Model_Inputs_Thermal_Zones,0)+1))/SUMPRODUCT(--(INDEX(Model_Inputs_Ref_Units,,MATCH(BN$33,Model_Inputs_Thermal_Zones,0)+$B40)=1),INDEX(Model_Inputs_Ref_Units,,MATCH(BN$33,Model_Inputs_Thermal_Zones,0)+1)),\"\"))","v":""},{"$f":"IF(BO33=\"\",\"\",IFERROR(SUMPRODUCT(--(INDEX(Model_Inputs_Ref_Units,,MATCH(BO$33,Model_Inputs_Thermal_Zones,0)+$B40)=1),INDEX(Model_Inputs_Ref_Units,,MATCH(BO$33,Model_Inputs_Thermal_Zones,0)+$B34),INDEX(Model_Inputs_Ref_Units,,MATCH(BO$33,Model_Inputs_Thermal_Zones,0)+1))/SUMPRODUCT(--(INDEX(Model_Inputs_Ref_Units,,MATCH(BO$33,Model_Inputs_Thermal_Zones,0)+$B40)=1),INDEX(Model_Inputs_Ref_Units,,MATCH(BO$33,Model_Inputs_Thermal_Zones,0)+1)),\"\"))","v":""},{"$f":"IF(BP33=\"\",\"\",IFERROR(SUMPRODUCT(--(INDEX(Model_Inputs_Ref_Units,,MATCH(BP$33,Model_Inputs_Thermal_Zones,0)+$B40)=1),INDEX(Model_Inputs_Ref_Units,,MATCH(BP$33,Model_Inputs_Thermal_Zones,0)+$B34),INDEX(Model_Inputs_Ref_Units,,MATCH(BP$33,Model_Inputs_Thermal_Zones,0)+1))/SUMPRODUCT(--(INDEX(Model_Inputs_Ref_Units,,MATCH(BP$33,Model_Inputs_Thermal_Zones,0)+$B40)=1),INDEX(Model_Inputs_Ref_Units,,MATCH(BP$33,Model_Inputs_Thermal_Zones,0)+1)),\"\"))","v":""},{"$f":"IF(BQ33=\"\",\"\",IFERROR(SUMPRODUCT(--(INDEX(Model_Inputs_Ref_Units,,MATCH(BQ$33,Model_Inputs_Thermal_Zones,0)+$B40)=1),INDEX(Model_Inputs_Ref_Units,,MATCH(BQ$33,Model_Inputs_Thermal_Zones,0)+$B34),INDEX(Model_Inputs_Ref_Units,,MATCH(BQ$33,Model_Inputs_Thermal_Zones,0)+1))/SUMPRODUCT(--(INDEX(Model_Inputs_Ref_Units,,MATCH(BQ$33,Model_Inputs_Thermal_Zones,0)+$B40)=1),INDEX(Model_Inputs_Ref_Units,,MATCH(BQ$33,Model_Inputs_Thermal_Zones,0)+1)),\"\"))","v":""},{"$f":"IF(BR33=\"\",\"\",IFERROR(SUMPRODUCT(--(INDEX(Model_Inputs_Ref_Units,,MATCH(BR$33,Model_Inputs_Thermal_Zones,0)+$B40)=1),INDEX(Model_Inputs_Ref_Units,,MATCH(BR$33,Model_Inputs_Thermal_Zones,0)+$B34),INDEX(Model_Inputs_Ref_Units,,MATCH(BR$33,Model_Inputs_Thermal_Zones,0)+1))/SUMPRODUCT(--(INDEX(Model_Inputs_Ref_Units,,MATCH(BR$33,Model_Inputs_Thermal_Zones,0)+$B40)=1),INDEX(Model_Inputs_Ref_Units,,MATCH(BR$33,Model_Inputs_Thermal_Zones,0)+1)),\"\"))","v":""},{"$f":"IF(BS33=\"\",\"\",IFERROR(SUMPRODUCT(--(INDEX(Model_Inputs_Ref_Units,,MATCH(BS$33,Model_Inputs_Thermal_Zones,0)+$B40)=1),INDEX(Model_Inputs_Ref_Units,,MATCH(BS$33,Model_Inputs_Thermal_Zones,0)+$B34),INDEX(Model_Inputs_Ref_Units,,MATCH(BS$33,Model_Inputs_Thermal_Zones,0)+1))/SUMPRODUCT(--(INDEX(Model_Inputs_Ref_Units,,MATCH(BS$33,Model_Inputs_Thermal_Zones,0)+$B40)=1),INDEX(Model_Inputs_Ref_Units,,MATCH(BS$33,Model_Inputs_Thermal_Zones,0)+1)),\"\"))","v":""},{"$f":"IF(BT33=\"\",\"\",IFERROR(SUMPRODUCT(--(INDEX(Model_Inputs_Ref_Units,,MATCH(BT$33,Model_Inputs_Thermal_Zones,0)+$B40)=1),INDEX(Model_Inputs_Ref_Units,,MATCH(BT$33,Model_Inputs_Thermal_Zones,0)+$B34),INDEX(Model_Inputs_Ref_Units,,MATCH(BT$33,Model_Inputs_Thermal_Zones,0)+1))/SUMPRODUCT(--(INDEX(Model_Inputs_Ref_Units,,MATCH(BT$33,Model_Inputs_Thermal_Zones,0)+$B40)=1),INDEX(Model_Inputs_Ref_Units,,MATCH(BT$33,Model_Inputs_Thermal_Zones,0)+1)),\"\"))","v":""},{"$f":"IF(BU33=\"\",\"\",IFERROR(SUMPRODUCT(--(INDEX(Model_Inputs_Ref_Units,,MATCH(BU$33,Model_Inputs_Thermal_Zones,0)+$B40)=1),INDEX(Model_Inputs_Ref_Units,,MATCH(BU$33,Model_Inputs_Thermal_Zones,0)+$B34),INDEX(Model_Inputs_Ref_Units,,MATCH(BU$33,Model_Inputs_Thermal_Zones,0)+1))/SUMPRODUCT(--(INDEX(Model_Inputs_Ref_Units,,MATCH(BU$33,Model_Inputs_Thermal_Zones,0)+$B40)=1),INDEX(Model_Inputs_Ref_Units,,MATCH(BU$33,Model_Inputs_Thermal_Zones,0)+1)),\"\"))","v":""},{"$f":"IF(BV33=\"\",\"\",IFERROR(SUMPRODUCT(--(INDEX(Model_Inputs_Ref_Units,,MATCH(BV$33,Model_Inputs_Thermal_Zones,0)+$B40)=1),INDEX(Model_Inputs_Ref_Units,,MATCH(BV$33,Model_Inputs_Thermal_Zones,0)+$B34),INDEX(Model_Inputs_Ref_Units,,MATCH(BV$33,Model_Inputs_Thermal_Zones,0)+1))/SUMPRODUCT(--(INDEX(Model_Inputs_Ref_Units,,MATCH(BV$33,Model_Inputs_Thermal_Zones,0)+$B40)=1),INDEX(Model_Inputs_Ref_Units,,MATCH(BV$33,Model_Inputs_Thermal_Zones,0)+1)),\"\"))","v":""},{"$f":"IF(BW33=\"\",\"\",IFERROR(SUMPRODUCT(--(INDEX(Model_Inputs_Ref_Units,,MATCH(BW$33,Model_Inputs_Thermal_Zones,0)+$B40)=1),INDEX(Model_Inputs_Ref_Units,,MATCH(BW$33,Model_Inputs_Thermal_Zones,0)+$B34),INDEX(Model_Inputs_Ref_Units,,MATCH(BW$33,Model_Inputs_Thermal_Zones,0)+1))/SUMPRODUCT(--(INDEX(Model_Inputs_Ref_Units,,MATCH(BW$33,Model_Inputs_Thermal_Zones,0)+$B40)=1),INDEX(Model_Inputs_Ref_Units,,MATCH(BW$33,Model_Inputs_Thermal_Zones,0)+1)),\"\"))","v":""},{"$f":"IF(BX33=\"\",\"\",IFERROR(SUMPRODUCT(--(INDEX(Model_Inputs_Ref_Units,,MATCH(BX$33,Model_Inputs_Thermal_Zones,0)+$B40)=1),INDEX(Model_Inputs_Ref_Units,,MATCH(BX$33,Model_Inputs_Thermal_Zones,0)+$B34),INDEX(Model_Inputs_Ref_Units,,MATCH(BX$33,Model_Inputs_Thermal_Zones,0)+1))/SUMPRODUCT(--(INDEX(Model_Inputs_Ref_Units,,MATCH(BX$33,Model_Inputs_Thermal_Zones,0)+$B40)=1),INDEX(Model_Inputs_Ref_Units,,MATCH(BX$33,Model_Inputs_Thermal_Zones,0)+1)),\"\"))","v":""},{"$f":"IF(BY33=\"\",\"\",IFERROR(SUMPRODUCT(--(INDEX(Model_Inputs_Ref_Units,,MATCH(BY$33,Model_Inputs_Thermal_Zones,0)+$B40)=1),INDEX(Model_Inputs_Ref_Units,,MATCH(BY$33,Model_Inputs_Thermal_Zones,0)+$B34),INDEX(Model_Inputs_Ref_Units,,MATCH(BY$33,Model_Inputs_Thermal_Zones,0)+1))/SUMPRODUCT(--(INDEX(Model_Inputs_Ref_Units,,MATCH(BY$33,Model_Inputs_Thermal_Zones,0)+$B40)=1),INDEX(Model_Inputs_Ref_Units,,MATCH(BY$33,Model_Inputs_Thermal_Zones,0)+1)),\"\"))","v":""},{"$f":"IF(BZ33=\"\",\"\",IFERROR(SUMPRODUCT(--(INDEX(Model_Inputs_Ref_Units,,MATCH(BZ$33,Model_Inputs_Thermal_Zones,0)+$B40)=1),INDEX(Model_Inputs_Ref_Units,,MATCH(BZ$33,Model_Inputs_Thermal_Zones,0)+$B34),INDEX(Model_Inputs_Ref_Units,,MATCH(BZ$33,Model_Inputs_Thermal_Zones,0)+1))/SUMPRODUCT(--(INDEX(Model_Inputs_Ref_Units,,MATCH(BZ$33,Model_Inputs_Thermal_Zones,0)+$B40)=1),INDEX(Model_Inputs_Ref_Units,,MATCH(BZ$33,Model_Inputs_Thermal_Zones,0)+1)),\"\"))","v":""}]
["D",6,null,null,null,"Refrigeration system kW total",null,{"$f":"IF(H33=\"\",\"\",IFERROR(SUMPRODUCT(--(INDEX(Model_Inputs_Ref_Units,,MATCH(H$33,Model_Inputs_Thermal_Zones,0)+$B40)=1),INDEX(Model_Inputs_Ref_Units,,MATCH(H$33,Model_Inputs_Thermal_Zones,0)+$B35),INDEX(Model_Inputs_Ref_Units,,MATCH(H$33,Model_Inputs_Thermal_Zones,0)+1)),\"\"))","v":""},{"$f":"IF(I33=\"\",\"\",IFERROR(SUMPRODUCT(--(INDEX(Model_Inputs_Ref_Units,,MATCH(I$33,Model_Inputs_Thermal_Zones,0)+$B40)=1),INDEX(Model_Inputs_Ref_Units,,MATCH(I$33,Model_Inputs_Thermal_Zones,0)+$B35),INDEX(Model_Inputs_Ref_Units,,MATCH(I$33,Model_Inputs_Thermal_Zones,0)+1)),\"\"))","v":""},{"$f":"IF(J33=\"\",\"\",IFERROR(SUMPRODUCT(--(INDEX(Model_Inputs_Ref_Units,,MATCH(J$33,Model_Inputs_Thermal_Zones,0)+$B40)=1),INDEX(Model_Inputs_Ref_Units,,MATCH(J$33,Model_Inputs_Thermal_Zones,0)+$B35),INDEX(Model_Inputs_Ref_Units,,MATCH(J$33,Model_Inputs_Thermal_Zones,0)+1)),\"\"))","v":""},{"$f":"IF(K33=\"\",\"\",IFERROR(SUMPRODUCT(--(INDEX(Model_Inputs_Ref_Units,,MATCH(K$33,Model_Inputs_Thermal_Zones,0)+$B40)=1),INDEX(Model_Inputs_Ref_Units,,MATCH(K$33,Model_Inputs_Thermal_Zones,0)+$B35),INDEX(Model_Inputs_Ref_Units,,MATCH(K$33,Model_Inputs_Thermal_Zones,0)+1)),\"\"))","v":""},{"$f":"IF(L33=\"\",\"\",IFERROR(SUMPRODUCT(--(INDEX(Model_Inputs_Ref_Units,,MATCH(L$33,Model_Inputs_Thermal_Zones,0)+$B40)=1),INDEX(Model_Inputs_Ref_Units,,MATCH(L$33,Model_Inputs_Thermal_Zones,0)+$B35),INDEX(Model_Inputs_Ref_Units,,MATCH(L$33,Model_Inputs_Thermal_Zones,0)+1)),\"\"))","v":""},{"$f":"IF(M33=\"\",\"\",IFERROR(SUMPRODUCT(--(INDEX(Model_Inputs_Ref_Units,,MATCH(M$33,Model_Inputs_Thermal_Zones,0)+$B40)=1),INDEX(Model_Inputs_Ref_Units,,MATCH(M$33,Model_Inputs_Thermal_Zones,0)+$B35),INDEX(Model_Inputs_Ref_Units,,MATCH(M$33,Model_Inputs_Thermal_Zones,0)+1)),\"\"))","v":""},{"$f":"IF(N33=\"\",\"\",IFERROR(SUMPRODUCT(--(INDEX(Model_Inputs_Ref_Units,,MATCH(N$33,Model_Inputs_Thermal_Zones,0)+$B40)=1),INDEX(Model_Inputs_Ref_Units,,MATCH(N$33,Model_Inputs_Thermal_Zones,0)+$B35),INDEX(Model_Inputs_Ref_Units,,MATCH(N$33,Model_Inputs_Thermal_Zones,0)+1)),\"\"))","v":""},{"$f":"IF(O33=\"\",\"\",IFERROR(SUMPRODUCT(--(INDEX(Model_Inputs_Ref_Units,,MATCH(O$33,Model_Inputs_Thermal_Zones,0)+$B40)=1),INDEX(Model_Inputs_Ref_Units,,MATCH(O$33,Model_Inputs_Thermal_Zones,0)+$B35),INDEX(Model_Inputs_Ref_Units,,MATCH(O$33,Model_Inputs_Thermal_Zones,0)+1)),\"\"))","v":""},{"$f":"IF(P33=\"\",\"\",IFERROR(SUMPRODUCT(--(INDEX(Model_Inputs_Ref_Units,,MATCH(P$33,Model_Inputs_Thermal_Zones,0)+$B40)=1),INDEX(Model_Inputs_Ref_Units,,MATCH(P$33,Model_Inputs_Thermal_Zones,0)+$B35),INDEX(Model_Inputs_Ref_Units,,MATCH(P$33,Model_Inputs_Thermal_Zones,0)+1)),\"\"))","v":""},{"$f":"IF(Q33=\"\",\"\",IFERROR(SUMPRODUCT(--(INDEX(Model_Inputs_Ref_Units,,MATCH(Q$33,Model_Inputs_Thermal_Zones,0)+$B40)=1),INDEX(Model_Inputs_Ref_Units,,MATCH(Q$33,Model_Inputs_Thermal_Zones,0)+$B35),INDEX(Model_Inputs_Ref_Units,,MATCH(Q$33,Model_Inputs_Thermal_Zones,0)+1)),\"\"))","v":""},{"$f":"IF(R33=\"\",\"\",IFERROR(SUMPRODUCT(--(INDEX(Model_Inputs_Ref_Units,,MATCH(R$33,Model_Inputs_Thermal_Zones,0)+$B40)=1),INDEX(Model_Inputs_Ref_Units,,MATCH(R$33,Model_Inputs_Thermal_Zones,0)+$B35),INDEX(Model_Inputs_Ref_Units,,MATCH(R$33,Model_Inputs_Thermal_Zones,0)+1)),\"\"))","v":""},{"$f":"IF(S33=\"\",\"\",IFERROR(SUMPRODUCT(--(INDEX(Model_Inputs_Ref_Units,,MATCH(S$33,Model_Inputs_Thermal_Zones,0)+$B40)=1),INDEX(Model_Inputs_Ref_Units,,MATCH(S$33,Model_Inputs_Thermal_Zones,0)+$B35),INDEX(Model_Inputs_Ref_Units,,MATCH(S$33,Model_Inputs_Thermal_Zones,0)+1)),\"\"))","v":""},{"$f":"IF(T33=\"\",\"\",IFERROR(SUMPRODUCT(--(INDEX(Model_Inputs_Ref_Units,,MATCH(T$33,Model_Inputs_Thermal_Zones,0)+$B40)=1),INDEX(Model_Inputs_Ref_Units,,MATCH(T$33,Model_Inputs_Thermal_Zones,0)+$B35),INDEX(Model_Inputs_Ref_Units,,MATCH(T$33,Model_Inputs_Thermal_Zones,0)+1)),\"\"))","v":""},{"$f":"IF(U33=\"\",\"\",IFERROR(SUMPRODUCT(--(INDEX(Model_Inputs_Ref_Units,,MATCH(U$33,Model_Inputs_Thermal_Zones,0)+$B40)=1),INDEX(Model_Inputs_Ref_Units,,MATCH(U$33,Model_Inputs_Thermal_Zones,0)+$B35),INDEX(Model_Inputs_Ref_Units,,MATCH(U$33,Model_Inputs_Thermal_Zones,0)+1)),\"\"))","v":""},{"$f":"IF(V33=\"\",\"\",IFERROR(SUMPRODUCT(--(INDEX(Model_Inputs_Ref_Units,,MATCH(V$33,Model_Inputs_Thermal_Zones,0)+$B40)=1),INDEX(Model_Inputs_Ref_Units,,MATCH(V$33,Model_Inputs_Thermal_Zones,0)+$B35),INDEX(Model_Inputs_Ref_Units,,MATCH(V$33,Model_Inputs_Thermal_Zones,0)+1)),\"\"))","v":""},{"$f":"IF(W33=\"\",\"\",IFERROR(SUMPRODUCT(--(INDEX(Model_Inputs_Ref_Units,,MATCH(W$33,Model_Inputs_Thermal_Zones,0)+$B40)=1),INDEX(Model_Inputs_Ref_Units,,MATCH(W$33,Model_Inputs_Thermal_Zones,0)+$B35),INDEX(Model_Inputs_Ref_Units,,MATCH(W$33,Model_Inputs_Thermal_Zones,0)+1)),\"\"))","v":""},{"$f":"IF(X33=\"\",\"\",IFERROR(SUMPRODUCT(--(INDEX(Model_Inputs_Ref_Units,,MATCH(X$33,Model_Inputs_Thermal_Zones,0)+$B40)=1),INDEX(Model_Inputs_Ref_Units,,MATCH(X$33,Model_Inputs_Thermal_Zones,0)+$B35),INDEX(Model_Inputs_Ref_Units,,MATCH(X$33,Model_Inputs_Thermal_Zones,0)+1)),\"\"))","v":""},{"$f":"IF(Y33=\"\",\"\",IFERROR(SUMPRODUCT(--(INDEX(Model_Inputs_Ref_Units,,MATCH(Y$33,Model_Inputs_Thermal_Zones,0)+$B40)=1),INDEX(Model_Inputs_Ref_Units,,MATCH(Y$33,Model_Inputs_Thermal_Zones,0)+$B35),INDEX(Model_Inputs_Ref_Units,,MATCH(Y$33,Model_Inputs_Thermal_Zones,0)+1)),\"\"))","v":""},{"$f":"IF(Z33=\"\",\"\",IFERROR(SUMPRODUCT(--(INDEX(Model_Inputs_Ref_Units,,MATCH(Z$33,Model_Inputs_Thermal_Zones,0)+$B40)=1),INDEX(Model_Inputs_Ref_Units,,MATCH(Z$33,Model_Inputs_Thermal_Zones,0)+$B35),INDEX(Model_Inputs_Ref_Units,,MATCH(Z$33,Model_Inputs_Thermal_Zones,0)+1)),\"\"))","v":""},{"$f":"IF(AA33=\"\",\"\",IFERROR(SUMPRODUCT(--(INDEX(Model_Inputs_Ref_Units,,MATCH(AA$33,Model_Inputs_Thermal_Zones,0)+$B40)=1),INDEX(Model_Inputs_Ref_Units,,MATCH(AA$33,Model_Inputs_Thermal_Zones,0)+$B35),INDEX(Model_Inputs_Ref_Units,,MATCH(AA$33,Model_Inputs_Thermal_Zones,0)+1)),\"\"))","v":""},{"$f":"IF(AB33=\"\",\"\",IFERROR(SUMPRODUCT(--(INDEX(Model_Inputs_Ref_Units,,MATCH(AB$33,Model_Inputs_Thermal_Zones,0)+$B40)=1),INDEX(Model_Inputs_Ref_Units,,MATCH(AB$33,Model_Inputs_Thermal_Zones,0)+$B35),INDEX(Model_Inputs_Ref_Units,,MATCH(AB$33,Model_Inputs_Thermal_Zones,0)+1)),\"\"))","v":""},{"$f":"IF(AC33=\"\",\"\",IFERROR(SUMPRODUCT(--(INDEX(Model_Inputs_Ref_Units,,MATCH(AC$33,Model_Inputs_Thermal_Zones,0)+$B40)=1),INDEX(Model_Inputs_Ref_Units,,MATCH(AC$33,Model_Inputs_Thermal_Zones,0)+$B35),INDEX(Model_Inputs_Ref_Units,,MATCH(AC$33,Model_Inputs_Thermal_Zones,0)+1)),\"\"))","v":""},{"$f":"IF(AD33=\"\",\"\",IFERROR(SUMPRODUCT(--(INDEX(Model_Inputs_Ref_Units,,MATCH(AD$33,Model_Inputs_Thermal_Zones,0)+$B40)=1),INDEX(Model_Inputs_Ref_Units,,MATCH(AD$33,Model_Inputs_Thermal_Zones,0)+$B35),INDEX(Model_Inputs_Ref_Units,,MATCH(AD$33,Model_Inputs_Thermal_Zones,0)+1)),\"\"))","v":""},{"$f":"IF(AE33=\"\",\"\",IFERROR(SUMPRODUCT(--(INDEX(Model_Inputs_Ref_Units,,MATCH(AE$33,Model_Inputs_Thermal_Zones,0)+$B40)=1),INDEX(Model_Inputs_Ref_Units,,MATCH(AE$33,Model_Inputs_Thermal_Zones,0)+$B35),INDEX(Model_Inputs_Ref_Units,,MATCH(AE$33,Model_Inputs_Thermal_Zones,0)+1)),\"\"))","v":""},{"$f":"IF(AF33=\"\",\"\",IFERROR(SUMPRODUCT(--(INDEX(Model_Inputs_Ref_Units,,MATCH(AF$33,Model_Inputs_Thermal_Zones,0)+$B40)=1),INDEX(Model_Inputs_Ref_Units,,MATCH(AF$33,Model_Inputs_Thermal_Zones,0)+$B35),INDEX(Model_Inputs_Ref_Units,,MATCH(AF$33,Model_Inputs_Thermal_Zones,0)+1)),\"\"))","v":""},{"$f":"IF(AG33=\"\",\"\",IFERROR(SUMPRODUCT(--(INDEX(Model_Inputs_Ref_Units,,MATCH(AG$33,Model_Inputs_Thermal_Zones,0)+$B40)=1),INDEX(Model_Inputs_Ref_Units,,MATCH(AG$33,Model_Inputs_Thermal_Zones,0)+$B35),INDEX(Model_Inputs_Ref_Units,,MATCH(AG$33,Model_Inputs_Thermal_Zones,0)+1)),\"\"))","v":""},{"$f":"IF(AH33=\"\",\"\",IFERROR(SUMPRODUCT(--(INDEX(Model_Inputs_Ref_Units,,MATCH(AH$33,Model_Inputs_Thermal_Zones,0)+$B40)=1),INDEX(Model_Inputs_Ref_Units,,MATCH(AH$33,Model_Inputs_Thermal_Zones,0)+$B35),INDEX(Model_Inputs_Ref_Units,,MATCH(AH$33,Model_Inputs_Thermal_Zones,0)+1)),\"\"))","v":""},{"$f":"IF(AI33=\"\",\"\",IFERROR(SUMPRODUCT(--(INDEX(Model_Inputs_Ref_Units,,MATCH(AI$33,Model_Inputs_Thermal_Zones,0)+$B40)=1),INDEX(Model_Inputs_Ref_Units,,MATCH(AI$33,Model_Inputs_Thermal_Zones,0)+$B35),INDEX(Model_Inputs_Ref_Units,,MATCH(AI$33,Model_Inputs_Thermal_Zones,0)+1)),\"\"))","v":""},{"$f":"IF(AJ33=\"\",\"\",IFERROR(SUMPRODUCT(--(INDEX(Model_Inputs_Ref_Units,,MATCH(AJ$33,Model_Inputs_Thermal_Zones,0)+$B40)=1),INDEX(Model_Inputs_Ref_Units,,MATCH(AJ$33,Model_Inputs_Thermal_Zones,0)+$B35),INDEX(Model_Inputs_Ref_Units,,MATCH(AJ$33,Model_Inputs_Thermal_Zones,0)+1)),\"\"))","v":""},{"$f":"IF(AK33=\"\",\"\",IFERROR(SUMPRODUCT(--(INDEX(Model_Inputs_Ref_Units,,MATCH(AK$33,Model_Inputs_Thermal_Zones,0)+$B40)=1),INDEX(Model_Inputs_Ref_Units,,MATCH(AK$33,Model_Inputs_Thermal_Zones,0)+$B35),INDEX(Model_Inputs_Ref_Units,,MATCH(AK$33,Model_Inputs_Thermal_Zones,0)+1)),\"\"))","v":""},{"$f":"IF(AL33=\"\",\"\",IFERROR(SUMPRODUCT(--(INDEX(Model_Inputs_Ref_Units,,MATCH(AL$33,Model_Inputs_Thermal_Zones,0)+$B40)=1),INDEX(Model_Inputs_Ref_Units,,MATCH(AL$33,Model_Inputs_Thermal_Zones,0)+$B35),INDEX(Model_Inputs_Ref_Units,,MATCH(AL$33,Model_Inputs_Thermal_Zones,0)+1)),\"\"))","v":""},{"$f":"IF(AM33=\"\",\"\",IFERROR(SUMPRODUCT(--(INDEX(Model_Inputs_Ref_Units,,MATCH(AM$33,Model_Inputs_Thermal_Zones,0)+$B40)=1),INDEX(Model_Inputs_Ref_Units,,MATCH(AM$33,Model_Inputs_Thermal_Zones,0)+$B35),INDEX(Model_Inputs_Ref_Units,,MATCH(AM$33,Model_Inputs_Thermal_Zones,0)+1)),\"\"))","v":""},{"$f":"IF(AN33=\"\",\"\",IFERROR(SUMPRODUCT(--(INDEX(Model_Inputs_Ref_Units,,MATCH(AN$33,Model_Inputs_Thermal_Zones,0)+$B40)=1),INDEX(Model_Inputs_Ref_Units,,MATCH(AN$33,Model_Inputs_Thermal_Zones,0)+$B35),INDEX(Model_Inputs_Ref_Units,,MATCH(AN$33,Model_Inputs_Thermal_Zones,0)+1)),\"\"))","v":""},{"$f":"IF(AO33=\"\",\"\",IFERROR(SUMPRODUCT(--(INDEX(Model_Inputs_Ref_Units,,MATCH(AO$33,Model_Inputs_Thermal_Zones,0)+$B40)=1),INDEX(Model_Inputs_Ref_Units,,MATCH(AO$33,Model_Inputs_Thermal_Zones,0)+$B35),INDEX(Model_Inputs_Ref_Units,,MATCH(AO$33,Model_Inputs_Thermal_Zones,0)+1)),\"\"))","v":""},{"$f":"IF(AP33=\"\",\"\",IFERROR(SUMPRODUCT(--(INDEX(Model_Inputs_Ref_Units,,MATCH(AP$33,Model_Inputs_Thermal_Zones,0)+$B40)=1),INDEX(Model_Inputs_Ref_Units,,MATCH(AP$33,Model_Inputs_Thermal_Zones,0)+$B35),INDEX(Model_Inputs_Ref_Units,,MATCH(AP$33,Model_Inputs_Thermal_Zones,0)+1)),\"\"))","v":""},{"$f":"IF(AQ33=\"\",\"\",IFERROR(SUMPRODUCT(--(INDEX(Model_Inputs_Ref_Units,,MATCH(AQ$33,Model_Inputs_Thermal_Zones,0)+$B40)=1),INDEX(Model_Inputs_Ref_Units,,MATCH(AQ$33,Model_Inputs_Thermal_Zones,0)+$B35),INDEX(Model_Inputs_Ref_Units,,MATCH(AQ$33,Model_Inputs_Thermal_Zones,0)+1)),\"\"))","v":""},{"$f":"IF(AR33=\"\",\"\",IFERROR(SUMPRODUCT(--(INDEX(Model_Inputs_Ref_Units,,MATCH(AR$33,Model_Inputs_Thermal_Zones,0)+$B40)=1),INDEX(Model_Inputs_Ref_Units,,MATCH(AR$33,Model_Inputs_Thermal_Zones,0)+$B35),INDEX(Model_Inputs_Ref_Units,,MATCH(AR$33,Model_Inputs_Thermal_Zones,0)+1)),\"\"))","v":""},{"$f":"IF(AS33=\"\",\"\",IFERROR(SUMPRODUCT(--(INDEX(Model_Inputs_Ref_Units,,MATCH(AS$33,Model_Inputs_Thermal_Zones,0)+$B40)=1),INDEX(Model_Inputs_Ref_Units,,MATCH(AS$33,Model_Inputs_Thermal_Zones,0)+$B35),INDEX(Model_Inputs_Ref_Units,,MATCH(AS$33,Model_Inputs_Thermal_Zones,0)+1)),\"\"))","v":""},{"$f":"IF(AT33=\"\",\"\",IFERROR(SUMPRODUCT(--(INDEX(Model_Inputs_Ref_Units,,MATCH(AT$33,Model_Inputs_Thermal_Zones,0)+$B40)=1),INDEX(Model_Inputs_Ref_Units,,MATCH(AT$33,Model_Inputs_Thermal_Zones,0)+$B35),INDEX(Model_Inputs_Ref_Units,,MATCH(AT$33,Model_Inputs_Thermal_Zones,0)+1)),\"\"))","v":""},{"$f":"IF(AU33=\"\",\"\",IFERROR(SUMPRODUCT(--(INDEX(Model_Inputs_Ref_Units,,MATCH(AU$33,Model_Inputs_Thermal_Zones,0)+$B40)=1),INDEX(Model_Inputs_Ref_Units,,MATCH(AU$33,Model_Inputs_Thermal_Zones,0)+$B35),INDEX(Model_Inputs_Ref_Units,,MATCH(AU$33,Model_Inputs_Thermal_Zones,0)+1)),\"\"))","v":""},{"$f":"IF(AV33=\"\",\"\",IFERROR(SUMPRODUCT(--(INDEX(Model_Inputs_Ref_Units,,MATCH(AV$33,Model_Inputs_Thermal_Zones,0)+$B40)=1),INDEX(Model_Inputs_Ref_Units,,MATCH(AV$33,Model_Inputs_Thermal_Zones,0)+$B35),INDEX(Model_Inputs_Ref_Units,,MATCH(AV$33,Model_Inputs_Thermal_Zones,0)+1)),\"\"))","v":""},{"$f":"IF(AW33=\"\",\"\",IFERROR(SUMPRODUCT(--(INDEX(Model_Inputs_Ref_Units,,MATCH(AW$33,Model_Inputs_Thermal_Zones,0)+$B40)=1),INDEX(Model_Inputs_Ref_Units,,MATCH(AW$33,Model_Inputs_Thermal_Zones,0)+$B35),INDEX(Model_Inputs_Ref_Units,,MATCH(AW$33,Model_Inputs_Thermal_Zones,0)+1)),\"\"))","v":""},{"$f":"IF(AX33=\"\",\"\",IFERROR(SUMPRODUCT(--(INDEX(Model_Inputs_Ref_Units,,MATCH(AX$33,Model_Inputs_Thermal_Zones,0)+$B40)=1),INDEX(Model_Inputs_Ref_Units,,MATCH(AX$33,Model_Inputs_Thermal_Zones,0)+$B35),INDEX(Model_Inputs_Ref_Units,,MATCH(AX$33,Model_Inputs_Thermal_Zones,0)+1)),\"\"))","v":""},{"$f":"IF(AY33=\"\",\"\",IFERROR(SUMPRODUCT(--(INDEX(Model_Inputs_Ref_Units,,MATCH(AY$33,Model_Inputs_Thermal_Zones,0)+$B40)=1),INDEX(Model_Inputs_Ref_Units,,MATCH(AY$33,Model_Inputs_Thermal_Zones,0)+$B35),INDEX(Model_Inputs_Ref_Units,,MATCH(AY$33,Model_Inputs_Thermal_Zones,0)+1)),\"\"))","v":""},{"$f":"IF(AZ33=\"\",\"\",IFERROR(SUMPRODUCT(--(INDEX(Model_Inputs_Ref_Units,,MATCH(AZ$33,Model_Inputs_Thermal_Zones,0)+$B40)=1),INDEX(Model_Inputs_Ref_Units,,MATCH(AZ$33,Model_Inputs_Thermal_Zones,0)+$B35),INDEX(Model_Inputs_Ref_Units,,MATCH(AZ$33,Model_Inputs_Thermal_Zones,0)+1)),\"\"))","v":""},{"$f":"IF(BA33=\"\",\"\",IFERROR(SUMPRODUCT(--(INDEX(Model_Inputs_Ref_Units,,MATCH(BA$33,Model_Inputs_Thermal_Zones,0)+$B40)=1),INDEX(Model_Inputs_Ref_Units,,MATCH(BA$33,Model_Inputs_Thermal_Zones,0)+$B35),INDEX(Model_Inputs_Ref_Units,,MATCH(BA$33,Model_Inputs_Thermal_Zones,0)+1)),\"\"))","v":""},{"$f":"IF(BB33=\"\",\"\",IFERROR(SUMPRODUCT(--(INDEX(Model_Inputs_Ref_Units,,MATCH(BB$33,Model_Inputs_Thermal_Zones,0)+$B40)=1),INDEX(Model_Inputs_Ref_Units,,MATCH(BB$33,Model_Inputs_Thermal_Zones,0)+$B35),INDEX(Model_Inputs_Ref_Units,,MATCH(BB$33,Model_Inputs_Thermal_Zones,0)+1)),\"\"))","v":""},{"$f":"IF(BC33=\"\",\"\",IFERROR(SUMPRODUCT(--(INDEX(Model_Inputs_Ref_Units,,MATCH(BC$33,Model_Inputs_Thermal_Zones,0)+$B40)=1),INDEX(Model_Inputs_Ref_Units,,MATCH(BC$33,Model_Inputs_Thermal_Zones,0)+$B35),INDEX(Model_Inputs_Ref_Units,,MATCH(BC$33,Model_Inputs_Thermal_Zones,0)+1)),\"\"))","v":""},{"$f":"IF(BD33=\"\",\"\",IFERROR(SUMPRODUCT(--(INDEX(Model_Inputs_Ref_Units,,MATCH(BD$33,Model_Inputs_Thermal_Zones,0)+$B40)=1),INDEX(Model_Inputs_Ref_Units,,MATCH(BD$33,Model_Inputs_Thermal_Zones,0)+$B35),INDEX(Model_Inputs_Ref_Units,,MATCH(BD$33,Model_Inputs_Thermal_Zones,0)+1)),\"\"))","v":""},{"$f":"IF(BE33=\"\",\"\",IFERROR(SUMPRODUCT(--(INDEX(Model_Inputs_Ref_Units,,MATCH(BE$33,Model_Inputs_Thermal_Zones,0)+$B40)=1),INDEX(Model_Inputs_Ref_Units,,MATCH(BE$33,Model_Inputs_Thermal_Zones,0)+$B35),INDEX(Model_Inputs_Ref_Units,,MATCH(BE$33,Model_Inputs_Thermal_Zones,0)+1)),\"\"))","v":""},{"$f":"IF(BF33=\"\",\"\",IFERROR(SUMPRODUCT(--(INDEX(Model_Inputs_Ref_Units,,MATCH(BF$33,Model_Inputs_Thermal_Zones,0)+$B40)=1),INDEX(Model_Inputs_Ref_Units,,MATCH(BF$33,Model_Inputs_Thermal_Zones,0)+$B35),INDEX(Model_Inputs_Ref_Units,,MATCH(BF$33,Model_Inputs_Thermal_Zones,0)+1)),\"\"))","v":""},{"$f":"IF(BG33=\"\",\"\",IFERROR(SUMPRODUCT(--(INDEX(Model_Inputs_Ref_Units,,MATCH(BG$33,Model_Inputs_Thermal_Zones,0)+$B40)=1),INDEX(Model_Inputs_Ref_Units,,MATCH(BG$33,Model_Inputs_Thermal_Zones,0)+$B35),INDEX(Model_Inputs_Ref_Units,,MATCH(BG$33,Model_Inputs_Thermal_Zones,0)+1)),\"\"))","v":""},{"$f":"IF(BH33=\"\",\"\",IFERROR(SUMPRODUCT(--(INDEX(Model_Inputs_Ref_Units,,MATCH(BH$33,Model_Inputs_Thermal_Zones,0)+$B40)=1),INDEX(Model_Inputs_Ref_Units,,MATCH(BH$33,Model_Inputs_Thermal_Zones,0)+$B35),INDEX(Model_Inputs_Ref_Units,,MATCH(BH$33,Model_Inputs_Thermal_Zones,0)+1)),\"\"))","v":""},{"$f":"IF(BI33=\"\",\"\",IFERROR(SUMPRODUCT(--(INDEX(Model_Inputs_Ref_Units,,MATCH(BI$33,Model_Inputs_Thermal_Zones,0)+$B40)=1),INDEX(Model_Inputs_Ref_Units,,MATCH(BI$33,Model_Inputs_Thermal_Zones,0)+$B35),INDEX(Model_Inputs_Ref_Units,,MATCH(BI$33,Model_Inputs_Thermal_Zones,0)+1)),\"\"))","v":""},{"$f":"IF(BJ33=\"\",\"\",IFERROR(SUMPRODUCT(--(INDEX(Model_Inputs_Ref_Units,,MATCH(BJ$33,Model_Inputs_Thermal_Zones,0)+$B40)=1),INDEX(Model_Inputs_Ref_Units,,MATCH(BJ$33,Model_Inputs_Thermal_Zones,0)+$B35),INDEX(Model_Inputs_Ref_Units,,MATCH(BJ$33,Model_Inputs_Thermal_Zones,0)+1)),\"\"))","v":""},{"$f":"IF(BK33=\"\",\"\",IFERROR(SUMPRODUCT(--(INDEX(Model_Inputs_Ref_Units,,MATCH(BK$33,Model_Inputs_Thermal_Zones,0)+$B40)=1),INDEX(Model_Inputs_Ref_Units,,MATCH(BK$33,Model_Inputs_Thermal_Zones,0)+$B35),INDEX(Model_Inputs_Ref_Units,,MATCH(BK$33,Model_Inputs_Thermal_Zones,0)+1)),\"\"))","v":""},{"$f":"IF(BL33=\"\",\"\",IFERROR(SUMPRODUCT(--(INDEX(Model_Inputs_Ref_Units,,MATCH(BL$33,Model_Inputs_Thermal_Zones,0)+$B40)=1),INDEX(Model_Inputs_Ref_Units,,MATCH(BL$33,Model_Inputs_Thermal_Zones,0)+$B35),INDEX(Model_Inputs_Ref_Units,,MATCH(BL$33,Model_Inputs_Thermal_Zones,0)+1)),\"\"))","v":""},{"$f":"IF(BM33=\"\",\"\",IFERROR(SUMPRODUCT(--(INDEX(Model_Inputs_Ref_Units,,MATCH(BM$33,Model_Inputs_Thermal_Zones,0)+$B40)=1),INDEX(Model_Inputs_Ref_Units,,MATCH(BM$33,Model_Inputs_Thermal_Zones,0)+$B35),INDEX(Model_Inputs_Ref_Units,,MATCH(BM$33,Model_Inputs_Thermal_Zones,0)+1)),\"\"))","v":""},{"$f":"IF(BN33=\"\",\"\",IFERROR(SUMPRODUCT(--(INDEX(Model_Inputs_Ref_Units,,MATCH(BN$33,Model_Inputs_Thermal_Zones,0)+$B40)=1),INDEX(Model_Inputs_Ref_Units,,MATCH(BN$33,Model_Inputs_Thermal_Zones,0)+$B35),INDEX(Model_Inputs_Ref_Units,,MATCH(BN$33,Model_Inputs_Thermal_Zones,0)+1)),\"\"))","v":""},{"$f":"IF(BO33=\"\",\"\",IFERROR(SUMPRODUCT(--(INDEX(Model_Inputs_Ref_Units,,MATCH(BO$33,Model_Inputs_Thermal_Zones,0)+$B40)=1),INDEX(Model_Inputs_Ref_Units,,MATCH(BO$33,Model_Inputs_Thermal_Zones,0)+$B35),INDEX(Model_Inputs_Ref_Units,,MATCH(BO$33,Model_Inputs_Thermal_Zones,0)+1)),\"\"))","v":""},{"$f":"IF(BP33=\"\",\"\",IFERROR(SUMPRODUCT(--(INDEX(Model_Inputs_Ref_Units,,MATCH(BP$33,Model_Inputs_Thermal_Zones,0)+$B40)=1),INDEX(Model_Inputs_Ref_Units,,MATCH(BP$33,Model_Inputs_Thermal_Zones,0)+$B35),INDEX(Model_Inputs_Ref_Units,,MATCH(BP$33,Model_Inputs_Thermal_Zones,0)+1)),\"\"))","v":""},{"$f":"IF(BQ33=\"\",\"\",IFERROR(SUMPRODUCT(--(INDEX(Model_Inputs_Ref_Units,,MATCH(BQ$33,Model_Inputs_Thermal_Zones,0)+$B40)=1),INDEX(Model_Inputs_Ref_Units,,MATCH(BQ$33,Model_Inputs_Thermal_Zones,0)+$B35),INDEX(Model_Inputs_Ref_Units,,MATCH(BQ$33,Model_Inputs_Thermal_Zones,0)+1)),\"\"))","v":""},{"$f":"IF(BR33=\"\",\"\",IFERROR(SUMPRODUCT(--(INDEX(Model_Inputs_Ref_Units,,MATCH(BR$33,Model_Inputs_Thermal_Zones,0)+$B40)=1),INDEX(Model_Inputs_Ref_Units,,MATCH(BR$33,Model_Inputs_Thermal_Zones,0)+$B35),INDEX(Model_Inputs_Ref_Units,,MATCH(BR$33,Model_Inputs_Thermal_Zones,0)+1)),\"\"))","v":""},{"$f":"IF(BS33=\"\",\"\",IFERROR(SUMPRODUCT(--(INDEX(Model_Inputs_Ref_Units,,MATCH(BS$33,Model_Inputs_Thermal_Zones,0)+$B40)=1),INDEX(Model_Inputs_Ref_Units,,MATCH(BS$33,Model_Inputs_Thermal_Zones,0)+$B35),INDEX(Model_Inputs_Ref_Units,,MATCH(BS$33,Model_Inputs_Thermal_Zones,0)+1)),\"\"))","v":""},{"$f":"IF(BT33=\"\",\"\",IFERROR(SUMPRODUCT(--(INDEX(Model_Inputs_Ref_Units,,MATCH(BT$33,Model_Inputs_Thermal_Zones,0)+$B40)=1),INDEX(Model_Inputs_Ref_Units,,MATCH(BT$33,Model_Inputs_Thermal_Zones,0)+$B35),INDEX(Model_Inputs_Ref_Units,,MATCH(BT$33,Model_Inputs_Thermal_Zones,0)+1)),\"\"))","v":""},{"$f":"IF(BU33=\"\",\"\",IFERROR(SUMPRODUCT(--(INDEX(Model_Inputs_Ref_Units,,MATCH(BU$33,Model_Inputs_Thermal_Zones,0)+$B40)=1),INDEX(Model_Inputs_Ref_Units,,MATCH(BU$33,Model_Inputs_Thermal_Zones,0)+$B35),INDEX(Model_Inputs_Ref_Units,,MATCH(BU$33,Model_Inputs_Thermal_Zones,0)+1)),\"\"))","v":""},{"$f":"IF(BV33=\"\",\"\",IFERROR(SUMPRODUCT(--(INDEX(Model_Inputs_Ref_Units,,MATCH(BV$33,Model_Inputs_Thermal_Zones,0)+$B40)=1),INDEX(Model_Inputs_Ref_Units,,MATCH(BV$33,Model_Inputs_Thermal_Zones,0)+$B35),INDEX(Model_Inputs_Ref_Units,,MATCH(BV$33,Model_Inputs_Thermal_Zones,0)+1)),\"\"))","v":""},{"$f":"IF(BW33=\"\",\"\",IFERROR(SUMPRODUCT(--(INDEX(Model_Inputs_Ref_Units,,MATCH(BW$33,Model_Inputs_Thermal_Zones,0)+$B40)=1),INDEX(Model_Inputs_Ref_Units,,MATCH(BW$33,Model_Inputs_Thermal_Zones,0)+$B35),INDEX(Model_Inputs_Ref_Units,,MATCH(BW$33,Model_Inputs_Thermal_Zones,0)+1)),\"\"))","v":""},{"$f":"IF(BX33=\"\",\"\",IFERROR(SUMPRODUCT(--(INDEX(Model_Inputs_Ref_Units,,MATCH(BX$33,Model_Inputs_Thermal_Zones,0)+$B40)=1),INDEX(Model_Inputs_Ref_Units,,MATCH(BX$33,Model_Inputs_Thermal_Zones,0)+$B35),INDEX(Model_Inputs_Ref_Units,,MATCH(BX$33,Model_Inputs_Thermal_Zones,0)+1)),\"\"))","v":""},{"$f":"IF(BY33=\"\",\"\",IFERROR(SUMPRODUCT(--(INDEX(Model_Inputs_Ref_Units,,MATCH(BY$33,Model_Inputs_Thermal_Zones,0)+$B40)=1),INDEX(Model_Inputs_Ref_Units,,MATCH(BY$33,Model_Inputs_Thermal_Zones,0)+$B35),INDEX(Model_Inputs_Ref_Units,,MATCH(BY$33,Model_Inputs_Thermal_Zones,0)+1)),\"\"))","v":""},{"$f":"IF(BZ33=\"\",\"\",IFERROR(SUMPRODUCT(--(INDEX(Model_Inputs_Ref_Units,,MATCH(BZ$33,Model_Inputs_Thermal_Zones,0)+$B40)=1),INDEX(Model_Inputs_Ref_Units,,MATCH(BZ$33,Model_Inputs_Thermal_Zones,0)+$B35),INDEX(Model_Inputs_Ref_Units,,MATCH(BZ$33,Model_Inputs_Thermal_Zones,0)+1)),\"\"))","v":""}]
["D",7,null,null,"BL","Daily hours of operation",null,{"$f":"IF(H33=\"\",\"\",IFERROR(SUMPRODUCT(--(INDEX(Model_Inputs_Ref_Units,,MATCH(H$33,Model_Inputs_Thermal_Zones,0)+$B40)=1),INDEX(Model_Inputs_Ref_Units,,MATCH(H$33,Model_Inputs_Thermal_Zones,0)+$B37),INDEX(Model_Inputs_Ref_Units,,MATCH(H$33,Model_Inputs_Thermal_Zones,0)+1))/SUMPRODUCT(--(INDEX(Model_Inputs_Ref_Units,,MATCH(H$33,Model_Inputs_Thermal_Zones,0)+$B40)=1),INDEX(Model_Inputs_Ref_Units,,MATCH(H$33,Model_Inputs_Thermal_Zones,0)+1)),\"\"))","v":""},{"$f":"IF(I33=\"\",\"\",IFERROR(SUMPRODUCT(--(INDEX(Model_Inputs_Ref_Units,,MATCH(I$33,Model_Inputs_Thermal_Zones,0)+$B40)=1),INDEX(Model_Inputs_Ref_Units,,MATCH(I$33,Model_Inputs_Thermal_Zones,0)+$B37),INDEX(Model_Inputs_Ref_Units,,MATCH(I$33,Model_Inputs_Thermal_Zones,0)+1))/SUMPRODUCT(--(INDEX(Model_Inputs_Ref_Units,,MATCH(I$33,Model_Inputs_Thermal_Zones,0)+$B40)=1),INDEX(Model_Inputs_Ref_Units,,MATCH(I$33,Model_Inputs_Thermal_Zones,0)+1)),\"\"))","v":""},{"$f":"IF(J33=\"\",\"\",IFERROR(SUMPRODUCT(--(INDEX(Model_Inputs_Ref_Units,,MATCH(J$33,Model_Inputs_Thermal_Zones,0)+$B40)=1),INDEX(Model_Inputs_Ref_Units,,MATCH(J$33,Model_Inputs_Thermal_Zones,0)+$B37),INDEX(Model_Inputs_Ref_Units,,MATCH(J$33,Model_Inputs_Thermal_Zones,0)+1))/SUMPRODUCT(--(INDEX(Model_Inputs_Ref_Units,,MATCH(J$33,Model_Inputs_Thermal_Zones,0)+$B40)=1),INDEX(Model_Inputs_Ref_Units,,MATCH(J$33,Model_Inputs_Thermal_Zones,0)+1)),\"\"))","v":""},{"$f":"IF(K33=\"\",\"\",IFERROR(SUMPRODUCT(--(INDEX(Model_Inputs_Ref_Units,,MATCH(K$33,Model_Inputs_Thermal_Zones,0)+$B40)=1),INDEX(Model_Inputs_Ref_Units,,MATCH(K$33,Model_Inputs_Thermal_Zones,0)+$B37),INDEX(Model_Inputs_Ref_Units,,MATCH(K$33,Model_Inputs_Thermal_Zones,0)+1))/SUMPRODUCT(--(INDEX(Model_Inputs_Ref_Units,,MATCH(K$33,Model_Inputs_Thermal_Zones,0)+$B40)=1),INDEX(Model_Inputs_Ref_Units,,MATCH(K$33,Model_Inputs_Thermal_Zones,0)+1)),\"\"))","v":""},{"$f":"IF(L33=\"\",\"\",IFERROR(SUMPRODUCT(--(INDEX(Model_Inputs_Ref_Units,,MATCH(L$33,Model_Inputs_Thermal_Zones,0)+$B40)=1),INDEX(Model_Inputs_Ref_Units,,MATCH(L$33,Model_Inputs_Thermal_Zones,0)+$B37),INDEX(Model_Inputs_Ref_Units,,MATCH(L$33,Model_Inputs_Thermal_Zones,0)+1))/SUMPRODUCT(--(INDEX(Model_Inputs_Ref_Units,,MATCH(L$33,Model_Inputs_Thermal_Zones,0)+$B40)=1),INDEX(Model_Inputs_Ref_Units,,MATCH(L$33,Model_Inputs_Thermal_Zones,0)+1)),\"\"))","v":""},{"$f":"IF(M33=\"\",\"\",IFERROR(SUMPRODUCT(--(INDEX(Model_Inputs_Ref_Units,,MATCH(M$33,Model_Inputs_Thermal_Zones,0)+$B40)=1),INDEX(Model_Inputs_Ref_Units,,MATCH(M$33,Model_Inputs_Thermal_Zones,0)+$B37),INDEX(Model_Inputs_Ref_Units,,MATCH(M$33,Model_Inputs_Thermal_Zones,0)+1))/SUMPRODUCT(--(INDEX(Model_Inputs_Ref_Units,,MATCH(M$33,Model_Inputs_Thermal_Zones,0)+$B40)=1),INDEX(Model_Inputs_Ref_Units,,MATCH(M$33,Model_Inputs_Thermal_Zones,0)+1)),\"\"))","v":""},{"$f":"IF(N33=\"\",\"\",IFERROR(SUMPRODUCT(--(INDEX(Model_Inputs_Ref_Units,,MATCH(N$33,Model_Inputs_Thermal_Zones,0)+$B40)=1),INDEX(Model_Inputs_Ref_Units,,MATCH(N$33,Model_Inputs_Thermal_Zones,0)+$B37),INDEX(Model_Inputs_Ref_Units,,MATCH(N$33,Model_Inputs_Thermal_Zones,0)+1))/SUMPRODUCT(--(INDEX(Model_Inputs_Ref_Units,,MATCH(N$33,Model_Inputs_Thermal_Zones,0)+$B40)=1),INDEX(Model_Inputs_Ref_Units,,MATCH(N$33,Model_Inputs_Thermal_Zones,0)+1)),\"\"))","v":""},{"$f":"IF(O33=\"\",\"\",IFERROR(SUMPRODUCT(--(INDEX(Model_Inputs_Ref_Units,,MATCH(O$33,Model_Inputs_Thermal_Zones,0)+$B40)=1),INDEX(Model_Inputs_Ref_Units,,MATCH(O$33,Model_Inputs_Thermal_Zones,0)+$B37),INDEX(Model_Inputs_Ref_Units,,MATCH(O$33,Model_Inputs_Thermal_Zones,0)+1))/SUMPRODUCT(--(INDEX(Model_Inputs_Ref_Units,,MATCH(O$33,Model_Inputs_Thermal_Zones,0)+$B40)=1),INDEX(Model_Inputs_Ref_Units,,MATCH(O$33,Model_Inputs_Thermal_Zones,0)+1)),\"\"))","v":""},{"$f":"IF(P33=\"\",\"\",IFERROR(SUMPRODUCT(--(INDEX(Model_Inputs_Ref_Units,,MATCH(P$33,Model_Inputs_Thermal_Zones,0)+$B40)=1),INDEX(Model_Inputs_Ref_Units,,MATCH(P$33,Model_Inputs_Thermal_Zones,0)+$B37),INDEX(Model_Inputs_Ref_Units,,MATCH(P$33,Model_Inputs_Thermal_Zones,0)+1))/SUMPRODUCT(--(INDEX(Model_Inputs_Ref_Units,,MATCH(P$33,Model_Inputs_Thermal_Zones,0)+$B40)=1),INDEX(Model_Inputs_Ref_Units,,MATCH(P$33,Model_Inputs_Thermal_Zones,0)+1)),\"\"))","v":""},{"$f":"IF(Q33=\"\",\"\",IFERROR(SUMPRODUCT(--(INDEX(Model_Inputs_Ref_Units,,MATCH(Q$33,Model_Inputs_Thermal_Zones,0)+$B40)=1),INDEX(Model_Inputs_Ref_Units,,MATCH(Q$33,Model_Inputs_Thermal_Zones,0)+$B37),INDEX(Model_Inputs_Ref_Units,,MATCH(Q$33,Model_Inputs_Thermal_Zones,0)+1))/SUMPRODUCT(--(INDEX(Model_Inputs_Ref_Units,,MATCH(Q$33,Model_Inputs_Thermal_Zones,0)+$B40)=1),INDEX(Model_Inputs_Ref_Units,,MATCH(Q$33,Model_Inputs_Thermal_Zones,0)+1)),\"\"))","v":""},{"$f":"IF(R33=\"\",\"\",IFERROR(SUMPRODUCT(--(INDEX(Model_Inputs_Ref_Units,,MATCH(R$33,Model_Inputs_Thermal_Zones,0)+$B40)=1),INDEX(Model_Inputs_Ref_Units,,MATCH(R$33,Model_Inputs_Thermal_Zones,0)+$B37),INDEX(Model_Inputs_Ref_Units,,MATCH(R$33,Model_Inputs_Thermal_Zones,0)+1))/SUMPRODUCT(--(INDEX(Model_Inputs_Ref_Units,,MATCH(R$33,Model_Inputs_Thermal_Zones,0)+$B40)=1),INDEX(Model_Inputs_Ref_Units,,MATCH(R$33,Model_Inputs_Thermal_Zones,0)+1)),\"\"))","v":""},{"$f":"IF(S33=\"\",\"\",IFERROR(SUMPRODUCT(--(INDEX(Model_Inputs_Ref_Units,,MATCH(S$33,Model_Inputs_Thermal_Zones,0)+$B40)=1),INDEX(Model_Inputs_Ref_Units,,MATCH(S$33,Model_Inputs_Thermal_Zones,0)+$B37),INDEX(Model_Inputs_Ref_Units,,MATCH(S$33,Model_Inputs_Thermal_Zones,0)+1))/SUMPRODUCT(--(INDEX(Model_Inputs_Ref_Units,,MATCH(S$33,Model_Inputs_Thermal_Zones,0)+$B40)=1),INDEX(Model_Inputs_Ref_Units,,MATCH(S$33,Model_Inputs_Thermal_Zones,0)+1)),\"\"))","v":""},{"$f":"IF(T33=\"\",\"\",IFERROR(SUMPRODUCT(--(INDEX(Model_Inputs_Ref_Units,,MATCH(T$33,Model_Inputs_Thermal_Zones,0)+$B40)=1),INDEX(Model_Inputs_Ref_Units,,MATCH(T$33,Model_Inputs_Thermal_Zones,0)+$B37),INDEX(Model_Inputs_Ref_Units,,MATCH(T$33,Model_Inputs_Thermal_Zones,0)+1))/SUMPRODUCT(--(INDEX(Model_Inputs_Ref_Units,,MATCH(T$33,Model_Inputs_Thermal_Zones,0)+$B40)=1),INDEX(Model_Inputs_Ref_Units,,MATCH(T$33,Model_Inputs_Thermal_Zones,0)+1)),\"\"))","v":""},{"$f":"IF(U33=\"\",\"\",IFERROR(SUMPRODUCT(--(INDEX(Model_Inputs_Ref_Units,,MATCH(U$33,Model_Inputs_Thermal_Zones,0)+$B40)=1),INDEX(Model_Inputs_Ref_Units,,MATCH(U$33,Model_Inputs_Thermal_Zones,0)+$B37),INDEX(Model_Inputs_Ref_Units,,MATCH(U$33,Model_Inputs_Thermal_Zones,0)+1))/SUMPRODUCT(--(INDEX(Model_Inputs_Ref_Units,,MATCH(U$33,Model_Inputs_Thermal_Zones,0)+$B40)=1),INDEX(Model_Inputs_Ref_Units,,MATCH(U$33,Model_Inputs_Thermal_Zones,0)+1)),\"\"))","v":""},{"$f":"IF(V33=\"\",\"\",IFERROR(SUMPRODUCT(--(INDEX(Model_Inputs_Ref_Units,,MATCH(V$33,Model_Inputs_Thermal_Zones,0)+$B40)=1),INDEX(Model_Inputs_Ref_Units,,MATCH(V$33,Model_Inputs_Thermal_Zones,0)+$B37),INDEX(Model_Inputs_Ref_Units,,MATCH(V$33,Model_Inputs_Thermal_Zones,0)+1))/SUMPRODUCT(--(INDEX(Model_Inputs_Ref_Units,,MATCH(V$33,Model_Inputs_Thermal_Zones,0)+$B40)=1),INDEX(Model_Inputs_Ref_Units,,MATCH(V$33,Model_Inputs_Thermal_Zones,0)+1)),\"\"))","v":""},{"$f":"IF(W33=\"\",\"\",IFERROR(SUMPRODUCT(--(INDEX(Model_Inputs_Ref_Units,,MATCH(W$33,Model_Inputs_Thermal_Zones,0)+$B40)=1),INDEX(Model_Inputs_Ref_Units,,MATCH(W$33,Model_Inputs_Thermal_Zones,0)+$B37),INDEX(Model_Inputs_Ref_Units,,MATCH(W$33,Model_Inputs_Thermal_Zones,0)+1))/SUMPRODUCT(--(INDEX(Model_Inputs_Ref_Units,,MATCH(W$33,Model_Inputs_Thermal_Zones,0)+$B40)=1),INDEX(Model_Inputs_Ref_Units,,MATCH(W$33,Model_Inputs_Thermal_Zones,0)+1)),\"\"))","v":""},{"$f":"IF(X33=\"\",\"\",IFERROR(SUMPRODUCT(--(INDEX(Model_Inputs_Ref_Units,,MATCH(X$33,Model_Inputs_Thermal_Zones,0)+$B40)=1),INDEX(Model_Inputs_Ref_Units,,MATCH(X$33,Model_Inputs_Thermal_Zones,0)+$B37),INDEX(Model_Inputs_Ref_Units,,MATCH(X$33,Model_Inputs_Thermal_Zones,0)+1))/SUMPRODUCT(--(INDEX(Model_Inputs_Ref_Units,,MATCH(X$33,Model_Inputs_Thermal_Zones,0)+$B40)=1),INDEX(Model_Inputs_Ref_Units,,MATCH(X$33,Model_Inputs_Thermal_Zones,0)+1)),\"\"))","v":""},{"$f":"IF(Y33=\"\",\"\",IFERROR(SUMPRODUCT(--(INDEX(Model_Inputs_Ref_Units,,MATCH(Y$33,Model_Inputs_Thermal_Zones,0)+$B40)=1),INDEX(Model_Inputs_Ref_Units,,MATCH(Y$33,Model_Inputs_Thermal_Zones,0)+$B37),INDEX(Model_Inputs_Ref_Units,,MATCH(Y$33,Model_Inputs_Thermal_Zones,0)+1))/SUMPRODUCT(--(INDEX(Model_Inputs_Ref_Units,,MATCH(Y$33,Model_Inputs_Thermal_Zones,0)+$B40)=1),INDEX(Model_Inputs_Ref_Units,,MATCH(Y$33,Model_Inputs_Thermal_Zones,0)+1)),\"\"))","v":""},{"$f":"IF(Z33=\"\",\"\",IFERROR(SUMPRODUCT(--(INDEX(Model_Inputs_Ref_Units,,MATCH(Z$33,Model_Inputs_Thermal_Zones,0)+$B40)=1),INDEX(Model_Inputs_Ref_Units,,MATCH(Z$33,Model_Inputs_Thermal_Zones,0)+$B37),INDEX(Model_Inputs_Ref_Units,,MATCH(Z$33,Model_Inputs_Thermal_Zones,0)+1))/SUMPRODUCT(--(INDEX(Model_Inputs_Ref_Units,,MATCH(Z$33,Model_Inputs_Thermal_Zones,0)+$B40)=1),INDEX(Model_Inputs_Ref_Units,,MATCH(Z$33,Model_Inputs_Thermal_Zones,0)+1)),\"\"))","v":""},{"$f":"IF(AA33=\"\",\"\",IFERROR(SUMPRODUCT(--(INDEX(Model_Inputs_Ref_Units,,MATCH(AA$33,Model_Inputs_Thermal_Zones,0)+$B40)=1),INDEX(Model_Inputs_Ref_Units,,MATCH(AA$33,Model_Inputs_Thermal_Zones,0)+$B37),INDEX(Model_Inputs_Ref_Units,,MATCH(AA$33,Model_Inputs_Thermal_Zones,0)+1))/SUMPRODUCT(--(INDEX(Model_Inputs_Ref_Units,,MATCH(AA$33,Model_Inputs_Thermal_Zones,0)+$B40)=1),INDEX(Model_Inputs_Ref_Units,,MATCH(AA$33,Model_Inputs_Thermal_Zones,0)+1)),\"\"))","v":""},{"$f":"IF(AB33=\"\",\"\",IFERROR(SUMPRODUCT(--(INDEX(Model_Inputs_Ref_Units,,MATCH(AB$33,Model_Inputs_Thermal_Zones,0)+$B40)=1),INDEX(Model_Inputs_Ref_Units,,MATCH(AB$33,Model_Inputs_Thermal_Zones,0)+$B37),INDEX(Model_Inputs_Ref_Units,,MATCH(AB$33,Model_Inputs_Thermal_Zones,0)+1))/SUMPRODUCT(--(INDEX(Model_Inputs_Ref_Units,,MATCH(AB$33,Model_Inputs_Thermal_Zones,0)+$B40)=1),INDEX(Model_Inputs_Ref_Units,,MATCH(AB$33,Model_Inputs_Thermal_Zones,0)+1)),\"\"))","v":""},{"$f":"IF(AC33=\"\",\"\",IFERROR(SUMPRODUCT(--(INDEX(Model_Inputs_Ref_Units,,MATCH(AC$33,Model_Inputs_Thermal_Zones,0)+$B40)=1),INDEX(Model_Inputs_Ref_Units,,MATCH(AC$33,Model_Inputs_Thermal_Zones,0)+$B37),INDEX(Model_Inputs_Ref_Units,,MATCH(AC$33,Model_Inputs_Thermal_Zones,0)+1))/SUMPRODUCT(--(INDEX(Model_Inputs_Ref_Units,,MATCH(AC$33,Model_Inputs_Thermal_Zones,0)+$B40)=1),INDEX(Model_Inputs_Ref_Units,,MATCH(AC$33,Model_Inputs_Thermal_Zones,0)+1)),\"\"))","v":""},{"$f":"IF(AD33=\"\",\"\",IFERROR(SUMPRODUCT(--(INDEX(Model_Inputs_Ref_Units,,MATCH(AD$33,Model_Inputs_Thermal_Zones,0)+$B40)=1),INDEX(Model_Inputs_Ref_Units,,MATCH(AD$33,Model_Inputs_Thermal_Zones,0)+$B37),INDEX(Model_Inputs_Ref_Units,,MATCH(AD$33,Model_Inputs_Thermal_Zones,0)+1))/SUMPRODUCT(--(INDEX(Model_Inputs_Ref_Units,,MATCH(AD$33,Model_Inputs_Thermal_Zones,0)+$B40)=1),INDEX(Model_Inputs_Ref_Units,,MATCH(AD$33,Model_Inputs_Thermal_Zones,0)+1)),\"\"))","v":""},{"$f":"IF(AE33=\"\",\"\",IFERROR(SUMPRODUCT(--(INDEX(Model_Inputs_Ref_Units,,MATCH(AE$33,Model_Inputs_Thermal_Zones,0)+$B40)=1),INDEX(Model_Inputs_Ref_Units,,MATCH(AE$33,Model_Inputs_Thermal_Zones,0)+$B37),INDEX(Model_Inputs_Ref_Units,,MATCH(AE$33,Model_Inputs_Thermal_Zones,0)+1))/SUMPRODUCT(--(INDEX(Model_Inputs_Ref_Units,,MATCH(AE$33,Model_Inputs_Thermal_Zones,0)+$B40)=1),INDEX(Model_Inputs_Ref_Units,,MATCH(AE$33,Model_Inputs_Thermal_Zones,0)+1)),\"\"))","v":""},{"$f":"IF(AF33=\"\",\"\",IFERROR(SUMPRODUCT(--(INDEX(Model_Inputs_Ref_Units,,MATCH(AF$33,Model_Inputs_Thermal_Zones,0)+$B40)=1),INDEX(Model_Inputs_Ref_Units,,MATCH(AF$33,Model_Inputs_Thermal_Zones,0)+$B37),INDEX(Model_Inputs_Ref_Units,,MATCH(AF$33,Model_Inputs_Thermal_Zones,0)+1))/SUMPRODUCT(--(INDEX(Model_Inputs_Ref_Units,,MATCH(AF$33,Model_Inputs_Thermal_Zones,0)+$B40)=1),INDEX(Model_Inputs_Ref_Units,,MATCH(AF$33,Model_Inputs_Thermal_Zones,0)+1)),\"\"))","v":""},{"$f":"IF(AG33=\"\",\"\",IFERROR(SUMPRODUCT(--(INDEX(Model_Inputs_Ref_Units,,MATCH(AG$33,Model_Inputs_Thermal_Zones,0)+$B40)=1),INDEX(Model_Inputs_Ref_Units,,MATCH(AG$33,Model_Inputs_Thermal_Zones,0)+$B37),INDEX(Model_Inputs_Ref_Units,,MATCH(AG$33,Model_Inputs_Thermal_Zones,0)+1))/SUMPRODUCT(--(INDEX(Model_Inputs_Ref_Units,,MATCH(AG$33,Model_Inputs_Thermal_Zones,0)+$B40)=1),INDEX(Model_Inputs_Ref_Units,,MATCH(AG$33,Model_Inputs_Thermal_Zones,0)+1)),\"\"))","v":""},{"$f":"IF(AH33=\"\",\"\",IFERROR(SUMPRODUCT(--(INDEX(Model_Inputs_Ref_Units,,MATCH(AH$33,Model_Inputs_Thermal_Zones,0)+$B40)=1),INDEX(Model_Inputs_Ref_Units,,MATCH(AH$33,Model_Inputs_Thermal_Zones,0)+$B37),INDEX(Model_Inputs_Ref_Units,,MATCH(AH$33,Model_Inputs_Thermal_Zones,0)+1))/SUMPRODUCT(--(INDEX(Model_Inputs_Ref_Units,,MATCH(AH$33,Model_Inputs_Thermal_Zones,0)+$B40)=1),INDEX(Model_Inputs_Ref_Units,,MATCH(AH$33,Model_Inputs_Thermal_Zones,0)+1)),\"\"))","v":""},{"$f":"IF(AI33=\"\",\"\",IFERROR(SUMPRODUCT(--(INDEX(Model_Inputs_Ref_Units,,MATCH(AI$33,Model_Inputs_Thermal_Zones,0)+$B40)=1),INDEX(Model_Inputs_Ref_Units,,MATCH(AI$33,Model_Inputs_Thermal_Zones,0)+$B37),INDEX(Model_Inputs_Ref_Units,,MATCH(AI$33,Model_Inputs_Thermal_Zones,0)+1))/SUMPRODUCT(--(INDEX(Model_Inputs_Ref_Units,,MATCH(AI$33,Model_Inputs_Thermal_Zones,0)+$B40)=1),INDEX(Model_Inputs_Ref_Units,,MATCH(AI$33,Model_Inputs_Thermal_Zones,0)+1)),\"\"))","v":""},{"$f":"IF(AJ33=\"\",\"\",IFERROR(SUMPRODUCT(--(INDEX(Model_Inputs_Ref_Units,,MATCH(AJ$33,Model_Inputs_Thermal_Zones,0)+$B40)=1),INDEX(Model_Inputs_Ref_Units,,MATCH(AJ$33,Model_Inputs_Thermal_Zones,0)+$B37),INDEX(Model_Inputs_Ref_Units,,MATCH(AJ$33,Model_Inputs_Thermal_Zones,0)+1))/SUMPRODUCT(--(INDEX(Model_Inputs_Ref_Units,,MATCH(AJ$33,Model_Inputs_Thermal_Zones,0)+$B40)=1),INDEX(Model_Inputs_Ref_Units,,MATCH(AJ$33,Model_Inputs_Thermal_Zones,0)+1)),\"\"))","v":""},{"$f":"IF(AK33=\"\",\"\",IFERROR(SUMPRODUCT(--(INDEX(Model_Inputs_Ref_Units,,MATCH(AK$33,Model_Inputs_Thermal_Zones,0)+$B40)=1),INDEX(Model_Inputs_Ref_Units,,MATCH(AK$33,Model_Inputs_Thermal_Zones,0)+$B37),INDEX(Model_Inputs_Ref_Units,,MATCH(AK$33,Model_Inputs_Thermal_Zones,0)+1))/SUMPRODUCT(--(INDEX(Model_Inputs_Ref_Units,,MATCH(AK$33,Model_Inputs_Thermal_Zones,0)+$B40)=1),INDEX(Model_Inputs_Ref_Units,,MATCH(AK$33,Model_Inputs_Thermal_Zones,0)+1)),\"\"))","v":""},{"$f":"IF(AL33=\"\",\"\",IFERROR(SUMPRODUCT(--(INDEX(Model_Inputs_Ref_Units,,MATCH(AL$33,Model_Inputs_Thermal_Zones,0)+$B40)=1),INDEX(Model_Inputs_Ref_Units,,MATCH(AL$33,Model_Inputs_Thermal_Zones,0)+$B37),INDEX(Model_Inputs_Ref_Units,,MATCH(AL$33,Model_Inputs_Thermal_Zones,0)+1))/SUMPRODUCT(--(INDEX(Model_Inputs_Ref_Units,,MATCH(AL$33,Model_Inputs_Thermal_Zones,0)+$B40)=1),INDEX(Model_Inputs_Ref_Units,,MATCH(AL$33,Model_Inputs_Thermal_Zones,0)+1)),\"\"))","v":""},{"$f":"IF(AM33=\"\",\"\",IFERROR(SUMPRODUCT(--(INDEX(Model_Inputs_Ref_Units,,MATCH(AM$33,Model_Inputs_Thermal_Zones,0)+$B40)=1),INDEX(Model_Inputs_Ref_Units,,MATCH(AM$33,Model_Inputs_Thermal_Zones,0)+$B37),INDEX(Model_Inputs_Ref_Units,,MATCH(AM$33,Model_Inputs_Thermal_Zones,0)+1))/SUMPRODUCT(--(INDEX(Model_Inputs_Ref_Units,,MATCH(AM$33,Model_Inputs_Thermal_Zones,0)+$B40)=1),INDEX(Model_Inputs_Ref_Units,,MATCH(AM$33,Model_Inputs_Thermal_Zones,0)+1)),\"\"))","v":""},{"$f":"IF(AN33=\"\",\"\",IFERROR(SUMPRODUCT(--(INDEX(Model_Inputs_Ref_Units,,MATCH(AN$33,Model_Inputs_Thermal_Zones,0)+$B40)=1),INDEX(Model_Inputs_Ref_Units,,MATCH(AN$33,Model_Inputs_Thermal_Zones,0)+$B37),INDEX(Model_Inputs_Ref_Units,,MATCH(AN$33,Model_Inputs_Thermal_Zones,0)+1))/SUMPRODUCT(--(INDEX(Model_Inputs_Ref_Units,,MATCH(AN$33,Model_Inputs_Thermal_Zones,0)+$B40)=1),INDEX(Model_Inputs_Ref_Units,,MATCH(AN$33,Model_Inputs_Thermal_Zones,0)+1)),\"\"))","v":""},{"$f":"IF(AO33=\"\",\"\",IFERROR(SUMPRODUCT(--(INDEX(Model_Inputs_Ref_Units,,MATCH(AO$33,Model_Inputs_Thermal_Zones,0)+$B40)=1),INDEX(Model_Inputs_Ref_Units,,MATCH(AO$33,Model_Inputs_Thermal_Zones,0)+$B37),INDEX(Model_Inputs_Ref_Units,,MATCH(AO$33,Model_Inputs_Thermal_Zones,0)+1))/SUMPRODUCT(--(INDEX(Model_Inputs_Ref_Units,,MATCH(AO$33,Model_Inputs_Thermal_Zones,0)+$B40)=1),INDEX(Model_Inputs_Ref_Units,,MATCH(AO$33,Model_Inputs_Thermal_Zones,0)+1)),\"\"))","v":""},{"$f":"IF(AP33=\"\",\"\",IFERROR(SUMPRODUCT(--(INDEX(Model_Inputs_Ref_Units,,MATCH(AP$33,Model_Inputs_Thermal_Zones,0)+$B40)=1),INDEX(Model_Inputs_Ref_Units,,MATCH(AP$33,Model_Inputs_Thermal_Zones,0)+$B37),INDEX(Model_Inputs_Ref_Units,,MATCH(AP$33,Model_Inputs_Thermal_Zones,0)+1))/SUMPRODUCT(--(INDEX(Model_Inputs_Ref_Units,,MATCH(AP$33,Model_Inputs_Thermal_Zones,0)+$B40)=1),INDEX(Model_Inputs_Ref_Units,,MATCH(AP$33,Model_Inputs_Thermal_Zones,0)+1)),\"\"))","v":""},{"$f":"IF(AQ33=\"\",\"\",IFERROR(SUMPRODUCT(--(INDEX(Model_Inputs_Ref_Units,,MATCH(AQ$33,Model_Inputs_Thermal_Zones,0)+$B40)=1),INDEX(Model_Inputs_Ref_Units,,MATCH(AQ$33,Model_Inputs_Thermal_Zones,0)+$B37),INDEX(Model_Inputs_Ref_Units,,MATCH(AQ$33,Model_Inputs_Thermal_Zones,0)+1))/SUMPRODUCT(--(INDEX(Model_Inputs_Ref_Units,,MATCH(AQ$33,Model_Inputs_Thermal_Zones,0)+$B40)=1),INDEX(Model_Inputs_Ref_Units,,MATCH(AQ$33,Model_Inputs_Thermal_Zones,0)+1)),\"\"))","v":""},{"$f":"IF(AR33=\"\",\"\",IFERROR(SUMPRODUCT(--(INDEX(Model_Inputs_Ref_Units,,MATCH(AR$33,Model_Inputs_Thermal_Zones,0)+$B40)=1),INDEX(Model_Inputs_Ref_Units,,MATCH(AR$33,Model_Inputs_Thermal_Zones,0)+$B37),INDEX(Model_Inputs_Ref_Units,,MATCH(AR$33,Model_Inputs_Thermal_Zones,0)+1))/SUMPRODUCT(--(INDEX(Model_Inputs_Ref_Units,,MATCH(AR$33,Model_Inputs_Thermal_Zones,0)+$B40)=1),INDEX(Model_Inputs_Ref_Units,,MATCH(AR$33,Model_Inputs_Thermal_Zones,0)+1)),\"\"))","v":""},{"$f":"IF(AS33=\"\",\"\",IFERROR(SUMPRODUCT(--(INDEX(Model_Inputs_Ref_Units,,MATCH(AS$33,Model_Inputs_Thermal_Zones,0)+$B40)=1),INDEX(Model_Inputs_Ref_Units,,MATCH(AS$33,Model_Inputs_Thermal_Zones,0)+$B37),INDEX(Model_Inputs_Ref_Units,,MATCH(AS$33,Model_Inputs_Thermal_Zones,0)+1))/SUMPRODUCT(--(INDEX(Model_Inputs_Ref_Units,,MATCH(AS$33,Model_Inputs_Thermal_Zones,0)+$B40)=1),INDEX(Model_Inputs_Ref_Units,,MATCH(AS$33,Model_Inputs_Thermal_Zones,0)+1)),\"\"))","v":""},{"$f":"IF(AT33=\"\",\"\",IFERROR(SUMPRODUCT(--(INDEX(Model_Inputs_Ref_Units,,MATCH(AT$33,Model_Inputs_Thermal_Zones,0)+$B40)=1),INDEX(Model_Inputs_Ref_Units,,MATCH(AT$33,Model_Inputs_Thermal_Zones,0)+$B37),INDEX(Model_Inputs_Ref_Units,,MATCH(AT$33,Model_Inputs_Thermal_Zones,0)+1))/SUMPRODUCT(--(INDEX(Model_Inputs_Ref_Units,,MATCH(AT$33,Model_Inputs_Thermal_Zones,0)+$B40)=1),INDEX(Model_Inputs_Ref_Units,,MATCH(AT$33,Model_Inputs_Thermal_Zones,0)+1)),\"\"))","v":""},{"$f":"IF(AU33=\"\",\"\",IFERROR(SUMPRODUCT(--(INDEX(Model_Inputs_Ref_Units,,MATCH(AU$33,Model_Inputs_Thermal_Zones,0)+$B40)=1),INDEX(Model_Inputs_Ref_Units,,MATCH(AU$33,Model_Inputs_Thermal_Zones,0)+$B37),INDEX(Model_Inputs_Ref_Units,,MATCH(AU$33,Model_Inputs_Thermal_Zones,0)+1))/SUMPRODUCT(--(INDEX(Model_Inputs_Ref_Units,,MATCH(AU$33,Model_Inputs_Thermal_Zones,0)+$B40)=1),INDEX(Model_Inputs_Ref_Units,,MATCH(AU$33,Model_Inputs_Thermal_Zones,0)+1)),\"\"))","v":""},{"$f":"IF(AV33=\"\",\"\",IFERROR(SUMPRODUCT(--(INDEX(Model_Inputs_Ref_Units,,MATCH(AV$33,Model_Inputs_Thermal_Zones,0)+$B40)=1),INDEX(Model_Inputs_Ref_Units,,MATCH(AV$33,Model_Inputs_Thermal_Zones,0)+$B37),INDEX(Model_Inputs_Ref_Units,,MATCH(AV$33,Model_Inputs_Thermal_Zones,0)+1))/SUMPRODUCT(--(INDEX(Model_Inputs_Ref_Units,,MATCH(AV$33,Model_Inputs_Thermal_Zones,0)+$B40)=1),INDEX(Model_Inputs_Ref_Units,,MATCH(AV$33,Model_Inputs_Thermal_Zones,0)+1)),\"\"))","v":""},{"$f":"IF(AW33=\"\",\"\",IFERROR(SUMPRODUCT(--(INDEX(Model_Inputs_Ref_Units,,MATCH(AW$33,Model_Inputs_Thermal_Zones,0)+$B40)=1),INDEX(Model_Inputs_Ref_Units,,MATCH(AW$33,Model_Inputs_Thermal_Zones,0)+$B37),INDEX(Model_Inputs_Ref_Units,,MATCH(AW$33,Model_Inputs_Thermal_Zones,0)+1))/SUMPRODUCT(--(INDEX(Model_Inputs_Ref_Units,,MATCH(AW$33,Model_Inputs_Thermal_Zones,0)+$B40)=1),INDEX(Model_Inputs_Ref_Units,,MATCH(AW$33,Model_Inputs_Thermal_Zones,0)+1)),\"\"))","v":""},{"$f":"IF(AX33=\"\",\"\",IFERROR(SUMPRODUCT(--(INDEX(Model_Inputs_Ref_Units,,MATCH(AX$33,Model_Inputs_Thermal_Zones,0)+$B40)=1),INDEX(Model_Inputs_Ref_Units,,MATCH(AX$33,Model_Inputs_Thermal_Zones,0)+$B37),INDEX(Model_Inputs_Ref_Units,,MATCH(AX$33,Model_Inputs_Thermal_Zones,0)+1))/SUMPRODUCT(--(INDEX(Model_Inputs_Ref_Units,,MATCH(AX$33,Model_Inputs_Thermal_Zones,0)+$B40)=1),INDEX(Model_Inputs_Ref_Units,,MATCH(AX$33,Model_Inputs_Thermal_Zones,0)+1)),\"\"))","v":""},{"$f":"IF(AY33=\"\",\"\",IFERROR(SUMPRODUCT(--(INDEX(Model_Inputs_Ref_Units,,MATCH(AY$33,Model_Inputs_Thermal_Zones,0)+$B40)=1),INDEX(Model_Inputs_Ref_Units,,MATCH(AY$33,Model_Inputs_Thermal_Zones,0)+$B37),INDEX(Model_Inputs_Ref_Units,,MATCH(AY$33,Model_Inputs_Thermal_Zones,0)+1))/SUMPRODUCT(--(INDEX(Model_Inputs_Ref_Units,,MATCH(AY$33,Model_Inputs_Thermal_Zones,0)+$B40)=1),INDEX(Model_Inputs_Ref_Units,,MATCH(AY$33,Model_Inputs_Thermal_Zones,0)+1)),\"\"))","v":""},{"$f":"IF(AZ33=\"\",\"\",IFERROR(SUMPRODUCT(--(INDEX(Model_Inputs_Ref_Units,,MATCH(AZ$33,Model_Inputs_Thermal_Zones,0)+$B40)=1),INDEX(Model_Inputs_Ref_Units,,MATCH(AZ$33,Model_Inputs_Thermal_Zones,0)+$B37),INDEX(Model_Inputs_Ref_Units,,MATCH(AZ$33,Model_Inputs_Thermal_Zones,0)+1))/SUMPRODUCT(--(INDEX(Model_Inputs_Ref_Units,,MATCH(AZ$33,Model_Inputs_Thermal_Zones,0)+$B40)=1),INDEX(Model_Inputs_Ref_Units,,MATCH(AZ$33,Model_Inputs_Thermal_Zones,0)+1)),\"\"))","v":""},{"$f":"IF(BA33=\"\",\"\",IFERROR(SUMPRODUCT(--(INDEX(Model_Inputs_Ref_Units,,MATCH(BA$33,Model_Inputs_Thermal_Zones,0)+$B40)=1),INDEX(Model_Inputs_Ref_Units,,MATCH(BA$33,Model_Inputs_Thermal_Zones,0)+$B37),INDEX(Model_Inputs_Ref_Units,,MATCH(BA$33,Model_Inputs_Thermal_Zones,0)+1))/SUMPRODUCT(--(INDEX(Model_Inputs_Ref_Units,,MATCH(BA$33,Model_Inputs_Thermal_Zones,0)+$B40)=1),INDEX(Model_Inputs_Ref_Units,,MATCH(BA$33,Model_Inputs_Thermal_Zones,0)+1)),\"\"))","v":""},{"$f":"IF(BB33=\"\",\"\",IFERROR(SUMPRODUCT(--(INDEX(Model_Inputs_Ref_Units,,MATCH(BB$33,Model_Inputs_Thermal_Zones,0)+$B40)=1),INDEX(Model_Inputs_Ref_Units,,MATCH(BB$33,Model_Inputs_Thermal_Zones,0)+$B37),INDEX(Model_Inputs_Ref_Units,,MATCH(BB$33,Model_Inputs_Thermal_Zones,0)+1))/SUMPRODUCT(--(INDEX(Model_Inputs_Ref_Units,,MATCH(BB$33,Model_Inputs_Thermal_Zones,0)+$B40)=1),INDEX(Model_Inputs_Ref_Units,,MATCH(BB$33,Model_Inputs_Thermal_Zones,0)+1)),\"\"))","v":""},{"$f":"IF(BC33=\"\",\"\",IFERROR(SUMPRODUCT(--(INDEX(Model_Inputs_Ref_Units,,MATCH(BC$33,Model_Inputs_Thermal_Zones,0)+$B40)=1),INDEX(Model_Inputs_Ref_Units,,MATCH(BC$33,Model_Inputs_Thermal_Zones,0)+$B37),INDEX(Model_Inputs_Ref_Units,,MATCH(BC$33,Model_Inputs_Thermal_Zones,0)+1))/SUMPRODUCT(--(INDEX(Model_Inputs_Ref_Units,,MATCH(BC$33,Model_Inputs_Thermal_Zones,0)+$B40)=1),INDEX(Model_Inputs_Ref_Units,,MATCH(BC$33,Model_Inputs_Thermal_Zones,0)+1)),\"\"))","v":""},{"$f":"IF(BD33=\"\",\"\",IFERROR(SUMPRODUCT(--(INDEX(Model_Inputs_Ref_Units,,MATCH(BD$33,Model_Inputs_Thermal_Zones,0)+$B40)=1),INDEX(Model_Inputs_Ref_Units,,MATCH(BD$33,Model_Inputs_Thermal_Zones,0)+$B37),INDEX(Model_Inputs_Ref_Units,,MATCH(BD$33,Model_Inputs_Thermal_Zones,0)+1))/SUMPRODUCT(--(INDEX(Model_Inputs_Ref_Units,,MATCH(BD$33,Model_Inputs_Thermal_Zones,0)+$B40)=1),INDEX(Model_Inputs_Ref_Units,,MATCH(BD$33,Model_Inputs_Thermal_Zones,0)+1)),\"\"))","v":""},{"$f":"IF(BE33=\"\",\"\",IFERROR(SUMPRODUCT(--(INDEX(Model_Inputs_Ref_Units,,MATCH(BE$33,Model_Inputs_Thermal_Zones,0)+$B40)=1),INDEX(Model_Inputs_Ref_Units,,MATCH(BE$33,Model_Inputs_Thermal_Zones,0)+$B37),INDEX(Model_Inputs_Ref_Units,,MATCH(BE$33,Model_Inputs_Thermal_Zones,0)+1))/SUMPRODUCT(--(INDEX(Model_Inputs_Ref_Units,,MATCH(BE$33,Model_Inputs_Thermal_Zones,0)+$B40)=1),INDEX(Model_Inputs_Ref_Units,,MATCH(BE$33,Model_Inputs_Thermal_Zones,0)+1)),\"\"))","v":""},{"$f":"IF(BF33=\"\",\"\",IFERROR(SUMPRODUCT(--(INDEX(Model_Inputs_Ref_Units,,MATCH(BF$33,Model_Inputs_Thermal_Zones,0)+$B40)=1),INDEX(Model_Inputs_Ref_Units,,MATCH(BF$33,Model_Inputs_Thermal_Zones,0)+$B37),INDEX(Model_Inputs_Ref_Units,,MATCH(BF$33,Model_Inputs_Thermal_Zones,0)+1))/SUMPRODUCT(--(INDEX(Model_Inputs_Ref_Units,,MATCH(BF$33,Model_Inputs_Thermal_Zones,0)+$B40)=1),INDEX(Model_Inputs_Ref_Units,,MATCH(BF$33,Model_Inputs_Thermal_Zones,0)+1)),\"\"))","v":""},{"$f":"IF(BG33=\"\",\"\",IFERROR(SUMPRODUCT(--(INDEX(Model_Inputs_Ref_Units,,MATCH(BG$33,Model_Inputs_Thermal_Zones,0)+$B40)=1),INDEX(Model_Inputs_Ref_Units,,MATCH(BG$33,Model_Inputs_Thermal_Zones,0)+$B37),INDEX(Model_Inputs_Ref_Units,,MATCH(BG$33,Model_Inputs_Thermal_Zones,0)+1))/SUMPRODUCT(--(INDEX(Model_Inputs_Ref_Units,,MATCH(BG$33,Model_Inputs_Thermal_Zones,0)+$B40)=1),INDEX(Model_Inputs_Ref_Units,,MATCH(BG$33,Model_Inputs_Thermal_Zones,0)+1)),\"\"))","v":""},{"$f":"IF(BH33=\"\",\"\",IFERROR(SUMPRODUCT(--(INDEX(Model_Inputs_Ref_Units,,MATCH(BH$33,Model_Inputs_Thermal_Zones,0)+$B40)=1),INDEX(Model_Inputs_Ref_Units,,MATCH(BH$33,Model_Inputs_Thermal_Zones,0)+$B37),INDEX(Model_Inputs_Ref_Units,,MATCH(BH$33,Model_Inputs_Thermal_Zones,0)+1))/SUMPRODUCT(--(INDEX(Model_Inputs_Ref_Units,,MATCH(BH$33,Model_Inputs_Thermal_Zones,0)+$B40)=1),INDEX(Model_Inputs_Ref_Units,,MATCH(BH$33,Model_Inputs_Thermal_Zones,0)+1)),\"\"))","v":""},{"$f":"IF(BI33=\"\",\"\",IFERROR(SUMPRODUCT(--(INDEX(Model_Inputs_Ref_Units,,MATCH(BI$33,Model_Inputs_Thermal_Zones,0)+$B40)=1),INDEX(Model_Inputs_Ref_Units,,MATCH(BI$33,Model_Inputs_Thermal_Zones,0)+$B37),INDEX(Model_Inputs_Ref_Units,,MATCH(BI$33,Model_Inputs_Thermal_Zones,0)+1))/SUMPRODUCT(--(INDEX(Model_Inputs_Ref_Units,,MATCH(BI$33,Model_Inputs_Thermal_Zones,0)+$B40)=1),INDEX(Model_Inputs_Ref_Units,,MATCH(BI$33,Model_Inputs_Thermal_Zones,0)+1)),\"\"))","v":""},{"$f":"IF(BJ33=\"\",\"\",IFERROR(SUMPRODUCT(--(INDEX(Model_Inputs_Ref_Units,,MATCH(BJ$33,Model_Inputs_Thermal_Zones,0)+$B40)=1),INDEX(Model_Inputs_Ref_Units,,MATCH(BJ$33,Model_Inputs_Thermal_Zones,0)+$B37),INDEX(Model_Inputs_Ref_Units,,MATCH(BJ$33,Model_Inputs_Thermal_Zones,0)+1))/SUMPRODUCT(--(INDEX(Model_Inputs_Ref_Units,,MATCH(BJ$33,Model_Inputs_Thermal_Zones,0)+$B40)=1),INDEX(Model_Inputs_Ref_Units,,MATCH(BJ$33,Model_Inputs_Thermal_Zones,0)+1)),\"\"))","v":""},{"$f":"IF(BK33=\"\",\"\",IFERROR(SUMPRODUCT(--(INDEX(Model_Inputs_Ref_Units,,MATCH(BK$33,Model_Inputs_Thermal_Zones,0)+$B40)=1),INDEX(Model_Inputs_Ref_Units,,MATCH(BK$33,Model_Inputs_Thermal_Zones,0)+$B37),INDEX(Model_Inputs_Ref_Units,,MATCH(BK$33,Model_Inputs_Thermal_Zones,0)+1))/SUMPRODUCT(--(INDEX(Model_Inputs_Ref_Units,,MATCH(BK$33,Model_Inputs_Thermal_Zones,0)+$B40)=1),INDEX(Model_Inputs_Ref_Units,,MATCH(BK$33,Model_Inputs_Thermal_Zones,0)+1)),\"\"))","v":""},{"$f":"IF(BL33=\"\",\"\",IFERROR(SUMPRODUCT(--(INDEX(Model_Inputs_Ref_Units,,MATCH(BL$33,Model_Inputs_Thermal_Zones,0)+$B40)=1),INDEX(Model_Inputs_Ref_Units,,MATCH(BL$33,Model_Inputs_Thermal_Zones,0)+$B37),INDEX(Model_Inputs_Ref_Units,,MATCH(BL$33,Model_Inputs_Thermal_Zones,0)+1))/SUMPRODUCT(--(INDEX(Model_Inputs_Ref_Units,,MATCH(BL$33,Model_Inputs_Thermal_Zones,0)+$B40)=1),INDEX(Model_Inputs_Ref_Units,,MATCH(BL$33,Model_Inputs_Thermal_Zones,0)+1)),\"\"))","v":""},{"$f":"IF(BM33=\"\",\"\",IFERROR(SUMPRODUCT(--(INDEX(Model_Inputs_Ref_Units,,MATCH(BM$33,Model_Inputs_Thermal_Zones,0)+$B40)=1),INDEX(Model_Inputs_Ref_Units,,MATCH(BM$33,Model_Inputs_Thermal_Zones,0)+$B37),INDEX(Model_Inputs_Ref_Units,,MATCH(BM$33,Model_Inputs_Thermal_Zones,0)+1))/SUMPRODUCT(--(INDEX(Model_Inputs_Ref_Units,,MATCH(BM$33,Model_Inputs_Thermal_Zones,0)+$B40)=1),INDEX(Model_Inputs_Ref_Units,,MATCH(BM$33,Model_Inputs_Thermal_Zones,0)+1)),\"\"))","v":""},{"$f":"IF(BN33=\"\",\"\",IFERROR(SUMPRODUCT(--(INDEX(Model_Inputs_Ref_Units,,MATCH(BN$33,Model_Inputs_Thermal_Zones,0)+$B40)=1),INDEX(Model_Inputs_Ref_Units,,MATCH(BN$33,Model_Inputs_Thermal_Zones,0)+$B37),INDEX(Model_Inputs_Ref_Units,,MATCH(BN$33,Model_Inputs_Thermal_Zones,0)+1))/SUMPRODUCT(--(INDEX(Model_Inputs_Ref_Units,,MATCH(BN$33,Model_Inputs_Thermal_Zones,0)+$B40)=1),INDEX(Model_Inputs_Ref_Units,,MATCH(BN$33,Model_Inputs_Thermal_Zones,0)+1)),\"\"))","v":""},{"$f":"IF(BO33=\"\",\"\",IFERROR(SUMPRODUCT(--(INDEX(Model_Inputs_Ref_Units,,MATCH(BO$33,Model_Inputs_Thermal_Zones,0)+$B40)=1),INDEX(Model_Inputs_Ref_Units,,MATCH(BO$33,Model_Inputs_Thermal_Zones,0)+$B37),INDEX(Model_Inputs_Ref_Units,,MATCH(BO$33,Model_Inputs_Thermal_Zones,0)+1))/SUMPRODUCT(--(INDEX(Model_Inputs_Ref_Units,,MATCH(BO$33,Model_Inputs_Thermal_Zones,0)+$B40)=1),INDEX(Model_Inputs_Ref_Units,,MATCH(BO$33,Model_Inputs_Thermal_Zones,0)+1)),\"\"))","v":""},{"$f":"IF(BP33=\"\",\"\",IFERROR(SUMPRODUCT(--(INDEX(Model_Inputs_Ref_Units,,MATCH(BP$33,Model_Inputs_Thermal_Zones,0)+$B40)=1),INDEX(Model_Inputs_Ref_Units,,MATCH(BP$33,Model_Inputs_Thermal_Zones,0)+$B37),INDEX(Model_Inputs_Ref_Units,,MATCH(BP$33,Model_Inputs_Thermal_Zones,0)+1))/SUMPRODUCT(--(INDEX(Model_Inputs_Ref_Units,,MATCH(BP$33,Model_Inputs_Thermal_Zones,0)+$B40)=1),INDEX(Model_Inputs_Ref_Units,,MATCH(BP$33,Model_Inputs_Thermal_Zones,0)+1)),\"\"))","v":""},{"$f":"IF(BQ33=\"\",\"\",IFERROR(SUMPRODUCT(--(INDEX(Model_Inputs_Ref_Units,,MATCH(BQ$33,Model_Inputs_Thermal_Zones,0)+$B40)=1),INDEX(Model_Inputs_Ref_Units,,MATCH(BQ$33,Model_Inputs_Thermal_Zones,0)+$B37),INDEX(Model_Inputs_Ref_Units,,MATCH(BQ$33,Model_Inputs_Thermal_Zones,0)+1))/SUMPRODUCT(--(INDEX(Model_Inputs_Ref_Units,,MATCH(BQ$33,Model_Inputs_Thermal_Zones,0)+$B40)=1),INDEX(Model_Inputs_Ref_Units,,MATCH(BQ$33,Model_Inputs_Thermal_Zones,0)+1)),\"\"))","v":""},{"$f":"IF(BR33=\"\",\"\",IFERROR(SUMPRODUCT(--(INDEX(Model_Inputs_Ref_Units,,MATCH(BR$33,Model_Inputs_Thermal_Zones,0)+$B40)=1),INDEX(Model_Inputs_Ref_Units,,MATCH(BR$33,Model_Inputs_Thermal_Zones,0)+$B37),INDEX(Model_Inputs_Ref_Units,,MATCH(BR$33,Model_Inputs_Thermal_Zones,0)+1))/SUMPRODUCT(--(INDEX(Model_Inputs_Ref_Units,,MATCH(BR$33,Model_Inputs_Thermal_Zones,0)+$B40)=1),INDEX(Model_Inputs_Ref_Units,,MATCH(BR$33,Model_Inputs_Thermal_Zones,0)+1)),\"\"))","v":""},{"$f":"IF(BS33=\"\",\"\",IFERROR(SUMPRODUCT(--(INDEX(Model_Inputs_Ref_Units,,MATCH(BS$33,Model_Inputs_Thermal_Zones,0)+$B40)=1),INDEX(Model_Inputs_Ref_Units,,MATCH(BS$33,Model_Inputs_Thermal_Zones,0)+$B37),INDEX(Model_Inputs_Ref_Units,,MATCH(BS$33,Model_Inputs_Thermal_Zones,0)+1))/SUMPRODUCT(--(INDEX(Model_Inputs_Ref_Units,,MATCH(BS$33,Model_Inputs_Thermal_Zones,0)+$B40)=1),INDEX(Model_Inputs_Ref_Units,,MATCH(BS$33,Model_Inputs_Thermal_Zones,0)+1)),\"\"))","v":""},{"$f":"IF(BT33=\"\",\"\",IFERROR(SUMPRODUCT(--(INDEX(Model_Inputs_Ref_Units,,MATCH(BT$33,Model_Inputs_Thermal_Zones,0)+$B40)=1),INDEX(Model_Inputs_Ref_Units,,MATCH(BT$33,Model_Inputs_Thermal_Zones,0)+$B37),INDEX(Model_Inputs_Ref_Units,,MATCH(BT$33,Model_Inputs_Thermal_Zones,0)+1))/SUMPRODUCT(--(INDEX(Model_Inputs_Ref_Units,,MATCH(BT$33,Model_Inputs_Thermal_Zones,0)+$B40)=1),INDEX(Model_Inputs_Ref_Units,,MATCH(BT$33,Model_Inputs_Thermal_Zones,0)+1)),\"\"))","v":""},{"$f":"IF(BU33=\"\",\"\",IFERROR(SUMPRODUCT(--(INDEX(Model_Inputs_Ref_Units,,MATCH(BU$33,Model_Inputs_Thermal_Zones,0)+$B40)=1),INDEX(Model_Inputs_Ref_Units,,MATCH(BU$33,Model_Inputs_Thermal_Zones,0)+$B37),INDEX(Model_Inputs_Ref_Units,,MATCH(BU$33,Model_Inputs_Thermal_Zones,0)+1))/SUMPRODUCT(--(INDEX(Model_Inputs_Ref_Units,,MATCH(BU$33,Model_Inputs_Thermal_Zones,0)+$B40)=1),INDEX(Model_Inputs_Ref_Units,,MATCH(BU$33,Model_Inputs_Thermal_Zones,0)+1)),\"\"))","v":""},{"$f":"IF(BV33=\"\",\"\",IFERROR(SUMPRODUCT(--(INDEX(Model_Inputs_Ref_Units,,MATCH(BV$33,Model_Inputs_Thermal_Zones,0)+$B40)=1),INDEX(Model_Inputs_Ref_Units,,MATCH(BV$33,Model_Inputs_Thermal_Zones,0)+$B37),INDEX(Model_Inputs_Ref_Units,,MATCH(BV$33,Model_Inputs_Thermal_Zones,0)+1))/SUMPRODUCT(--(INDEX(Model_Inputs_Ref_Units,,MATCH(BV$33,Model_Inputs_Thermal_Zones,0)+$B40)=1),INDEX(Model_Inputs_Ref_Units,,MATCH(BV$33,Model_Inputs_Thermal_Zones,0)+1)),\"\"))","v":""},{"$f":"IF(BW33=\"\",\"\",IFERROR(SUMPRODUCT(--(INDEX(Model_Inputs_Ref_Units,,MATCH(BW$33,Model_Inputs_Thermal_Zones,0)+$B40)=1),INDEX(Model_Inputs_Ref_Units,,MATCH(BW$33,Model_Inputs_Thermal_Zones,0)+$B37),INDEX(Model_Inputs_Ref_Units,,MATCH(BW$33,Model_Inputs_Thermal_Zones,0)+1))/SUMPRODUCT(--(INDEX(Model_Inputs_Ref_Units,,MATCH(BW$33,Model_Inputs_Thermal_Zones,0)+$B40)=1),INDEX(Model_Inputs_Ref_Units,,MATCH(BW$33,Model_Inputs_Thermal_Zones,0)+1)),\"\"))","v":""},{"$f":"IF(BX33=\"\",\"\",IFERROR(SUMPRODUCT(--(INDEX(Model_Inputs_Ref_Units,,MATCH(BX$33,Model_Inputs_Thermal_Zones,0)+$B40)=1),INDEX(Model_Inputs_Ref_Units,,MATCH(BX$33,Model_Inputs_Thermal_Zones,0)+$B37),INDEX(Model_Inputs_Ref_Units,,MATCH(BX$33,Model_Inputs_Thermal_Zones,0)+1))/SUMPRODUCT(--(INDEX(Model_Inputs_Ref_Units,,MATCH(BX$33,Model_Inputs_Thermal_Zones,0)+$B40)=1),INDEX(Model_Inputs_Ref_Units,,MATCH(BX$33,Model_Inputs_Thermal_Zones,0)+1)),\"\"))","v":""},{"$f":"IF(BY33=\"\",\"\",IFERROR(SUMPRODUCT(--(INDEX(Model_Inputs_Ref_Units,,MATCH(BY$33,Model_Inputs_Thermal_Zones,0)+$B40)=1),INDEX(Model_Inputs_Ref_Units,,MATCH(BY$33,Model_Inputs_Thermal_Zones,0)+$B37),INDEX(Model_Inputs_Ref_Units,,MATCH(BY$33,Model_Inputs_Thermal_Zones,0)+1))/SUMPRODUCT(--(INDEX(Model_Inputs_Ref_Units,,MATCH(BY$33,Model_Inputs_Thermal_Zones,0)+$B40)=1),INDEX(Model_Inputs_Ref_Units,,MATCH(BY$33,Model_Inputs_Thermal_Zones,0)+1)),\"\"))","v":""},{"$f":"IF(BZ33=\"\",\"\",IFERROR(SUMPRODUCT(--(INDEX(Model_Inputs_Ref_Units,,MATCH(BZ$33,Model_Inputs_Thermal_Zones,0)+$B40)=1),INDEX(Model_Inputs_Ref_Units,,MATCH(BZ$33,Model_Inputs_Thermal_Zones,0)+$B37),INDEX(Model_Inputs_Ref_Units,,MATCH(BZ$33,Model_Inputs_Thermal_Zones,0)+1))/SUMPRODUCT(--(INDEX(Model_Inputs_Ref_Units,,MATCH(BZ$33,Model_Inputs_Thermal_Zones,0)+$B40)=1),INDEX(Model_Inputs_Ref_Units,,MATCH(BZ$33,Model_Inputs_Thermal_Zones,0)+1)),\"\"))","v":""}]
["D",8,null,null,null,"Refrigeration system kW total",null,{"$f":"IF(H33=\"\",\"\",IFERROR(SUMPRODUCT(--(INDEX(Model_Inputs_Ref_Units,,MATCH(H$33,Model_Inputs_Thermal_Zones,0)+$B40)=1),INDEX(Model_Inputs_Ref_Units,,MATCH(H$33,Model_Inputs_Thermal_Zones,0)+$B38),INDEX(Model_Inputs_Ref_Units,,MATCH(H$33,Model_Inputs_Thermal_Zones,0)+1)),\"\"))","v":""},{"$f":"IF(I33=\"\",\"\",IFERROR(SUMPRODUCT(--(INDEX(Model_Inputs_Ref_Units,,MATCH(I$33,Model_Inputs_Thermal_Zones,0)+$B40)=1),INDEX(Model_Inputs_Ref_Units,,MATCH(I$33,Model_Inputs_Thermal_Zones,0)+$B38),INDEX(Model_Inputs_Ref_Units,,MATCH(I$33,Model_Inputs_Thermal_Zones,0)+1)),\"\"))","v":""},{"$f":"IF(J33=\"\",\"\",IFERROR(SUMPRODUCT(--(INDEX(Model_Inputs_Ref_Units,,MATCH(J$33,Model_Inputs_Thermal_Zones,0)+$B40)=1),INDEX(Model_Inputs_Ref_Units,,MATCH(J$33,Model_Inputs_Thermal_Zones,0)+$B38),INDEX(Model_Inputs_Ref_Units,,MATCH(J$33,Model_Inputs_Thermal_Zones,0)+1)),\"\"))","v":""},{"$f":"IF(K33=\"\",\"\",IFERROR(SUMPRODUCT(--(INDEX(Model_Inputs_Ref_Units,,MATCH(K$33,Model_Inputs_Thermal_Zones,0)+$B40)=1),INDEX(Model_Inputs_Ref_Units,,MATCH(K$33,Model_Inputs_Thermal_Zones,0)+$B38),INDEX(Model_Inputs_Ref_Units,,MATCH(K$33,Model_Inputs_Thermal_Zones,0)+1)),\"\"))","v":""},{"$f":"IF(L33=\"\",\"\",IFERROR(SUMPRODUCT(--(INDEX(Model_Inputs_Ref_Units,,MATCH(L$33,Model_Inputs_Thermal_Zones,0)+$B40)=1),INDEX(Model_Inputs_Ref_Units,,MATCH(L$33,Model_Inputs_Thermal_Zones,0)+$B38),INDEX(Model_Inputs_Ref_Units,,MATCH(L$33,Model_Inputs_Thermal_Zones,0)+1)),\"\"))","v":""},{"$f":"IF(M33=\"\",\"\",IFERROR(SUMPRODUCT(--(INDEX(Model_Inputs_Ref_Units,,MATCH(M$33,Model_Inputs_Thermal_Zones,0)+$B40)=1),INDEX(Model_Inputs_Ref_Units,,MATCH(M$33,Model_Inputs_Thermal_Zones,0)+$B38),INDEX(Model_Inputs_Ref_Units,,MATCH(M$33,Model_Inputs_Thermal_Zones,0)+1)),\"\"))","v":""},{"$f":"IF(N33=\"\",\"\",IFERROR(SUMPRODUCT(--(INDEX(Model_Inputs_Ref_Units,,MATCH(N$33,Model_Inputs_Thermal_Zones,0)+$B40)=1),INDEX(Model_Inputs_Ref_Units,,MATCH(N$33,Model_Inputs_Thermal_Zones,0)+$B38),INDEX(Model_Inputs_Ref_Units,,MATCH(N$33,Model_Inputs_Thermal_Zones,0)+1)),\"\"))","v":""},{"$f":"IF(O33=\"\",\"\",IFERROR(SUMPRODUCT(--(INDEX(Model_Inputs_Ref_Units,,MATCH(O$33,Model_Inputs_Thermal_Zones,0)+$B40)=1),INDEX(Model_Inputs_Ref_Units,,MATCH(O$33,Model_Inputs_Thermal_Zones,0)+$B38),INDEX(Model_Inputs_Ref_Units,,MATCH(O$33,Model_Inputs_Thermal_Zones,0)+1)),\"\"))","v":""},{"$f":"IF(P33=\"\",\"\",IFERROR(SUMPRODUCT(--(INDEX(Model_Inputs_Ref_Units,,MATCH(P$33,Model_Inputs_Thermal_Zones,0)+$B40)=1),INDEX(Model_Inputs_Ref_Units,,MATCH(P$33,Model_Inputs_Thermal_Zones,0)+$B38),INDEX(Model_Inputs_Ref_Units,,MATCH(P$33,Model_Inputs_Thermal_Zones,0)+1)),\"\"))","v":""},{"$f":"IF(Q33=\"\",\"\",IFERROR(SUMPRODUCT(--(INDEX(Model_Inputs_Ref_Units,,MATCH(Q$33,Model_Inputs_Thermal_Zones,0)+$B40)=1),INDEX(Model_Inputs_Ref_Units,,MATCH(Q$33,Model_Inputs_Thermal_Zones,0)+$B38),INDEX(Model_Inputs_Ref_Units,,MATCH(Q$33,Model_Inputs_Thermal_Zones,0)+1)),\"\"))","v":""},{"$f":"IF(R33=\"\",\"\",IFERROR(SUMPRODUCT(--(INDEX(Model_Inputs_Ref_Units,,MATCH(R$33,Model_Inputs_Thermal_Zones,0)+$B40)=1),INDEX(Model_Inputs_Ref_Units,,MATCH(R$33,Model_Inputs_Thermal_Zones,0)+$B38),INDEX(Model_Inputs_Ref_Units,,MATCH(R$33,Model_Inputs_Thermal_Zones,0)+1)),\"\"))","v":""},{"$f":"IF(S33=\"\",\"\",IFERROR(SUMPRODUCT(--(INDEX(Model_Inputs_Ref_Units,,MATCH(S$33,Model_Inputs_Thermal_Zones,0)+$B40)=1),INDEX(Model_Inputs_Ref_Units,,MATCH(S$33,Model_Inputs_Thermal_Zones,0)+$B38),INDEX(Model_Inputs_Ref_Units,,MATCH(S$33,Model_Inputs_Thermal_Zones,0)+1)),\"\"))","v":""},{"$f":"IF(T33=\"\",\"\",IFERROR(SUMPRODUCT(--(INDEX(Model_Inputs_Ref_Units,,MATCH(T$33,Model_Inputs_Thermal_Zones,0)+$B40)=1),INDEX(Model_Inputs_Ref_Units,,MATCH(T$33,Model_Inputs_Thermal_Zones,0)+$B38),INDEX(Model_Inputs_Ref_Units,,MATCH(T$33,Model_Inputs_Thermal_Zones,0)+1)),\"\"))","v":""},{"$f":"IF(U33=\"\",\"\",IFERROR(SUMPRODUCT(--(INDEX(Model_Inputs_Ref_Units,,MATCH(U$33,Model_Inputs_Thermal_Zones,0)+$B40)=1),INDEX(Model_Inputs_Ref_Units,,MATCH(U$33,Model_Inputs_Thermal_Zones,0)+$B38),INDEX(Model_Inputs_Ref_Units,,MATCH(U$33,Model_Inputs_Thermal_Zones,0)+1)),\"\"))","v":""},{"$f":"IF(V33=\"\",\"\",IFERROR(SUMPRODUCT(--(INDEX(Model_Inputs_Ref_Units,,MATCH(V$33,Model_Inputs_Thermal_Zones,0)+$B40)=1),INDEX(Model_Inputs_Ref_Units,,MATCH(V$33,Model_Inputs_Thermal_Zones,0)+$B38),INDEX(Model_Inputs_Ref_Units,,MATCH(V$33,Model_Inputs_Thermal_Zones,0)+1)),\"\"))","v":""},{"$f":"IF(W33=\"\",\"\",IFERROR(SUMPRODUCT(--(INDEX(Model_Inputs_Ref_Units,,MATCH(W$33,Model_Inputs_Thermal_Zones,0)+$B40)=1),INDEX(Model_Inputs_Ref_Units,,MATCH(W$33,Model_Inputs_Thermal_Zones,0)+$B38),INDEX(Model_Inputs_Ref_Units,,MATCH(W$33,Model_Inputs_Thermal_Zones,0)+1)),\"\"))","v":""},{"$f":"IF(X33=\"\",\"\",IFERROR(SUMPRODUCT(--(INDEX(Model_Inputs_Ref_Units,,MATCH(X$33,Model_Inputs_Thermal_Zones,0)+$B40)=1),INDEX(Model_Inputs_Ref_Units,,MATCH(X$33,Model_Inputs_Thermal_Zones,0)+$B38),INDEX(Model_Inputs_Ref_Units,,MATCH(X$33,Model_Inputs_Thermal_Zones,0)+1)),\"\"))","v":""},{"$f":"IF(Y33=\"\",\"\",IFERROR(SUMPRODUCT(--(INDEX(Model_Inputs_Ref_Units,,MATCH(Y$33,Model_Inputs_Thermal_Zones,0)+$B40)=1),INDEX(Model_Inputs_Ref_Units,,MATCH(Y$33,Model_Inputs_Thermal_Zones,0)+$B38),INDEX(Model_Inputs_Ref_Units,,MATCH(Y$33,Model_Inputs_Thermal_Zones,0)+1)),\"\"))","v":""},{"$f":"IF(Z33=\"\",\"\",IFERROR(SUMPRODUCT(--(INDEX(Model_Inputs_Ref_Units,,MATCH(Z$33,Model_Inputs_Thermal_Zones,0)+$B40)=1),INDEX(Model_Inputs_Ref_Units,,MATCH(Z$33,Model_Inputs_Thermal_Zones,0)+$B38),INDEX(Model_Inputs_Ref_Units,,MATCH(Z$33,Model_Inputs_Thermal_Zones,0)+1)),\"\"))","v":""},{"$f":"IF(AA33=\"\",\"\",IFERROR(SUMPRODUCT(--(INDEX(Model_Inputs_Ref_Units,,MATCH(AA$33,Model_Inputs_Thermal_Zones,0)+$B40)=1),INDEX(Model_Inputs_Ref_Units,,MATCH(AA$33,Model_Inputs_Thermal_Zones,0)+$B38),INDEX(Model_Inputs_Ref_Units,,MATCH(AA$33,Model_Inputs_Thermal_Zones,0)+1)),\"\"))","v":""},{"$f":"IF(AB33=\"\",\"\",IFERROR(SUMPRODUCT(--(INDEX(Model_Inputs_Ref_Units,,MATCH(AB$33,Model_Inputs_Thermal_Zones,0)+$B40)=1),INDEX(Model_Inputs_Ref_Units,,MATCH(AB$33,Model_Inputs_Thermal_Zones,0)+$B38),INDEX(Model_Inputs_Ref_Units,,MATCH(AB$33,Model_Inputs_Thermal_Zones,0)+1)),\"\"))","v":""},{"$f":"IF(AC33=\"\",\"\",IFERROR(SUMPRODUCT(--(INDEX(Model_Inputs_Ref_Units,,MATCH(AC$33,Model_Inputs_Thermal_Zones,0)+$B40)=1),INDEX(Model_Inputs_Ref_Units,,MATCH(AC$33,Model_Inputs_Thermal_Zones,0)+$B38),INDEX(Model_Inputs_Ref_Units,,MATCH(AC$33,Model_Inputs_Thermal_Zones,0)+1)),\"\"))","v":""},{"$f":"IF(AD33=\"\",\"\",IFERROR(SUMPRODUCT(--(INDEX(Model_Inputs_Ref_Units,,MATCH(AD$33,Model_Inputs_Thermal_Zones,0)+$B40)=1),INDEX(Model_Inputs_Ref_Units,,MATCH(AD$33,Model_Inputs_Thermal_Zones,0)+$B38),INDEX(Model_Inputs_Ref_Units,,MATCH(AD$33,Model_Inputs_Thermal_Zones,0)+1)),\"\"))","v":""},{"$f":"IF(AE33=\"\",\"\",IFERROR(SUMPRODUCT(--(INDEX(Model_Inputs_Ref_Units,,MATCH(AE$33,Model_Inputs_Thermal_Zones,0)+$B40)=1),INDEX(Model_Inputs_Ref_Units,,MATCH(AE$33,Model_Inputs_Thermal_Zones,0)+$B38),INDEX(Model_Inputs_Ref_Units,,MATCH(AE$33,Model_Inputs_Thermal_Zones,0)+1)),\"\"))","v":""},{"$f":"IF(AF33=\"\",\"\",IFERROR(SUMPRODUCT(--(INDEX(Model_Inputs_Ref_Units,,MATCH(AF$33,Model_Inputs_Thermal_Zones,0)+$B40)=1),INDEX(Model_Inputs_Ref_Units,,MATCH(AF$33,Model_Inputs_Thermal_Zones,0)+$B38),INDEX(Model_Inputs_Ref_Units,,MATCH(AF$33,Model_Inputs_Thermal_Zones,0)+1)),\"\"))","v":""},{"$f":"IF(AG33=\"\",\"\",IFERROR(SUMPRODUCT(--(INDEX(Model_Inputs_Ref_Units,,MATCH(AG$33,Model_Inputs_Thermal_Zones,0)+$B40)=1),INDEX(Model_Inputs_Ref_Units,,MATCH(AG$33,Model_Inputs_Thermal_Zones,0)+$B38),INDEX(Model_Inputs_Ref_Units,,MATCH(AG$33,Model_Inputs_Thermal_Zones,0)+1)),\"\"))","v":""},{"$f":"IF(AH33=\"\",\"\",IFERROR(SUMPRODUCT(--(INDEX(Model_Inputs_Ref_Units,,MATCH(AH$33,Model_Inputs_Thermal_Zones,0)+$B40)=1),INDEX(Model_Inputs_Ref_Units,,MATCH(AH$33,Model_Inputs_Thermal_Zones,0)+$B38),INDEX(Model_Inputs_Ref_Units,,MATCH(AH$33,Model_Inputs_Thermal_Zones,0)+1)),\"\"))","v":""},{"$f":"IF(AI33=\"\",\"\",IFERROR(SUMPRODUCT(--(INDEX(Model_Inputs_Ref_Units,,MATCH(AI$33,Model_Inputs_Thermal_Zones,0)+$B40)=1),INDEX(Model_Inputs_Ref_Units,,MATCH(AI$33,Model_Inputs_Thermal_Zones,0)+$B38),INDEX(Model_Inputs_Ref_Units,,MATCH(AI$33,Model_Inputs_Thermal_Zones,0)+1)),\"\"))","v":""},{"$f":"IF(AJ33=\"\",\"\",IFERROR(SUMPRODUCT(--(INDEX(Model_Inputs_Ref_Units,,MATCH(AJ$33,Model_Inputs_Thermal_Zones,0)+$B40)=1),INDEX(Model_Inputs_Ref_Units,,MATCH(AJ$33,Model_Inputs_Thermal_Zones,0)+$B38),INDEX(Model_Inputs_Ref_Units,,MATCH(AJ$33,Model_Inputs_Thermal_Zones,0)+1)),\"\"))","v":""},{"$f":"IF(AK33=\"\",\"\",IFERROR(SUMPRODUCT(--(INDEX(Model_Inputs_Ref_Units,,MATCH(AK$33,Model_Inputs_Thermal_Zones,0)+$B40)=1),INDEX(Model_Inputs_Ref_Units,,MATCH(AK$33,Model_Inputs_Thermal_Zones,0)+$B38),INDEX(Model_Inputs_Ref_Units,,MATCH(AK$33,Model_Inputs_Thermal_Zones,0)+1)),\"\"))","v":""},{"$f":"IF(AL33=\"\",\"\",IFERROR(SUMPRODUCT(--(INDEX(Model_Inputs_Ref_Units,,MATCH(AL$33,Model_Inputs_Thermal_Zones,0)+$B40)=1),INDEX(Model_Inputs_Ref_Units,,MATCH(AL$33,Model_Inputs_Thermal_Zones,0)+$B38),INDEX(Model_Inputs_Ref_Units,,MATCH(AL$33,Model_Inputs_Thermal_Zones,0)+1)),\"\"))","v":""},{"$f":"IF(AM33=\"\",\"\",IFERROR(SUMPRODUCT(--(INDEX(Model_Inputs_Ref_Units,,MATCH(AM$33,Model_Inputs_Thermal_Zones,0)+$B40)=1),INDEX(Model_Inputs_Ref_Units,,MATCH(AM$33,Model_Inputs_Thermal_Zones,0)+$B38),INDEX(Model_Inputs_Ref_Units,,MATCH(AM$33,Model_Inputs_Thermal_Zones,0)+1)),\"\"))","v":""},{"$f":"IF(AN33=\"\",\"\",IFERROR(SUMPRODUCT(--(INDEX(Model_Inputs_Ref_Units,,MATCH(AN$33,Model_Inputs_Thermal_Zones,0)+$B40)=1),INDEX(Model_Inputs_Ref_Units,,MATCH(AN$33,Model_Inputs_Thermal_Zones,0)+$B38),INDEX(Model_Inputs_Ref_Units,,MATCH(AN$33,Model_Inputs_Thermal_Zones,0)+1)),\"\"))","v":""},{"$f":"IF(AO33=\"\",\"\",IFERROR(SUMPRODUCT(--(INDEX(Model_Inputs_Ref_Units,,MATCH(AO$33,Model_Inputs_Thermal_Zones,0)+$B40)=1),INDEX(Model_Inputs_Ref_Units,,MATCH(AO$33,Model_Inputs_Thermal_Zones,0)+$B38),INDEX(Model_Inputs_Ref_Units,,MATCH(AO$33,Model_Inputs_Thermal_Zones,0)+1)),\"\"))","v":""},{"$f":"IF(AP33=\"\",\"\",IFERROR(SUMPRODUCT(--(INDEX(Model_Inputs_Ref_Units,,MATCH(AP$33,Model_Inputs_Thermal_Zones,0)+$B40)=1),INDEX(Model_Inputs_Ref_Units,,MATCH(AP$33,Model_Inputs_Thermal_Zones,0)+$B38),INDEX(Model_Inputs_Ref_Units,,MATCH(AP$33,Model_Inputs_Thermal_Zones,0)+1)),\"\"))","v":""},{"$f":"IF(AQ33=\"\",\"\",IFERROR(SUMPRODUCT(--(INDEX(Model_Inputs_Ref_Units,,MATCH(AQ$33,Model_Inputs_Thermal_Zones,0)+$B40)=1),INDEX(Model_Inputs_Ref_Units,,MATCH(AQ$33,Model_Inputs_Thermal_Zones,0)+$B38),INDEX(Model_Inputs_Ref_Units,,MATCH(AQ$33,Model_Inputs_Thermal_Zones,0)+1)),\"\"))","v":""},{"$f":"IF(AR33=\"\",\"\",IFERROR(SUMPRODUCT(--(INDEX(Model_Inputs_Ref_Units,,MATCH(AR$33,Model_Inputs_Thermal_Zones,0)+$B40)=1),INDEX(Model_Inputs_Ref_Units,,MATCH(AR$33,Model_Inputs_Thermal_Zones,0)+$B38),INDEX(Model_Inputs_Ref_Units,,MATCH(AR$33,Model_Inputs_Thermal_Zones,0)+1)),\"\"))","v":""},{"$f":"IF(AS33=\"\",\"\",IFERROR(SUMPRODUCT(--(INDEX(Model_Inputs_Ref_Units,,MATCH(AS$33,Model_Inputs_Thermal_Zones,0)+$B40)=1),INDEX(Model_Inputs_Ref_Units,,MATCH(AS$33,Model_Inputs_Thermal_Zones,0)+$B38),INDEX(Model_Inputs_Ref_Units,,MATCH(AS$33,Model_Inputs_Thermal_Zones,0)+1)),\"\"))","v":""},{"$f":"IF(AT33=\"\",\"\",IFERROR(SUMPRODUCT(--(INDEX(Model_Inputs_Ref_Units,,MATCH(AT$33,Model_Inputs_Thermal_Zones,0)+$B40)=1),INDEX(Model_Inputs_Ref_Units,,MATCH(AT$33,Model_Inputs_Thermal_Zones,0)+$B38),INDEX(Model_Inputs_Ref_Units,,MATCH(AT$33,Model_Inputs_Thermal_Zones,0)+1)),\"\"))","v":""},{"$f":"IF(AU33=\"\",\"\",IFERROR(SUMPRODUCT(--(INDEX(Model_Inputs_Ref_Units,,MATCH(AU$33,Model_Inputs_Thermal_Zones,0)+$B40)=1),INDEX(Model_Inputs_Ref_Units,,MATCH(AU$33,Model_Inputs_Thermal_Zones,0)+$B38),INDEX(Model_Inputs_Ref_Units,,MATCH(AU$33,Model_Inputs_Thermal_Zones,0)+1)),\"\"))","v":""},{"$f":"IF(AV33=\"\",\"\",IFERROR(SUMPRODUCT(--(INDEX(Model_Inputs_Ref_Units,,MATCH(AV$33,Model_Inputs_Thermal_Zones,0)+$B40)=1),INDEX(Model_Inputs_Ref_Units,,MATCH(AV$33,Model_Inputs_Thermal_Zones,0)+$B38),INDEX(Model_Inputs_Ref_Units,,MATCH(AV$33,Model_Inputs_Thermal_Zones,0)+1)),\"\"))","v":""},{"$f":"IF(AW33=\"\",\"\",IFERROR(SUMPRODUCT(--(INDEX(Model_Inputs_Ref_Units,,MATCH(AW$33,Model_Inputs_Thermal_Zones,0)+$B40)=1),INDEX(Model_Inputs_Ref_Units,,MATCH(AW$33,Model_Inputs_Thermal_Zones,0)+$B38),INDEX(Model_Inputs_Ref_Units,,MATCH(AW$33,Model_Inputs_Thermal_Zones,0)+1)),\"\"))","v":""},{"$f":"IF(AX33=\"\",\"\",IFERROR(SUMPRODUCT(--(INDEX(Model_Inputs_Ref_Units,,MATCH(AX$33,Model_Inputs_Thermal_Zones,0)+$B40)=1),INDEX(Model_Inputs_Ref_Units,,MATCH(AX$33,Model_Inputs_Thermal_Zones,0)+$B38),INDEX(Model_Inputs_Ref_Units,,MATCH(AX$33,Model_Inputs_Thermal_Zones,0)+1)),\"\"))","v":""},{"$f":"IF(AY33=\"\",\"\",IFERROR(SUMPRODUCT(--(INDEX(Model_Inputs_Ref_Units,,MATCH(AY$33,Model_Inputs_Thermal_Zones,0)+$B40)=1),INDEX(Model_Inputs_Ref_Units,,MATCH(AY$33,Model_Inputs_Thermal_Zones,0)+$B38),INDEX(Model_Inputs_Ref_Units,,MATCH(AY$33,Model_Inputs_Thermal_Zones,0)+1)),\"\"))","v":""},{"$f":"IF(AZ33=\"\",\"\",IFERROR(SUMPRODUCT(--(INDEX(Model_Inputs_Ref_Units,,MATCH(AZ$33,Model_Inputs_Thermal_Zones,0)+$B40)=1),INDEX(Model_Inputs_Ref_Units,,MATCH(AZ$33,Model_Inputs_Thermal_Zones,0)+$B38),INDEX(Model_Inputs_Ref_Units,,MATCH(AZ$33,Model_Inputs_Thermal_Zones,0)+1)),\"\"))","v":""},{"$f":"IF(BA33=\"\",\"\",IFERROR(SUMPRODUCT(--(INDEX(Model_Inputs_Ref_Units,,MATCH(BA$33,Model_Inputs_Thermal_Zones,0)+$B40)=1),INDEX(Model_Inputs_Ref_Units,,MATCH(BA$33,Model_Inputs_Thermal_Zones,0)+$B38),INDEX(Model_Inputs_Ref_Units,,MATCH(BA$33,Model_Inputs_Thermal_Zones,0)+1)),\"\"))","v":""},{"$f":"IF(BB33=\"\",\"\",IFERROR(SUMPRODUCT(--(INDEX(Model_Inputs_Ref_Units,,MATCH(BB$33,Model_Inputs_Thermal_Zones,0)+$B40)=1),INDEX(Model_Inputs_Ref_Units,,MATCH(BB$33,Model_Inputs_Thermal_Zones,0)+$B38),INDEX(Model_Inputs_Ref_Units,,MATCH(BB$33,Model_Inputs_Thermal_Zones,0)+1)),\"\"))","v":""},{"$f":"IF(BC33=\"\",\"\",IFERROR(SUMPRODUCT(--(INDEX(Model_Inputs_Ref_Units,,MATCH(BC$33,Model_Inputs_Thermal_Zones,0)+$B40)=1),INDEX(Model_Inputs_Ref_Units,,MATCH(BC$33,Model_Inputs_Thermal_Zones,0)+$B38),INDEX(Model_Inputs_Ref_Units,,MATCH(BC$33,Model_Inputs_Thermal_Zones,0)+1)),\"\"))","v":""},{"$f":"IF(BD33=\"\",\"\",IFERROR(SUMPRODUCT(--(INDEX(Model_Inputs_Ref_Units,,MATCH(BD$33,Model_Inputs_Thermal_Zones,0)+$B40)=1),INDEX(Model_Inputs_Ref_Units,,MATCH(BD$33,Model_Inputs_Thermal_Zones,0)+$B38),INDEX(Model_Inputs_Ref_Units,,MATCH(BD$33,Model_Inputs_Thermal_Zones,0)+1)),\"\"))","v":""},{"$f":"IF(BE33=\"\",\"\",IFERROR(SUMPRODUCT(--(INDEX(Model_Inputs_Ref_Units,,MATCH(BE$33,Model_Inputs_Thermal_Zones,0)+$B40)=1),INDEX(Model_Inputs_Ref_Units,,MATCH(BE$33,Model_Inputs_Thermal_Zones,0)+$B38),INDEX(Model_Inputs_Ref_Units,,MATCH(BE$33,Model_Inputs_Thermal_Zones,0)+1)),\"\"))","v":""},{"$f":"IF(BF33=\"\",\"\",IFERROR(SUMPRODUCT(--(INDEX(Model_Inputs_Ref_Units,,MATCH(BF$33,Model_Inputs_Thermal_Zones,0)+$B40)=1),INDEX(Model_Inputs_Ref_Units,,MATCH(BF$33,Model_Inputs_Thermal_Zones,0)+$B38),INDEX(Model_Inputs_Ref_Units,,MATCH(BF$33,Model_Inputs_Thermal_Zones,0)+1)),\"\"))","v":""},{"$f":"IF(BG33=\"\",\"\",IFERROR(SUMPRODUCT(--(INDEX(Model_Inputs_Ref_Units,,MATCH(BG$33,Model_Inputs_Thermal_Zones,0)+$B40)=1),INDEX(Model_Inputs_Ref_Units,,MATCH(BG$33,Model_Inputs_Thermal_Zones,0)+$B38),INDEX(Model_Inputs_Ref_Units,,MATCH(BG$33,Model_Inputs_Thermal_Zones,0)+1)),\"\"))","v":""},{"$f":"IF(BH33=\"\",\"\",IFERROR(SUMPRODUCT(--(INDEX(Model_Inputs_Ref_Units,,MATCH(BH$33,Model_Inputs_Thermal_Zones,0)+$B40)=1),INDEX(Model_Inputs_Ref_Units,,MATCH(BH$33,Model_Inputs_Thermal_Zones,0)+$B38),INDEX(Model_Inputs_Ref_Units,,MATCH(BH$33,Model_Inputs_Thermal_Zones,0)+1)),\"\"))","v":""},{"$f":"IF(BI33=\"\",\"\",IFERROR(SUMPRODUCT(--(INDEX(Model_Inputs_Ref_Units,,MATCH(BI$33,Model_Inputs_Thermal_Zones,0)+$B40)=1),INDEX(Model_Inputs_Ref_Units,,MATCH(BI$33,Model_Inputs_Thermal_Zones,0)+$B38),INDEX(Model_Inputs_Ref_Units,,MATCH(BI$33,Model_Inputs_Thermal_Zones,0)+1)),\"\"))","v":""},{"$f":"IF(BJ33=\"\",\"\",IFERROR(SUMPRODUCT(--(INDEX(Model_Inputs_Ref_Units,,MATCH(BJ$33,Model_Inputs_Thermal_Zones,0)+$B40)=1),INDEX(Model_Inputs_Ref_Units,,MATCH(BJ$33,Model_Inputs_Thermal_Zones,0)+$B38),INDEX(Model_Inputs_Ref_Units,,MATCH(BJ$33,Model_Inputs_Thermal_Zones,0)+1)),\"\"))","v":""},{"$f":"IF(BK33=\"\",\"\",IFERROR(SUMPRODUCT(--(INDEX(Model_Inputs_Ref_Units,,MATCH(BK$33,Model_Inputs_Thermal_Zones,0)+$B40)=1),INDEX(Model_Inputs_Ref_Units,,MATCH(BK$33,Model_Inputs_Thermal_Zones,0)+$B38),INDEX(Model_Inputs_Ref_Units,,MATCH(BK$33,Model_Inputs_Thermal_Zones,0)+1)),\"\"))","v":""},{"$f":"IF(BL33=\"\",\"\",IFERROR(SUMPRODUCT(--(INDEX(Model_Inputs_Ref_Units,,MATCH(BL$33,Model_Inputs_Thermal_Zones,0)+$B40)=1),INDEX(Model_Inputs_Ref_Units,,MATCH(BL$33,Model_Inputs_Thermal_Zones,0)+$B38),INDEX(Model_Inputs_Ref_Units,,MATCH(BL$33,Model_Inputs_Thermal_Zones,0)+1)),\"\"))","v":""},{"$f":"IF(BM33=\"\",\"\",IFERROR(SUMPRODUCT(--(INDEX(Model_Inputs_Ref_Units,,MATCH(BM$33,Model_Inputs_Thermal_Zones,0)+$B40)=1),INDEX(Model_Inputs_Ref_Units,,MATCH(BM$33,Model_Inputs_Thermal_Zones,0)+$B38),INDEX(Model_Inputs_Ref_Units,,MATCH(BM$33,Model_Inputs_Thermal_Zones,0)+1)),\"\"))","v":""},{"$f":"IF(BN33=\"\",\"\",IFERROR(SUMPRODUCT(--(INDEX(Model_Inputs_Ref_Units,,MATCH(BN$33,Model_Inputs_Thermal_Zones,0)+$B40)=1),INDEX(Model_Inputs_Ref_Units,,MATCH(BN$33,Model_Inputs_Thermal_Zones,0)+$B38),INDEX(Model_Inputs_Ref_Units,,MATCH(BN$33,Model_Inputs_Thermal_Zones,0)+1)),\"\"))","v":""},{"$f":"IF(BO33=\"\",\"\",IFERROR(SUMPRODUCT(--(INDEX(Model_Inputs_Ref_Units,,MATCH(BO$33,Model_Inputs_Thermal_Zones,0)+$B40)=1),INDEX(Model_Inputs_Ref_Units,,MATCH(BO$33,Model_Inputs_Thermal_Zones,0)+$B38),INDEX(Model_Inputs_Ref_Units,,MATCH(BO$33,Model_Inputs_Thermal_Zones,0)+1)),\"\"))","v":""},{"$f":"IF(BP33=\"\",\"\",IFERROR(SUMPRODUCT(--(INDEX(Model_Inputs_Ref_Units,,MATCH(BP$33,Model_Inputs_Thermal_Zones,0)+$B40)=1),INDEX(Model_Inputs_Ref_Units,,MATCH(BP$33,Model_Inputs_Thermal_Zones,0)+$B38),INDEX(Model_Inputs_Ref_Units,,MATCH(BP$33,Model_Inputs_Thermal_Zones,0)+1)),\"\"))","v":""},{"$f":"IF(BQ33=\"\",\"\",IFERROR(SUMPRODUCT(--(INDEX(Model_Inputs_Ref_Units,,MATCH(BQ$33,Model_Inputs_Thermal_Zones,0)+$B40)=1),INDEX(Model_Inputs_Ref_Units,,MATCH(BQ$33,Model_Inputs_Thermal_Zones,0)+$B38),INDEX(Model_Inputs_Ref_Units,,MATCH(BQ$33,Model_Inputs_Thermal_Zones,0)+1)),\"\"))","v":""},{"$f":"IF(BR33=\"\",\"\",IFERROR(SUMPRODUCT(--(INDEX(Model_Inputs_Ref_Units,,MATCH(BR$33,Model_Inputs_Thermal_Zones,0)+$B40)=1),INDEX(Model_Inputs_Ref_Units,,MATCH(BR$33,Model_Inputs_Thermal_Zones,0)+$B38),INDEX(Model_Inputs_Ref_Units,,MATCH(BR$33,Model_Inputs_Thermal_Zones,0)+1)),\"\"))","v":""},{"$f":"IF(BS33=\"\",\"\",IFERROR(SUMPRODUCT(--(INDEX(Model_Inputs_Ref_Units,,MATCH(BS$33,Model_Inputs_Thermal_Zones,0)+$B40)=1),INDEX(Model_Inputs_Ref_Units,,MATCH(BS$33,Model_Inputs_Thermal_Zones,0)+$B38),INDEX(Model_Inputs_Ref_Units,,MATCH(BS$33,Model_Inputs_Thermal_Zones,0)+1)),\"\"))","v":""},{"$f":"IF(BT33=\"\",\"\",IFERROR(SUMPRODUCT(--(INDEX(Model_Inputs_Ref_Units,,MATCH(BT$33,Model_Inputs_Thermal_Zones,0)+$B40)=1),INDEX(Model_Inputs_Ref_Units,,MATCH(BT$33,Model_Inputs_Thermal_Zones,0)+$B38),INDEX(Model_Inputs_Ref_Units,,MATCH(BT$33,Model_Inputs_Thermal_Zones,0)+1)),\"\"))","v":""},{"$f":"IF(BU33=\"\",\"\",IFERROR(SUMPRODUCT(--(INDEX(Model_Inputs_Ref_Units,,MATCH(BU$33,Model_Inputs_Thermal_Zones,0)+$B40)=1),INDEX(Model_Inputs_Ref_Units,,MATCH(BU$33,Model_Inputs_Thermal_Zones,0)+$B38),INDEX(Model_Inputs_Ref_Units,,MATCH(BU$33,Model_Inputs_Thermal_Zones,0)+1)),\"\"))","v":""},{"$f":"IF(BV33=\"\",\"\",IFERROR(SUMPRODUCT(--(INDEX(Model_Inputs_Ref_Units,,MATCH(BV$33,Model_Inputs_Thermal_Zones,0)+$B40)=1),INDEX(Model_Inputs_Ref_Units,,MATCH(BV$33,Model_Inputs_Thermal_Zones,0)+$B38),INDEX(Model_Inputs_Ref_Units,,MATCH(BV$33,Model_Inputs_Thermal_Zones,0)+1)),\"\"))","v":""},{"$f":"IF(BW33=\"\",\"\",IFERROR(SUMPRODUCT(--(INDEX(Model_Inputs_Ref_Units,,MATCH(BW$33,Model_Inputs_Thermal_Zones,0)+$B40)=1),INDEX(Model_Inputs_Ref_Units,,MATCH(BW$33,Model_Inputs_Thermal_Zones,0)+$B38),INDEX(Model_Inputs_Ref_Units,,MATCH(BW$33,Model_Inputs_Thermal_Zones,0)+1)),\"\"))","v":""},{"$f":"IF(BX33=\"\",\"\",IFERROR(SUMPRODUCT(--(INDEX(Model_Inputs_Ref_Units,,MATCH(BX$33,Model_Inputs_Thermal_Zones,0)+$B40)=1),INDEX(Model_Inputs_Ref_Units,,MATCH(BX$33,Model_Inputs_Thermal_Zones,0)+$B38),INDEX(Model_Inputs_Ref_Units,,MATCH(BX$33,Model_Inputs_Thermal_Zones,0)+1)),\"\"))","v":""},{"$f":"IF(BY33=\"\",\"\",IFERROR(SUMPRODUCT(--(INDEX(Model_Inputs_Ref_Units,,MATCH(BY$33,Model_Inputs_Thermal_Zones,0)+$B40)=1),INDEX(Model_Inputs_Ref_Units,,MATCH(BY$33,Model_Inputs_Thermal_Zones,0)+$B38),INDEX(Model_Inputs_Ref_Units,,MATCH(BY$33,Model_Inputs_Thermal_Zones,0)+1)),\"\"))","v":""},{"$f":"IF(BZ33=\"\",\"\",IFERROR(SUMPRODUCT(--(INDEX(Model_Inputs_Ref_Units,,MATCH(BZ$33,Model_Inputs_Thermal_Zones,0)+$B40)=1),INDEX(Model_Inputs_Ref_Units,,MATCH(BZ$33,Model_Inputs_Thermal_Zones,0)+$B38),INDEX(Model_Inputs_Ref_Units,,MATCH(BZ$33,Model_Inputs_Thermal_Zones,0)+1)),\"\"))","v":""}]
["D",null,null,null,"Unregulated"]
["D",null,null,null,"Pr","Daily hours of operation",null,{"$f":"IF(H33=\"\",\"\",IFERROR(SUMPRODUCT(--(INDEX(Model_Inputs_Ref_Units,,MATCH(H$33,Model_Inputs_Thermal_Zones,0)+$B40)<>1),INDEX(Model_Inputs_Ref_Units,,MATCH(H$33,Model_Inputs_Thermal_Zones,0)+$B34),INDEX(Model_Inputs_Ref_Units,,MATCH(H$33,Model_Inputs_Thermal_Zones,0)+1))/SUMPRODUCT(--(INDEX(Model_Inputs_Ref_Units,,MATCH(H$33,Model_Inputs_Thermal_Zones,0)+$B40)<>1),INDEX(Model_Inputs_Ref_Units,,MATCH(H$33,Model_Inputs_Thermal_Zones,0)+1)),\"\"))","v":""},{"$f":"IF(I33=\"\",\"\",IFERROR(SUMPRODUCT(--(INDEX(Model_Inputs_Ref_Units,,MATCH(I$33,Model_Inputs_Thermal_Zones,0)+$B40)<>1),INDEX(Model_Inputs_Ref_Units,,MATCH(I$33,Model_Inputs_Thermal_Zones,0)+$B34),INDEX(Model_Inputs_Ref_Units,,MATCH(I$33,Model_Inputs_Thermal_Zones,0)+1))/SUMPRODUCT(--(INDEX(Model_Inputs_Ref_Units,,MATCH(I$33,Model_Inputs_Thermal_Zones,0)+$B40)<>1),INDEX(Model_Inputs_Ref_Units,,MATCH(I$33,Model_Inputs_Thermal_Zones,0)+1)),\"\"))","v":""},{"$f":"IF(J33=\"\",\"\",IFERROR(SUMPRODUCT(--(INDEX(Model_Inputs_Ref_Units,,MATCH(J$33,Model_Inputs_Thermal_Zones,0)+$B40)<>1),INDEX(Model_Inputs_Ref_Units,,MATCH(J$33,Model_Inputs_Thermal_Zones,0)+$B34),INDEX(Model_Inputs_Ref_Units,,MATCH(J$33,Model_Inputs_Thermal_Zones,0)+1))/SUMPRODUCT(--(INDEX(Model_Inputs_Ref_Units,,MATCH(J$33,Model_Inputs_Thermal_Zones,0)+$B40)<>1),INDEX(Model_Inputs_Ref_Units,,MATCH(J$33,Model_Inputs_Thermal_Zones,0)+1)),\"\"))","v":""},{"$f":"IF(K33=\"\",\"\",IFERROR(SUMPRODUCT(--(INDEX(Model_Inputs_Ref_Units,,MATCH(K$33,Model_Inputs_Thermal_Zones,0)+$B40)<>1),INDEX(Model_Inputs_Ref_Units,,MATCH(K$33,Model_Inputs_Thermal_Zones,0)+$B34),INDEX(Model_Inputs_Ref_Units,,MATCH(K$33,Model_Inputs_Thermal_Zones,0)+1))/SUMPRODUCT(--(INDEX(Model_Inputs_Ref_Units,,MATCH(K$33,Model_Inputs_Thermal_Zones,0)+$B40)<>1),INDEX(Model_Inputs_Ref_Units,,MATCH(K$33,Model_Inputs_Thermal_Zones,0)+1)),\"\"))","v":""},{"$f":"IF(L33=\"\",\"\",IFERROR(SUMPRODUCT(--(INDEX(Model_Inputs_Ref_Units,,MATCH(L$33,Model_Inputs_Thermal_Zones,0)+$B40)<>1),INDEX(Model_Inputs_Ref_Units,,MATCH(L$33,Model_Inputs_Thermal_Zones,0)+$B34),INDEX(Model_Inputs_Ref_Units,,MATCH(L$33,Model_Inputs_Thermal_Zones,0)+1))/SUMPRODUCT(--(INDEX(Model_Inputs_Ref_Units,,MATCH(L$33,Model_Inputs_Thermal_Zones,0)+$B40)<>1),INDEX(Model_Inputs_Ref_Units,,MATCH(L$33,Model_Inputs_Thermal_Zones,0)+1)),\"\"))","v":""},{"$f":"IF(M33=\"\",\"\",IFERROR(SUMPRODUCT(--(INDEX(Model_Inputs_Ref_Units,,MATCH(M$33,Model_Inputs_Thermal_Zones,0)+$B40)<>1),INDEX(Model_Inputs_Ref_Units,,MATCH(M$33,Model_Inputs_Thermal_Zones,0)+$B34),INDEX(Model_Inputs_Ref_Units,,MATCH(M$33,Model_Inputs_Thermal_Zones,0)+1))/SUMPRODUCT(--(INDEX(Model_Inputs_Ref_Units,,MATCH(M$33,Model_Inputs_Thermal_Zones,0)+$B40)<>1),INDEX(Model_Inputs_Ref_Units,,MATCH(M$33,Model_Inputs_Thermal_Zones,0)+1)),\"\"))","v":""},{"$f":"IF(N33=\"\",\"\",IFERROR(SUMPRODUCT(--(INDEX(Model_Inputs_Ref_Units,,MATCH(N$33,Model_Inputs_Thermal_Zones,0)+$B40)<>1),INDEX(Model_Inputs_Ref_Units,,MATCH(N$33,Model_Inputs_Thermal_Zones,0)+$B34),INDEX(Model_Inputs_Ref_Units,,MATCH(N$33,Model_Inputs_Thermal_Zones,0)+1))/SUMPRODUCT(--(INDEX(Model_Inputs_Ref_Units,,MATCH(N$33,Model_Inputs_Thermal_Zones,0)+$B40)<>1),INDEX(Model_Inputs_Ref_Units,,MATCH(N$33,Model_Inputs_Thermal_Zones,0)+1)),\"\"))","v":""},{"$f":"IF(O33=\"\",\"\",IFERROR(SUMPRODUCT(--(INDEX(Model_Inputs_Ref_Units,,MATCH(O$33,Model_Inputs_Thermal_Zones,0)+$B40)<>1),INDEX(Model_Inputs_Ref_Units,,MATCH(O$33,Model_Inputs_Thermal_Zones,0)+$B34),INDEX(Model_Inputs_Ref_Units,,MATCH(O$33,Model_Inputs_Thermal_Zones,0)+1))/SUMPRODUCT(--(INDEX(Model_Inputs_Ref_Units,,MATCH(O$33,Model_Inputs_Thermal_Zones,0)+$B40)<>1),INDEX(Model_Inputs_Ref_Units,,MATCH(O$33,Model_Inputs_Thermal_Zones,0)+1)),\"\"))","v":""},{"$f":"IF(P33=\"\",\"\",IFERROR(SUMPRODUCT(--(INDEX(Model_Inputs_Ref_Units,,MATCH(P$33,Model_Inputs_Thermal_Zones,0)+$B40)<>1),INDEX(Model_Inputs_Ref_Units,,MATCH(P$33,Model_Inputs_Thermal_Zones,0)+$B34),INDEX(Model_Inputs_Ref_Units,,MATCH(P$33,Model_Inputs_Thermal_Zones,0)+1))/SUMPRODUCT(--(INDEX(Model_Inputs_Ref_Units,,MATCH(P$33,Model_Inputs_Thermal_Zones,0)+$B40)<>1),INDEX(Model_Inputs_Ref_Units,,MATCH(P$33,Model_Inputs_Thermal_Zones,0)+1)),\"\"))","v":""},{"$f":"IF(Q33=\"\",\"\",IFERROR(SUMPRODUCT(--(INDEX(Model_Inputs_Ref_Units,,MATCH(Q$33,Model_Inputs_Thermal_Zones,0)+$B40)<>1),INDEX(Model_Inputs_Ref_Units,,MATCH(Q$33,Model_Inputs_Thermal_Zones,0)+$B34),INDEX(Model_Inputs_Ref_Units,,MATCH(Q$33,Model_Inputs_Thermal_Zones,0)+1))/SUMPRODUCT(--(INDEX(Model_Inputs_Ref_Units,,MATCH(Q$33,Model_Inputs_Thermal_Zones,0)+$B40)<>1),INDEX(Model_Inputs_Ref_Units,,MATCH(Q$33,Model_Inputs_Thermal_Zones,0)+1)),\"\"))","v":""},{"$f":"IF(R33=\"\",\"\",IFERROR(SUMPRODUCT(--(INDEX(Model_Inputs_Ref_Units,,MATCH(R$33,Model_Inputs_Thermal_Zones,0)+$B40)<>1),INDEX(Model_Inputs_Ref_Units,,MATCH(R$33,Model_Inputs_Thermal_Zones,0)+$B34),INDEX(Model_Inputs_Ref_Units,,MATCH(R$33,Model_Inputs_Thermal_Zones,0)+1))/SUMPRODUCT(--(INDEX(Model_Inputs_Ref_Units,,MATCH(R$33,Model_Inputs_Thermal_Zones,0)+$B40)<>1),INDEX(Model_Inputs_Ref_Units,,MATCH(R$33,Model_Inputs_Thermal_Zones,0)+1)),\"\"))","v":""},{"$f":"IF(S33=\"\",\"\",IFERROR(SUMPRODUCT(--(INDEX(Model_Inputs_Ref_Units,,MATCH(S$33,Model_Inputs_Thermal_Zones,0)+$B40)<>1),INDEX(Model_Inputs_Ref_Units,,MATCH(S$33,Model_Inputs_Thermal_Zones,0)+$B34),INDEX(Model_Inputs_Ref_Units,,MATCH(S$33,Model_Inputs_Thermal_Zones,0)+1))/SUMPRODUCT(--(INDEX(Model_Inputs_Ref_Units,,MATCH(S$33,Model_Inputs_Thermal_Zones,0)+$B40)<>1),INDEX(Model_Inputs_Ref_Units,,MATCH(S$33,Model_Inputs_Thermal_Zones,0)+1)),\"\"))","v":""},{"$f":"IF(T33=\"\",\"\",IFERROR(SUMPRODUCT(--(INDEX(Model_Inputs_Ref_Units,,MATCH(T$33,Model_Inputs_Thermal_Zones,0)+$B40)<>1),INDEX(Model_Inputs_Ref_Units,,MATCH(T$33,Model_Inputs_Thermal_Zones,0)+$B34),INDEX(Model_Inputs_Ref_Units,,MATCH(T$33,Model_Inputs_Thermal_Zones,0)+1))/SUMPRODUCT(--(INDEX(Model_Inputs_Ref_Units,,MATCH(T$33,Model_Inputs_Thermal_Zones,0)+$B40)<>1),INDEX(Model_Inputs_Ref_Units,,MATCH(T$33,Model_Inputs_Thermal_Zones,0)+1)),\"\"))","v":""},{"$f":"IF(U33=\"\",\"\",IFERROR(SUMPRODUCT(--(INDEX(Model_Inputs_Ref_Units,,MATCH(U$33,Model_Inputs_Thermal_Zones,0)+$B40)<>1),INDEX(Model_Inputs_Ref_Units,,MATCH(U$33,Model_Inputs_Thermal_Zones,0)+$B34),INDEX(Model_Inputs_Ref_Units,,MATCH(U$33,Model_Inputs_Thermal_Zones,0)+1))/SUMPRODUCT(--(INDEX(Model_Inputs_Ref_Units,,MATCH(U$33,Model_Inputs_Thermal_Zones,0)+$B40)<>1),INDEX(Model_Inputs_Ref_Units,,MATCH(U$33,Model_Inputs_Thermal_Zones,0)+1)),\"\"))","v":""},{"$f":"IF(V33=\"\",\"\",IFERROR(SUMPRODUCT(--(INDEX(Model_Inputs_Ref_Units,,MATCH(V$33,Model_Inputs_Thermal_Zones,0)+$B40)<>1),INDEX(Model_Inputs_Ref_Units,,MATCH(V$33,Model_Inputs_Thermal_Zones,0)+$B34),INDEX(Model_Inputs_Ref_Units,,MATCH(V$33,Model_Inputs_Thermal_Zones,0)+1))/SUMPRODUCT(--(INDEX(Model_Inputs_Ref_Units,,MATCH(V$33,Model_Inputs_Thermal_Zones,0)+$B40)<>1),INDEX(Model_Inputs_Ref_Units,,MATCH(V$33,Model_Inputs_Thermal_Zones,0)+1)),\"\"))","v":""},{"$f":"IF(W33=\"\",\"\",IFERROR(SUMPRODUCT(--(INDEX(Model_Inputs_Ref_Units,,MATCH(W$33,Model_Inputs_Thermal_Zones,0)+$B40)<>1),INDEX(Model_Inputs_Ref_Units,,MATCH(W$33,Model_Inputs_Thermal_Zones,0)+$B34),INDEX(Model_Inputs_Ref_Units,,MATCH(W$33,Model_Inputs_Thermal_Zones,0)+1))/SUMPRODUCT(--(INDEX(Model_Inputs_Ref_Units,,MATCH(W$33,Model_Inputs_Thermal_Zones,0)+$B40)<>1),INDEX(Model_Inputs_Ref_Units,,MATCH(W$33,Model_Inputs_Thermal_Zones,0)+1)),\"\"))","v":""},{"$f":"IF(X33=\"\",\"\",IFERROR(SUMPRODUCT(--(INDEX(Model_Inputs_Ref_Units,,MATCH(X$33,Model_Inputs_Thermal_Zones,0)+$B40)<>1),INDEX(Model_Inputs_Ref_Units,,MATCH(X$33,Model_Inputs_Thermal_Zones,0)+$B34),INDEX(Model_Inputs_Ref_Units,,MATCH(X$33,Model_Inputs_Thermal_Zones,0)+1))/SUMPRODUCT(--(INDEX(Model_Inputs_Ref_Units,,MATCH(X$33,Model_Inputs_Thermal_Zones,0)+$B40)<>1),INDEX(Model_Inputs_Ref_Units,,MATCH(X$33,Model_Inputs_Thermal_Zones,0)+1)),\"\"))","v":""},{"$f":"IF(Y33=\"\",\"\",IFERROR(SUMPRODUCT(--(INDEX(Model_Inputs_Ref_Units,,MATCH(Y$33,Model_Inputs_Thermal_Zones,0)+$B40)<>1),INDEX(Model_Inputs_Ref_Units,,MATCH(Y$33,Model_Inputs_Thermal_Zones,0)+$B34),INDEX(Model_Inputs_Ref_Units,,MATCH(Y$33,Model_Inputs_Thermal_Zones,0)+1))/SUMPRODUCT(--(INDEX(Model_Inputs_Ref_Units,,MATCH(Y$33,Model_Inputs_Thermal_Zones,0)+$B40)<>1),INDEX(Model_Inputs_Ref_Units,,MATCH(Y$33,Model_Inputs_Thermal_Zones,0)+1)),\"\"))","v":""},{"$f":"IF(Z33=\"\",\"\",IFERROR(SUMPRODUCT(--(INDEX(Model_Inputs_Ref_Units,,MATCH(Z$33,Model_Inputs_Thermal_Zones,0)+$B40)<>1),INDEX(Model_Inputs_Ref_Units,,MATCH(Z$33,Model_Inputs_Thermal_Zones,0)+$B34),INDEX(Model_Inputs_Ref_Units,,MATCH(Z$33,Model_Inputs_Thermal_Zones,0)+1))/SUMPRODUCT(--(INDEX(Model_Inputs_Ref_Units,,MATCH(Z$33,Model_Inputs_Thermal_Zones,0)+$B40)<>1),INDEX(Model_Inputs_Ref_Units,,MATCH(Z$33,Model_Inputs_Thermal_Zones,0)+1)),\"\"))","v":""},{"$f":"IF(AA33=\"\",\"\",IFERROR(SUMPRODUCT(--(INDEX(Model_Inputs_Ref_Units,,MATCH(AA$33,Model_Inputs_Thermal_Zones,0)+$B40)<>1),INDEX(Model_Inputs_Ref_Units,,MATCH(AA$33,Model_Inputs_Thermal_Zones,0)+$B34),INDEX(Model_Inputs_Ref_Units,,MATCH(AA$33,Model_Inputs_Thermal_Zones,0)+1))/SUMPRODUCT(--(INDEX(Model_Inputs_Ref_Units,,MATCH(AA$33,Model_Inputs_Thermal_Zones,0)+$B40)<>1),INDEX(Model_Inputs_Ref_Units,,MATCH(AA$33,Model_Inputs_Thermal_Zones,0)+1)),\"\"))","v":""},{"$f":"IF(AB33=\"\",\"\",IFERROR(SUMPRODUCT(--(INDEX(Model_Inputs_Ref_Units,,MATCH(AB$33,Model_Inputs_Thermal_Zones,0)+$B40)<>1),INDEX(Model_Inputs_Ref_Units,,MATCH(AB$33,Model_Inputs_Thermal_Zones,0)+$B34),INDEX(Model_Inputs_Ref_Units,,MATCH(AB$33,Model_Inputs_Thermal_Zones,0)+1))/SUMPRODUCT(--(INDEX(Model_Inputs_Ref_Units,,MATCH(AB$33,Model_Inputs_Thermal_Zones,0)+$B40)<>1),INDEX(Model_Inputs_Ref_Units,,MATCH(AB$33,Model_Inputs_Thermal_Zones,0)+1)),\"\"))","v":""},{"$f":"IF(AC33=\"\",\"\",IFERROR(SUMPRODUCT(--(INDEX(Model_Inputs_Ref_Units,,MATCH(AC$33,Model_Inputs_Thermal_Zones,0)+$B40)<>1),INDEX(Model_Inputs_Ref_Units,,MATCH(AC$33,Model_Inputs_Thermal_Zones,0)+$B34),INDEX(Model_Inputs_Ref_Units,,MATCH(AC$33,Model_Inputs_Thermal_Zones,0)+1))/SUMPRODUCT(--(INDEX(Model_Inputs_Ref_Units,,MATCH(AC$33,Model_Inputs_Thermal_Zones,0)+$B40)<>1),INDEX(Model_Inputs_Ref_Units,,MATCH(AC$33,Model_Inputs_Thermal_Zones,0)+1)),\"\"))","v":""},{"$f":"IF(AD33=\"\",\"\",IFERROR(SUMPRODUCT(--(INDEX(Model_Inputs_Ref_Units,,MATCH(AD$33,Model_Inputs_Thermal_Zones,0)+$B40)<>1),INDEX(Model_Inputs_Ref_Units,,MATCH(AD$33,Model_Inputs_Thermal_Zones,0)+$B34),INDEX(Model_Inputs_Ref_Units,,MATCH(AD$33,Model_Inputs_Thermal_Zones,0)+1))/SUMPRODUCT(--(INDEX(Model_Inputs_Ref_Units,,MATCH(AD$33,Model_Inputs_Thermal_Zones,0)+$B40)<>1),INDEX(Model_Inputs_Ref_Units,,MATCH(AD$33,Model_Inputs_Thermal_Zones,0)+1)),\"\"))","v":""},{"$f":"IF(AE33=\"\",\"\",IFERROR(SUMPRODUCT(--(INDEX(Model_Inputs_Ref_Units,,MATCH(AE$33,Model_Inputs_Thermal_Zones,0)+$B40)<>1),INDEX(Model_Inputs_Ref_Units,,MATCH(AE$33,Model_Inputs_Thermal_Zones,0)+$B34),INDEX(Model_Inputs_Ref_Units,,MATCH(AE$33,Model_Inputs_Thermal_Zones,0)+1))/SUMPRODUCT(--(INDEX(Model_Inputs_Ref_Units,,MATCH(AE$33,Model_Inputs_Thermal_Zones,0)+$B40)<>1),INDEX(Model_Inputs_Ref_Units,,MATCH(AE$33,Model_Inputs_Thermal_Zones,0)+1)),\"\"))","v":""},{"$f":"IF(AF33=\"\",\"\",IFERROR(SUMPRODUCT(--(INDEX(Model_Inputs_Ref_Units,,MATCH(AF$33,Model_Inputs_Thermal_Zones,0)+$B40)<>1),INDEX(Model_Inputs_Ref_Units,,MATCH(AF$33,Model_Inputs_Thermal_Zones,0)+$B34),INDEX(Model_Inputs_Ref_Units,,MATCH(AF$33,Model_Inputs_Thermal_Zones,0)+1))/SUMPRODUCT(--(INDEX(Model_Inputs_Ref_Units,,MATCH(AF$33,Model_Inputs_Thermal_Zones,0)+$B40)<>1),INDEX(Model_Inputs_Ref_Units,,MATCH(AF$33,Model_Inputs_Thermal_Zones,0)+1)),\"\"))","v":""},{"$f":"IF(AG33=\"\",\"\",IFERROR(SUMPRODUCT(--(INDEX(Model_Inputs_Ref_Units,,MATCH(AG$33,Model_Inputs_Thermal_Zones,0)+$B40)<>1),INDEX(Model_Inputs_Ref_Units,,MATCH(AG$33,Model_Inputs_Thermal_Zones,0)+$B34),INDEX(Model_Inputs_Ref_Units,,MATCH(AG$33,Model_Inputs_Thermal_Zones,0)+1))/SUMPRODUCT(--(INDEX(Model_Inputs_Ref_Units,,MATCH(AG$33,Model_Inputs_Thermal_Zones,0)+$B40)<>1),INDEX(Model_Inputs_Ref_Units,,MATCH(AG$33,Model_Inputs_Thermal_Zones,0)+1)),\"\"))","v":""},{"$f":"IF(AH33=\"\",\"\",IFERROR(SUMPRODUCT(--(INDEX(Model_Inputs_Ref_Units,,MATCH(AH$33,Model_Inputs_Thermal_Zones,0)+$B40)<>1),INDEX(Model_Inputs_Ref_Units,,MATCH(AH$33,Model_Inputs_Thermal_Zones,0)+$B34),INDEX(Model_Inputs_Ref_Units,,MATCH(AH$33,Model_Inputs_Thermal_Zones,0)+1))/SUMPRODUCT(--(INDEX(Model_Inputs_Ref_Units,,MATCH(AH$33,Model_Inputs_Thermal_Zones,0)+$B40)<>1),INDEX(Model_Inputs_Ref_Units,,MATCH(AH$33,Model_Inputs_Thermal_Zones,0)+1)),\"\"))","v":""},{"$f":"IF(AI33=\"\",\"\",IFERROR(SUMPRODUCT(--(INDEX(Model_Inputs_Ref_Units,,MATCH(AI$33,Model_Inputs_Thermal_Zones,0)+$B40)<>1),INDEX(Model_Inputs_Ref_Units,,MATCH(AI$33,Model_Inputs_Thermal_Zones,0)+$B34),INDEX(Model_Inputs_Ref_Units,,MATCH(AI$33,Model_Inputs_Thermal_Zones,0)+1))/SUMPRODUCT(--(INDEX(Model_Inputs_Ref_Units,,MATCH(AI$33,Model_Inputs_Thermal_Zones,0)+$B40)<>1),INDEX(Model_Inputs_Ref_Units,,MATCH(AI$33,Model_Inputs_Thermal_Zones,0)+1)),\"\"))","v":""},{"$f":"IF(AJ33=\"\",\"\",IFERROR(SUMPRODUCT(--(INDEX(Model_Inputs_Ref_Units,,MATCH(AJ$33,Model_Inputs_Thermal_Zones,0)+$B40)<>1),INDEX(Model_Inputs_Ref_Units,,MATCH(AJ$33,Model_Inputs_Thermal_Zones,0)+$B34),INDEX(Model_Inputs_Ref_Units,,MATCH(AJ$33,Model_Inputs_Thermal_Zones,0)+1))/SUMPRODUCT(--(INDEX(Model_Inputs_Ref_Units,,MATCH(AJ$33,Model_Inputs_Thermal_Zones,0)+$B40)<>1),INDEX(Model_Inputs_Ref_Units,,MATCH(AJ$33,Model_Inputs_Thermal_Zones,0)+1)),\"\"))","v":""},{"$f":"IF(AK33=\"\",\"\",IFERROR(SUMPRODUCT(--(INDEX(Model_Inputs_Ref_Units,,MATCH(AK$33,Model_Inputs_Thermal_Zones,0)+$B40)<>1),INDEX(Model_Inputs_Ref_Units,,MATCH(AK$33,Model_Inputs_Thermal_Zones,0)+$B34),INDEX(Model_Inputs_Ref_Units,,MATCH(AK$33,Model_Inputs_Thermal_Zones,0)+1))/SUMPRODUCT(--(INDEX(Model_Inputs_Ref_Units,,MATCH(AK$33,Model_Inputs_Thermal_Zones,0)+$B40)<>1),INDEX(Model_Inputs_Ref_Units,,MATCH(AK$33,Model_Inputs_Thermal_Zones,0)+1)),\"\"))","v":""},{"$f":"IF(AL33=\"\",\"\",IFERROR(SUMPRODUCT(--(INDEX(Model_Inputs_Ref_Units,,MATCH(AL$33,Model_Inputs_Thermal_Zones,0)+$B40)<>1),INDEX(Model_Inputs_Ref_Units,,MATCH(AL$33,Model_Inputs_Thermal_Zones,0)+$B34),INDEX(Model_Inputs_Ref_Units,,MATCH(AL$33,Model_Inputs_Thermal_Zones,0)+1))/SUMPRODUCT(--(INDEX(Model_Inputs_Ref_Units,,MATCH(AL$33,Model_Inputs_Thermal_Zones,0)+$B40)<>1),INDEX(Model_Inputs_Ref_Units,,MATCH(AL$33,Model_Inputs_Thermal_Zones,0)+1)),\"\"))","v":""},{"$f":"IF(AM33=\"\",\"\",IFERROR(SUMPRODUCT(--(INDEX(Model_Inputs_Ref_Units,,MATCH(AM$33,Model_Inputs_Thermal_Zones,0)+$B40)<>1),INDEX(Model_Inputs_Ref_Units,,MATCH(AM$33,Model_Inputs_Thermal_Zones,0)+$B34),INDEX(Model_Inputs_Ref_Units,,MATCH(AM$33,Model_Inputs_Thermal_Zones,0)+1))/SUMPRODUCT(--(INDEX(Model_Inputs_Ref_Units,,MATCH(AM$33,Model_Inputs_Thermal_Zones,0)+$B40)<>1),INDEX(Model_Inputs_Ref_Units,,MATCH(AM$33,Model_Inputs_Thermal_Zones,0)+1)),\"\"))","v":""},{"$f":"IF(AN33=\"\",\"\",IFERROR(SUMPRODUCT(--(INDEX(Model_Inputs_Ref_Units,,MATCH(AN$33,Model_Inputs_Thermal_Zones,0)+$B40)<>1),INDEX(Model_Inputs_Ref_Units,,MATCH(AN$33,Model_Inputs_Thermal_Zones,0)+$B34),INDEX(Model_Inputs_Ref_Units,,MATCH(AN$33,Model_Inputs_Thermal_Zones,0)+1))/SUMPRODUCT(--(INDEX(Model_Inputs_Ref_Units,,MATCH(AN$33,Model_Inputs_Thermal_Zones,0)+$B40)<>1),INDEX(Model_Inputs_Ref_Units,,MATCH(AN$33,Model_Inputs_Thermal_Zones,0)+1)),\"\"))","v":""},{"$f":"IF(AO33=\"\",\"\",IFERROR(SUMPRODUCT(--(INDEX(Model_Inputs_Ref_Units,,MATCH(AO$33,Model_Inputs_Thermal_Zones,0)+$B40)<>1),INDEX(Model_Inputs_Ref_Units,,MATCH(AO$33,Model_Inputs_Thermal_Zones,0)+$B34),INDEX(Model_Inputs_Ref_Units,,MATCH(AO$33,Model_Inputs_Thermal_Zones,0)+1))/SUMPRODUCT(--(INDEX(Model_Inputs_Ref_Units,,MATCH(AO$33,Model_Inputs_Thermal_Zones,0)+$B40)<>1),INDEX(Model_Inputs_Ref_Units,,MATCH(AO$33,Model_Inputs_Thermal_Zones,0)+1)),\"\"))","v":""},{"$f":"IF(AP33=\"\",\"\",IFERROR(SUMPRODUCT(--(INDEX(Model_Inputs_Ref_Units,,MATCH(AP$33,Model_Inputs_Thermal_Zones,0)+$B40)<>1),INDEX(Model_Inputs_Ref_Units,,MATCH(AP$33,Model_Inputs_Thermal_Zones,0)+$B34),INDEX(Model_Inputs_Ref_Units,,MATCH(AP$33,Model_Inputs_Thermal_Zones,0)+1))/SUMPRODUCT(--(INDEX(Model_Inputs_Ref_Units,,MATCH(AP$33,Model_Inputs_Thermal_Zones,0)+$B40)<>1),INDEX(Model_Inputs_Ref_Units,,MATCH(AP$33,Model_Inputs_Thermal_Zones,0)+1)),\"\"))","v":""},{"$f":"IF(AQ33=\"\",\"\",IFERROR(SUMPRODUCT(--(INDEX(Model_Inputs_Ref_Units,,MATCH(AQ$33,Model_Inputs_Thermal_Zones,0)+$B40)<>1),INDEX(Model_Inputs_Ref_Units,,MATCH(AQ$33,Model_Inputs_Thermal_Zones,0)+$B34),INDEX(Model_Inputs_Ref_Units,,MATCH(AQ$33,Model_Inputs_Thermal_Zones,0)+1))/SUMPRODUCT(--(INDEX(Model_Inputs_Ref_Units,,MATCH(AQ$33,Model_Inputs_Thermal_Zones,0)+$B40)<>1),INDEX(Model_Inputs_Ref_Units,,MATCH(AQ$33,Model_Inputs_Thermal_Zones,0)+1)),\"\"))","v":""},{"$f":"IF(AR33=\"\",\"\",IFERROR(SUMPRODUCT(--(INDEX(Model_Inputs_Ref_Units,,MATCH(AR$33,Model_Inputs_Thermal_Zones,0)+$B40)<>1),INDEX(Model_Inputs_Ref_Units,,MATCH(AR$33,Model_Inputs_Thermal_Zones,0)+$B34),INDEX(Model_Inputs_Ref_Units,,MATCH(AR$33,Model_Inputs_Thermal_Zones,0)+1))/SUMPRODUCT(--(INDEX(Model_Inputs_Ref_Units,,MATCH(AR$33,Model_Inputs_Thermal_Zones,0)+$B40)<>1),INDEX(Model_Inputs_Ref_Units,,MATCH(AR$33,Model_Inputs_Thermal_Zones,0)+1)),\"\"))","v":""},{"$f":"IF(AS33=\"\",\"\",IFERROR(SUMPRODUCT(--(INDEX(Model_Inputs_Ref_Units,,MATCH(AS$33,Model_Inputs_Thermal_Zones,0)+$B40)<>1),INDEX(Model_Inputs_Ref_Units,,MATCH(AS$33,Model_Inputs_Thermal_Zones,0)+$B34),INDEX(Model_Inputs_Ref_Units,,MATCH(AS$33,Model_Inputs_Thermal_Zones,0)+1))/SUMPRODUCT(--(INDEX(Model_Inputs_Ref_Units,,MATCH(AS$33,Model_Inputs_Thermal_Zones,0)+$B40)<>1),INDEX(Model_Inputs_Ref_Units,,MATCH(AS$33,Model_Inputs_Thermal_Zones,0)+1)),\"\"))","v":""},{"$f":"IF(AT33=\"\",\"\",IFERROR(SUMPRODUCT(--(INDEX(Model_Inputs_Ref_Units,,MATCH(AT$33,Model_Inputs_Thermal_Zones,0)+$B40)<>1),INDEX(Model_Inputs_Ref_Units,,MATCH(AT$33,Model_Inputs_Thermal_Zones,0)+$B34),INDEX(Model_Inputs_Ref_Units,,MATCH(AT$33,Model_Inputs_Thermal_Zones,0)+1))/SUMPRODUCT(--(INDEX(Model_Inputs_Ref_Units,,MATCH(AT$33,Model_Inputs_Thermal_Zones,0)+$B40)<>1),INDEX(Model_Inputs_Ref_Units,,MATCH(AT$33,Model_Inputs_Thermal_Zones,0)+1)),\"\"))","v":""},{"$f":"IF(AU33=\"\",\"\",IFERROR(SUMPRODUCT(--(INDEX(Model_Inputs_Ref_Units,,MATCH(AU$33,Model_Inputs_Thermal_Zones,0)+$B40)<>1),INDEX(Model_Inputs_Ref_Units,,MATCH(AU$33,Model_Inputs_Thermal_Zones,0)+$B34),INDEX(Model_Inputs_Ref_Units,,MATCH(AU$33,Model_Inputs_Thermal_Zones,0)+1))/SUMPRODUCT(--(INDEX(Model_Inputs_Ref_Units,,MATCH(AU$33,Model_Inputs_Thermal_Zones,0)+$B40)<>1),INDEX(Model_Inputs_Ref_Units,,MATCH(AU$33,Model_Inputs_Thermal_Zones,0)+1)),\"\"))","v":""},{"$f":"IF(AV33=\"\",\"\",IFERROR(SUMPRODUCT(--(INDEX(Model_Inputs_Ref_Units,,MATCH(AV$33,Model_Inputs_Thermal_Zones,0)+$B40)<>1),INDEX(Model_Inputs_Ref_Units,,MATCH(AV$33,Model_Inputs_Thermal_Zones,0)+$B34),INDEX(Model_Inputs_Ref_Units,,MATCH(AV$33,Model_Inputs_Thermal_Zones,0)+1))/SUMPRODUCT(--(INDEX(Model_Inputs_Ref_Units,,MATCH(AV$33,Model_Inputs_Thermal_Zones,0)+$B40)<>1),INDEX(Model_Inputs_Ref_Units,,MATCH(AV$33,Model_Inputs_Thermal_Zones,0)+1)),\"\"))","v":""},{"$f":"IF(AW33=\"\",\"\",IFERROR(SUMPRODUCT(--(INDEX(Model_Inputs_Ref_Units,,MATCH(AW$33,Model_Inputs_Thermal_Zones,0)+$B40)<>1),INDEX(Model_Inputs_Ref_Units,,MATCH(AW$33,Model_Inputs_Thermal_Zones,0)+$B34),INDEX(Model_Inputs_Ref_Units,,MATCH(AW$33,Model_Inputs_Thermal_Zones,0)+1))/SUMPRODUCT(--(INDEX(Model_Inputs_Ref_Units,,MATCH(AW$33,Model_Inputs_Thermal_Zones,0)+$B40)<>1),INDEX(Model_Inputs_Ref_Units,,MATCH(AW$33,Model_Inputs_Thermal_Zones,0)+1)),\"\"))","v":""},{"$f":"IF(AX33=\"\",\"\",IFERROR(SUMPRODUCT(--(INDEX(Model_Inputs_Ref_Units,,MATCH(AX$33,Model_Inputs_Thermal_Zones,0)+$B40)<>1),INDEX(Model_Inputs_Ref_Units,,MATCH(AX$33,Model_Inputs_Thermal_Zones,0)+$B34),INDEX(Model_Inputs_Ref_Units,,MATCH(AX$33,Model_Inputs_Thermal_Zones,0)+1))/SUMPRODUCT(--(INDEX(Model_Inputs_Ref_Units,,MATCH(AX$33,Model_Inputs_Thermal_Zones,0)+$B40)<>1),INDEX(Model_Inputs_Ref_Units,,MATCH(AX$33,Model_Inputs_Thermal_Zones,0)+1)),\"\"))","v":""},{"$f":"IF(AY33=\"\",\"\",IFERROR(SUMPRODUCT(--(INDEX(Model_Inputs_Ref_Units,,MATCH(AY$33,Model_Inputs_Thermal_Zones,0)+$B40)<>1),INDEX(Model_Inputs_Ref_Units,,MATCH(AY$33,Model_Inputs_Thermal_Zones,0)+$B34),INDEX(Model_Inputs_Ref_Units,,MATCH(AY$33,Model_Inputs_Thermal_Zones,0)+1))/SUMPRODUCT(--(INDEX(Model_Inputs_Ref_Units,,MATCH(AY$33,Model_Inputs_Thermal_Zones,0)+$B40)<>1),INDEX(Model_Inputs_Ref_Units,,MATCH(AY$33,Model_Inputs_Thermal_Zones,0)+1)),\"\"))","v":""},{"$f":"IF(AZ33=\"\",\"\",IFERROR(SUMPRODUCT(--(INDEX(Model_Inputs_Ref_Units,,MATCH(AZ$33,Model_Inputs_Thermal_Zones,0)+$B40)<>1),INDEX(Model_Inputs_Ref_Units,,MATCH(AZ$33,Model_Inputs_Thermal_Zones,0)+$B34),INDEX(Model_Inputs_Ref_Units,,MATCH(AZ$33,Model_Inputs_Thermal_Zones,0)+1))/SUMPRODUCT(--(INDEX(Model_Inputs_Ref_Units,,MATCH(AZ$33,Model_Inputs_Thermal_Zones,0)+$B40)<>1),INDEX(Model_Inputs_Ref_Units,,MATCH(AZ$33,Model_Inputs_Thermal_Zones,0)+1)),\"\"))","v":""},{"$f":"IF(BA33=\"\",\"\",IFERROR(SUMPRODUCT(--(INDEX(Model_Inputs_Ref_Units,,MATCH(BA$33,Model_Inputs_Thermal_Zones,0)+$B40)<>1),INDEX(Model_Inputs_Ref_Units,,MATCH(BA$33,Model_Inputs_Thermal_Zones,0)+$B34),INDEX(Model_Inputs_Ref_Units,,MATCH(BA$33,Model_Inputs_Thermal_Zones,0)+1))/SUMPRODUCT(--(INDEX(Model_Inputs_Ref_Units,,MATCH(BA$33,Model_Inputs_Thermal_Zones,0)+$B40)<>1),INDEX(Model_Inputs_Ref_Units,,MATCH(BA$33,Model_Inputs_Thermal_Zones,0)+1)),\"\"))","v":""},{"$f":"IF(BB33=\"\",\"\",IFERROR(SUMPRODUCT(--(INDEX(Model_Inputs_Ref_Units,,MATCH(BB$33,Model_Inputs_Thermal_Zones,0)+$B40)<>1),INDEX(Model_Inputs_Ref_Units,,MATCH(BB$33,Model_Inputs_Thermal_Zones,0)+$B34),INDEX(Model_Inputs_Ref_Units,,MATCH(BB$33,Model_Inputs_Thermal_Zones,0)+1))/SUMPRODUCT(--(INDEX(Model_Inputs_Ref_Units,,MATCH(BB$33,Model_Inputs_Thermal_Zones,0)+$B40)<>1),INDEX(Model_Inputs_Ref_Units,,MATCH(BB$33,Model_Inputs_Thermal_Zones,0)+1)),\"\"))","v":""},{"$f":"IF(BC33=\"\",\"\",IFERROR(SUMPRODUCT(--(INDEX(Model_Inputs_Ref_Units,,MATCH(BC$33,Model_Inputs_Thermal_Zones,0)+$B40)<>1),INDEX(Model_Inputs_Ref_Units,,MATCH(BC$33,Model_Inputs_Thermal_Zones,0)+$B34),INDEX(Model_Inputs_Ref_Units,,MATCH(BC$33,Model_Inputs_Thermal_Zones,0)+1))/SUMPRODUCT(--(INDEX(Model_Inputs_Ref_Units,,MATCH(BC$33,Model_Inputs_Thermal_Zones,0)+$B40)<>1),INDEX(Model_Inputs_Ref_Units,,MATCH(BC$33,Model_Inputs_Thermal_Zones,0)+1)),\"\"))","v":""},{"$f":"IF(BD33=\"\",\"\",IFERROR(SUMPRODUCT(--(INDEX(Model_Inputs_Ref_Units,,MATCH(BD$33,Model_Inputs_Thermal_Zones,0)+$B40)<>1),INDEX(Model_Inputs_Ref_Units,,MATCH(BD$33,Model_Inputs_Thermal_Zones,0)+$B34),INDEX(Model_Inputs_Ref_Units,,MATCH(BD$33,Model_Inputs_Thermal_Zones,0)+1))/SUMPRODUCT(--(INDEX(Model_Inputs_Ref_Units,,MATCH(BD$33,Model_Inputs_Thermal_Zones,0)+$B40)<>1),INDEX(Model_Inputs_Ref_Units,,MATCH(BD$33,Model_Inputs_Thermal_Zones,0)+1)),\"\"))","v":""},{"$f":"IF(BE33=\"\",\"\",IFERROR(SUMPRODUCT(--(INDEX(Model_Inputs_Ref_Units,,MATCH(BE$33,Model_Inputs_Thermal_Zones,0)+$B40)<>1),INDEX(Model_Inputs_Ref_Units,,MATCH(BE$33,Model_Inputs_Thermal_Zones,0)+$B34),INDEX(Model_Inputs_Ref_Units,,MATCH(BE$33,Model_Inputs_Thermal_Zones,0)+1))/SUMPRODUCT(--(INDEX(Model_Inputs_Ref_Units,,MATCH(BE$33,Model_Inputs_Thermal_Zones,0)+$B40)<>1),INDEX(Model_Inputs_Ref_Units,,MATCH(BE$33,Model_Inputs_Thermal_Zones,0)+1)),\"\"))","v":""},{"$f":"IF(BF33=\"\",\"\",IFERROR(SUMPRODUCT(--(INDEX(Model_Inputs_Ref_Units,,MATCH(BF$33,Model_Inputs_Thermal_Zones,0)+$B40)<>1),INDEX(Model_Inputs_Ref_Units,,MATCH(BF$33,Model_Inputs_Thermal_Zones,0)+$B34),INDEX(Model_Inputs_Ref_Units,,MATCH(BF$33,Model_Inputs_Thermal_Zones,0)+1))/SUMPRODUCT(--(INDEX(Model_Inputs_Ref_Units,,MATCH(BF$33,Model_Inputs_Thermal_Zones,0)+$B40)<>1),INDEX(Model_Inputs_Ref_Units,,MATCH(BF$33,Model_Inputs_Thermal_Zones,0)+1)),\"\"))","v":""},{"$f":"IF(BG33=\"\",\"\",IFERROR(SUMPRODUCT(--(INDEX(Model_Inputs_Ref_Units,,MATCH(BG$33,Model_Inputs_Thermal_Zones,0)+$B40)<>1),INDEX(Model_Inputs_Ref_Units,,MATCH(BG$33,Model_Inputs_Thermal_Zones,0)+$B34),INDEX(Model_Inputs_Ref_Units,,MATCH(BG$33,Model_Inputs_Thermal_Zones,0)+1))/SUMPRODUCT(--(INDEX(Model_Inputs_Ref_Units,,MATCH(BG$33,Model_Inputs_Thermal_Zones,0)+$B40)<>1),INDEX(Model_Inputs_Ref_Units,,MATCH(BG$33,Model_Inputs_Thermal_Zones,0)+1)),\"\"))","v":""},{"$f":"IF(BH33=\"\",\"\",IFERROR(SUMPRODUCT(--(INDEX(Model_Inputs_Ref_Units,,MATCH(BH$33,Model_Inputs_Thermal_Zones,0)+$B40)<>1),INDEX(Model_Inputs_Ref_Units,,MATCH(BH$33,Model_Inputs_Thermal_Zones,0)+$B34),INDEX(Model_Inputs_Ref_Units,,MATCH(BH$33,Model_Inputs_Thermal_Zones,0)+1))/SUMPRODUCT(--(INDEX(Model_Inputs_Ref_Units,,MATCH(BH$33,Model_Inputs_Thermal_Zones,0)+$B40)<>1),INDEX(Model_Inputs_Ref_Units,,MATCH(BH$33,Model_Inputs_Thermal_Zones,0)+1)),\"\"))","v":""},{"$f":"IF(BI33=\"\",\"\",IFERROR(SUMPRODUCT(--(INDEX(Model_Inputs_Ref_Units,,MATCH(BI$33,Model_Inputs_Thermal_Zones,0)+$B40)<>1),INDEX(Model_Inputs_Ref_Units,,MATCH(BI$33,Model_Inputs_Thermal_Zones,0)+$B34),INDEX(Model_Inputs_Ref_Units,,MATCH(BI$33,Model_Inputs_Thermal_Zones,0)+1))/SUMPRODUCT(--(INDEX(Model_Inputs_Ref_Units,,MATCH(BI$33,Model_Inputs_Thermal_Zones,0)+$B40)<>1),INDEX(Model_Inputs_Ref_Units,,MATCH(BI$33,Model_Inputs_Thermal_Zones,0)+1)),\"\"))","v":""},{"$f":"IF(BJ33=\"\",\"\",IFERROR(SUMPRODUCT(--(INDEX(Model_Inputs_Ref_Units,,MATCH(BJ$33,Model_Inputs_Thermal_Zones,0)+$B40)<>1),INDEX(Model_Inputs_Ref_Units,,MATCH(BJ$33,Model_Inputs_Thermal_Zones,0)+$B34),INDEX(Model_Inputs_Ref_Units,,MATCH(BJ$33,Model_Inputs_Thermal_Zones,0)+1))/SUMPRODUCT(--(INDEX(Model_Inputs_Ref_Units,,MATCH(BJ$33,Model_Inputs_Thermal_Zones,0)+$B40)<>1),INDEX(Model_Inputs_Ref_Units,,MATCH(BJ$33,Model_Inputs_Thermal_Zones,0)+1)),\"\"))","v":""},{"$f":"IF(BK33=\"\",\"\",IFERROR(SUMPRODUCT(--(INDEX(Model_Inputs_Ref_Units,,MATCH(BK$33,Model_Inputs_Thermal_Zones,0)+$B40)<>1),INDEX(Model_Inputs_Ref_Units,,MATCH(BK$33,Model_Inputs_Thermal_Zones,0)+$B34),INDEX(Model_Inputs_Ref_Units,,MATCH(BK$33,Model_Inputs_Thermal_Zones,0)+1))/SUMPRODUCT(--(INDEX(Model_Inputs_Ref_Units,,MATCH(BK$33,Model_Inputs_Thermal_Zones,0)+$B40)<>1),INDEX(Model_Inputs_Ref_Units,,MATCH(BK$33,Model_Inputs_Thermal_Zones,0)+1)),\"\"))","v":""},{"$f":"IF(BL33=\"\",\"\",IFERROR(SUMPRODUCT(--(INDEX(Model_Inputs_Ref_Units,,MATCH(BL$33,Model_Inputs_Thermal_Zones,0)+$B40)<>1),INDEX(Model_Inputs_Ref_Units,,MATCH(BL$33,Model_Inputs_Thermal_Zones,0)+$B34),INDEX(Model_Inputs_Ref_Units,,MATCH(BL$33,Model_Inputs_Thermal_Zones,0)+1))/SUMPRODUCT(--(INDEX(Model_Inputs_Ref_Units,,MATCH(BL$33,Model_Inputs_Thermal_Zones,0)+$B40)<>1),INDEX(Model_Inputs_Ref_Units,,MATCH(BL$33,Model_Inputs_Thermal_Zones,0)+1)),\"\"))","v":""},{"$f":"IF(BM33=\"\",\"\",IFERROR(SUMPRODUCT(--(INDEX(Model_Inputs_Ref_Units,,MATCH(BM$33,Model_Inputs_Thermal_Zones,0)+$B40)<>1),INDEX(Model_Inputs_Ref_Units,,MATCH(BM$33,Model_Inputs_Thermal_Zones,0)+$B34),INDEX(Model_Inputs_Ref_Units,,MATCH(BM$33,Model_Inputs_Thermal_Zones,0)+1))/SUMPRODUCT(--(INDEX(Model_Inputs_Ref_Units,,MATCH(BM$33,Model_Inputs_Thermal_Zones,0)+$B40)<>1),INDEX(Model_Inputs_Ref_Units,,MATCH(BM$33,Model_Inputs_Thermal_Zones,0)+1)),\"\"))","v":""},{"$f":"IF(BN33=\"\",\"\",IFERROR(SUMPRODUCT(--(INDEX(Model_Inputs_Ref_Units,,MATCH(BN$33,Model_Inputs_Thermal_Zones,0)+$B40)<>1),INDEX(Model_Inputs_Ref_Units,,MATCH(BN$33,Model_Inputs_Thermal_Zones,0)+$B34),INDEX(Model_Inputs_Ref_Units,,MATCH(BN$33,Model_Inputs_Thermal_Zones,0)+1))/SUMPRODUCT(--(INDEX(Model_Inputs_Ref_Units,,MATCH(BN$33,Model_Inputs_Thermal_Zones,0)+$B40)<>1),INDEX(Model_Inputs_Ref_Units,,MATCH(BN$33,Model_Inputs_Thermal_Zones,0)+1)),\"\"))","v":""},{"$f":"IF(BO33=\"\",\"\",IFERROR(SUMPRODUCT(--(INDEX(Model_Inputs_Ref_Units,,MATCH(BO$33,Model_Inputs_Thermal_Zones,0)+$B40)<>1),INDEX(Model_Inputs_Ref_Units,,MATCH(BO$33,Model_Inputs_Thermal_Zones,0)+$B34),INDEX(Model_Inputs_Ref_Units,,MATCH(BO$33,Model_Inputs_Thermal_Zones,0)+1))/SUMPRODUCT(--(INDEX(Model_Inputs_Ref_Units,,MATCH(BO$33,Model_Inputs_Thermal_Zones,0)+$B40)<>1),INDEX(Model_Inputs_Ref_Units,,MATCH(BO$33,Model_Inputs_Thermal_Zones,0)+1)),\"\"))","v":""},{"$f":"IF(BP33=\"\",\"\",IFERROR(SUMPRODUCT(--(INDEX(Model_Inputs_Ref_Units,,MATCH(BP$33,Model_Inputs_Thermal_Zones,0)+$B40)<>1),INDEX(Model_Inputs_Ref_Units,,MATCH(BP$33,Model_Inputs_Thermal_Zones,0)+$B34),INDEX(Model_Inputs_Ref_Units,,MATCH(BP$33,Model_Inputs_Thermal_Zones,0)+1))/SUMPRODUCT(--(INDEX(Model_Inputs_Ref_Units,,MATCH(BP$33,Model_Inputs_Thermal_Zones,0)+$B40)<>1),INDEX(Model_Inputs_Ref_Units,,MATCH(BP$33,Model_Inputs_Thermal_Zones,0)+1)),\"\"))","v":""},{"$f":"IF(BQ33=\"\",\"\",IFERROR(SUMPRODUCT(--(INDEX(Model_Inputs_Ref_Units,,MATCH(BQ$33,Model_Inputs_Thermal_Zones,0)+$B40)<>1),INDEX(Model_Inputs_Ref_Units,,MATCH(BQ$33,Model_Inputs_Thermal_Zones,0)+$B34),INDEX(Model_Inputs_Ref_Units,,MATCH(BQ$33,Model_Inputs_Thermal_Zones,0)+1))/SUMPRODUCT(--(INDEX(Model_Inputs_Ref_Units,,MATCH(BQ$33,Model_Inputs_Thermal_Zones,0)+$B40)<>1),INDEX(Model_Inputs_Ref_Units,,MATCH(BQ$33,Model_Inputs_Thermal_Zones,0)+1)),\"\"))","v":""},{"$f":"IF(BR33=\"\",\"\",IFERROR(SUMPRODUCT(--(INDEX(Model_Inputs_Ref_Units,,MATCH(BR$33,Model_Inputs_Thermal_Zones,0)+$B40)<>1),INDEX(Model_Inputs_Ref_Units,,MATCH(BR$33,Model_Inputs_Thermal_Zones,0)+$B34),INDEX(Model_Inputs_Ref_Units,,MATCH(BR$33,Model_Inputs_Thermal_Zones,0)+1))/SUMPRODUCT(--(INDEX(Model_Inputs_Ref_Units,,MATCH(BR$33,Model_Inputs_Thermal_Zones,0)+$B40)<>1),INDEX(Model_Inputs_Ref_Units,,MATCH(BR$33,Model_Inputs_Thermal_Zones,0)+1)),\"\"))","v":""},{"$f":"IF(BS33=\"\",\"\",IFERROR(SUMPRODUCT(--(INDEX(Model_Inputs_Ref_Units,,MATCH(BS$33,Model_Inputs_Thermal_Zones,0)+$B40)<>1),INDEX(Model_Inputs_Ref_Units,,MATCH(BS$33,Model_Inputs_Thermal_Zones,0)+$B34),INDEX(Model_Inputs_Ref_Units,,MATCH(BS$33,Model_Inputs_Thermal_Zones,0)+1))/SUMPRODUCT(--(INDEX(Model_Inputs_Ref_Units,,MATCH(BS$33,Model_Inputs_Thermal_Zones,0)+$B40)<>1),INDEX(Model_Inputs_Ref_Units,,MATCH(BS$33,Model_Inputs_Thermal_Zones,0)+1)),\"\"))","v":""},{"$f":"IF(BT33=\"\",\"\",IFERROR(SUMPRODUCT(--(INDEX(Model_Inputs_Ref_Units,,MATCH(BT$33,Model_Inputs_Thermal_Zones,0)+$B40)<>1),INDEX(Model_Inputs_Ref_Units,,MATCH(BT$33,Model_Inputs_Thermal_Zones,0)+$B34),INDEX(Model_Inputs_Ref_Units,,MATCH(BT$33,Model_Inputs_Thermal_Zones,0)+1))/SUMPRODUCT(--(INDEX(Model_Inputs_Ref_Units,,MATCH(BT$33,Model_Inputs_Thermal_Zones,0)+$B40)<>1),INDEX(Model_Inputs_Ref_Units,,MATCH(BT$33,Model_Inputs_Thermal_Zones,0)+1)),\"\"))","v":""},{"$f":"IF(BU33=\"\",\"\",IFERROR(SUMPRODUCT(--(INDEX(Model_Inputs_Ref_Units,,MATCH(BU$33,Model_Inputs_Thermal_Zones,0)+$B40)<>1),INDEX(Model_Inputs_Ref_Units,,MATCH(BU$33,Model_Inputs_Thermal_Zones,0)+$B34),INDEX(Model_Inputs_Ref_Units,,MATCH(BU$33,Model_Inputs_Thermal_Zones,0)+1))/SUMPRODUCT(--(INDEX(Model_Inputs_Ref_Units,,MATCH(BU$33,Model_Inputs_Thermal_Zones,0)+$B40)<>1),INDEX(Model_Inputs_Ref_Units,,MATCH(BU$33,Model_Inputs_Thermal_Zones,0)+1)),\"\"))","v":""},{"$f":"IF(BV33=\"\",\"\",IFERROR(SUMPRODUCT(--(INDEX(Model_Inputs_Ref_Units,,MATCH(BV$33,Model_Inputs_Thermal_Zones,0)+$B40)<>1),INDEX(Model_Inputs_Ref_Units,,MATCH(BV$33,Model_Inputs_Thermal_Zones,0)+$B34),INDEX(Model_Inputs_Ref_Units,,MATCH(BV$33,Model_Inputs_Thermal_Zones,0)+1))/SUMPRODUCT(--(INDEX(Model_Inputs_Ref_Units,,MATCH(BV$33,Model_Inputs_Thermal_Zones,0)+$B40)<>1),INDEX(Model_Inputs_Ref_Units,,MATCH(BV$33,Model_Inputs_Thermal_Zones,0)+1)),\"\"))","v":""},{"$f":"IF(BW33=\"\",\"\",IFERROR(SUMPRODUCT(--(INDEX(Model_Inputs_Ref_Units,,MATCH(BW$33,Model_Inputs_Thermal_Zones,0)+$B40)<>1),INDEX(Model_Inputs_Ref_Units,,MATCH(BW$33,Model_Inputs_Thermal_Zones,0)+$B34),INDEX(Model_Inputs_Ref_Units,,MATCH(BW$33,Model_Inputs_Thermal_Zones,0)+1))/SUMPRODUCT(--(INDEX(Model_Inputs_Ref_Units,,MATCH(BW$33,Model_Inputs_Thermal_Zones,0)+$B40)<>1),INDEX(Model_Inputs_Ref_Units,,MATCH(BW$33,Model_Inputs_Thermal_Zones,0)+1)),\"\"))","v":""},{"$f":"IF(BX33=\"\",\"\",IFERROR(SUMPRODUCT(--(INDEX(Model_Inputs_Ref_Units,,MATCH(BX$33,Model_Inputs_Thermal_Zones,0)+$B40)<>1),INDEX(Model_Inputs_Ref_Units,,MATCH(BX$33,Model_Inputs_Thermal_Zones,0)+$B34),INDEX(Model_Inputs_Ref_Units,,MATCH(BX$33,Model_Inputs_Thermal_Zones,0)+1))/SUMPRODUCT(--(INDEX(Model_Inputs_Ref_Units,,MATCH(BX$33,Model_Inputs_Thermal_Zones,0)+$B40)<>1),INDEX(Model_Inputs_Ref_Units,,MATCH(BX$33,Model_Inputs_Thermal_Zones,0)+1)),\"\"))","v":""},{"$f":"IF(BY33=\"\",\"\",IFERROR(SUMPRODUCT(--(INDEX(Model_Inputs_Ref_Units,,MATCH(BY$33,Model_Inputs_Thermal_Zones,0)+$B40)<>1),INDEX(Model_Inputs_Ref_Units,,MATCH(BY$33,Model_Inputs_Thermal_Zones,0)+$B34),INDEX(Model_Inputs_Ref_Units,,MATCH(BY$33,Model_Inputs_Thermal_Zones,0)+1))/SUMPRODUCT(--(INDEX(Model_Inputs_Ref_Units,,MATCH(BY$33,Model_Inputs_Thermal_Zones,0)+$B40)<>1),INDEX(Model_Inputs_Ref_Units,,MATCH(BY$33,Model_Inputs_Thermal_Zones,0)+1)),\"\"))","v":""},{"$f":"IF(BZ33=\"\",\"\",IFERROR(SUMPRODUCT(--(INDEX(Model_Inputs_Ref_Units,,MATCH(BZ$33,Model_Inputs_Thermal_Zones,0)+$B40)<>1),INDEX(Model_Inputs_Ref_Units,,MATCH(BZ$33,Model_Inputs_Thermal_Zones,0)+$B34),INDEX(Model_Inputs_Ref_Units,,MATCH(BZ$33,Model_Inputs_Thermal_Zones,0)+1))/SUMPRODUCT(--(INDEX(Model_Inputs_Ref_Units,,MATCH(BZ$33,Model_Inputs_Thermal_Zones,0)+$B40)<>1),INDEX(Model_Inputs_Ref_Units,,MATCH(BZ$33,Model_Inputs_Thermal_Zones,0)+1)),\"\"))","v":""}]
["D",null,null,null,null,"Refrigeration system kW total",null,{"$f":"IF(H33=\"\",\"\",IFERROR(SUMPRODUCT(--(INDEX(Model_Inputs_Ref_Units,,MATCH(H$33,Model_Inputs_Thermal_Zones,0)+$B40)<>1),INDEX(Model_Inputs_Ref_Units,,MATCH(H$33,Model_Inputs_Thermal_Zones,0)+$B35),INDEX(Model_Inputs_Ref_Units,,MATCH(H$33,Model_Inputs_Thermal_Zones,0)+1)),\"\"))","v":""},{"$f":"IF(I33=\"\",\"\",IFERROR(SUMPRODUCT(--(INDEX(Model_Inputs_Ref_Units,,MATCH(I$33,Model_Inputs_Thermal_Zones,0)+$B40)<>1),INDEX(Model_Inputs_Ref_Units,,MATCH(I$33,Model_Inputs_Thermal_Zones,0)+$B35),INDEX(Model_Inputs_Ref_Units,,MATCH(I$33,Model_Inputs_Thermal_Zones,0)+1)),\"\"))","v":""},{"$f":"IF(J33=\"\",\"\",IFERROR(SUMPRODUCT(--(INDEX(Model_Inputs_Ref_Units,,MATCH(J$33,Model_Inputs_Thermal_Zones,0)+$B40)<>1),INDEX(Model_Inputs_Ref_Units,,MATCH(J$33,Model_Inputs_Thermal_Zones,0)+$B35),INDEX(Model_Inputs_Ref_Units,,MATCH(J$33,Model_Inputs_Thermal_Zones,0)+1)),\"\"))","v":""},{"$f":"IF(K33=\"\",\"\",IFERROR(SUMPRODUCT(--(INDEX(Model_Inputs_Ref_Units,,MATCH(K$33,Model_Inputs_Thermal_Zones,0)+$B40)<>1),INDEX(Model_Inputs_Ref_Units,,MATCH(K$33,Model_Inputs_Thermal_Zones,0)+$B35),INDEX(Model_Inputs_Ref_Units,,MATCH(K$33,Model_Inputs_Thermal_Zones,0)+1)),\"\"))","v":""},{"$f":"IF(L33=\"\",\"\",IFERROR(SUMPRODUCT(--(INDEX(Model_Inputs_Ref_Units,,MATCH(L$33,Model_Inputs_Thermal_Zones,0)+$B40)<>1),INDEX(Model_Inputs_Ref_Units,,MATCH(L$33,Model_Inputs_Thermal_Zones,0)+$B35),INDEX(Model_Inputs_Ref_Units,,MATCH(L$33,Model_Inputs_Thermal_Zones,0)+1)),\"\"))","v":""},{"$f":"IF(M33=\"\",\"\",IFERROR(SUMPRODUCT(--(INDEX(Model_Inputs_Ref_Units,,MATCH(M$33,Model_Inputs_Thermal_Zones,0)+$B40)<>1),INDEX(Model_Inputs_Ref_Units,,MATCH(M$33,Model_Inputs_Thermal_Zones,0)+$B35),INDEX(Model_Inputs_Ref_Units,,MATCH(M$33,Model_Inputs_Thermal_Zones,0)+1)),\"\"))","v":""},{"$f":"IF(N33=\"\",\"\",IFERROR(SUMPRODUCT(--(INDEX(Model_Inputs_Ref_Units,,MATCH(N$33,Model_Inputs_Thermal_Zones,0)+$B40)<>1),INDEX(Model_Inputs_Ref_Units,,MATCH(N$33,Model_Inputs_Thermal_Zones,0)+$B35),INDEX(Model_Inputs_Ref_Units,,MATCH(N$33,Model_Inputs_Thermal_Zones,0)+1)),\"\"))","v":""},{"$f":"IF(O33=\"\",\"\",IFERROR(SUMPRODUCT(--(INDEX(Model_Inputs_Ref_Units,,MATCH(O$33,Model_Inputs_Thermal_Zones,0)+$B40)<>1),INDEX(Model_Inputs_Ref_Units,,MATCH(O$33,Model_Inputs_Thermal_Zones,0)+$B35),INDEX(Model_Inputs_Ref_Units,,MATCH(O$33,Model_Inputs_Thermal_Zones,0)+1)),\"\"))","v":""},{"$f":"IF(P33=\"\",\"\",IFERROR(SUMPRODUCT(--(INDEX(Model_Inputs_Ref_Units,,MATCH(P$33,Model_Inputs_Thermal_Zones,0)+$B40)<>1),INDEX(Model_Inputs_Ref_Units,,MATCH(P$33,Model_Inputs_Thermal_Zones,0)+$B35),INDEX(Model_Inputs_Ref_Units,,MATCH(P$33,Model_Inputs_Thermal_Zones,0)+1)),\"\"))","v":""},{"$f":"IF(Q33=\"\",\"\",IFERROR(SUMPRODUCT(--(INDEX(Model_Inputs_Ref_Units,,MATCH(Q$33,Model_Inputs_Thermal_Zones,0)+$B40)<>1),INDEX(Model_Inputs_Ref_Units,,MATCH(Q$33,Model_Inputs_Thermal_Zones,0)+$B35),INDEX(Model_Inputs_Ref_Units,,MATCH(Q$33,Model_Inputs_Thermal_Zones,0)+1)),\"\"))","v":""},{"$f":"IF(R33=\"\",\"\",IFERROR(SUMPRODUCT(--(INDEX(Model_Inputs_Ref_Units,,MATCH(R$33,Model_Inputs_Thermal_Zones,0)+$B40)<>1),INDEX(Model_Inputs_Ref_Units,,MATCH(R$33,Model_Inputs_Thermal_Zones,0)+$B35),INDEX(Model_Inputs_Ref_Units,,MATCH(R$33,Model_Inputs_Thermal_Zones,0)+1)),\"\"))","v":""},{"$f":"IF(S33=\"\",\"\",IFERROR(SUMPRODUCT(--(INDEX(Model_Inputs_Ref_Units,,MATCH(S$33,Model_Inputs_Thermal_Zones,0)+$B40)<>1),INDEX(Model_Inputs_Ref_Units,,MATCH(S$33,Model_Inputs_Thermal_Zones,0)+$B35),INDEX(Model_Inputs_Ref_Units,,MATCH(S$33,Model_Inputs_Thermal_Zones,0)+1)),\"\"))","v":""},{"$f":"IF(T33=\"\",\"\",IFERROR(SUMPRODUCT(--(INDEX(Model_Inputs_Ref_Units,,MATCH(T$33,Model_Inputs_Thermal_Zones,0)+$B40)<>1),INDEX(Model_Inputs_Ref_Units,,MATCH(T$33,Model_Inputs_Thermal_Zones,0)+$B35),INDEX(Model_Inputs_Ref_Units,,MATCH(T$33,Model_Inputs_Thermal_Zones,0)+1)),\"\"))","v":""},{"$f":"IF(U33=\"\",\"\",IFERROR(SUMPRODUCT(--(INDEX(Model_Inputs_Ref_Units,,MATCH(U$33,Model_Inputs_Thermal_Zones,0)+$B40)<>1),INDEX(Model_Inputs_Ref_Units,,MATCH(U$33,Model_Inputs_Thermal_Zones,0)+$B35),INDEX(Model_Inputs_Ref_Units,,MATCH(U$33,Model_Inputs_Thermal_Zones,0)+1)),\"\"))","v":""},{"$f":"IF(V33=\"\",\"\",IFERROR(SUMPRODUCT(--(INDEX(Model_Inputs_Ref_Units,,MATCH(V$33,Model_Inputs_Thermal_Zones,0)+$B40)<>1),INDEX(Model_Inputs_Ref_Units,,MATCH(V$33,Model_Inputs_Thermal_Zones,0)+$B35),INDEX(Model_Inputs_Ref_Units,,MATCH(V$33,Model_Inputs_Thermal_Zones,0)+1)),\"\"))","v":""},{"$f":"IF(W33=\"\",\"\",IFERROR(SUMPRODUCT(--(INDEX(Model_Inputs_Ref_Units,,MATCH(W$33,Model_Inputs_Thermal_Zones,0)+$B40)<>1),INDEX(Model_Inputs_Ref_Units,,MATCH(W$33,Model_Inputs_Thermal_Zones,0)+$B35),INDEX(Model_Inputs_Ref_Units,,MATCH(W$33,Model_Inputs_Thermal_Zones,0)+1)),\"\"))","v":""},{"$f":"IF(X33=\"\",\"\",IFERROR(SUMPRODUCT(--(INDEX(Model_Inputs_Ref_Units,,MATCH(X$33,Model_Inputs_Thermal_Zones,0)+$B40)<>1),INDEX(Model_Inputs_Ref_Units,,MATCH(X$33,Model_Inputs_Thermal_Zones,0)+$B35),INDEX(Model_Inputs_Ref_Units,,MATCH(X$33,Model_Inputs_Thermal_Zones,0)+1)),\"\"))","v":""},{"$f":"IF(Y33=\"\",\"\",IFERROR(SUMPRODUCT(--(INDEX(Model_Inputs_Ref_Units,,MATCH(Y$33,Model_Inputs_Thermal_Zones,0)+$B40)<>1),INDEX(Model_Inputs_Ref_Units,,MATCH(Y$33,Model_Inputs_Thermal_Zones,0)+$B35),INDEX(Model_Inputs_Ref_Units,,MATCH(Y$33,Model_Inputs_Thermal_Zones,0)+1)),\"\"))","v":""},{"$f":"IF(Z33=\"\",\"\",IFERROR(SUMPRODUCT(--(INDEX(Model_Inputs_Ref_Units,,MATCH(Z$33,Model_Inputs_Thermal_Zones,0)+$B40)<>1),INDEX(Model_Inputs_Ref_Units,,MATCH(Z$33,Model_Inputs_Thermal_Zones,0)+$B35),INDEX(Model_Inputs_Ref_Units,,MATCH(Z$33,Model_Inputs_Thermal_Zones,0)+1)),\"\"))","v":""},{"$f":"IF(AA33=\"\",\"\",IFERROR(SUMPRODUCT(--(INDEX(Model_Inputs_Ref_Units,,MATCH(AA$33,Model_Inputs_Thermal_Zones,0)+$B40)<>1),INDEX(Model_Inputs_Ref_Units,,MATCH(AA$33,Model_Inputs_Thermal_Zones,0)+$B35),INDEX(Model_Inputs_Ref_Units,,MATCH(AA$33,Model_Inputs_Thermal_Zones,0)+1)),\"\"))","v":""},{"$f":"IF(AB33=\"\",\"\",IFERROR(SUMPRODUCT(--(INDEX(Model_Inputs_Ref_Units,,MATCH(AB$33,Model_Inputs_Thermal_Zones,0)+$B40)<>1),INDEX(Model_Inputs_Ref_Units,,MATCH(AB$33,Model_Inputs_Thermal_Zones,0)+$B35),INDEX(Model_Inputs_Ref_Units,,MATCH(AB$33,Model_Inputs_Thermal_Zones,0)+1)),\"\"))","v":""},{"$f":"IF(AC33=\"\",\"\",IFERROR(SUMPRODUCT(--(INDEX(Model_Inputs_Ref_Units,,MATCH(AC$33,Model_Inputs_Thermal_Zones,0)+$B40)<>1),INDEX(Model_Inputs_Ref_Units,,MATCH(AC$33,Model_Inputs_Thermal_Zones,0)+$B35),INDEX(Model_Inputs_Ref_Units,,MATCH(AC$33,Model_Inputs_Thermal_Zones,0)+1)),\"\"))","v":""},{"$f":"IF(AD33=\"\",\"\",IFERROR(SUMPRODUCT(--(INDEX(Model_Inputs_Ref_Units,,MATCH(AD$33,Model_Inputs_Thermal_Zones,0)+$B40)<>1),INDEX(Model_Inputs_Ref_Units,,MATCH(AD$33,Model_Inputs_Thermal_Zones,0)+$B35),INDEX(Model_Inputs_Ref_Units,,MATCH(AD$33,Model_Inputs_Thermal_Zones,0)+1)),\"\"))","v":""},{"$f":"IF(AE33=\"\",\"\",IFERROR(SUMPRODUCT(--(INDEX(Model_Inputs_Ref_Units,,MATCH(AE$33,Model_Inputs_Thermal_Zones,0)+$B40)<>1),INDEX(Model_Inputs_Ref_Units,,MATCH(AE$33,Model_Inputs_Thermal_Zones,0)+$B35),INDEX(Model_Inputs_Ref_Units,,MATCH(AE$33,Model_Inputs_Thermal_Zones,0)+1)),\"\"))","v":""},{"$f":"IF(AF33=\"\",\"\",IFERROR(SUMPRODUCT(--(INDEX(Model_Inputs_Ref_Units,,MATCH(AF$33,Model_Inputs_Thermal_Zones,0)+$B40)<>1),INDEX(Model_Inputs_Ref_Units,,MATCH(AF$33,Model_Inputs_Thermal_Zones,0)+$B35),INDEX(Model_Inputs_Ref_Units,,MATCH(AF$33,Model_Inputs_Thermal_Zones,0)+1)),\"\"))","v":""},{"$f":"IF(AG33=\"\",\"\",IFERROR(SUMPRODUCT(--(INDEX(Model_Inputs_Ref_Units,,MATCH(AG$33,Model_Inputs_Thermal_Zones,0)+$B40)<>1),INDEX(Model_Inputs_Ref_Units,,MATCH(AG$33,Model_Inputs_Thermal_Zones,0)+$B35),INDEX(Model_Inputs_Ref_Units,,MATCH(AG$33,Model_Inputs_Thermal_Zones,0)+1)),\"\"))","v":""},{"$f":"IF(AH33=\"\",\"\",IFERROR(SUMPRODUCT(--(INDEX(Model_Inputs_Ref_Units,,MATCH(AH$33,Model_Inputs_Thermal_Zones,0)+$B40)<>1),INDEX(Model_Inputs_Ref_Units,,MATCH(AH$33,Model_Inputs_Thermal_Zones,0)+$B35),INDEX(Model_Inputs_Ref_Units,,MATCH(AH$33,Model_Inputs_Thermal_Zones,0)+1)),\"\"))","v":""},{"$f":"IF(AI33=\"\",\"\",IFERROR(SUMPRODUCT(--(INDEX(Model_Inputs_Ref_Units,,MATCH(AI$33,Model_Inputs_Thermal_Zones,0)+$B40)<>1),INDEX(Model_Inputs_Ref_Units,,MATCH(AI$33,Model_Inputs_Thermal_Zones,0)+$B35),INDEX(Model_Inputs_Ref_Units,,MATCH(AI$33,Model_Inputs_Thermal_Zones,0)+1)),\"\"))","v":""},{"$f":"IF(AJ33=\"\",\"\",IFERROR(SUMPRODUCT(--(INDEX(Model_Inputs_Ref_Units,,MATCH(AJ$33,Model_Inputs_Thermal_Zones,0)+$B40)<>1),INDEX(Model_Inputs_Ref_Units,,MATCH(AJ$33,Model_Inputs_Thermal_Zones,0)+$B35),INDEX(Model_Inputs_Ref_Units,,MATCH(AJ$33,Model_Inputs_Thermal_Zones,0)+1)),\"\"))","v":""},{"$f":"IF(AK33=\"\",\"\",IFERROR(SUMPRODUCT(--(INDEX(Model_Inputs_Ref_Units,,MATCH(AK$33,Model_Inputs_Thermal_Zones,0)+$B40)<>1),INDEX(Model_Inputs_Ref_Units,,MATCH(AK$33,Model_Inputs_Thermal_Zones,0)+$B35),INDEX(Model_Inputs_Ref_Units,,MATCH(AK$33,Model_Inputs_Thermal_Zones,0)+1)),\"\"))","v":""},{"$f":"IF(AL33=\"\",\"\",IFERROR(SUMPRODUCT(--(INDEX(Model_Inputs_Ref_Units,,MATCH(AL$33,Model_Inputs_Thermal_Zones,0)+$B40)<>1),INDEX(Model_Inputs_Ref_Units,,MATCH(AL$33,Model_Inputs_Thermal_Zones,0)+$B35),INDEX(Model_Inputs_Ref_Units,,MATCH(AL$33,Model_Inputs_Thermal_Zones,0)+1)),\"\"))","v":""},{"$f":"IF(AM33=\"\",\"\",IFERROR(SUMPRODUCT(--(INDEX(Model_Inputs_Ref_Units,,MATCH(AM$33,Model_Inputs_Thermal_Zones,0)+$B40)<>1),INDEX(Model_Inputs_Ref_Units,,MATCH(AM$33,Model_Inputs_Thermal_Zones,0)+$B35),INDEX(Model_Inputs_Ref_Units,,MATCH(AM$33,Model_Inputs_Thermal_Zones,0)+1)),\"\"))","v":""},{"$f":"IF(AN33=\"\",\"\",IFERROR(SUMPRODUCT(--(INDEX(Model_Inputs_Ref_Units,,MATCH(AN$33,Model_Inputs_Thermal_Zones,0)+$B40)<>1),INDEX(Model_Inputs_Ref_Units,,MATCH(AN$33,Model_Inputs_Thermal_Zones,0)+$B35),INDEX(Model_Inputs_Ref_Units,,MATCH(AN$33,Model_Inputs_Thermal_Zones,0)+1)),\"\"))","v":""},{"$f":"IF(AO33=\"\",\"\",IFERROR(SUMPRODUCT(--(INDEX(Model_Inputs_Ref_Units,,MATCH(AO$33,Model_Inputs_Thermal_Zones,0)+$B40)<>1),INDEX(Model_Inputs_Ref_Units,,MATCH(AO$33,Model_Inputs_Thermal_Zones,0)+$B35),INDEX(Model_Inputs_Ref_Units,,MATCH(AO$33,Model_Inputs_Thermal_Zones,0)+1)),\"\"))","v":""},{"$f":"IF(AP33=\"\",\"\",IFERROR(SUMPRODUCT(--(INDEX(Model_Inputs_Ref_Units,,MATCH(AP$33,Model_Inputs_Thermal_Zones,0)+$B40)<>1),INDEX(Model_Inputs_Ref_Units,,MATCH(AP$33,Model_Inputs_Thermal_Zones,0)+$B35),INDEX(Model_Inputs_Ref_Units,,MATCH(AP$33,Model_Inputs_Thermal_Zones,0)+1)),\"\"))","v":""},{"$f":"IF(AQ33=\"\",\"\",IFERROR(SUMPRODUCT(--(INDEX(Model_Inputs_Ref_Units,,MATCH(AQ$33,Model_Inputs_Thermal_Zones,0)+$B40)<>1),INDEX(Model_Inputs_Ref_Units,,MATCH(AQ$33,Model_Inputs_Thermal_Zones,0)+$B35),INDEX(Model_Inputs_Ref_Units,,MATCH(AQ$33,Model_Inputs_Thermal_Zones,0)+1)),\"\"))","v":""},{"$f":"IF(AR33=\"\",\"\",IFERROR(SUMPRODUCT(--(INDEX(Model_Inputs_Ref_Units,,MATCH(AR$33,Model_Inputs_Thermal_Zones,0)+$B40)<>1),INDEX(Model_Inputs_Ref_Units,,MATCH(AR$33,Model_Inputs_Thermal_Zones,0)+$B35),INDEX(Model_Inputs_Ref_Units,,MATCH(AR$33,Model_Inputs_Thermal_Zones,0)+1)),\"\"))","v":""},{"$f":"IF(AS33=\"\",\"\",IFERROR(SUMPRODUCT(--(INDEX(Model_Inputs_Ref_Units,,MATCH(AS$33,Model_Inputs_Thermal_Zones,0)+$B40)<>1),INDEX(Model_Inputs_Ref_Units,,MATCH(AS$33,Model_Inputs_Thermal_Zones,0)+$B35),INDEX(Model_Inputs_Ref_Units,,MATCH(AS$33,Model_Inputs_Thermal_Zones,0)+1)),\"\"))","v":""},{"$f":"IF(AT33=\"\",\"\",IFERROR(SUMPRODUCT(--(INDEX(Model_Inputs_Ref_Units,,MATCH(AT$33,Model_Inputs_Thermal_Zones,0)+$B40)<>1),INDEX(Model_Inputs_Ref_Units,,MATCH(AT$33,Model_Inputs_Thermal_Zones,0)+$B35),INDEX(Model_Inputs_Ref_Units,,MATCH(AT$33,Model_Inputs_Thermal_Zones,0)+1)),\"\"))","v":""},{"$f":"IF(AU33=\"\",\"\",IFERROR(SUMPRODUCT(--(INDEX(Model_Inputs_Ref_Units,,MATCH(AU$33,Model_Inputs_Thermal_Zones,0)+$B40)<>1),INDEX(Model_Inputs_Ref_Units,,MATCH(AU$33,Model_Inputs_Thermal_Zones,0)+$B35),INDEX(Model_Inputs_Ref_Units,,MATCH(AU$33,Model_Inputs_Thermal_Zones,0)+1)),\"\"))","v":""},{"$f":"IF(AV33=\"\",\"\",IFERROR(SUMPRODUCT(--(INDEX(Model_Inputs_Ref_Units,,MATCH(AV$33,Model_Inputs_Thermal_Zones,0)+$B40)<>1),INDEX(Model_Inputs_Ref_Units,,MATCH(AV$33,Model_Inputs_Thermal_Zones,0)+$B35),INDEX(Model_Inputs_Ref_Units,,MATCH(AV$33,Model_Inputs_Thermal_Zones,0)+1)),\"\"))","v":""},{"$f":"IF(AW33=\"\",\"\",IFERROR(SUMPRODUCT(--(INDEX(Model_Inputs_Ref_Units,,MATCH(AW$33,Model_Inputs_Thermal_Zones,0)+$B40)<>1),INDEX(Model_Inputs_Ref_Units,,MATCH(AW$33,Model_Inputs_Thermal_Zones,0)+$B35),INDEX(Model_Inputs_Ref_Units,,MATCH(AW$33,Model_Inputs_Thermal_Zones,0)+1)),\"\"))","v":""},{"$f":"IF(AX33=\"\",\"\",IFERROR(SUMPRODUCT(--(INDEX(Model_Inputs_Ref_Units,,MATCH(AX$33,Model_Inputs_Thermal_Zones,0)+$B40)<>1),INDEX(Model_Inputs_Ref_Units,,MATCH(AX$33,Model_Inputs_Thermal_Zones,0)+$B35),INDEX(Model_Inputs_Ref_Units,,MATCH(AX$33,Model_Inputs_Thermal_Zones,0)+1)),\"\"))","v":""},{"$f":"IF(AY33=\"\",\"\",IFERROR(SUMPRODUCT(--(INDEX(Model_Inputs_Ref_Units,,MATCH(AY$33,Model_Inputs_Thermal_Zones,0)+$B40)<>1),INDEX(Model_Inputs_Ref_Units,,MATCH(AY$33,Model_Inputs_Thermal_Zones,0)+$B35),INDEX(Model_Inputs_Ref_Units,,MATCH(AY$33,Model_Inputs_Thermal_Zones,0)+1)),\"\"))","v":""},{"$f":"IF(AZ33=\"\",\"\",IFERROR(SUMPRODUCT(--(INDEX(Model_Inputs_Ref_Units,,MATCH(AZ$33,Model_Inputs_Thermal_Zones,0)+$B40)<>1),INDEX(Model_Inputs_Ref_Units,,MATCH(AZ$33,Model_Inputs_Thermal_Zones,0)+$B35),INDEX(Model_Inputs_Ref_Units,,MATCH(AZ$33,Model_Inputs_Thermal_Zones,0)+1)),\"\"))","v":""},{"$f":"IF(BA33=\"\",\"\",IFERROR(SUMPRODUCT(--(INDEX(Model_Inputs_Ref_Units,,MATCH(BA$33,Model_Inputs_Thermal_Zones,0)+$B40)<>1),INDEX(Model_Inputs_Ref_Units,,MATCH(BA$33,Model_Inputs_Thermal_Zones,0)+$B35),INDEX(Model_Inputs_Ref_Units,,MATCH(BA$33,Model_Inputs_Thermal_Zones,0)+1)),\"\"))","v":""},{"$f":"IF(BB33=\"\",\"\",IFERROR(SUMPRODUCT(--(INDEX(Model_Inputs_Ref_Units,,MATCH(BB$33,Model_Inputs_Thermal_Zones,0)+$B40)<>1),INDEX(Model_Inputs_Ref_Units,,MATCH(BB$33,Model_Inputs_Thermal_Zones,0)+$B35),INDEX(Model_Inputs_Ref_Units,,MATCH(BB$33,Model_Inputs_Thermal_Zones,0)+1)),\"\"))","v":""},{"$f":"IF(BC33=\"\",\"\",IFERROR(SUMPRODUCT(--(INDEX(Model_Inputs_Ref_Units,,MATCH(BC$33,Model_Inputs_Thermal_Zones,0)+$B40)<>1),INDEX(Model_Inputs_Ref_Units,,MATCH(BC$33,Model_Inputs_Thermal_Zones,0)+$B35),INDEX(Model_Inputs_Ref_Units,,MATCH(BC$33,Model_Inputs_Thermal_Zones,0)+1)),\"\"))","v":""},{"$f":"IF(BD33=\"\",\"\",IFERROR(SUMPRODUCT(--(INDEX(Model_Inputs_Ref_Units,,MATCH(BD$33,Model_Inputs_Thermal_Zones,0)+$B40)<>1),INDEX(Model_Inputs_Ref_Units,,MATCH(BD$33,Model_Inputs_Thermal_Zones,0)+$B35),INDEX(Model_Inputs_Ref_Units,,MATCH(BD$33,Model_Inputs_Thermal_Zones,0)+1)),\"\"))","v":""},{"$f":"IF(BE33=\"\",\"\",IFERROR(SUMPRODUCT(--(INDEX(Model_Inputs_Ref_Units,,MATCH(BE$33,Model_Inputs_Thermal_Zones,0)+$B40)<>1),INDEX(Model_Inputs_Ref_Units,,MATCH(BE$33,Model_Inputs_Thermal_Zones,0)+$B35),INDEX(Model_Inputs_Ref_Units,,MATCH(BE$33,Model_Inputs_Thermal_Zones,0)+1)),\"\"))","v":""},{"$f":"IF(BF33=\"\",\"\",IFERROR(SUMPRODUCT(--(INDEX(Model_Inputs_Ref_Units,,MATCH(BF$33,Model_Inputs_Thermal_Zones,0)+$B40)<>1),INDEX(Model_Inputs_Ref_Units,,MATCH(BF$33,Model_Inputs_Thermal_Zones,0)+$B35),INDEX(Model_Inputs_Ref_Units,,MATCH(BF$33,Model_Inputs_Thermal_Zones,0)+1)),\"\"))","v":""},{"$f":"IF(BG33=\"\",\"\",IFERROR(SUMPRODUCT(--(INDEX(Model_Inputs_Ref_Units,,MATCH(BG$33,Model_Inputs_Thermal_Zones,0)+$B40)<>1),INDEX(Model_Inputs_Ref_Units,,MATCH(BG$33,Model_Inputs_Thermal_Zones,0)+$B35),INDEX(Model_Inputs_Ref_Units,,MATCH(BG$33,Model_Inputs_Thermal_Zones,0)+1)),\"\"))","v":""},{"$f":"IF(BH33=\"\",\"\",IFERROR(SUMPRODUCT(--(INDEX(Model_Inputs_Ref_Units,,MATCH(BH$33,Model_Inputs_Thermal_Zones,0)+$B40)<>1),INDEX(Model_Inputs_Ref_Units,,MATCH(BH$33,Model_Inputs_Thermal_Zones,0)+$B35),INDEX(Model_Inputs_Ref_Units,,MATCH(BH$33,Model_Inputs_Thermal_Zones,0)+1)),\"\"))","v":""},{"$f":"IF(BI33=\"\",\"\",IFERROR(SUMPRODUCT(--(INDEX(Model_Inputs_Ref_Units,,MATCH(BI$33,Model_Inputs_Thermal_Zones,0)+$B40)<>1),INDEX(Model_Inputs_Ref_Units,,MATCH(BI$33,Model_Inputs_Thermal_Zones,0)+$B35),INDEX(Model_Inputs_Ref_Units,,MATCH(BI$33,Model_Inputs_Thermal_Zones,0)+1)),\"\"))","v":""},{"$f":"IF(BJ33=\"\",\"\",IFERROR(SUMPRODUCT(--(INDEX(Model_Inputs_Ref_Units,,MATCH(BJ$33,Model_Inputs_Thermal_Zones,0)+$B40)<>1),INDEX(Model_Inputs_Ref_Units,,MATCH(BJ$33,Model_Inputs_Thermal_Zones,0)+$B35),INDEX(Model_Inputs_Ref_Units,,MATCH(BJ$33,Model_Inputs_Thermal_Zones,0)+1)),\"\"))","v":""},{"$f":"IF(BK33=\"\",\"\",IFERROR(SUMPRODUCT(--(INDEX(Model_Inputs_Ref_Units,,MATCH(BK$33,Model_Inputs_Thermal_Zones,0)+$B40)<>1),INDEX(Model_Inputs_Ref_Units,,MATCH(BK$33,Model_Inputs_Thermal_Zones,0)+$B35),INDEX(Model_Inputs_Ref_Units,,MATCH(BK$33,Model_Inputs_Thermal_Zones,0)+1)),\"\"))","v":""},{"$f":"IF(BL33=\"\",\"\",IFERROR(SUMPRODUCT(--(INDEX(Model_Inputs_Ref_Units,,MATCH(BL$33,Model_Inputs_Thermal_Zones,0)+$B40)<>1),INDEX(Model_Inputs_Ref_Units,,MATCH(BL$33,Model_Inputs_Thermal_Zones,0)+$B35),INDEX(Model_Inputs_Ref_Units,,MATCH(BL$33,Model_Inputs_Thermal_Zones,0)+1)),\"\"))","v":""},{"$f":"IF(BM33=\"\",\"\",IFERROR(SUMPRODUCT(--(INDEX(Model_Inputs_Ref_Units,,MATCH(BM$33,Model_Inputs_Thermal_Zones,0)+$B40)<>1),INDEX(Model_Inputs_Ref_Units,,MATCH(BM$33,Model_Inputs_Thermal_Zones,0)+$B35),INDEX(Model_Inputs_Ref_Units,,MATCH(BM$33,Model_Inputs_Thermal_Zones,0)+1)),\"\"))","v":""},{"$f":"IF(BN33=\"\",\"\",IFERROR(SUMPRODUCT(--(INDEX(Model_Inputs_Ref_Units,,MATCH(BN$33,Model_Inputs_Thermal_Zones,0)+$B40)<>1),INDEX(Model_Inputs_Ref_Units,,MATCH(BN$33,Model_Inputs_Thermal_Zones,0)+$B35),INDEX(Model_Inputs_Ref_Units,,MATCH(BN$33,Model_Inputs_Thermal_Zones,0)+1)),\"\"))","v":""},{"$f":"IF(BO33=\"\",\"\",IFERROR(SUMPRODUCT(--(INDEX(Model_Inputs_Ref_Units,,MATCH(BO$33,Model_Inputs_Thermal_Zones,0)+$B40)<>1),INDEX(Model_Inputs_Ref_Units,,MATCH(BO$33,Model_Inputs_Thermal_Zones,0)+$B35),INDEX(Model_Inputs_Ref_Units,,MATCH(BO$33,Model_Inputs_Thermal_Zones,0)+1)),\"\"))","v":""},{"$f":"IF(BP33=\"\",\"\",IFERROR(SUMPRODUCT(--(INDEX(Model_Inputs_Ref_Units,,MATCH(BP$33,Model_Inputs_Thermal_Zones,0)+$B40)<>1),INDEX(Model_Inputs_Ref_Units,,MATCH(BP$33,Model_Inputs_Thermal_Zones,0)+$B35),INDEX(Model_Inputs_Ref_Units,,MATCH(BP$33,Model_Inputs_Thermal_Zones,0)+1)),\"\"))","v":""},{"$f":"IF(BQ33=\"\",\"\",IFERROR(SUMPRODUCT(--(INDEX(Model_Inputs_Ref_Units,,MATCH(BQ$33,Model_Inputs_Thermal_Zones,0)+$B40)<>1),INDEX(Model_Inputs_Ref_Units,,MATCH(BQ$33,Model_Inputs_Thermal_Zones,0)+$B35),INDEX(Model_Inputs_Ref_Units,,MATCH(BQ$33,Model_Inputs_Thermal_Zones,0)+1)),\"\"))","v":""},{"$f":"IF(BR33=\"\",\"\",IFERROR(SUMPRODUCT(--(INDEX(Model_Inputs_Ref_Units,,MATCH(BR$33,Model_Inputs_Thermal_Zones,0)+$B40)<>1),INDEX(Model_Inputs_Ref_Units,,MATCH(BR$33,Model_Inputs_Thermal_Zones,0)+$B35),INDEX(Model_Inputs_Ref_Units,,MATCH(BR$33,Model_Inputs_Thermal_Zones,0)+1)),\"\"))","v":""},{"$f":"IF(BS33=\"\",\"\",IFERROR(SUMPRODUCT(--(INDEX(Model_Inputs_Ref_Units,,MATCH(BS$33,Model_Inputs_Thermal_Zones,0)+$B40)<>1),INDEX(Model_Inputs_Ref_Units,,MATCH(BS$33,Model_Inputs_Thermal_Zones,0)+$B35),INDEX(Model_Inputs_Ref_Units,,MATCH(BS$33,Model_Inputs_Thermal_Zones,0)+1)),\"\"))","v":""},{"$f":"IF(BT33=\"\",\"\",IFERROR(SUMPRODUCT(--(INDEX(Model_Inputs_Ref_Units,,MATCH(BT$33,Model_Inputs_Thermal_Zones,0)+$B40)<>1),INDEX(Model_Inputs_Ref_Units,,MATCH(BT$33,Model_Inputs_Thermal_Zones,0)+$B35),INDEX(Model_Inputs_Ref_Units,,MATCH(BT$33,Model_Inputs_Thermal_Zones,0)+1)),\"\"))","v":""},{"$f":"IF(BU33=\"\",\"\",IFERROR(SUMPRODUCT(--(INDEX(Model_Inputs_Ref_Units,,MATCH(BU$33,Model_Inputs_Thermal_Zones,0)+$B40)<>1),INDEX(Model_Inputs_Ref_Units,,MATCH(BU$33,Model_Inputs_Thermal_Zones,0)+$B35),INDEX(Model_Inputs_Ref_Units,,MATCH(BU$33,Model_Inputs_Thermal_Zones,0)+1)),\"\"))","v":""},{"$f":"IF(BV33=\"\",\"\",IFERROR(SUMPRODUCT(--(INDEX(Model_Inputs_Ref_Units,,MATCH(BV$33,Model_Inputs_Thermal_Zones,0)+$B40)<>1),INDEX(Model_Inputs_Ref_Units,,MATCH(BV$33,Model_Inputs_Thermal_Zones,0)+$B35),INDEX(Model_Inputs_Ref_Units,,MATCH(BV$33,Model_Inputs_Thermal_Zones,0)+1)),\"\"))","v":""},{"$f":"IF(BW33=\"\",\"\",IFERROR(SUMPRODUCT(--(INDEX(Model_Inputs_Ref_Units,,MATCH(BW$33,Model_Inputs_Thermal_Zones,0)+$B40)<>1),INDEX(Model_Inputs_Ref_Units,,MATCH(BW$33,Model_Inputs_Thermal_Zones,0)+$B35),INDEX(Model_Inputs_Ref_Units,,MATCH(BW$33,Model_Inputs_Thermal_Zones,0)+1)),\"\"))","v":""},{"$f":"IF(BX33=\"\",\"\",IFERROR(SUMPRODUCT(--(INDEX(Model_Inputs_Ref_Units,,MATCH(BX$33,Model_Inputs_Thermal_Zones,0)+$B40)<>1),INDEX(Model_Inputs_Ref_Units,,MATCH(BX$33,Model_Inputs_Thermal_Zones,0)+$B35),INDEX(Model_Inputs_Ref_Units,,MATCH(BX$33,Model_Inputs_Thermal_Zones,0)+1)),\"\"))","v":""},{"$f":"IF(BY33=\"\",\"\",IFERROR(SUMPRODUCT(--(INDEX(Model_Inputs_Ref_Units,,MATCH(BY$33,Model_Inputs_Thermal_Zones,0)+$B40)<>1),INDEX(Model_Inputs_Ref_Units,,MATCH(BY$33,Model_Inputs_Thermal_Zones,0)+$B35),INDEX(Model_Inputs_Ref_Units,,MATCH(BY$33,Model_Inputs_Thermal_Zones,0)+1)),\"\"))","v":""},{"$f":"IF(BZ33=\"\",\"\",IFERROR(SUMPRODUCT(--(INDEX(Model_Inputs_Ref_Units,,MATCH(BZ$33,Model_Inputs_Thermal_Zones,0)+$B40)<>1),INDEX(Model_Inputs_Ref_Units,,MATCH(BZ$33,Model_Inputs_Thermal_Zones,0)+$B35),INDEX(Model_Inputs_Ref_Units,,MATCH(BZ$33,Model_Inputs_Thermal_Zones,0)+1)),\"\"))","v":""}]
["D",null,null,null,"BL","Daily hours of operation",null,{"$f":"IF(H33=\"\",\"\",IFERROR(SUMPRODUCT(--(INDEX(Model_Inputs_Ref_Units,,MATCH(H$33,Model_Inputs_Thermal_Zones,0)+$B40)<>1),INDEX(Model_Inputs_Ref_Units,,MATCH(H$33,Model_Inputs_Thermal_Zones,0)+$B37),INDEX(Model_Inputs_Ref_Units,,MATCH(H$33,Model_Inputs_Thermal_Zones,0)+1))/SUMPRODUCT(--(INDEX(Model_Inputs_Ref_Units,,MATCH(H$33,Model_Inputs_Thermal_Zones,0)+$B40)<>1),INDEX(Model_Inputs_Ref_Units,,MATCH(H$33,Model_Inputs_Thermal_Zones,0)+1)),\"\"))","v":""},{"$f":"IF(I33=\"\",\"\",IFERROR(SUMPRODUCT(--(INDEX(Model_Inputs_Ref_Units,,MATCH(I$33,Model_Inputs_Thermal_Zones,0)+$B40)<>1),INDEX(Model_Inputs_Ref_Units,,MATCH(I$33,Model_Inputs_Thermal_Zones,0)+$B37),INDEX(Model_Inputs_Ref_Units,,MATCH(I$33,Model_Inputs_Thermal_Zones,0)+1))/SUMPRODUCT(--(INDEX(Model_Inputs_Ref_Units,,MATCH(I$33,Model_Inputs_Thermal_Zones,0)+$B40)<>1),INDEX(Model_Inputs_Ref_Units,,MATCH(I$33,Model_Inputs_Thermal_Zones,0)+1)),\"\"))","v":""},{"$f":"IF(J33=\"\",\"\",IFERROR(SUMPRODUCT(--(INDEX(Model_Inputs_Ref_Units,,MATCH(J$33,Model_Inputs_Thermal_Zones,0)+$B40)<>1),INDEX(Model_Inputs_Ref_Units,,MATCH(J$33,Model_Inputs_Thermal_Zones,0)+$B37),INDEX(Model_Inputs_Ref_Units,,MATCH(J$33,Model_Inputs_Thermal_Zones,0)+1))/SUMPRODUCT(--(INDEX(Model_Inputs_Ref_Units,,MATCH(J$33,Model_Inputs_Thermal_Zones,0)+$B40)<>1),INDEX(Model_Inputs_Ref_Units,,MATCH(J$33,Model_Inputs_Thermal_Zones,0)+1)),\"\"))","v":""},{"$f":"IF(K33=\"\",\"\",IFERROR(SUMPRODUCT(--(INDEX(Model_Inputs_Ref_Units,,MATCH(K$33,Model_Inputs_Thermal_Zones,0)+$B40)<>1),INDEX(Model_Inputs_Ref_Units,,MATCH(K$33,Model_Inputs_Thermal_Zones,0)+$B37),INDEX(Model_Inputs_Ref_Units,,MATCH(K$33,Model_Inputs_Thermal_Zones,0)+1))/SUMPRODUCT(--(INDEX(Model_Inputs_Ref_Units,,MATCH(K$33,Model_Inputs_Thermal_Zones,0)+$B40)<>1),INDEX(Model_Inputs_Ref_Units,,MATCH(K$33,Model_Inputs_Thermal_Zones,0)+1)),\"\"))","v":""},{"$f":"IF(L33=\"\",\"\",IFERROR(SUMPRODUCT(--(INDEX(Model_Inputs_Ref_Units,,MATCH(L$33,Model_Inputs_Thermal_Zones,0)+$B40)<>1),INDEX(Model_Inputs_Ref_Units,,MATCH(L$33,Model_Inputs_Thermal_Zones,0)+$B37),INDEX(Model_Inputs_Ref_Units,,MATCH(L$33,Model_Inputs_Thermal_Zones,0)+1))/SUMPRODUCT(--(INDEX(Model_Inputs_Ref_Units,,MATCH(L$33,Model_Inputs_Thermal_Zones,0)+$B40)<>1),INDEX(Model_Inputs_Ref_Units,,MATCH(L$33,Model_Inputs_Thermal_Zones,0)+1)),\"\"))","v":""},{"$f":"IF(M33=\"\",\"\",IFERROR(SUMPRODUCT(--(INDEX(Model_Inputs_Ref_Units,,MATCH(M$33,Model_Inputs_Thermal_Zones,0)+$B40)<>1),INDEX(Model_Inputs_Ref_Units,,MATCH(M$33,Model_Inputs_Thermal_Zones,0)+$B37),INDEX(Model_Inputs_Ref_Units,,MATCH(M$33,Model_Inputs_Thermal_Zones,0)+1))/SUMPRODUCT(--(INDEX(Model_Inputs_Ref_Units,,MATCH(M$33,Model_Inputs_Thermal_Zones,0)+$B40)<>1),INDEX(Model_Inputs_Ref_Units,,MATCH(M$33,Model_Inputs_Thermal_Zones,0)+1)),\"\"))","v":""},{"$f":"IF(N33=\"\",\"\",IFERROR(SUMPRODUCT(--(INDEX(Model_Inputs_Ref_Units,,MATCH(N$33,Model_Inputs_Thermal_Zones,0)+$B40)<>1),INDEX(Model_Inputs_Ref_Units,,MATCH(N$33,Model_Inputs_Thermal_Zones,0)+$B37),INDEX(Model_Inputs_Ref_Units,,MATCH(N$33,Model_Inputs_Thermal_Zones,0)+1))/SUMPRODUCT(--(INDEX(Model_Inputs_Ref_Units,,MATCH(N$33,Model_Inputs_Thermal_Zones,0)+$B40)<>1),INDEX(Model_Inputs_Ref_Units,,MATCH(N$33,Model_Inputs_Thermal_Zones,0)+1)),\"\"))","v":""},{"$f":"IF(O33=\"\",\"\",IFERROR(SUMPRODUCT(--(INDEX(Model_Inputs_Ref_Units,,MATCH(O$33,Model_Inputs_Thermal_Zones,0)+$B40)<>1),INDEX(Model_Inputs_Ref_Units,,MATCH(O$33,Model_Inputs_Thermal_Zones,0)+$B37),INDEX(Model_Inputs_Ref_Units,,MATCH(O$33,Model_Inputs_Thermal_Zones,0)+1))/SUMPRODUCT(--(INDEX(Model_Inputs_Ref_Units,,MATCH(O$33,Model_Inputs_Thermal_Zones,0)+$B40)<>1),INDEX(Model_Inputs_Ref_Units,,MATCH(O$33,Model_Inputs_Thermal_Zones,0)+1)),\"\"))","v":""},{"$f":"IF(P33=\"\",\"\",IFERROR(SUMPRODUCT(--(INDEX(Model_Inputs_Ref_Units,,MATCH(P$33,Model_Inputs_Thermal_Zones,0)+$B40)<>1),INDEX(Model_Inputs_Ref_Units,,MATCH(P$33,Model_Inputs_Thermal_Zones,0)+$B37),INDEX(Model_Inputs_Ref_Units,,MATCH(P$33,Model_Inputs_Thermal_Zones,0)+1))/SUMPRODUCT(--(INDEX(Model_Inputs_Ref_Units,,MATCH(P$33,Model_Inputs_Thermal_Zones,0)+$B40)<>1),INDEX(Model_Inputs_Ref_Units,,MATCH(P$33,Model_Inputs_Thermal_Zones,0)+1)),\"\"))","v":""},{"$f":"IF(Q33=\"\",\"\",IFERROR(SUMPRODUCT(--(INDEX(Model_Inputs_Ref_Units,,MATCH(Q$33,Model_Inputs_Thermal_Zones,0)+$B40)<>1),INDEX(Model_Inputs_Ref_Units,,MATCH(Q$33,Model_Inputs_Thermal_Zones,0)+$B37),INDEX(Model_Inputs_Ref_Units,,MATCH(Q$33,Model_Inputs_Thermal_Zones,0)+1))/SUMPRODUCT(--(INDEX(Model_Inputs_Ref_Units,,MATCH(Q$33,Model_Inputs_Thermal_Zones,0)+$B40)<>1),INDEX(Model_Inputs_Ref_Units,,MATCH(Q$33,Model_Inputs_Thermal_Zones,0)+1)),\"\"))","v":""},{"$f":"IF(R33=\"\",\"\",IFERROR(SUMPRODUCT(--(INDEX(Model_Inputs_Ref_Units,,MATCH(R$33,Model_Inputs_Thermal_Zones,0)+$B40)<>1),INDEX(Model_Inputs_Ref_Units,,MATCH(R$33,Model_Inputs_Thermal_Zones,0)+$B37),INDEX(Model_Inputs_Ref_Units,,MATCH(R$33,Model_Inputs_Thermal_Zones,0)+1))/SUMPRODUCT(--(INDEX(Model_Inputs_Ref_Units,,MATCH(R$33,Model_Inputs_Thermal_Zones,0)+$B40)<>1),INDEX(Model_Inputs_Ref_Units,,MATCH(R$33,Model_Inputs_Thermal_Zones,0)+1)),\"\"))","v":""},{"$f":"IF(S33=\"\",\"\",IFERROR(SUMPRODUCT(--(INDEX(Model_Inputs_Ref_Units,,MATCH(S$33,Model_Inputs_Thermal_Zones,0)+$B40)<>1),INDEX(Model_Inputs_Ref_Units,,MATCH(S$33,Model_Inputs_Thermal_Zones,0)+$B37),INDEX(Model_Inputs_Ref_Units,,MATCH(S$33,Model_Inputs_Thermal_Zones,0)+1))/SUMPRODUCT(--(INDEX(Model_Inputs_Ref_Units,,MATCH(S$33,Model_Inputs_Thermal_Zones,0)+$B40)<>1),INDEX(Model_Inputs_Ref_Units,,MATCH(S$33,Model_Inputs_Thermal_Zones,0)+1)),\"\"))","v":""},{"$f":"IF(T33=\"\",\"\",IFERROR(SUMPRODUCT(--(INDEX(Model_Inputs_Ref_Units,,MATCH(T$33,Model_Inputs_Thermal_Zones,0)+$B40)<>1),INDEX(Model_Inputs_Ref_Units,,MATCH(T$33,Model_Inputs_Thermal_Zones,0)+$B37),INDEX(Model_Inputs_Ref_Units,,MATCH(T$33,Model_Inputs_Thermal_Zones,0)+1))/SUMPRODUCT(--(INDEX(Model_Inputs_Ref_Units,,MATCH(T$33,Model_Inputs_Thermal_Zones,0)+$B40)<>1),INDEX(Model_Inputs_Ref_Units,,MATCH(T$33,Model_Inputs_Thermal_Zones,0)+1)),\"\"))","v":""},{"$f":"IF(U33=\"\",\"\",IFERROR(SUMPRODUCT(--(INDEX(Model_Inputs_Ref_Units,,MATCH(U$33,Model_Inputs_Thermal_Zones,0)+$B40)<>1),INDEX(Model_Inputs_Ref_Units,,MATCH(U$33,Model_Inputs_Thermal_Zones,0)+$B37),INDEX(Model_Inputs_Ref_Units,,MATCH(U$33,Model_Inputs_Thermal_Zones,0)+1))/SUMPRODUCT(--(INDEX(Model_Inputs_Ref_Units,,MATCH(U$33,Model_Inputs_Thermal_Zones,0)+$B40)<>1),INDEX(Model_Inputs_Ref_Units,,MATCH(U$33,Model_Inputs_Thermal_Zones,0)+1)),\"\"))","v":""},{"$f":"IF(V33=\"\",\"\",IFERROR(SUMPRODUCT(--(INDEX(Model_Inputs_Ref_Units,,MATCH(V$33,Model_Inputs_Thermal_Zones,0)+$B40)<>1),INDEX(Model_Inputs_Ref_Units,,MATCH(V$33,Model_Inputs_Thermal_Zones,0)+$B37),INDEX(Model_Inputs_Ref_Units,,MATCH(V$33,Model_Inputs_Thermal_Zones,0)+1))/SUMPRODUCT(--(INDEX(Model_Inputs_Ref_Units,,MATCH(V$33,Model_Inputs_Thermal_Zones,0)+$B40)<>1),INDEX(Model_Inputs_Ref_Units,,MATCH(V$33,Model_Inputs_Thermal_Zones,0)+1)),\"\"))","v":""},{"$f":"IF(W33=\"\",\"\",IFERROR(SUMPRODUCT(--(INDEX(Model_Inputs_Ref_Units,,MATCH(W$33,Model_Inputs_Thermal_Zones,0)+$B40)<>1),INDEX(Model_Inputs_Ref_Units,,MATCH(W$33,Model_Inputs_Thermal_Zones,0)+$B37),INDEX(Model_Inputs_Ref_Units,,MATCH(W$33,Model_Inputs_Thermal_Zones,0)+1))/SUMPRODUCT(--(INDEX(Model_Inputs_Ref_Units,,MATCH(W$33,Model_Inputs_Thermal_Zones,0)+$B40)<>1),INDEX(Model_Inputs_Ref_Units,,MATCH(W$33,Model_Inputs_Thermal_Zones,0)+1)),\"\"))","v":""},{"$f":"IF(X33=\"\",\"\",IFERROR(SUMPRODUCT(--(INDEX(Model_Inputs_Ref_Units,,MATCH(X$33,Model_Inputs_Thermal_Zones,0)+$B40)<>1),INDEX(Model_Inputs_Ref_Units,,MATCH(X$33,Model_Inputs_Thermal_Zones,0)+$B37),INDEX(Model_Inputs_Ref_Units,,MATCH(X$33,Model_Inputs_Thermal_Zones,0)+1))/SUMPRODUCT(--(INDEX(Model_Inputs_Ref_Units,,MATCH(X$33,Model_Inputs_Thermal_Zones,0)+$B40)<>1),INDEX(Model_Inputs_Ref_Units,,MATCH(X$33,Model_Inputs_Thermal_Zones,0)+1)),\"\"))","v":""},{"$f":"IF(Y33=\"\",\"\",IFERROR(SUMPRODUCT(--(INDEX(Model_Inputs_Ref_Units,,MATCH(Y$33,Model_Inputs_Thermal_Zones,0)+$B40)<>1),INDEX(Model_Inputs_Ref_Units,,MATCH(Y$33,Model_Inputs_Thermal_Zones,0)+$B37),INDEX(Model_Inputs_Ref_Units,,MATCH(Y$33,Model_Inputs_Thermal_Zones,0)+1))/SUMPRODUCT(--(INDEX(Model_Inputs_Ref_Units,,MATCH(Y$33,Model_Inputs_Thermal_Zones,0)+$B40)<>1),INDEX(Model_Inputs_Ref_Units,,MATCH(Y$33,Model_Inputs_Thermal_Zones,0)+1)),\"\"))","v":""},{"$f":"IF(Z33=\"\",\"\",IFERROR(SUMPRODUCT(--(INDEX(Model_Inputs_Ref_Units,,MATCH(Z$33,Model_Inputs_Thermal_Zones,0)+$B40)<>1),INDEX(Model_Inputs_Ref_Units,,MATCH(Z$33,Model_Inputs_Thermal_Zones,0)+$B37),INDEX(Model_Inputs_Ref_Units,,MATCH(Z$33,Model_Inputs_Thermal_Zones,0)+1))/SUMPRODUCT(--(INDEX(Model_Inputs_Ref_Units,,MATCH(Z$33,Model_Inputs_Thermal_Zones,0)+$B40)<>1),INDEX(Model_Inputs_Ref_Units,,MATCH(Z$33,Model_Inputs_Thermal_Zones,0)+1)),\"\"))","v":""},{"$f":"IF(AA33=\"\",\"\",IFERROR(SUMPRODUCT(--(INDEX(Model_Inputs_Ref_Units,,MATCH(AA$33,Model_Inputs_Thermal_Zones,0)+$B40)<>1),INDEX(Model_Inputs_Ref_Units,,MATCH(AA$33,Model_Inputs_Thermal_Zones,0)+$B37),INDEX(Model_Inputs_Ref_Units,,MATCH(AA$33,Model_Inputs_Thermal_Zones,0)+1))/SUMPRODUCT(--(INDEX(Model_Inputs_Ref_Units,,MATCH(AA$33,Model_Inputs_Thermal_Zones,0)+$B40)<>1),INDEX(Model_Inputs_Ref_Units,,MATCH(AA$33,Model_Inputs_Thermal_Zones,0)+1)),\"\"))","v":""},{"$f":"IF(AB33=\"\",\"\",IFERROR(SUMPRODUCT(--(INDEX(Model_Inputs_Ref_Units,,MATCH(AB$33,Model_Inputs_Thermal_Zones,0)+$B40)<>1),INDEX(Model_Inputs_Ref_Units,,MATCH(AB$33,Model_Inputs_Thermal_Zones,0)+$B37),INDEX(Model_Inputs_Ref_Units,,MATCH(AB$33,Model_Inputs_Thermal_Zones,0)+1))/SUMPRODUCT(--(INDEX(Model_Inputs_Ref_Units,,MATCH(AB$33,Model_Inputs_Thermal_Zones,0)+$B40)<>1),INDEX(Model_Inputs_Ref_Units,,MATCH(AB$33,Model_Inputs_Thermal_Zones,0)+1)),\"\"))","v":""},{"$f":"IF(AC33=\"\",\"\",IFERROR(SUMPRODUCT(--(INDEX(Model_Inputs_Ref_Units,,MATCH(AC$33,Model_Inputs_Thermal_Zones,0)+$B40)<>1),INDEX(Model_Inputs_Ref_Units,,MATCH(AC$33,Model_Inputs_Thermal_Zones,0)+$B37),INDEX(Model_Inputs_Ref_Units,,MATCH(AC$33,Model_Inputs_Thermal_Zones,0)+1))/SUMPRODUCT(--(INDEX(Model_Inputs_Ref_Units,,MATCH(AC$33,Model_Inputs_Thermal_Zones,0)+$B40)<>1),INDEX(Model_Inputs_Ref_Units,,MATCH(AC$33,Model_Inputs_Thermal_Zones,0)+1)),\"\"))","v":""},{"$f":"IF(AD33=\"\",\"\",IFERROR(SUMPRODUCT(--(INDEX(Model_Inputs_Ref_Units,,MATCH(AD$33,Model_Inputs_Thermal_Zones,0)+$B40)<>1),INDEX(Model_Inputs_Ref_Units,,MATCH(AD$33,Model_Inputs_Thermal_Zones,0)+$B37),INDEX(Model_Inputs_Ref_Units,,MATCH(AD$33,Model_Inputs_Thermal_Zones,0)+1))/SUMPRODUCT(--(INDEX(Model_Inputs_Ref_Units,,MATCH(AD$33,Model_Inputs_Thermal_Zones,0)+$B40)<>1),INDEX(Model_Inputs_Ref_Units,,MATCH(AD$33,Model_Inputs_Thermal_Zones,0)+1)),\"\"))","v":""},{"$f":"IF(AE33=\"\",\"\",IFERROR(SUMPRODUCT(--(INDEX(Model_Inputs_Ref_Units,,MATCH(AE$33,Model_Inputs_Thermal_Zones,0)+$B40)<>1),INDEX(Model_Inputs_Ref_Units,,MATCH(AE$33,Model_Inputs_Thermal_Zones,0)+$B37),INDEX(Model_Inputs_Ref_Units,,MATCH(AE$33,Model_Inputs_Thermal_Zones,0)+1))/SUMPRODUCT(--(INDEX(Model_Inputs_Ref_Units,,MATCH(AE$33,Model_Inputs_Thermal_Zones,0)+$B40)<>1),INDEX(Model_Inputs_Ref_Units,,MATCH(AE$33,Model_Inputs_Thermal_Zones,0)+1)),\"\"))","v":""},{"$f":"IF(AF33=\"\",\"\",IFERROR(SUMPRODUCT(--(INDEX(Model_Inputs_Ref_Units,,MATCH(AF$33,Model_Inputs_Thermal_Zones,0)+$B40)<>1),INDEX(Model_Inputs_Ref_Units,,MATCH(AF$33,Model_Inputs_Thermal_Zones,0)+$B37),INDEX(Model_Inputs_Ref_Units,,MATCH(AF$33,Model_Inputs_Thermal_Zones,0)+1))/SUMPRODUCT(--(INDEX(Model_Inputs_Ref_Units,,MATCH(AF$33,Model_Inputs_Thermal_Zones,0)+$B40)<>1),INDEX(Model_Inputs_Ref_Units,,MATCH(AF$33,Model_Inputs_Thermal_Zones,0)+1)),\"\"))","v":""},{"$f":"IF(AG33=\"\",\"\",IFERROR(SUMPRODUCT(--(INDEX(Model_Inputs_Ref_Units,,MATCH(AG$33,Model_Inputs_Thermal_Zones,0)+$B40)<>1),INDEX(Model_Inputs_Ref_Units,,MATCH(AG$33,Model_Inputs_Thermal_Zones,0)+$B37),INDEX(Model_Inputs_Ref_Units,,MATCH(AG$33,Model_Inputs_Thermal_Zones,0)+1))/SUMPRODUCT(--(INDEX(Model_Inputs_Ref_Units,,MATCH(AG$33,Model_Inputs_Thermal_Zones,0)+$B40)<>1),INDEX(Model_Inputs_Ref_Units,,MATCH(AG$33,Model_Inputs_Thermal_Zones,0)+1)),\"\"))","v":""},{"$f":"IF(AH33=\"\",\"\",IFERROR(SUMPRODUCT(--(INDEX(Model_Inputs_Ref_Units,,MATCH(AH$33,Model_Inputs_Thermal_Zones,0)+$B40)<>1),INDEX(Model_Inputs_Ref_Units,,MATCH(AH$33,Model_Inputs_Thermal_Zones,0)+$B37),INDEX(Model_Inputs_Ref_Units,,MATCH(AH$33,Model_Inputs_Thermal_Zones,0)+1))/SUMPRODUCT(--(INDEX(Model_Inputs_Ref_Units,,MATCH(AH$33,Model_Inputs_Thermal_Zones,0)+$B40)<>1),INDEX(Model_Inputs_Ref_Units,,MATCH(AH$33,Model_Inputs_Thermal_Zones,0)+1)),\"\"))","v":""},{"$f":"IF(AI33=\"\",\"\",IFERROR(SUMPRODUCT(--(INDEX(Model_Inputs_Ref_Units,,MATCH(AI$33,Model_Inputs_Thermal_Zones,0)+$B40)<>1),INDEX(Model_Inputs_Ref_Units,,MATCH(AI$33,Model_Inputs_Thermal_Zones,0)+$B37),INDEX(Model_Inputs_Ref_Units,,MATCH(AI$33,Model_Inputs_Thermal_Zones,0)+1))/SUMPRODUCT(--(INDEX(Model_Inputs_Ref_Units,,MATCH(AI$33,Model_Inputs_Thermal_Zones,0)+$B40)<>1),INDEX(Model_Inputs_Ref_Units,,MATCH(AI$33,Model_Inputs_Thermal_Zones,0)+1)),\"\"))","v":""},{"$f":"IF(AJ33=\"\",\"\",IFERROR(SUMPRODUCT(--(INDEX(Model_Inputs_Ref_Units,,MATCH(AJ$33,Model_Inputs_Thermal_Zones,0)+$B40)<>1),INDEX(Model_Inputs_Ref_Units,,MATCH(AJ$33,Model_Inputs_Thermal_Zones,0)+$B37),INDEX(Model_Inputs_Ref_Units,,MATCH(AJ$33,Model_Inputs_Thermal_Zones,0)+1))/SUMPRODUCT(--(INDEX(Model_Inputs_Ref_Units,,MATCH(AJ$33,Model_Inputs_Thermal_Zones,0)+$B40)<>1),INDEX(Model_Inputs_Ref_Units,,MATCH(AJ$33,Model_Inputs_Thermal_Zones,0)+1)),\"\"))","v":""},{"$f":"IF(AK33=\"\",\"\",IFERROR(SUMPRODUCT(--(INDEX(Model_Inputs_Ref_Units,,MATCH(AK$33,Model_Inputs_Thermal_Zones,0)+$B40)<>1),INDEX(Model_Inputs_Ref_Units,,MATCH(AK$33,Model_Inputs_Thermal_Zones,0)+$B37),INDEX(Model_Inputs_Ref_Units,,MATCH(AK$33,Model_Inputs_Thermal_Zones,0)+1))/SUMPRODUCT(--(INDEX(Model_Inputs_Ref_Units,,MATCH(AK$33,Model_Inputs_Thermal_Zones,0)+$B40)<>1),INDEX(Model_Inputs_Ref_Units,,MATCH(AK$33,Model_Inputs_Thermal_Zones,0)+1)),\"\"))","v":""},{"$f":"IF(AL33=\"\",\"\",IFERROR(SUMPRODUCT(--(INDEX(Model_Inputs_Ref_Units,,MATCH(AL$33,Model_Inputs_Thermal_Zones,0)+$B40)<>1),INDEX(Model_Inputs_Ref_Units,,MATCH(AL$33,Model_Inputs_Thermal_Zones,0)+$B37),INDEX(Model_Inputs_Ref_Units,,MATCH(AL$33,Model_Inputs_Thermal_Zones,0)+1))/SUMPRODUCT(--(INDEX(Model_Inputs_Ref_Units,,MATCH(AL$33,Model_Inputs_Thermal_Zones,0)+$B40)<>1),INDEX(Model_Inputs_Ref_Units,,MATCH(AL$33,Model_Inputs_Thermal_Zones,0)+1)),\"\"))","v":""},{"$f":"IF(AM33=\"\",\"\",IFERROR(SUMPRODUCT(--(INDEX(Model_Inputs_Ref_Units,,MATCH(AM$33,Model_Inputs_Thermal_Zones,0)+$B40)<>1),INDEX(Model_Inputs_Ref_Units,,MATCH(AM$33,Model_Inputs_Thermal_Zones,0)+$B37),INDEX(Model_Inputs_Ref_Units,,MATCH(AM$33,Model_Inputs_Thermal_Zones,0)+1))/SUMPRODUCT(--(INDEX(Model_Inputs_Ref_Units,,MATCH(AM$33,Model_Inputs_Thermal_Zones,0)+$B40)<>1),INDEX(Model_Inputs_Ref_Units,,MATCH(AM$33,Model_Inputs_Thermal_Zones,0)+1)),\"\"))","v":""},{"$f":"IF(AN33=\"\",\"\",IFERROR(SUMPRODUCT(--(INDEX(Model_Inputs_Ref_Units,,MATCH(AN$33,Model_Inputs_Thermal_Zones,0)+$B40)<>1),INDEX(Model_Inputs_Ref_Units,,MATCH(AN$33,Model_Inputs_Thermal_Zones,0)+$B37),INDEX(Model_Inputs_Ref_Units,,MATCH(AN$33,Model_Inputs_Thermal_Zones,0)+1))/SUMPRODUCT(--(INDEX(Model_Inputs_Ref_Units,,MATCH(AN$33,Model_Inputs_Thermal_Zones,0)+$B40)<>1),INDEX(Model_Inputs_Ref_Units,,MATCH(AN$33,Model_Inputs_Thermal_Zones,0)+1)),\"\"))","v":""},{"$f":"IF(AO33=\"\",\"\",IFERROR(SUMPRODUCT(--(INDEX(Model_Inputs_Ref_Units,,MATCH(AO$33,Model_Inputs_Thermal_Zones,0)+$B40)<>1),INDEX(Model_Inputs_Ref_Units,,MATCH(AO$33,Model_Inputs_Thermal_Zones,0)+$B37),INDEX(Model_Inputs_Ref_Units,,MATCH(AO$33,Model_Inputs_Thermal_Zones,0)+1))/SUMPRODUCT(--(INDEX(Model_Inputs_Ref_Units,,MATCH(AO$33,Model_Inputs_Thermal_Zones,0)+$B40)<>1),INDEX(Model_Inputs_Ref_Units,,MATCH(AO$33,Model_Inputs_Thermal_Zones,0)+1)),\"\"))","v":""},{"$f":"IF(AP33=\"\",\"\",IFERROR(SUMPRODUCT(--(INDEX(Model_Inputs_Ref_Units,,MATCH(AP$33,Model_Inputs_Thermal_Zones,0)+$B40)<>1),INDEX(Model_Inputs_Ref_Units,,MATCH(AP$33,Model_Inputs_Thermal_Zones,0)+$B37),INDEX(Model_Inputs_Ref_Units,,MATCH(AP$33,Model_Inputs_Thermal_Zones,0)+1))/SUMPRODUCT(--(INDEX(Model_Inputs_Ref_Units,,MATCH(AP$33,Model_Inputs_Thermal_Zones,0)+$B40)<>1),INDEX(Model_Inputs_Ref_Units,,MATCH(AP$33,Model_Inputs_Thermal_Zones,0)+1)),\"\"))","v":""},{"$f":"IF(AQ33=\"\",\"\",IFERROR(SUMPRODUCT(--(INDEX(Model_Inputs_Ref_Units,,MATCH(AQ$33,Model_Inputs_Thermal_Zones,0)+$B40)<>1),INDEX(Model_Inputs_Ref_Units,,MATCH(AQ$33,Model_Inputs_Thermal_Zones,0)+$B37),INDEX(Model_Inputs_Ref_Units,,MATCH(AQ$33,Model_Inputs_Thermal_Zones,0)+1))/SUMPRODUCT(--(INDEX(Model_Inputs_Ref_Units,,MATCH(AQ$33,Model_Inputs_Thermal_Zones,0)+$B40)<>1),INDEX(Model_Inputs_Ref_Units,,MATCH(AQ$33,Model_Inputs_Thermal_Zones,0)+1)),\"\"))","v":""},{"$f":"IF(AR33=\"\",\"\",IFERROR(SUMPRODUCT(--(INDEX(Model_Inputs_Ref_Units,,MATCH(AR$33,Model_Inputs_Thermal_Zones,0)+$B40)<>1),INDEX(Model_Inputs_Ref_Units,,MATCH(AR$33,Model_Inputs_Thermal_Zones,0)+$B37),INDEX(Model_Inputs_Ref_Units,,MATCH(AR$33,Model_Inputs_Thermal_Zones,0)+1))/SUMPRODUCT(--(INDEX(Model_Inputs_Ref_Units,,MATCH(AR$33,Model_Inputs_Thermal_Zones,0)+$B40)<>1),INDEX(Model_Inputs_Ref_Units,,MATCH(AR$33,Model_Inputs_Thermal_Zones,0)+1)),\"\"))","v":""},{"$f":"IF(AS33=\"\",\"\",IFERROR(SUMPRODUCT(--(INDEX(Model_Inputs_Ref_Units,,MATCH(AS$33,Model_Inputs_Thermal_Zones,0)+$B40)<>1),INDEX(Model_Inputs_Ref_Units,,MATCH(AS$33,Model_Inputs_Thermal_Zones,0)+$B37),INDEX(Model_Inputs_Ref_Units,,MATCH(AS$33,Model_Inputs_Thermal_Zones,0)+1))/SUMPRODUCT(--(INDEX(Model_Inputs_Ref_Units,,MATCH(AS$33,Model_Inputs_Thermal_Zones,0)+$B40)<>1),INDEX(Model_Inputs_Ref_Units,,MATCH(AS$33,Model_Inputs_Thermal_Zones,0)+1)),\"\"))","v":""},{"$f":"IF(AT33=\"\",\"\",IFERROR(SUMPRODUCT(--(INDEX(Model_Inputs_Ref_Units,,MATCH(AT$33,Model_Inputs_Thermal_Zones,0)+$B40)<>1),INDEX(Model_Inputs_Ref_Units,,MATCH(AT$33,Model_Inputs_Thermal_Zones,0)+$B37),INDEX(Model_Inputs_Ref_Units,,MATCH(AT$33,Model_Inputs_Thermal_Zones,0)+1))/SUMPRODUCT(--(INDEX(Model_Inputs_Ref_Units,,MATCH(AT$33,Model_Inputs_Thermal_Zones,0)+$B40)<>1),INDEX(Model_Inputs_Ref_Units,,MATCH(AT$33,Model_Inputs_Thermal_Zones,0)+1)),\"\"))","v":""},{"$f":"IF(AU33=\"\",\"\",IFERROR(SUMPRODUCT(--(INDEX(Model_Inputs_Ref_Units,,MATCH(AU$33,Model_Inputs_Thermal_Zones,0)+$B40)<>1),INDEX(Model_Inputs_Ref_Units,,MATCH(AU$33,Model_Inputs_Thermal_Zones,0)+$B37),INDEX(Model_Inputs_Ref_Units,,MATCH(AU$33,Model_Inputs_Thermal_Zones,0)+1))/SUMPRODUCT(--(INDEX(Model_Inputs_Ref_Units,,MATCH(AU$33,Model_Inputs_Thermal_Zones,0)+$B40)<>1),INDEX(Model_Inputs_Ref_Units,,MATCH(AU$33,Model_Inputs_Thermal_Zones,0)+1)),\"\"))","v":""},{"$f":"IF(AV33=\"\",\"\",IFERROR(SUMPRODUCT(--(INDEX(Model_Inputs_Ref_Units,,MATCH(AV$33,Model_Inputs_Thermal_Zones,0)+$B40)<>1),INDEX(Model_Inputs_Ref_Units,,MATCH(AV$33,Model_Inputs_Thermal_Zones,0)+$B37),INDEX(Model_Inputs_Ref_Units,,MATCH(AV$33,Model_Inputs_Thermal_Zones,0)+1))/SUMPRODUCT(--(INDEX(Model_Inputs_Ref_Units,,MATCH(AV$33,Model_Inputs_Thermal_Zones,0)+$B40)<>1),INDEX(Model_Inputs_Ref_Units,,MATCH(AV$33,Model_Inputs_Thermal_Zones,0)+1)),\"\"))","v":""},{"$f":"IF(AW33=\"\",\"\",IFERROR(SUMPRODUCT(--(INDEX(Model_Inputs_Ref_Units,,MATCH(AW$33,Model_Inputs_Thermal_Zones,0)+$B40)<>1),INDEX(Model_Inputs_Ref_Units,,MATCH(AW$33,Model_Inputs_Thermal_Zones,0)+$B37),INDEX(Model_Inputs_Ref_Units,,MATCH(AW$33,Model_Inputs_Thermal_Zones,0)+1))/SUMPRODUCT(--(INDEX(Model_Inputs_Ref_Units,,MATCH(AW$33,Model_Inputs_Thermal_Zones,0)+$B40)<>1),INDEX(Model_Inputs_Ref_Units,,MATCH(AW$33,Model_Inputs_Thermal_Zones,0)+1)),\"\"))","v":""},{"$f":"IF(AX33=\"\",\"\",IFERROR(SUMPRODUCT(--(INDEX(Model_Inputs_Ref_Units,,MATCH(AX$33,Model_Inputs_Thermal_Zones,0)+$B40)<>1),INDEX(Model_Inputs_Ref_Units,,MATCH(AX$33,Model_Inputs_Thermal_Zones,0)+$B37),INDEX(Model_Inputs_Ref_Units,,MATCH(AX$33,Model_Inputs_Thermal_Zones,0)+1))/SUMPRODUCT(--(INDEX(Model_Inputs_Ref_Units,,MATCH(AX$33,Model_Inputs_Thermal_Zones,0)+$B40)<>1),INDEX(Model_Inputs_Ref_Units,,MATCH(AX$33,Model_Inputs_Thermal_Zones,0)+1)),\"\"))","v":""},{"$f":"IF(AY33=\"\",\"\",IFERROR(SUMPRODUCT(--(INDEX(Model_Inputs_Ref_Units,,MATCH(AY$33,Model_Inputs_Thermal_Zones,0)+$B40)<>1),INDEX(Model_Inputs_Ref_Units,,MATCH(AY$33,Model_Inputs_Thermal_Zones,0)+$B37),INDEX(Model_Inputs_Ref_Units,,MATCH(AY$33,Model_Inputs_Thermal_Zones,0)+1))/SUMPRODUCT(--(INDEX(Model_Inputs_Ref_Units,,MATCH(AY$33,Model_Inputs_Thermal_Zones,0)+$B40)<>1),INDEX(Model_Inputs_Ref_Units,,MATCH(AY$33,Model_Inputs_Thermal_Zones,0)+1)),\"\"))","v":""},{"$f":"IF(AZ33=\"\",\"\",IFERROR(SUMPRODUCT(--(INDEX(Model_Inputs_Ref_Units,,MATCH(AZ$33,Model_Inputs_Thermal_Zones,0)+$B40)<>1),INDEX(Model_Inputs_Ref_Units,,MATCH(AZ$33,Model_Inputs_Thermal_Zones,0)+$B37),INDEX(Model_Inputs_Ref_Units,,MATCH(AZ$33,Model_Inputs_Thermal_Zones,0)+1))/SUMPRODUCT(--(INDEX(Model_Inputs_Ref_Units,,MATCH(AZ$33,Model_Inputs_Thermal_Zones,0)+$B40)<>1),INDEX(Model_Inputs_Ref_Units,,MATCH(AZ$33,Model_Inputs_Thermal_Zones,0)+1)),\"\"))","v":""},{"$f":"IF(BA33=\"\",\"\",IFERROR(SUMPRODUCT(--(INDEX(Model_Inputs_Ref_Units,,MATCH(BA$33,Model_Inputs_Thermal_Zones,0)+$B40)<>1),INDEX(Model_Inputs_Ref_Units,,MATCH(BA$33,Model_Inputs_Thermal_Zones,0)+$B37),INDEX(Model_Inputs_Ref_Units,,MATCH(BA$33,Model_Inputs_Thermal_Zones,0)+1))/SUMPRODUCT(--(INDEX(Model_Inputs_Ref_Units,,MATCH(BA$33,Model_Inputs_Thermal_Zones,0)+$B40)<>1),INDEX(Model_Inputs_Ref_Units,,MATCH(BA$33,Model_Inputs_Thermal_Zones,0)+1)),\"\"))","v":""},{"$f":"IF(BB33=\"\",\"\",IFERROR(SUMPRODUCT(--(INDEX(Model_Inputs_Ref_Units,,MATCH(BB$33,Model_Inputs_Thermal_Zones,0)+$B40)<>1),INDEX(Model_Inputs_Ref_Units,,MATCH(BB$33,Model_Inputs_Thermal_Zones,0)+$B37),INDEX(Model_Inputs_Ref_Units,,MATCH(BB$33,Model_Inputs_Thermal_Zones,0)+1))/SUMPRODUCT(--(INDEX(Model_Inputs_Ref_Units,,MATCH(BB$33,Model_Inputs_Thermal_Zones,0)+$B40)<>1),INDEX(Model_Inputs_Ref_Units,,MATCH(BB$33,Model_Inputs_Thermal_Zones,0)+1)),\"\"))","v":""},{"$f":"IF(BC33=\"\",\"\",IFERROR(SUMPRODUCT(--(INDEX(Model_Inputs_Ref_Units,,MATCH(BC$33,Model_Inputs_Thermal_Zones,0)+$B40)<>1),INDEX(Model_Inputs_Ref_Units,,MATCH(BC$33,Model_Inputs_Thermal_Zones,0)+$B37),INDEX(Model_Inputs_Ref_Units,,MATCH(BC$33,Model_Inputs_Thermal_Zones,0)+1))/SUMPRODUCT(--(INDEX(Model_Inputs_Ref_Units,,MATCH(BC$33,Model_Inputs_Thermal_Zones,0)+$B40)<>1),INDEX(Model_Inputs_Ref_Units,,MATCH(BC$33,Model_Inputs_Thermal_Zones,0)+1)),\"\"))","v":""},{"$f":"IF(BD33=\"\",\"\",IFERROR(SUMPRODUCT(--(INDEX(Model_Inputs_Ref_Units,,MATCH(BD$33,Model_Inputs_Thermal_Zones,0)+$B40)<>1),INDEX(Model_Inputs_Ref_Units,,MATCH(BD$33,Model_Inputs_Thermal_Zones,0)+$B37),INDEX(Model_Inputs_Ref_Units,,MATCH(BD$33,Model_Inputs_Thermal_Zones,0)+1))/SUMPRODUCT(--(INDEX(Model_Inputs_Ref_Units,,MATCH(BD$33,Model_Inputs_Thermal_Zones,0)+$B40)<>1),INDEX(Model_Inputs_Ref_Units,,MATCH(BD$33,Model_Inputs_Thermal_Zones,0)+1)),\"\"))","v":""},{"$f":"IF(BE33=\"\",\"\",IFERROR(SUMPRODUCT(--(INDEX(Model_Inputs_Ref_Units,,MATCH(BE$33,Model_Inputs_Thermal_Zones,0)+$B40)<>1),INDEX(Model_Inputs_Ref_Units,,MATCH(BE$33,Model_Inputs_Thermal_Zones,0)+$B37),INDEX(Model_Inputs_Ref_Units,,MATCH(BE$33,Model_Inputs_Thermal_Zones,0)+1))/SUMPRODUCT(--(INDEX(Model_Inputs_Ref_Units,,MATCH(BE$33,Model_Inputs_Thermal_Zones,0)+$B40)<>1),INDEX(Model_Inputs_Ref_Units,,MATCH(BE$33,Model_Inputs_Thermal_Zones,0)+1)),\"\"))","v":""},{"$f":"IF(BF33=\"\",\"\",IFERROR(SUMPRODUCT(--(INDEX(Model_Inputs_Ref_Units,,MATCH(BF$33,Model_Inputs_Thermal_Zones,0)+$B40)<>1),INDEX(Model_Inputs_Ref_Units,,MATCH(BF$33,Model_Inputs_Thermal_Zones,0)+$B37),INDEX(Model_Inputs_Ref_Units,,MATCH(BF$33,Model_Inputs_Thermal_Zones,0)+1))/SUMPRODUCT(--(INDEX(Model_Inputs_Ref_Units,,MATCH(BF$33,Model_Inputs_Thermal_Zones,0)+$B40)<>1),INDEX(Model_Inputs_Ref_Units,,MATCH(BF$33,Model_Inputs_Thermal_Zones,0)+1)),\"\"))","v":""},{"$f":"IF(BG33=\"\",\"\",IFERROR(SUMPRODUCT(--(INDEX(Model_Inputs_Ref_Units,,MATCH(BG$33,Model_Inputs_Thermal_Zones,0)+$B40)<>1),INDEX(Model_Inputs_Ref_Units,,MATCH(BG$33,Model_Inputs_Thermal_Zones,0)+$B37),INDEX(Model_Inputs_Ref_Units,,MATCH(BG$33,Model_Inputs_Thermal_Zones,0)+1))/SUMPRODUCT(--(INDEX(Model_Inputs_Ref_Units,,MATCH(BG$33,Model_Inputs_Thermal_Zones,0)+$B40)<>1),INDEX(Model_Inputs_Ref_Units,,MATCH(BG$33,Model_Inputs_Thermal_Zones,0)+1)),\"\"))","v":""},{"$f":"IF(BH33=\"\",\"\",IFERROR(SUMPRODUCT(--(INDEX(Model_Inputs_Ref_Units,,MATCH(BH$33,Model_Inputs_Thermal_Zones,0)+$B40)<>1),INDEX(Model_Inputs_Ref_Units,,MATCH(BH$33,Model_Inputs_Thermal_Zones,0)+$B37),INDEX(Model_Inputs_Ref_Units,,MATCH(BH$33,Model_Inputs_Thermal_Zones,0)+1))/SUMPRODUCT(--(INDEX(Model_Inputs_Ref_Units,,MATCH(BH$33,Model_Inputs_Thermal_Zones,0)+$B40)<>1),INDEX(Model_Inputs_Ref_Units,,MATCH(BH$33,Model_Inputs_Thermal_Zones,0)+1)),\"\"))","v":""},{"$f":"IF(BI33=\"\",\"\",IFERROR(SUMPRODUCT(--(INDEX(Model_Inputs_Ref_Units,,MATCH(BI$33,Model_Inputs_Thermal_Zones,0)+$B40)<>1),INDEX(Model_Inputs_Ref_Units,,MATCH(BI$33,Model_Inputs_Thermal_Zones,0)+$B37),INDEX(Model_Inputs_Ref_Units,,MATCH(BI$33,Model_Inputs_Thermal_Zones,0)+1))/SUMPRODUCT(--(INDEX(Model_Inputs_Ref_Units,,MATCH(BI$33,Model_Inputs_Thermal_Zones,0)+$B40)<>1),INDEX(Model_Inputs_Ref_Units,,MATCH(BI$33,Model_Inputs_Thermal_Zones,0)+1)),\"\"))","v":""},{"$f":"IF(BJ33=\"\",\"\",IFERROR(SUMPRODUCT(--(INDEX(Model_Inputs_Ref_Units,,MATCH(BJ$33,Model_Inputs_Thermal_Zones,0)+$B40)<>1),INDEX(Model_Inputs_Ref_Units,,MATCH(BJ$33,Model_Inputs_Thermal_Zones,0)+$B37),INDEX(Model_Inputs_Ref_Units,,MATCH(BJ$33,Model_Inputs_Thermal_Zones,0)+1))/SUMPRODUCT(--(INDEX(Model_Inputs_Ref_Units,,MATCH(BJ$33,Model_Inputs_Thermal_Zones,0)+$B40)<>1),INDEX(Model_Inputs_Ref_Units,,MATCH(BJ$33,Model_Inputs_Thermal_Zones,0)+1)),\"\"))","v":""},{"$f":"IF(BK33=\"\",\"\",IFERROR(SUMPRODUCT(--(INDEX(Model_Inputs_Ref_Units,,MATCH(BK$33,Model_Inputs_Thermal_Zones,0)+$B40)<>1),INDEX(Model_Inputs_Ref_Units,,MATCH(BK$33,Model_Inputs_Thermal_Zones,0)+$B37),INDEX(Model_Inputs_Ref_Units,,MATCH(BK$33,Model_Inputs_Thermal_Zones,0)+1))/SUMPRODUCT(--(INDEX(Model_Inputs_Ref_Units,,MATCH(BK$33,Model_Inputs_Thermal_Zones,0)+$B40)<>1),INDEX(Model_Inputs_Ref_Units,,MATCH(BK$33,Model_Inputs_Thermal_Zones,0)+1)),\"\"))","v":""},{"$f":"IF(BL33=\"\",\"\",IFERROR(SUMPRODUCT(--(INDEX(Model_Inputs_Ref_Units,,MATCH(BL$33,Model_Inputs_Thermal_Zones,0)+$B40)<>1),INDEX(Model_Inputs_Ref_Units,,MATCH(BL$33,Model_Inputs_Thermal_Zones,0)+$B37),INDEX(Model_Inputs_Ref_Units,,MATCH(BL$33,Model_Inputs_Thermal_Zones,0)+1))/SUMPRODUCT(--(INDEX(Model_Inputs_Ref_Units,,MATCH(BL$33,Model_Inputs_Thermal_Zones,0)+$B40)<>1),INDEX(Model_Inputs_Ref_Units,,MATCH(BL$33,Model_Inputs_Thermal_Zones,0)+1)),\"\"))","v":""},{"$f":"IF(BM33=\"\",\"\",IFERROR(SUMPRODUCT(--(INDEX(Model_Inputs_Ref_Units,,MATCH(BM$33,Model_Inputs_Thermal_Zones,0)+$B40)<>1),INDEX(Model_Inputs_Ref_Units,,MATCH(BM$33,Model_Inputs_Thermal_Zones,0)+$B37),INDEX(Model_Inputs_Ref_Units,,MATCH(BM$33,Model_Inputs_Thermal_Zones,0)+1))/SUMPRODUCT(--(INDEX(Model_Inputs_Ref_Units,,MATCH(BM$33,Model_Inputs_Thermal_Zones,0)+$B40)<>1),INDEX(Model_Inputs_Ref_Units,,MATCH(BM$33,Model_Inputs_Thermal_Zones,0)+1)),\"\"))","v":""},{"$f":"IF(BN33=\"\",\"\",IFERROR(SUMPRODUCT(--(INDEX(Model_Inputs_Ref_Units,,MATCH(BN$33,Model_Inputs_Thermal_Zones,0)+$B40)<>1),INDEX(Model_Inputs_Ref_Units,,MATCH(BN$33,Model_Inputs_Thermal_Zones,0)+$B37),INDEX(Model_Inputs_Ref_Units,,MATCH(BN$33,Model_Inputs_Thermal_Zones,0)+1))/SUMPRODUCT(--(INDEX(Model_Inputs_Ref_Units,,MATCH(BN$33,Model_Inputs_Thermal_Zones,0)+$B40)<>1),INDEX(Model_Inputs_Ref_Units,,MATCH(BN$33,Model_Inputs_Thermal_Zones,0)+1)),\"\"))","v":""},{"$f":"IF(BO33=\"\",\"\",IFERROR(SUMPRODUCT(--(INDEX(Model_Inputs_Ref_Units,,MATCH(BO$33,Model_Inputs_Thermal_Zones,0)+$B40)<>1),INDEX(Model_Inputs_Ref_Units,,MATCH(BO$33,Model_Inputs_Thermal_Zones,0)+$B37),INDEX(Model_Inputs_Ref_Units,,MATCH(BO$33,Model_Inputs_Thermal_Zones,0)+1))/SUMPRODUCT(--(INDEX(Model_Inputs_Ref_Units,,MATCH(BO$33,Model_Inputs_Thermal_Zones,0)+$B40)<>1),INDEX(Model_Inputs_Ref_Units,,MATCH(BO$33,Model_Inputs_Thermal_Zones,0)+1)),\"\"))","v":""},{"$f":"IF(BP33=\"\",\"\",IFERROR(SUMPRODUCT(--(INDEX(Model_Inputs_Ref_Units,,MATCH(BP$33,Model_Inputs_Thermal_Zones,0)+$B40)<>1),INDEX(Model_Inputs_Ref_Units,,MATCH(BP$33,Model_Inputs_Thermal_Zones,0)+$B37),INDEX(Model_Inputs_Ref_Units,,MATCH(BP$33,Model_Inputs_Thermal_Zones,0)+1))/SUMPRODUCT(--(INDEX(Model_Inputs_Ref_Units,,MATCH(BP$33,Model_Inputs_Thermal_Zones,0)+$B40)<>1),INDEX(Model_Inputs_Ref_Units,,MATCH(BP$33,Model_Inputs_Thermal_Zones,0)+1)),\"\"))","v":""},{"$f":"IF(BQ33=\"\",\"\",IFERROR(SUMPRODUCT(--(INDEX(Model_Inputs_Ref_Units,,MATCH(BQ$33,Model_Inputs_Thermal_Zones,0)+$B40)<>1),INDEX(Model_Inputs_Ref_Units,,MATCH(BQ$33,Model_Inputs_Thermal_Zones,0)+$B37),INDEX(Model_Inputs_Ref_Units,,MATCH(BQ$33,Model_Inputs_Thermal_Zones,0)+1))/SUMPRODUCT(--(INDEX(Model_Inputs_Ref_Units,,MATCH(BQ$33,Model_Inputs_Thermal_Zones,0)+$B40)<>1),INDEX(Model_Inputs_Ref_Units,,MATCH(BQ$33,Model_Inputs_Thermal_Zones,0)+1)),\"\"))","v":""},{"$f":"IF(BR33=\"\",\"\",IFERROR(SUMPRODUCT(--(INDEX(Model_Inputs_Ref_Units,,MATCH(BR$33,Model_Inputs_Thermal_Zones,0)+$B40)<>1),INDEX(Model_Inputs_Ref_Units,,MATCH(BR$33,Model_Inputs_Thermal_Zones,0)+$B37),INDEX(Model_Inputs_Ref_Units,,MATCH(BR$33,Model_Inputs_Thermal_Zones,0)+1))/SUMPRODUCT(--(INDEX(Model_Inputs_Ref_Units,,MATCH(BR$33,Model_Inputs_Thermal_Zones,0)+$B40)<>1),INDEX(Model_Inputs_Ref_Units,,MATCH(BR$33,Model_Inputs_Thermal_Zones,0)+1)),\"\"))","v":""},{"$f":"IF(BS33=\"\",\"\",IFERROR(SUMPRODUCT(--(INDEX(Model_Inputs_Ref_Units,,MATCH(BS$33,Model_Inputs_Thermal_Zones,0)+$B40)<>1),INDEX(Model_Inputs_Ref_Units,,MATCH(BS$33,Model_Inputs_Thermal_Zones,0)+$B37),INDEX(Model_Inputs_Ref_Units,,MATCH(BS$33,Model_Inputs_Thermal_Zones,0)+1))/SUMPRODUCT(--(INDEX(Model_Inputs_Ref_Units,,MATCH(BS$33,Model_Inputs_Thermal_Zones,0)+$B40)<>1),INDEX(Model_Inputs_Ref_Units,,MATCH(BS$33,Model_Inputs_Thermal_Zones,0)+1)),\"\"))","v":""},{"$f":"IF(BT33=\"\",\"\",IFERROR(SUMPRODUCT(--(INDEX(Model_Inputs_Ref_Units,,MATCH(BT$33,Model_Inputs_Thermal_Zones,0)+$B40)<>1),INDEX(Model_Inputs_Ref_Units,,MATCH(BT$33,Model_Inputs_Thermal_Zones,0)+$B37),INDEX(Model_Inputs_Ref_Units,,MATCH(BT$33,Model_Inputs_Thermal_Zones,0)+1))/SUMPRODUCT(--(INDEX(Model_Inputs_Ref_Units,,MATCH(BT$33,Model_Inputs_Thermal_Zones,0)+$B40)<>1),INDEX(Model_Inputs_Ref_Units,,MATCH(BT$33,Model_Inputs_Thermal_Zones,0)+1)),\"\"))","v":""},{"$f":"IF(BU33=\"\",\"\",IFERROR(SUMPRODUCT(--(INDEX(Model_Inputs_Ref_Units,,MATCH(BU$33,Model_Inputs_Thermal_Zones,0)+$B40)<>1),INDEX(Model_Inputs_Ref_Units,,MATCH(BU$33,Model_Inputs_Thermal_Zones,0)+$B37),INDEX(Model_Inputs_Ref_Units,,MATCH(BU$33,Model_Inputs_Thermal_Zones,0)+1))/SUMPRODUCT(--(INDEX(Model_Inputs_Ref_Units,,MATCH(BU$33,Model_Inputs_Thermal_Zones,0)+$B40)<>1),INDEX(Model_Inputs_Ref_Units,,MATCH(BU$33,Model_Inputs_Thermal_Zones,0)+1)),\"\"))","v":""},{"$f":"IF(BV33=\"\",\"\",IFERROR(SUMPRODUCT(--(INDEX(Model_Inputs_Ref_Units,,MATCH(BV$33,Model_Inputs_Thermal_Zones,0)+$B40)<>1),INDEX(Model_Inputs_Ref_Units,,MATCH(BV$33,Model_Inputs_Thermal_Zones,0)+$B37),INDEX(Model_Inputs_Ref_Units,,MATCH(BV$33,Model_Inputs_Thermal_Zones,0)+1))/SUMPRODUCT(--(INDEX(Model_Inputs_Ref_Units,,MATCH(BV$33,Model_Inputs_Thermal_Zones,0)+$B40)<>1),INDEX(Model_Inputs_Ref_Units,,MATCH(BV$33,Model_Inputs_Thermal_Zones,0)+1)),\"\"))","v":""},{"$f":"IF(BW33=\"\",\"\",IFERROR(SUMPRODUCT(--(INDEX(Model_Inputs_Ref_Units,,MATCH(BW$33,Model_Inputs_Thermal_Zones,0)+$B40)<>1),INDEX(Model_Inputs_Ref_Units,,MATCH(BW$33,Model_Inputs_Thermal_Zones,0)+$B37),INDEX(Model_Inputs_Ref_Units,,MATCH(BW$33,Model_Inputs_Thermal_Zones,0)+1))/SUMPRODUCT(--(INDEX(Model_Inputs_Ref_Units,,MATCH(BW$33,Model_Inputs_Thermal_Zones,0)+$B40)<>1),INDEX(Model_Inputs_Ref_Units,,MATCH(BW$33,Model_Inputs_Thermal_Zones,0)+1)),\"\"))","v":""},{"$f":"IF(BX33=\"\",\"\",IFERROR(SUMPRODUCT(--(INDEX(Model_Inputs_Ref_Units,,MATCH(BX$33,Model_Inputs_Thermal_Zones,0)+$B40)<>1),INDEX(Model_Inputs_Ref_Units,,MATCH(BX$33,Model_Inputs_Thermal_Zones,0)+$B37),INDEX(Model_Inputs_Ref_Units,,MATCH(BX$33,Model_Inputs_Thermal_Zones,0)+1))/SUMPRODUCT(--(INDEX(Model_Inputs_Ref_Units,,MATCH(BX$33,Model_Inputs_Thermal_Zones,0)+$B40)<>1),INDEX(Model_Inputs_Ref_Units,,MATCH(BX$33,Model_Inputs_Thermal_Zones,0)+1)),\"\"))","v":""},{"$f":"IF(BY33=\"\",\"\",IFERROR(SUMPRODUCT(--(INDEX(Model_Inputs_Ref_Units,,MATCH(BY$33,Model_Inputs_Thermal_Zones,0)+$B40)<>1),INDEX(Model_Inputs_Ref_Units,,MATCH(BY$33,Model_Inputs_Thermal_Zones,0)+$B37),INDEX(Model_Inputs_Ref_Units,,MATCH(BY$33,Model_Inputs_Thermal_Zones,0)+1))/SUMPRODUCT(--(INDEX(Model_Inputs_Ref_Units,,MATCH(BY$33,Model_Inputs_Thermal_Zones,0)+$B40)<>1),INDEX(Model_Inputs_Ref_Units,,MATCH(BY$33,Model_Inputs_Thermal_Zones,0)+1)),\"\"))","v":""},{"$f":"IF(BZ33=\"\",\"\",IFERROR(SUMPRODUCT(--(INDEX(Model_Inputs_Ref_Units,,MATCH(BZ$33,Model_Inputs_Thermal_Zones,0)+$B40)<>1),INDEX(Model_Inputs_Ref_Units,,MATCH(BZ$33,Model_Inputs_Thermal_Zones,0)+$B37),INDEX(Model_Inputs_Ref_Units,,MATCH(BZ$33,Model_Inputs_Thermal_Zones,0)+1))/SUMPRODUCT(--(INDEX(Model_Inputs_Ref_Units,,MATCH(BZ$33,Model_Inputs_Thermal_Zones,0)+$B40)<>1),INDEX(Model_Inputs_Ref_Units,,MATCH(BZ$33,Model_Inputs_Thermal_Zones,0)+1)),\"\"))","v":""}]
["D",null,null,null,null,"Refrigeration system kW total",null,{"$f":"IF(H33=\"\",\"\",IFERROR(SUMPRODUCT(--(INDEX(Model_Inputs_Ref_Units,,MATCH(H$33,Model_Inputs_Thermal_Zones,0)+$B40)<>1),INDEX(Model_Inputs_Ref_Units,,MATCH(H$33,Model_Inputs_Thermal_Zones,0)+$B38),INDEX(Model_Inputs_Ref_Units,,MATCH(H$33,Model_Inputs_Thermal_Zones,0)+1)),\"\"))","v":""},{"$f":"IF(I33=\"\",\"\",IFERROR(SUMPRODUCT(--(INDEX(Model_Inputs_Ref_Units,,MATCH(I$33,Model_Inputs_Thermal_Zones,0)+$B40)<>1),INDEX(Model_Inputs_Ref_Units,,MATCH(I$33,Model_Inputs_Thermal_Zones,0)+$B38),INDEX(Model_Inputs_Ref_Units,,MATCH(I$33,Model_Inputs_Thermal_Zones,0)+1)),\"\"))","v":""},{"$f":"IF(J33=\"\",\"\",IFERROR(SUMPRODUCT(--(INDEX(Model_Inputs_Ref_Units,,MATCH(J$33,Model_Inputs_Thermal_Zones,0)+$B40)<>1),INDEX(Model_Inputs_Ref_Units,,MATCH(J$33,Model_Inputs_Thermal_Zones,0)+$B38),INDEX(Model_Inputs_Ref_Units,,MATCH(J$33,Model_Inputs_Thermal_Zones,0)+1)),\"\"))","v":""},{"$f":"IF(K33=\"\",\"\",IFERROR(SUMPRODUCT(--(INDEX(Model_Inputs_Ref_Units,,MATCH(K$33,Model_Inputs_Thermal_Zones,0)+$B40)<>1),INDEX(Model_Inputs_Ref_Units,,MATCH(K$33,Model_Inputs_Thermal_Zones,0)+$B38),INDEX(Model_Inputs_Ref_Units,,MATCH(K$33,Model_Inputs_Thermal_Zones,0)+1)),\"\"))","v":""},{"$f":"IF(L33=\"\",\"\",IFERROR(SUMPRODUCT(--(INDEX(Model_Inputs_Ref_Units,,MATCH(L$33,Model_Inputs_Thermal_Zones,0)+$B40)<>1),INDEX(Model_Inputs_Ref_Units,,MATCH(L$33,Model_Inputs_Thermal_Zones,0)+$B38),INDEX(Model_Inputs_Ref_Units,,MATCH(L$33,Model_Inputs_Thermal_Zones,0)+1)),\"\"))","v":""},{"$f":"IF(M33=\"\",\"\",IFERROR(SUMPRODUCT(--(INDEX(Model_Inputs_Ref_Units,,MATCH(M$33,Model_Inputs_Thermal_Zones,0)+$B40)<>1),INDEX(Model_Inputs_Ref_Units,,MATCH(M$33,Model_Inputs_Thermal_Zones,0)+$B38),INDEX(Model_Inputs_Ref_Units,,MATCH(M$33,Model_Inputs_Thermal_Zones,0)+1)),\"\"))","v":""},{"$f":"IF(N33=\"\",\"\",IFERROR(SUMPRODUCT(--(INDEX(Model_Inputs_Ref_Units,,MATCH(N$33,Model_Inputs_Thermal_Zones,0)+$B40)<>1),INDEX(Model_Inputs_Ref_Units,,MATCH(N$33,Model_Inputs_Thermal_Zones,0)+$B38),INDEX(Model_Inputs_Ref_Units,,MATCH(N$33,Model_Inputs_Thermal_Zones,0)+1)),\"\"))","v":""},{"$f":"IF(O33=\"\",\"\",IFERROR(SUMPRODUCT(--(INDEX(Model_Inputs_Ref_Units,,MATCH(O$33,Model_Inputs_Thermal_Zones,0)+$B40)<>1),INDEX(Model_Inputs_Ref_Units,,MATCH(O$33,Model_Inputs_Thermal_Zones,0)+$B38),INDEX(Model_Inputs_Ref_Units,,MATCH(O$33,Model_Inputs_Thermal_Zones,0)+1)),\"\"))","v":""},{"$f":"IF(P33=\"\",\"\",IFERROR(SUMPRODUCT(--(INDEX(Model_Inputs_Ref_Units,,MATCH(P$33,Model_Inputs_Thermal_Zones,0)+$B40)<>1),INDEX(Model_Inputs_Ref_Units,,MATCH(P$33,Model_Inputs_Thermal_Zones,0)+$B38),INDEX(Model_Inputs_Ref_Units,,MATCH(P$33,Model_Inputs_Thermal_Zones,0)+1)),\"\"))","v":""},{"$f":"IF(Q33=\"\",\"\",IFERROR(SUMPRODUCT(--(INDEX(Model_Inputs_Ref_Units,,MATCH(Q$33,Model_Inputs_Thermal_Zones,0)+$B40)<>1),INDEX(Model_Inputs_Ref_Units,,MATCH(Q$33,Model_Inputs_Thermal_Zones,0)+$B38),INDEX(Model_Inputs_Ref_Units,,MATCH(Q$33,Model_Inputs_Thermal_Zones,0)+1)),\"\"))","v":""},{"$f":"IF(R33=\"\",\"\",IFERROR(SUMPRODUCT(--(INDEX(Model_Inputs_Ref_Units,,MATCH(R$33,Model_Inputs_Thermal_Zones,0)+$B40)<>1),INDEX(Model_Inputs_Ref_Units,,MATCH(R$33,Model_Inputs_Thermal_Zones,0)+$B38),INDEX(Model_Inputs_Ref_Units,,MATCH(R$33,Model_Inputs_Thermal_Zones,0)+1)),\"\"))","v":""},{"$f":"IF(S33=\"\",\"\",IFERROR(SUMPRODUCT(--(INDEX(Model_Inputs_Ref_Units,,MATCH(S$33,Model_Inputs_Thermal_Zones,0)+$B40)<>1),INDEX(Model_Inputs_Ref_Units,,MATCH(S$33,Model_Inputs_Thermal_Zones,0)+$B38),INDEX(Model_Inputs_Ref_Units,,MATCH(S$33,Model_Inputs_Thermal_Zones,0)+1)),\"\"))","v":""},{"$f":"IF(T33=\"\",\"\",IFERROR(SUMPRODUCT(--(INDEX(Model_Inputs_Ref_Units,,MATCH(T$33,Model_Inputs_Thermal_Zones,0)+$B40)<>1),INDEX(Model_Inputs_Ref_Units,,MATCH(T$33,Model_Inputs_Thermal_Zones,0)+$B38),INDEX(Model_Inputs_Ref_Units,,MATCH(T$33,Model_Inputs_Thermal_Zones,0)+1)),\"\"))","v":""},{"$f":"IF(U33=\"\",\"\",IFERROR(SUMPRODUCT(--(INDEX(Model_Inputs_Ref_Units,,MATCH(U$33,Model_Inputs_Thermal_Zones,0)+$B40)<>1),INDEX(Model_Inputs_Ref_Units,,MATCH(U$33,Model_Inputs_Thermal_Zones,0)+$B38),INDEX(Model_Inputs_Ref_Units,,MATCH(U$33,Model_Inputs_Thermal_Zones,0)+1)),\"\"))","v":""},{"$f":"IF(V33=\"\",\"\",IFERROR(SUMPRODUCT(--(INDEX(Model_Inputs_Ref_Units,,MATCH(V$33,Model_Inputs_Thermal_Zones,0)+$B40)<>1),INDEX(Model_Inputs_Ref_Units,,MATCH(V$33,Model_Inputs_Thermal_Zones,0)+$B38),INDEX(Model_Inputs_Ref_Units,,MATCH(V$33,Model_Inputs_Thermal_Zones,0)+1)),\"\"))","v":""},{"$f":"IF(W33=\"\",\"\",IFERROR(SUMPRODUCT(--(INDEX(Model_Inputs_Ref_Units,,MATCH(W$33,Model_Inputs_Thermal_Zones,0)+$B40)<>1),INDEX(Model_Inputs_Ref_Units,,MATCH(W$33,Model_Inputs_Thermal_Zones,0)+$B38),INDEX(Model_Inputs_Ref_Units,,MATCH(W$33,Model_Inputs_Thermal_Zones,0)+1)),\"\"))","v":""},{"$f":"IF(X33=\"\",\"\",IFERROR(SUMPRODUCT(--(INDEX(Model_Inputs_Ref_Units,,MATCH(X$33,Model_Inputs_Thermal_Zones,0)+$B40)<>1),INDEX(Model_Inputs_Ref_Units,,MATCH(X$33,Model_Inputs_Thermal_Zones,0)+$B38),INDEX(Model_Inputs_Ref_Units,,MATCH(X$33,Model_Inputs_Thermal_Zones,0)+1)),\"\"))","v":""},{"$f":"IF(Y33=\"\",\"\",IFERROR(SUMPRODUCT(--(INDEX(Model_Inputs_Ref_Units,,MATCH(Y$33,Model_Inputs_Thermal_Zones,0)+$B40)<>1),INDEX(Model_Inputs_Ref_Units,,MATCH(Y$33,Model_Inputs_Thermal_Zones,0)+$B38),INDEX(Model_Inputs_Ref_Units,,MATCH(Y$33,Model_Inputs_Thermal_Zones,0)+1)),\"\"))","v":""},{"$f":"IF(Z33=\"\",\"\",IFERROR(SUMPRODUCT(--(INDEX(Model_Inputs_Ref_Units,,MATCH(Z$33,Model_Inputs_Thermal_Zones,0)+$B40)<>1),INDEX(Model_Inputs_Ref_Units,,MATCH(Z$33,Model_Inputs_Thermal_Zones,0)+$B38),INDEX(Model_Inputs_Ref_Units,,MATCH(Z$33,Model_Inputs_Thermal_Zones,0)+1)),\"\"))","v":""},{"$f":"IF(AA33=\"\",\"\",IFERROR(SUMPRODUCT(--(INDEX(Model_Inputs_Ref_Units,,MATCH(AA$33,Model_Inputs_Thermal_Zones,0)+$B40)<>1),INDEX(Model_Inputs_Ref_Units,,MATCH(AA$33,Model_Inputs_Thermal_Zones,0)+$B38),INDEX(Model_Inputs_Ref_Units,,MATCH(AA$33,Model_Inputs_Thermal_Zones,0)+1)),\"\"))","v":""},{"$f":"IF(AB33=\"\",\"\",IFERROR(SUMPRODUCT(--(INDEX(Model_Inputs_Ref_Units,,MATCH(AB$33,Model_Inputs_Thermal_Zones,0)+$B40)<>1),INDEX(Model_Inputs_Ref_Units,,MATCH(AB$33,Model_Inputs_Thermal_Zones,0)+$B38),INDEX(Model_Inputs_Ref_Units,,MATCH(AB$33,Model_Inputs_Thermal_Zones,0)+1)),\"\"))","v":""},{"$f":"IF(AC33=\"\",\"\",IFERROR(SUMPRODUCT(--(INDEX(Model_Inputs_Ref_Units,,MATCH(AC$33,Model_Inputs_Thermal_Zones,0)+$B40)<>1),INDEX(Model_Inputs_Ref_Units,,MATCH(AC$33,Model_Inputs_Thermal_Zones,0)+$B38),INDEX(Model_Inputs_Ref_Units,,MATCH(AC$33,Model_Inputs_Thermal_Zones,0)+1)),\"\"))","v":""},{"$f":"IF(AD33=\"\",\"\",IFERROR(SUMPRODUCT(--(INDEX(Model_Inputs_Ref_Units,,MATCH(AD$33,Model_Inputs_Thermal_Zones,0)+$B40)<>1),INDEX(Model_Inputs_Ref_Units,,MATCH(AD$33,Model_Inputs_Thermal_Zones,0)+$B38),INDEX(Model_Inputs_Ref_Units,,MATCH(AD$33,Model_Inputs_Thermal_Zones,0)+1)),\"\"))","v":""},{"$f":"IF(AE33=\"\",\"\",IFERROR(SUMPRODUCT(--(INDEX(Model_Inputs_Ref_Units,,MATCH(AE$33,Model_Inputs_Thermal_Zones,0)+$B40)<>1),INDEX(Model_Inputs_Ref_Units,,MATCH(AE$33,Model_Inputs_Thermal_Zones,0)+$B38),INDEX(Model_Inputs_Ref_Units,,MATCH(AE$33,Model_Inputs_Thermal_Zones,0)+1)),\"\"))","v":""},{"$f":"IF(AF33=\"\",\"\",IFERROR(SUMPRODUCT(--(INDEX(Model_Inputs_Ref_Units,,MATCH(AF$33,Model_Inputs_Thermal_Zones,0)+$B40)<>1),INDEX(Model_Inputs_Ref_Units,,MATCH(AF$33,Model_Inputs_Thermal_Zones,0)+$B38),INDEX(Model_Inputs_Ref_Units,,MATCH(AF$33,Model_Inputs_Thermal_Zones,0)+1)),\"\"))","v":""},{"$f":"IF(AG33=\"\",\"\",IFERROR(SUMPRODUCT(--(INDEX(Model_Inputs_Ref_Units,,MATCH(AG$33,Model_Inputs_Thermal_Zones,0)+$B40)<>1),INDEX(Model_Inputs_Ref_Units,,MATCH(AG$33,Model_Inputs_Thermal_Zones,0)+$B38),INDEX(Model_Inputs_Ref_Units,,MATCH(AG$33,Model_Inputs_Thermal_Zones,0)+1)),\"\"))","v":""},{"$f":"IF(AH33=\"\",\"\",IFERROR(SUMPRODUCT(--(INDEX(Model_Inputs_Ref_Units,,MATCH(AH$33,Model_Inputs_Thermal_Zones,0)+$B40)<>1),INDEX(Model_Inputs_Ref_Units,,MATCH(AH$33,Model_Inputs_Thermal_Zones,0)+$B38),INDEX(Model_Inputs_Ref_Units,,MATCH(AH$33,Model_Inputs_Thermal_Zones,0)+1)),\"\"))","v":""},{"$f":"IF(AI33=\"\",\"\",IFERROR(SUMPRODUCT(--(INDEX(Model_Inputs_Ref_Units,,MATCH(AI$33,Model_Inputs_Thermal_Zones,0)+$B40)<>1),INDEX(Model_Inputs_Ref_Units,,MATCH(AI$33,Model_Inputs_Thermal_Zones,0)+$B38),INDEX(Model_Inputs_Ref_Units,,MATCH(AI$33,Model_Inputs_Thermal_Zones,0)+1)),\"\"))","v":""},{"$f":"IF(AJ33=\"\",\"\",IFERROR(SUMPRODUCT(--(INDEX(Model_Inputs_Ref_Units,,MATCH(AJ$33,Model_Inputs_Thermal_Zones,0)+$B40)<>1),INDEX(Model_Inputs_Ref_Units,,MATCH(AJ$33,Model_Inputs_Thermal_Zones,0)+$B38),INDEX(Model_Inputs_Ref_Units,,MATCH(AJ$33,Model_Inputs_Thermal_Zones,0)+1)),\"\"))","v":""},{"$f":"IF(AK33=\"\",\"\",IFERROR(SUMPRODUCT(--(INDEX(Model_Inputs_Ref_Units,,MATCH(AK$33,Model_Inputs_Thermal_Zones,0)+$B40)<>1),INDEX(Model_Inputs_Ref_Units,,MATCH(AK$33,Model_Inputs_Thermal_Zones,0)+$B38),INDEX(Model_Inputs_Ref_Units,,MATCH(AK$33,Model_Inputs_Thermal_Zones,0)+1)),\"\"))","v":""},{"$f":"IF(AL33=\"\",\"\",IFERROR(SUMPRODUCT(--(INDEX(Model_Inputs_Ref_Units,,MATCH(AL$33,Model_Inputs_Thermal_Zones,0)+$B40)<>1),INDEX(Model_Inputs_Ref_Units,,MATCH(AL$33,Model_Inputs_Thermal_Zones,0)+$B38),INDEX(Model_Inputs_Ref_Units,,MATCH(AL$33,Model_Inputs_Thermal_Zones,0)+1)),\"\"))","v":""},{"$f":"IF(AM33=\"\",\"\",IFERROR(SUMPRODUCT(--(INDEX(Model_Inputs_Ref_Units,,MATCH(AM$33,Model_Inputs_Thermal_Zones,0)+$B40)<>1),INDEX(Model_Inputs_Ref_Units,,MATCH(AM$33,Model_Inputs_Thermal_Zones,0)+$B38),INDEX(Model_Inputs_Ref_Units,,MATCH(AM$33,Model_Inputs_Thermal_Zones,0)+1)),\"\"))","v":""},{"$f":"IF(AN33=\"\",\"\",IFERROR(SUMPRODUCT(--(INDEX(Model_Inputs_Ref_Units,,MATCH(AN$33,Model_Inputs_Thermal_Zones,0)+$B40)<>1),INDEX(Model_Inputs_Ref_Units,,MATCH(AN$33,Model_Inputs_Thermal_Zones,0)+$B38),INDEX(Model_Inputs_Ref_Units,,MATCH(AN$33,Model_Inputs_Thermal_Zones,0)+1)),\"\"))","v":""},{"$f":"IF(AO33=\"\",\"\",IFERROR(SUMPRODUCT(--(INDEX(Model_Inputs_Ref_Units,,MATCH(AO$33,Model_Inputs_Thermal_Zones,0)+$B40)<>1),INDEX(Model_Inputs_Ref_Units,,MATCH(AO$33,Model_Inputs_Thermal_Zones,0)+$B38),INDEX(Model_Inputs_Ref_Units,,MATCH(AO$33,Model_Inputs_Thermal_Zones,0)+1)),\"\"))","v":""},{"$f":"IF(AP33=\"\",\"\",IFERROR(SUMPRODUCT(--(INDEX(Model_Inputs_Ref_Units,,MATCH(AP$33,Model_Inputs_Thermal_Zones,0)+$B40)<>1),INDEX(Model_Inputs_Ref_Units,,MATCH(AP$33,Model_Inputs_Thermal_Zones,0)+$B38),INDEX(Model_Inputs_Ref_Units,,MATCH(AP$33,Model_Inputs_Thermal_Zones,0)+1)),\"\"))","v":""},{"$f":"IF(AQ33=\"\",\"\",IFERROR(SUMPRODUCT(--(INDEX(Model_Inputs_Ref_Units,,MATCH(AQ$33,Model_Inputs_Thermal_Zones,0)+$B40)<>1),INDEX(Model_Inputs_Ref_Units,,MATCH(AQ$33,Model_Inputs_Thermal_Zones,0)+$B38),INDEX(Model_Inputs_Ref_Units,,MATCH(AQ$33,Model_Inputs_Thermal_Zones,0)+1)),\"\"))","v":""},{"$f":"IF(AR33=\"\",\"\",IFERROR(SUMPRODUCT(--(INDEX(Model_Inputs_Ref_Units,,MATCH(AR$33,Model_Inputs_Thermal_Zones,0)+$B40)<>1),INDEX(Model_Inputs_Ref_Units,,MATCH(AR$33,Model_Inputs_Thermal_Zones,0)+$B38),INDEX(Model_Inputs_Ref_Units,,MATCH(AR$33,Model_Inputs_Thermal_Zones,0)+1)),\"\"))","v":""},{"$f":"IF(AS33=\"\",\"\",IFERROR(SUMPRODUCT(--(INDEX(Model_Inputs_Ref_Units,,MATCH(AS$33,Model_Inputs_Thermal_Zones,0)+$B40)<>1),INDEX(Model_Inputs_Ref_Units,,MATCH(AS$33,Model_Inputs_Thermal_Zones,0)+$B38),INDEX(Model_Inputs_Ref_Units,,MATCH(AS$33,Model_Inputs_Thermal_Zones,0)+1)),\"\"))","v":""},{"$f":"IF(AT33=\"\",\"\",IFERROR(SUMPRODUCT(--(INDEX(Model_Inputs_Ref_Units,,MATCH(AT$33,Model_Inputs_Thermal_Zones,0)+$B40)<>1),INDEX(Model_Inputs_Ref_Units,,MATCH(AT$33,Model_Inputs_Thermal_Zones,0)+$B38),INDEX(Model_Inputs_Ref_Units,,MATCH(AT$33,Model_Inputs_Thermal_Zones,0)+1)),\"\"))","v":""},{"$f":"IF(AU33=\"\",\"\",IFERROR(SUMPRODUCT(--(INDEX(Model_Inputs_Ref_Units,,MATCH(AU$33,Model_Inputs_Thermal_Zones,0)+$B40)<>1),INDEX(Model_Inputs_Ref_Units,,MATCH(AU$33,Model_Inputs_Thermal_Zones,0)+$B38),INDEX(Model_Inputs_Ref_Units,,MATCH(AU$33,Model_Inputs_Thermal_Zones,0)+1)),\"\"))","v":""},{"$f":"IF(AV33=\"\",\"\",IFERROR(SUMPRODUCT(--(INDEX(Model_Inputs_Ref_Units,,MATCH(AV$33,Model_Inputs_Thermal_Zones,0)+$B40)<>1),INDEX(Model_Inputs_Ref_Units,,MATCH(AV$33,Model_Inputs_Thermal_Zones,0)+$B38),INDEX(Model_Inputs_Ref_Units,,MATCH(AV$33,Model_Inputs_Thermal_Zones,0)+1)),\"\"))","v":""},{"$f":"IF(AW33=\"\",\"\",IFERROR(SUMPRODUCT(--(INDEX(Model_Inputs_Ref_Units,,MATCH(AW$33,Model_Inputs_Thermal_Zones,0)+$B40)<>1),INDEX(Model_Inputs_Ref_Units,,MATCH(AW$33,Model_Inputs_Thermal_Zones,0)+$B38),INDEX(Model_Inputs_Ref_Units,,MATCH(AW$33,Model_Inputs_Thermal_Zones,0)+1)),\"\"))","v":""},{"$f":"IF(AX33=\"\",\"\",IFERROR(SUMPRODUCT(--(INDEX(Model_Inputs_Ref_Units,,MATCH(AX$33,Model_Inputs_Thermal_Zones,0)+$B40)<>1),INDEX(Model_Inputs_Ref_Units,,MATCH(AX$33,Model_Inputs_Thermal_Zones,0)+$B38),INDEX(Model_Inputs_Ref_Units,,MATCH(AX$33,Model_Inputs_Thermal_Zones,0)+1)),\"\"))","v":""},{"$f":"IF(AY33=\"\",\"\",IFERROR(SUMPRODUCT(--(INDEX(Model_Inputs_Ref_Units,,MATCH(AY$33,Model_Inputs_Thermal_Zones,0)+$B40)<>1),INDEX(Model_Inputs_Ref_Units,,MATCH(AY$33,Model_Inputs_Thermal_Zones,0)+$B38),INDEX(Model_Inputs_Ref_Units,,MATCH(AY$33,Model_Inputs_Thermal_Zones,0)+1)),\"\"))","v":""},{"$f":"IF(AZ33=\"\",\"\",IFERROR(SUMPRODUCT(--(INDEX(Model_Inputs_Ref_Units,,MATCH(AZ$33,Model_Inputs_Thermal_Zones,0)+$B40)<>1),INDEX(Model_Inputs_Ref_Units,,MATCH(AZ$33,Model_Inputs_Thermal_Zones,0)+$B38),INDEX(Model_Inputs_Ref_Units,,MATCH(AZ$33,Model_Inputs_Thermal_Zones,0)+1)),\"\"))","v":""},{"$f":"IF(BA33=\"\",\"\",IFERROR(SUMPRODUCT(--(INDEX(Model_Inputs_Ref_Units,,MATCH(BA$33,Model_Inputs_Thermal_Zones,0)+$B40)<>1),INDEX(Model_Inputs_Ref_Units,,MATCH(BA$33,Model_Inputs_Thermal_Zones,0)+$B38),INDEX(Model_Inputs_Ref_Units,,MATCH(BA$33,Model_Inputs_Thermal_Zones,0)+1)),\"\"))","v":""},{"$f":"IF(BB33=\"\",\"\",IFERROR(SUMPRODUCT(--(INDEX(Model_Inputs_Ref_Units,,MATCH(BB$33,Model_Inputs_Thermal_Zones,0)+$B40)<>1),INDEX(Model_Inputs_Ref_Units,,MATCH(BB$33,Model_Inputs_Thermal_Zones,0)+$B38),INDEX(Model_Inputs_Ref_Units,,MATCH(BB$33,Model_Inputs_Thermal_Zones,0)+1)),\"\"))","v":""},{"$f":"IF(BC33=\"\",\"\",IFERROR(SUMPRODUCT(--(INDEX(Model_Inputs_Ref_Units,,MATCH(BC$33,Model_Inputs_Thermal_Zones,0)+$B40)<>1),INDEX(Model_Inputs_Ref_Units,,MATCH(BC$33,Model_Inputs_Thermal_Zones,0)+$B38),INDEX(Model_Inputs_Ref_Units,,MATCH(BC$33,Model_Inputs_Thermal_Zones,0)+1)),\"\"))","v":""},{"$f":"IF(BD33=\"\",\"\",IFERROR(SUMPRODUCT(--(INDEX(Model_Inputs_Ref_Units,,MATCH(BD$33,Model_Inputs_Thermal_Zones,0)+$B40)<>1),INDEX(Model_Inputs_Ref_Units,,MATCH(BD$33,Model_Inputs_Thermal_Zones,0)+$B38),INDEX(Model_Inputs_Ref_Units,,MATCH(BD$33,Model_Inputs_Thermal_Zones,0)+1)),\"\"))","v":""},{"$f":"IF(BE33=\"\",\"\",IFERROR(SUMPRODUCT(--(INDEX(Model_Inputs_Ref_Units,,MATCH(BE$33,Model_Inputs_Thermal_Zones,0)+$B40)<>1),INDEX(Model_Inputs_Ref_Units,,MATCH(BE$33,Model_Inputs_Thermal_Zones,0)+$B38),INDEX(Model_Inputs_Ref_Units,,MATCH(BE$33,Model_Inputs_Thermal_Zones,0)+1)),\"\"))","v":""},{"$f":"IF(BF33=\"\",\"\",IFERROR(SUMPRODUCT(--(INDEX(Model_Inputs_Ref_Units,,MATCH(BF$33,Model_Inputs_Thermal_Zones,0)+$B40)<>1),INDEX(Model_Inputs_Ref_Units,,MATCH(BF$33,Model_Inputs_Thermal_Zones,0)+$B38),INDEX(Model_Inputs_Ref_Units,,MATCH(BF$33,Model_Inputs_Thermal_Zones,0)+1)),\"\"))","v":""},{"$f":"IF(BG33=\"\",\"\",IFERROR(SUMPRODUCT(--(INDEX(Model_Inputs_Ref_Units,,MATCH(BG$33,Model_Inputs_Thermal_Zones,0)+$B40)<>1),INDEX(Model_Inputs_Ref_Units,,MATCH(BG$33,Model_Inputs_Thermal_Zones,0)+$B38),INDEX(Model_Inputs_Ref_Units,,MATCH(BG$33,Model_Inputs_Thermal_Zones,0)+1)),\"\"))","v":""},{"$f":"IF(BH33=\"\",\"\",IFERROR(SUMPRODUCT(--(INDEX(Model_Inputs_Ref_Units,,MATCH(BH$33,Model_Inputs_Thermal_Zones,0)+$B40)<>1),INDEX(Model_Inputs_Ref_Units,,MATCH(BH$33,Model_Inputs_Thermal_Zones,0)+$B38),INDEX(Model_Inputs_Ref_Units,,MATCH(BH$33,Model_Inputs_Thermal_Zones,0)+1)),\"\"))","v":""},{"$f":"IF(BI33=\"\",\"\",IFERROR(SUMPRODUCT(--(INDEX(Model_Inputs_Ref_Units,,MATCH(BI$33,Model_Inputs_Thermal_Zones,0)+$B40)<>1),INDEX(Model_Inputs_Ref_Units,,MATCH(BI$33,Model_Inputs_Thermal_Zones,0)+$B38),INDEX(Model_Inputs_Ref_Units,,MATCH(BI$33,Model_Inputs_Thermal_Zones,0)+1)),\"\"))","v":""},{"$f":"IF(BJ33=\"\",\"\",IFERROR(SUMPRODUCT(--(INDEX(Model_Inputs_Ref_Units,,MATCH(BJ$33,Model_Inputs_Thermal_Zones,0)+$B40)<>1),INDEX(Model_Inputs_Ref_Units,,MATCH(BJ$33,Model_Inputs_Thermal_Zones,0)+$B38),INDEX(Model_Inputs_Ref_Units,,MATCH(BJ$33,Model_Inputs_Thermal_Zones,0)+1)),\"\"))","v":""},{"$f":"IF(BK33=\"\",\"\",IFERROR(SUMPRODUCT(--(INDEX(Model_Inputs_Ref_Units,,MATCH(BK$33,Model_Inputs_Thermal_Zones,0)+$B40)<>1),INDEX(Model_Inputs_Ref_Units,,MATCH(BK$33,Model_Inputs_Thermal_Zones,0)+$B38),INDEX(Model_Inputs_Ref_Units,,MATCH(BK$33,Model_Inputs_Thermal_Zones,0)+1)),\"\"))","v":""},{"$f":"IF(BL33=\"\",\"\",IFERROR(SUMPRODUCT(--(INDEX(Model_Inputs_Ref_Units,,MATCH(BL$33,Model_Inputs_Thermal_Zones,0)+$B40)<>1),INDEX(Model_Inputs_Ref_Units,,MATCH(BL$33,Model_Inputs_Thermal_Zones,0)+$B38),INDEX(Model_Inputs_Ref_Units,,MATCH(BL$33,Model_Inputs_Thermal_Zones,0)+1)),\"\"))","v":""},{"$f":"IF(BM33=\"\",\"\",IFERROR(SUMPRODUCT(--(INDEX(Model_Inputs_Ref_Units,,MATCH(BM$33,Model_Inputs_Thermal_Zones,0)+$B40)<>1),INDEX(Model_Inputs_Ref_Units,,MATCH(BM$33,Model_Inputs_Thermal_Zones,0)+$B38),INDEX(Model_Inputs_Ref_Units,,MATCH(BM$33,Model_Inputs_Thermal_Zones,0)+1)),\"\"))","v":""},{"$f":"IF(BN33=\"\",\"\",IFERROR(SUMPRODUCT(--(INDEX(Model_Inputs_Ref_Units,,MATCH(BN$33,Model_Inputs_Thermal_Zones,0)+$B40)<>1),INDEX(Model_Inputs_Ref_Units,,MATCH(BN$33,Model_Inputs_Thermal_Zones,0)+$B38),INDEX(Model_Inputs_Ref_Units,,MATCH(BN$33,Model_Inputs_Thermal_Zones,0)+1)),\"\"))","v":""},{"$f":"IF(BO33=\"\",\"\",IFERROR(SUMPRODUCT(--(INDEX(Model_Inputs_Ref_Units,,MATCH(BO$33,Model_Inputs_Thermal_Zones,0)+$B40)<>1),INDEX(Model_Inputs_Ref_Units,,MATCH(BO$33,Model_Inputs_Thermal_Zones,0)+$B38),INDEX(Model_Inputs_Ref_Units,,MATCH(BO$33,Model_Inputs_Thermal_Zones,0)+1)),\"\"))","v":""},{"$f":"IF(BP33=\"\",\"\",IFERROR(SUMPRODUCT(--(INDEX(Model_Inputs_Ref_Units,,MATCH(BP$33,Model_Inputs_Thermal_Zones,0)+$B40)<>1),INDEX(Model_Inputs_Ref_Units,,MATCH(BP$33,Model_Inputs_Thermal_Zones,0)+$B38),INDEX(Model_Inputs_Ref_Units,,MATCH(BP$33,Model_Inputs_Thermal_Zones,0)+1)),\"\"))","v":""},{"$f":"IF(BQ33=\"\",\"\",IFERROR(SUMPRODUCT(--(INDEX(Model_Inputs_Ref_Units,,MATCH(BQ$33,Model_Inputs_Thermal_Zones,0)+$B40)<>1),INDEX(Model_Inputs_Ref_Units,,MATCH(BQ$33,Model_Inputs_Thermal_Zones,0)+$B38),INDEX(Model_Inputs_Ref_Units,,MATCH(BQ$33,Model_Inputs_Thermal_Zones,0)+1)),\"\"))","v":""},{"$f":"IF(BR33=\"\",\"\",IFERROR(SUMPRODUCT(--(INDEX(Model_Inputs_Ref_Units,,MATCH(BR$33,Model_Inputs_Thermal_Zones,0)+$B40)<>1),INDEX(Model_Inputs_Ref_Units,,MATCH(BR$33,Model_Inputs_Thermal_Zones,0)+$B38),INDEX(Model_Inputs_Ref_Units,,MATCH(BR$33,Model_Inputs_Thermal_Zones,0)+1)),\"\"))","v":""},{"$f":"IF(BS33=\"\",\"\",IFERROR(SUMPRODUCT(--(INDEX(Model_Inputs_Ref_Units,,MATCH(BS$33,Model_Inputs_Thermal_Zones,0)+$B40)<>1),INDEX(Model_Inputs_Ref_Units,,MATCH(BS$33,Model_Inputs_Thermal_Zones,0)+$B38),INDEX(Model_Inputs_Ref_Units,,MATCH(BS$33,Model_Inputs_Thermal_Zones,0)+1)),\"\"))","v":""},{"$f":"IF(BT33=\"\",\"\",IFERROR(SUMPRODUCT(--(INDEX(Model_Inputs_Ref_Units,,MATCH(BT$33,Model_Inputs_Thermal_Zones,0)+$B40)<>1),INDEX(Model_Inputs_Ref_Units,,MATCH(BT$33,Model_Inputs_Thermal_Zones,0)+$B38),INDEX(Model_Inputs_Ref_Units,,MATCH(BT$33,Model_Inputs_Thermal_Zones,0)+1)),\"\"))","v":""},{"$f":"IF(BU33=\"\",\"\",IFERROR(SUMPRODUCT(--(INDEX(Model_Inputs_Ref_Units,,MATCH(BU$33,Model_Inputs_Thermal_Zones,0)+$B40)<>1),INDEX(Model_Inputs_Ref_Units,,MATCH(BU$33,Model_Inputs_Thermal_Zones,0)+$B38),INDEX(Model_Inputs_Ref_Units,,MATCH(BU$33,Model_Inputs_Thermal_Zones,0)+1)),\"\"))","v":""},{"$f":"IF(BV33=\"\",\"\",IFERROR(SUMPRODUCT(--(INDEX(Model_Inputs_Ref_Units,,MATCH(BV$33,Model_Inputs_Thermal_Zones,0)+$B40)<>1),INDEX(Model_Inputs_Ref_Units,,MATCH(BV$33,Model_Inputs_Thermal_Zones,0)+$B38),INDEX(Model_Inputs_Ref_Units,,MATCH(BV$33,Model_Inputs_Thermal_Zones,0)+1)),\"\"))","v":""},{"$f":"IF(BW33=\"\",\"\",IFERROR(SUMPRODUCT(--(INDEX(Model_Inputs_Ref_Units,,MATCH(BW$33,Model_Inputs_Thermal_Zones,0)+$B40)<>1),INDEX(Model_Inputs_Ref_Units,,MATCH(BW$33,Model_Inputs_Thermal_Zones,0)+$B38),INDEX(Model_Inputs_Ref_Units,,MATCH(BW$33,Model_Inputs_Thermal_Zones,0)+1)),\"\"))","v":""},{"$f":"IF(BX33=\"\",\"\",IFERROR(SUMPRODUCT(--(INDEX(Model_Inputs_Ref_Units,,MATCH(BX$33,Model_Inputs_Thermal_Zones,0)+$B40)<>1),INDEX(Model_Inputs_Ref_Units,,MATCH(BX$33,Model_Inputs_Thermal_Zones,0)+$B38),INDEX(Model_Inputs_Ref_Units,,MATCH(BX$33,Model_Inputs_Thermal_Zones,0)+1)),\"\"))","v":""},{"$f":"IF(BY33=\"\",\"\",IFERROR(SUMPRODUCT(--(INDEX(Model_Inputs_Ref_Units,,MATCH(BY$33,Model_Inputs_Thermal_Zones,0)+$B40)<>1),INDEX(Model_Inputs_Ref_Units,,MATCH(BY$33,Model_Inputs_Thermal_Zones,0)+$B38),INDEX(Model_Inputs_Ref_Units,,MATCH(BY$33,Model_Inputs_Thermal_Zones,0)+1)),\"\"))","v":""},{"$f":"IF(BZ33=\"\",\"\",IFERROR(SUMPRODUCT(--(INDEX(Model_Inputs_Ref_Units,,MATCH(BZ$33,Model_Inputs_Thermal_Zones,0)+$B40)<>1),INDEX(Model_Inputs_Ref_Units,,MATCH(BZ$33,Model_Inputs_Thermal_Zones,0)+$B38),INDEX(Model_Inputs_Ref_Units,,MATCH(BZ$33,Model_Inputs_Thermal_Zones,0)+1)),\"\"))","v":""}]
["D"]
["D",null,null,null,"Totals"]
["D",null,null,null,"Proposed Regulated, kW",null,{"$f":"SUMIF(OFFSET($H$38:$BZ$38,18,0),\"<>X\",$H$38:$BZ$38)","v":0}]
["D",null,null,null,"Proposed Unregulated, kW",null,{"$f":"SUMIF(OFFSET($H$38:$BZ$38,18,0),\"<>X\",$H$43:$BZ$43)","v":0}]
["D",null,null,null,"Baseline Regulated, kW",null,{"$f":"SUMIF(OFFSET($H$38:$BZ$38,18,0),\"<>X\",$H$40:$BZ$40)","v":0}]
["D",null,null,null,"Baseline Unregulated, kW",null,{"$f":"SUMIF(OFFSET($H$38:$BZ$38,18,0),\"<>X\",$H$45:$BZ$45)","v":0}]
["D"]
["D",null,null,null,"Notes"]
["D"]
["D"]
["D",null,{"$f":"5/0","v":{"$error":"#DIV/0!"}},null,null,null,null,null,null,null,null,null,null,null,null,null,null,null,null,null,null,null,null,null,null,null,null,null,null,null,null,null,null,null,null,null,null,null,null,null,null,null,null,null,null,null,null,null,null,null,null,null,null,null,null,null,null,null,null,null,null,null,null,null,null,null,null,null,null,"X","X","X","X","X","X","X","X","X"]

{"sheet":"Ref Summary","index":3,"n_rows":153,"n_cols":110,"rows_kept":153,"cut":false,"hidden":false,"merged":[[7,4,8,4],[19,4,20,4],[25,4,26,4],[7,13,8,13],[18,13,18,17],[19,13,20,13],[25,13,26,13],[7,11,8,11],[19,11,20,11],[25,11,26,11],[31,4,32,4],[31,11,32,11],[31,13,32,13],[41,4,42,4],[41,11,42,11],[41,13,42,13],[37,4,38,4],[37,11,38,11],[37,13,38,13]]}
[]
[]
[]
[]
[]
[null,null,null,null,"Pay for Performance"]
[null,null,null,null,"Technical Tip: Calculating Regulated Refrigeration Equipment Energy Consumption Summary"]
[null,null,null,null,"Regulated Remote Display Cases","kWh/day",null,null,"kWh/yr*",null,null,"% Savings",null,"Component for Remote Display Cases","kW**",null,"Q, kBtu/hr***",null,null,null,24]
[null,null,null,null,null,"Proposed","Baseline","Savings","Proposed","Baseline","Savings",null,null,null,"Proposed","Baseline","Proposed","Baseline"]
[null,null,{"$f":"5/0","v":{"$error":"#DIV/0!"}},null,"Compressor Energy Consumption, CEC",{"$f":"SUMPRODUCT(--('Ref Data Entry'!$H$34:$Q$34=\"Remote (RC)\"),--(LEFT('Ref Data Entry'!$H$32:$Q$32,7)<>\"Walk-In\"),--('Ref Data Entry'!$H$32:$Q$32<>\"Other-Unregulated\"),'Ref Data Entry'!$H$36:$Q$36,'Ref Data Entry'!H47:Q47)","v":0},"-","-",{"$f":"F10*365","v":0},"-","-","-",null,"Compressor",{"$f":"SUMPRODUCT(--('Ref Data Entry'!$H$34:$Q$34=\"Remote (RC)\"),--(LEFT('Ref Data Entry'!$H$32:$Q$32,7)<>\"Walk-In\"),--('Ref Data Entry'!$H$32:$Q$32<>\"Other-Unregulated\"),'Ref Data Entry'!$H$36:$Q$36,'Ref Data Entry'!H47:Q47)/$U$8","v":0},"-","-","-"]
[null,null,{"$f":"5/0","v":{"$error":"#DIV/0!"}},null,"Fan Energy Consumption, FEC",{"$f":"SUMPRODUCT(--('Ref Data Entry'!$H$34:$Q$34=\"Remote (RC)\"),--(LEFT('Ref Data Entry'!$H$32:$Q$32,7)<>\"Walk-In\"),--('Ref Data Entry'!$H$32:$Q$32<>\"Other-Unregulated\"),'Ref Data Entry'!$H$36:$Q$36,'Ref Data Entry'!H48:Q48)","v":0},"-","-",0,"-","-","-",null,"Fan",{"$f":"SUMPRODUCT(--('Ref Data Entry'!$H$34:$Q$34=\"Remote (RC)\"),--(LEFT('Ref Data Entry'!$H$32:$Q$32,7)<>\"Walk-In\"),--('Ref Data Entry'!$H$32:$Q$32<>\"Other-Unregulated\"),'Ref Data Entry'!$H$36:$Q$36,'Ref Data Entry'!H48:Q48)/$U$8","v":0},"-","-","-"]
[null,null,{"$error":"#DIV/0!"},null,"Lighting Energy Consumption, LEC",{"$f":"SUMPRODUCT(--('Ref Data Entry'!$H$34:$Q$34=\"Remote (RC)\"),--(LEFT('Ref Data Entry'!$H$32:$Q$32,7)<>\"Walk-In\"),--('Ref Data Entry'!$H$32:$Q$32<>\"Other-Unregulated\"),'Ref Data Entry'!$H$36:$Q$36,'Ref Data Entry'!H49:Q49)","v":0},"-","-",0,"-","-","-",null,"Lighting",{"$f":"SUMPRODUCT(--('Ref Data Entry'!$H$34:$Q$34=\"Remote (RC)\"),--(LEFT('Ref Data Entry'!$H$32:$Q$32,7)<>\"Walk-In\"),--('Ref Data Entry'!$H$32:$Q$32<>\"Other-Unregulated\"),'Ref Data Entry'!$H$36:$Q$36,'Ref Data Entry'!H49:Q49)/$U$8","v":0},"-","-","-"]
[null,null,{"$error":"#DIV/0!"},null,"Anti-Condensate Energy Consumption, PEC",{"$f":"SUMPRODUCT(--('Ref Data Entry'!$H$34:$Q$34=\"Remote (RC)\"),--(LEFT('Ref Data Entry'!$H$32:$Q$32,7)<>\"Walk-In\"),--('Ref Data Entry'!$H$32:$Q$32<>\"Other-Unregulated\"),'Ref Data Entry'!$H$36:$Q$36,'Ref Data Entry'!H50:Q50)","v":0},"-","-",0,"-","-","-",null,"Anti-Condensate",{"$f":"SUMPRODUCT(--('Ref Data Entry'!$H$34:$Q$34=\"Remote (RC)\"),--(LEFT('Ref Data Entry'!$H$32:$Q$32,7)<>\"Walk-In\"),--('Ref Data Entry'!$H$32:$Q$32<>\"Other-Unregulated\"),'Ref Data Entry'!$H$36:$Q$36,'Ref Data Entry'!H50:Q50)/$U$8","v":0},"-","-","-"]
[null,null,{"$error":"#DIV/0!"},null,"Defrost Energy Consumption, AEC",{"$f":"SUMPRODUCT(--('Ref Data Entry'!$H$34:$Q$34=\"Remote (RC)\"),--(LEFT('Ref Data Entry'!$H$32:$Q$32,7)<>\"Walk-In\"),--('Ref Data Entry'!$H$32:$Q$32<>\"Other-Unregulated\"),'Ref Data Entry'!$H$36:$Q$36,'Ref Data Entry'!H51:Q51)","v":0},"-","-",0,"-","-","-",null,"Defrost",{"$f":"SUMPRODUCT(--('Ref Data Entry'!$H$34:$Q$34=\"Remote (RC)\"),--(LEFT('Ref Data Entry'!$H$32:$Q$32,7)<>\"Walk-In\"),--('Ref Data Entry'!$H$32:$Q$32<>\"Other-Unregulated\"),'Ref Data Entry'!$H$36:$Q$36,'Ref Data Entry'!H51:Q51)/$U$8","v":0},"-","-","-"]
[null,null,{"$error":"#DIV/0!"},null,"Condensate Evaporator Pan Energy Consumption, DEC",{"$f":"SUMPRODUCT(--('Ref Data Entry'!$H$34:$Q$34=\"Remote (RC)\"),--(LEFT('Ref Data Entry'!$H$32:$Q$32,7)<>\"Walk-In\"),--('Ref Data Entry'!$H$32:$Q$32<>\"Other-Unregulated\"),'Ref Data Entry'!$H$36:$Q$36,'Ref Data Entry'!H52:Q52)","v":0},"-","-",0,"-","-","-",null,"Condensate Evaporator Pan",{"$f":"SUMPRODUCT(--('Ref Data Entry'!$H$34:$Q$34=\"Remote (RC)\"),--(LEFT('Ref Data Entry'!$H$32:$Q$32,7)<>\"Walk-In\"),--('Ref Data Entry'!$H$32:$Q$32<>\"Other-Unregulated\"),'Ref Data Entry'!$H$36:$Q$36,'Ref Data Entry'!H52:Q52)/$U$8","v":0},"-","-","-"]
[null,null,{"$f":"5/0","v":{"$error":"#DIV/0!"}},null,"Calculated Energy Consumption, CDEC",{"$f":"SUMPRODUCT(--('Ref Data Entry'!$H$34:$Q$34=\"Remote (RC)\"),--(LEFT('Ref Data Entry'!$H$32:$Q$32,7)<>\"Walk-In\"),--('Ref Data Entry'!$H$32:$Q$32<>\"Other-Unregulated\"),'Ref Data Entry'!$H$36:$Q$36,'Ref Data Entry'!H53:Q53)","v":0},"-","-",0,"-","-","-",null,"Calculated based on CDEC",{"$f":"SUMPRODUCT(--('Ref Data Entry'!$H$34:$Q$34=\"Remote (RC)\"),--(LEFT('Ref Data Entry'!$H$32:$Q$32,7)<>\"Walk-In\"),--('Ref Data Entry'!$H$32:$Q$32<>\"Other-Unregulated\"),'Ref Data Entry'!$H$36:$Q$36,'Ref Data Entry'!H53:Q53)/$U$8","v":0},"-","-","-"]
[null,null,{"$f":"5/0","v":{"$error":"#DIV/0!"}},null,"Other Loads",{"$f":"SUMPRODUCT(--('Ref Data Entry'!$H$34:$Q$34=\"Remote (RC)\"),--(LEFT('Ref Data Entry'!$H$32:$Q$32,7)<>\"Walk-In\"),--('Ref Data Entry'!$H$32:$Q$32<>\"Other-Unregulated\"),'Ref Data Entry'!$H$36:$Q$36,'Ref Data Entry'!H57:Q57)","v":0},"-","-",0,"-","-","-",null,"Other Loads",{"$f":"SUMPRODUCT(--('Ref Data Entry'!$H$34:$Q$34=\"Remote (RC)\"),--(LEFT('Ref Data Entry'!$H$32:$Q$32,7)<>\"Walk-In\"),--('Ref Data Entry'!$H$32:$Q$32<>\"Other-Unregulated\"),'Ref Data Entry'!$H$36:$Q$36,'Ref Data Entry'!H57:Q57)/$U$8","v":0},"-","-","-"]
[null,null,null,null,"Total Energy Consumption",{"$f":"SUMPRODUCT(--('Ref Data Entry'!$H$34:$Q$34=\"Remote (RC)\"),--(LEFT('Ref Data Entry'!$H$32:$Q$32,7)<>\"Walk-In\"),--('Ref Data Entry'!$H$32:$Q$32<>\"Other-Unregulated\"),'Ref Data Entry'!$H$36:$Q$36,'Ref Data Entry'!H59:Q59)","v":0},{"$f":"SUMPRODUCT(--('Ref Data Entry'!$H$34:$Q$34=\"Remote (RC)\"),--(LEFT('Ref Data Entry'!$H$32:$Q$32,7)<>\"Walk-In\"),--('Ref Data Entry'!$H$32:$Q$32<>\"Other-Unregulated\"),'Ref Data Entry'!$H$36:$Q$36,'Ref Data Entry'!H62:Q62)","v":0},{"$f":"G18-F18","v":0},0,{"$f":"G18*365","v":0},{"$f":"J18-I18","v":0},{"$f":"IF(I18=0,0,(J18-I18)/J18)","v":0},null,"Total",{"$f":"SUMPRODUCT(--('Ref Data Entry'!$H$34:$Q$34=\"Remote (RC)\"),--(LEFT('Ref Data Entry'!$H$32:$Q$32,7)<>\"Walk-In\"),--('Ref Data Entry'!$H$32:$Q$32<>\"Other-Unregulated\"),'Ref Data Entry'!$H$36:$Q$36,'Ref Data Entry'!H59:Q59)/$U$8","v":0},{"$f":"SUMPRODUCT(--('Ref Data Entry'!$H$34:$Q$34=\"Remote (RC)\"),--(LEFT('Ref Data Entry'!$H$32:$Q$32,7)<>\"Walk-In\"),--('Ref Data Entry'!$H$32:$Q$32<>\"Other-Unregulated\"),'Ref Data Entry'!$H$36:$Q$36,'Ref Data Entry'!H62:Q62)/$U$8","v":0},{"$f":"SUMPRODUCT(--('Ref Data Entry'!$H$34:$Q$34=\"Remote (RC)\"),'Ref Data Entry'!$H$36:$Q$36,'Ref Data Entry'!H76:Q76)","v":0},{"$f":"SUMPRODUCT(--('Ref Data Entry'!$H$34:$Q$34=\"Remote (RC)\"),'Ref Data Entry'!$H$36:$Q$36,'Ref Data Entry'!H81:Q81)","v":0}]
[]
[null,null,null,null,"Regulated Self-Contained Display Cases","kWh/day",null,null,"kWh/yr*",null,null,"% Savings",null,"Self-Contained Display Cases","kW**",null,"Q, kBtu/hr***"]
[null,null,null,null,null,"Proposed","Baseline","Savings","Proposed","Baseline","Savings",null,null,null,"Proposed","Baseline","Proposed","Baseline"]
[null,null,{"$f":"5/0","v":{"$error":"#DIV/0!"}},null,"Calculated Energy Consumption, TDEC",{"$f":"SUMPRODUCT(--('Ref Data Entry'!$H$34:$Q$34=\"Self-Contained (SC)\"),--('Ref Data Entry'!$H$32:$Q$32<>\"Other-Unregulated\"),'Ref Data Entry'!$H$36:$Q$36,'Ref Data Entry'!H53:Q53)","v":0},"-","-",{"$f":"F22*365","v":0},"-","-","-",null,"Calculated based on TDEC",{"$f":"SUMPRODUCT(--('Ref Data Entry'!$H$34:$Q$34=\"Self-Contained (SC)\"),--('Ref Data Entry'!$H$32:$Q$32<>\"Other-Unregulated\"),'Ref Data Entry'!$H$36:$Q$36,'Ref Data Entry'!H53:Q53)/$U$8","v":0},"-","-","-"]
[null,null,{"$f":"5/0","v":{"$error":"#DIV/0!"}},null,"Other Loads",{"$f":"SUMPRODUCT(--('Ref Data Entry'!$H$34:$Q$34=\"Self-Contained (SC)\"),--('Ref Data Entry'!$H$32:$Q$32<>\"Other-Unregulated\"),'Ref Data Entry'!$H$36:$Q$36,'Ref Data Entry'!H57:Q57)","v":0},"-","-",{"$f":"F23*365","v":0},"-","-","-",null,"Other Loads",{"$f":"SUMPRODUCT(--('Ref Data Entry'!$H$34:$Q$34=\"Self-Contained (SC)\"),--('Ref Data Entry'!$H$32:$Q$32<>\"Other-Unregulated\"),'Ref Data Entry'!$H$36:$Q$36,'Ref Data Entry'!H57:Q57)/$U$8","v":0},"-","-","-"]
[null,null,null,null,"Total Energy Consumption",{"$f":"SUMPRODUCT(--('Ref Data Entry'!$H$34:$Q$34=\"Self-Contained (SC)\"),--('Ref Data Entry'!$H$32:$Q$32<>\"Other-Unregulated\"),'Ref Data Entry'!$H$36:$Q$36,'Ref Data Entry'!H59:Q59)","v":0},{"$f":"SUMPRODUCT(--('Ref Data Entry'!$H$34:$Q$34=\"Self-Contained (SC)\"),--('Ref Data Entry'!$H$32:$Q$32<>\"Other-Unregulated\"),'Ref Data Entry'!$H$36:$Q$36,'Ref Data Entry'!H62:Q62)","v":0},{"$f":"G24-F24","v":0},{"$f":"F24*365","v":0},{"$f":"G24*365","v":0},{"$f":"J24-I24","v":0},{"$f":"IF(I24=0,0,(J24-I24)/J24)","v":0},null,"Total",{"$f":"SUMPRODUCT(--('Ref Data Entry'!$H$34:$Q$34=\"Self-Contained (SC)\"),--('Ref Data Entry'!$H$32:$Q$32<>\"Other-Unregulated\"),'Ref Data Entry'!$H$36:$Q$36,'Ref Data Entry'!H59:Q59)/$U$8","v":0},{"$f":"SUMPRODUCT(--('Ref Data Entry'!$H$34:$Q$34=\"Self-Contained (SC)\"),--('Ref Data Entry'!$H$32:$Q$32<>\"Other-Unregulated\"),'Ref Data Entry'!$H$36:$Q$36,'Ref Data Entry'!H62:Q62)/$U$8","v":0},{"$f":"SUMPRODUCT(--('Ref Data Entry'!$H$34:$Q$34=\"Self-Contained (SC)\"),'Ref Data Entry'!$H$36:$Q$36,'Ref Data Entry'!H76:Q76)","v":0},{"$f":"SUMPRODUCT(--('Ref Data Entry'!$H$34:$Q$34=\"Self-Contained (SC)\"),'Ref Data Entry'!$H$36:$Q$36,'Ref Data Entry'!H81:Q81)","v":0}]
[]
[null,null,null,null,"All Regulated Display Cases","kWh/day",null,null,"kWh/yr*",null,null,"% Savings",null,"All Display Cases","kW**",null,"Q, kBtu/hr***"]
[null,null,null,null,null,"Proposed","Baseline","Savings","Proposed","Baseline","Savings",null,null,null,"Proposed","Baseline","Proposed","Baseline"]
[null,null,{"$f":"5/0","v":{"$error":"#DIV/0!"}},null,"Calculated Energy Consumption, TDEC",{"$f":"F22+F16","v":0},"-","-",{"$f":"F28*365","v":0},"-","-","-",null,"Calculated based on CDEC/TDEC",{"$f":"O22+O16","v":0},"-","-","-"]
[null,null,{"$f":"5/0","v":{"$error":"#DIV/0!"}},null,"Other Loads",{"$f":"F23+F17","v":0},"-","-",{"$f":"F29*365","v":0},"-","-","-",null,"Other Loads",{"$f":"O23+O17","v":0},"-","-","-"]
[null,null,null,null,"Total Energy Consumption",0,{"$f":"G24+G18","v":0},{"$f":"G30-F30","v":0},{"$f":"F30*365","v":0},{"$f":"G30*365","v":0},{"$f":"J30-I30","v":0},{"$f":"IF(I30=0,0,(J30-I30)/J30)","v":0},null,"Total",0,0,{"$f":"Q24+Q18","v":0},{"$f":"R24+R18","v":0}]
[]
[null,null,null,null,"Unregulated Walk Ins","kWh/day",null,null,"kWh/yr*",null,null,"% Savings",null,"Walk Ins","kW**"]
[null,null,null,null,null,"Proposed","Baseline","Savings","Proposed","Baseline","Savings",null,null,null,"Proposed","Baseline"]
[null,null,null,null,"Walk-In Refrigerators Energy Consumption",{"$f":"SUMPRODUCT(--('Ref Data Entry'!$H$32:$Q$32=\"Walk-In Refrigerator\"),'Ref Data Entry'!$H$36:$Q$36,'Ref Data Entry'!H59:Q59)","v":0},{"$f":"SUMPRODUCT(--('Ref Data Entry'!$H$32:$Q$32=\"Walk-In Refrigerator\"),'Ref Data Entry'!$H$36:$Q$36,'Ref Data Entry'!H62:Q62)","v":0},{"$f":"G34-F34","v":0},{"$f":"F34*365","v":0},{"$f":"G34*365","v":0},0,{"$f":"IF(I34=0,0,(J34-I34)/J34)","v":0},null,"Walk-In Refrigerators",{"$f":"SUMPRODUCT(--('Ref Data Entry'!$H$32:$Q$32=\"Walk-In Refrigerator\"),'Ref Data Entry'!$H$36:$Q$36,'Ref Data Entry'!H74:Q74)","v":0},{"$f":"SUMPRODUCT(--('Ref Data Entry'!$H$32:$Q$32=\"Walk-In Refrigerator\"),'Ref Data Entry'!$H$36:$Q$36,'Ref Data Entry'!H79:Q79)","v":0}]
[null,null,null,null,"Walk-In Freezers Energy Consumption",{"$f":"SUMPRODUCT(--('Ref Data Entry'!$H$32:$Q$32=\"Walk-In Freezer\"),'Ref Data Entry'!$H$36:$Q$36,'Ref Data Entry'!H59:Q59)","v":0},{"$f":"SUMPRODUCT(--('Ref Data Entry'!$H$32:$Q$32=\"Walk-In Freezer\"),'Ref Data Entry'!$H$36:$Q$36,'Ref Data Entry'!H62:Q62)","v":0},{"$f":"G35-F35","v":0},{"$f":"F35*365","v":0},{"$f":"G35*365","v":0},{"$f":"H35*365","v":0},{"$f":"IF(I35=0,0,(J35-I35)/J35)","v":0},null,"Walk-In Freezers",{"$f":"SUMPRODUCT(--('Ref Data Entry'!$H$32:$Q$32=\"Walk-In Freezer\"),'Ref Data Entry'!$H$36:$Q$36,'Ref Data Entry'!H74:Q74)","v":0},{"$f":"SUMPRODUCT(--('Ref Data Entry'!$H$32:$Q$32=\"Walk-In Freezer\"),'Ref Data Entry'!$H$36:$Q$36,'Ref Data Entry'!H79:Q79)","v":0}]
[null,null,null,null,"Total Energy Consumption",{"$f":"SUM(F34:F35)","v":0},{"$f":"SUM(G34:G35)","v":0},0,0,0,0,0,null,"Total",{"$f":"SUM(O34:O35)","v":0},{"$f":"SUM(P34:P35)","v":0},0,0]
[]
[null,null,null,null,"Other-Unregulated","kWh/day",null,null,"kWh/yr*",null,null,"% Savings",null,"Other-Unregulated","kW**"]
[null,null,null,null,null,"Proposed","Baseline","Savings","Proposed","Baseline","Savings",null,null,null,"Proposed","Baseline"]
[null,null,null,null,"Other-Unregulated Energy Consumption",{"$f":"SUMPRODUCT(--('Ref Data Entry'!$H$32:$Q$32=\"Other-Unregulated\"),'Ref Data Entry'!$H$36:$Q$36,'Ref Data Entry'!H59:Q59)","v":0},{"$f":"SUMPRODUCT(--('Ref Data Entry'!$H$32:$Q$32=\"Other-Unregulated\"),'Ref Data Entry'!$H$36:$Q$36,'Ref Data Entry'!H62:Q62)","v":0},{"$f":"G40-F40","v":0},{"$f":"F40*365","v":0},{"$f":"G40*365","v":0},{"$f":"H40*365","v":0},{"$f":"IF(I40=0,0,(J40-I40)/J40)","v":0},null,"Total",{"$f":"SUMPRODUCT(--('Ref Data Entry'!$H$32:$Q$32=\"Other-Unregulated\"),'Ref Data Entry'!$H$36:$Q$36,'Ref Data Entry'!H74:Q74)","v":0},{"$f":"IFERROR(SUMPRODUCT(--('Ref Data Entry'!$H$32:$Q$32=\"Other-Unregulated\"),'Ref Data Entry'!$H$36:$Q$36,'Ref Data Entry'!H79:Q79),0)","v":0}]
[]
[null,null,null,null,"Summary","kWh/day",null,null,"kWh/yr*",null,null,"% Savings",null,"Summary","kW**"]
[null,null,null,null,null,"Proposed","Baseline","Savings","Proposed","Baseline","Savings",null,null,null,"Proposed","Baseline"]
[null,null,null,null,"Regulated Energy Consumption",{"$f":"F30","v":0},{"$f":"G30","v":0},0,0,0,0,{"$f":"IF(I44=0,0,(J44-I44)/J44)","v":0},null,"Regulated Units",{"$f":"O30","v":0},{"$f":"P30","v":0}]
[null,null,null,null,"Unregulated Energy Consumption",{"$f":"F36+F40","v":0},{"$f":"G36+G40","v":0},0,0,0,0,0,null,"Unregulated Units",{"$f":"O36+O40","v":0},{"$f":"P36+P40","v":0},0,0]
[null,null,null,null,"Energy Consumption All Units",{"$f":"F36+F30+F40","v":0},{"$f":"G36+G30+G40","v":0},0,0,0,0,{"$f":"IF(I46=0,0,(J46-I46)/J46)","v":0},null,"All Units",{"$f":"O36+O30+O40","v":0},{"$f":"P36+P30+P40","v":0}]
[]
[null,null,null,null,"* Assumes equipment operates 365 days annually."]
[null,null,null,null,"** Assumed 24 hour per day operation per the PNNL Performance Rating Method Reference Manual."]
[null,null,{"$f":"5/0","v":{"$error":"#DIV/0!"}},null,"*** Q = rate of heat removal from spaces. A negative # means heat removal from the space; a positive number means that heat is being added."]
[null,null,{"$f":"5/0","v":{"$error":"#DIV/0!"}},null,null,null,null,null,null,null,1,{"$f":"K51+9","v":10},{"$f":"L51+9","v":19},28,37,46,55,64,73,82,91,100,109,118,127,136,145,154,163,172,181,190,199,208,217,226,235,244,253,262,271,280,289,298,307,316,325,334,343,352,361,370,379,388,397,406,415,424,433,442,451,460,469,478,487,496,505,514,523,532,541,550,559,568,577,586,{"$f":"BX51+9","v":595},604,613,622,631,640,649,658,667,676,685,694,703,712,721,730,739,748,757,766,775,784,793,802,811,820,829,838,847,856,865,874,883,892]
[null,null,{"$error":"#DIV/0!"},null,null,null,null,null,{"$f":"SUM(I54:I153)","v":0},{"$f":"SUM(J54:J153)","v":0},2,{"$f":"K52+9","v":11},{"$f":"L52+9","v":20},29,38,47,56,65,74,83,92,101,110,119,128,137,146,155,164,173,182,191,200,209,218,227,236,245,254,263,272,281,290,299,308,317,326,335,344,353,362,371,380,389,398,407,416,425,434,443,452,461,470,479,488,497,506,515,524,533,542,551,560,569,578,587,{"$f":"BX52+9","v":596},605,614,623,632,641,650,659,668,677,686,695,704,713,722,731,740,749,758,767,776,785,794,803,812,821,830,839,848,857,866,875,884,893]
[null,null,{"$f":"5/0","v":{"$error":"#DIV/0!"}},null,"Unit",null,"Qty","Qty Zones","Flag too many","Flag too little"]
[null,null,{"$f":"5/0","v":{"$error":"#DIV/0!"}},null,{"$f":"IFERROR(INDEX(Ref_Data,1,F54),\"\")","v":0},1,{"$f":"IFERROR(INDEX(Ref_Data,6,MATCH(E54,INDEX(Ref_Data,1,0),0)),0)","v":0},{"$f":"SUM(K54:DF54)","v":0},{"$f":"IF(H54>G54,1,0)","v":0},{"$f":"IF(H54<G54,1,0)","v":0},{"$f":"IFERROR(SUMPRODUCT(--(INDEX(Model_Inputs_Ref_Units,,K$51)=$E54),INDEX(Model_Inputs_Ref_Units,,K$52)),0)","v":0},{"$f":"IFERROR(SUMPRODUCT(--(INDEX(Model_Inputs_Ref_Units,,L$51)=$E54),INDEX(Model_Inputs_Ref_Units,,L$52)),0)","v":0},{"$f":"IFERROR(SUMPRODUCT(--(INDEX(Model_Inputs_Ref_Units,,M$51)=$E54),INDEX(Model_Inputs_Ref_Units,,M$52)),0)","v":0},{"$f":"IFERROR(SUMPRODUCT(--(INDEX(Model_Inputs_Ref_Units,,N$51)=$E54),INDEX(Model_Inputs_Ref_Units,,N$52)),0)","v":0},{"$f":"IFERROR(SUMPRODUCT(--(INDEX(Model_Inputs_Ref_Units,,O$51)=$E54),INDEX(Model_Inputs_Ref_Units,,O$52)),0)","v":0},{"$f":"IFERROR(SUMPRODUCT(--(INDEX(Model_Inputs_Ref_Units,,P$51)=$E54),INDEX(Model_Inputs_Ref_Units,,P$52)),0)","v":0},{"$f":"IFERROR(SUMPRODUCT(--(INDEX(Model_Inputs_Ref_Units,,Q$51)=$E54),INDEX(Model_Inputs_Ref_Units,,Q$52)),0)","v":0},{"$f":"IFERROR(SUMPRODUCT(--(INDEX(Model_Inputs_Ref_Units,,R$51)=$E54),INDEX(Model_Inputs_Ref_Units,,R$52)),0)","v":0},{"$f":"IFERROR(SUMPRODUCT(--(INDEX(Model_Inputs_Ref_Units,,S$51)=$E54),INDEX(Model_Inputs_Ref_Units,,S$52)),0)","v":0},{"$f":"IFERROR(SUMPRODUCT(--(INDEX(Model_Inputs_Ref_Units,,T$51)=$E54),INDEX(Model_Inputs_Ref_Units,,T$52)),0)","v":0},{"$f":"IFERROR(SUMPRODUCT(--(INDEX(Model_Inputs_Ref_Units,,U$51)=$E54),INDEX(Model_Inputs_Ref_Units,,U$52)),0)","v":0},{"$f":"IFERROR(SUMPRODUCT(--(INDEX(Model_Inputs_Ref_Units,,V$51)=$E54),INDEX(Model_Inputs_Ref_Units,,V$52)),0)","v":0},{"$f":"IFERROR(SUMPRODUCT(--(INDEX(Model_Inputs_Ref_Units,,W$51)=$E54),INDEX(Model_Inputs_Ref_Units,,W$52)),0)","v":0},{"$f":"IFERROR(SUMPRODUCT(--(INDEX(Model_Inputs_Ref_Units,,X$51)=$E54),INDEX(Model_Inputs_Ref_Units,,X$52)),0)","v":0},{"$f":"IFERROR(SUMPRODUCT(--(INDEX(Model_Inputs_Ref_Units,,Y$51)=$E54),INDEX(Model_Inputs_Ref_Units,,Y$52)),0)","v":0},{"$f":"IFERROR(SUMPRODUCT(--(INDEX(Model_Inputs_Ref_Units,,Z$51)=$E54),INDEX(Model_Inputs_Ref_Units,,Z$52)),0)","v":0},{"$f":"IFERROR(SUMPRODUCT(--(INDEX(Model_Inputs_Ref_Units,,AA$51)=$E54),INDEX(Model_Inputs_Ref_Units,,AA$52)),0)","v":0},{"$f":"IFERROR(SUMPRODUCT(--(INDEX(Model_Inputs_Ref_Units,,AB$51)=$E54),INDEX(Model_Inputs_Ref_Units,,AB$52)),0)","v":0},{"$f":"IFERROR(SUMPRODUCT(--(INDEX(Model_Inputs_Ref_Units,,AC$51)=$E54),INDEX(Model_Inputs_Ref_Units,,AC$52)),0)","v":0},{"$f":"IFERROR(SUMPRODUCT(--(INDEX(Model_Inputs_Ref_Units,,AD$51)=$E54),INDEX(Model_Inputs_Ref_Units,,AD$52)),0)","v":0},{"$f":"IFERROR(SUMPRODUCT(--(INDEX(Model_Inputs_Ref_Units,,AE$51)=$E54),INDEX(Model_Inputs_Ref_Units,,AE$52)),0)","v":0},{"$f":"IFERROR(SUMPRODUCT(--(INDEX(Model_Inputs_Ref_Units,,AF$51)=$E54),INDEX(Model_Inputs_Ref_Units,,AF$52)),0)","v":0},{"$f":"IFERROR(SUMPRODUCT(--(INDEX(Model_Inputs_Ref_Units,,AG$51)=$E54),INDEX(Model_Inputs_Ref_Units,,AG$52)),0)","v":0},{"$f":"IFERROR(SUMPRODUCT(--(INDEX(Model_Inputs_Ref_Units,,AH$51)=$E54),INDEX(Model_Inputs_Ref_Units,,AH$52)),0)","v":0},{"$f":"IFERROR(SUMPRODUCT(--(INDEX(Model_Inputs_Ref_Units,,AI$51)=$E54),INDEX(Model_Inputs_Ref_Units,,AI$52)),0)","v":0},{"$f":"IFERROR(SUMPRODUCT(--(INDEX(Model_Inputs_Ref_Units,,AJ$51)=$E54),INDEX(Model_Inputs_Ref_Units,,AJ$52)),0)","v":0},{"$f":"IFERROR(SUMPRODUCT(--(INDEX(Model_Inputs_Ref_Units,,AK$51)=$E54),INDEX(Model_Inputs_Ref_Units,,AK$52)),0)","v":0},{"$f":"IFERROR(SUMPRODUCT(--(INDEX(Model_Inputs_Ref_Units,,AL$51)=$E54),INDEX(Model_Inputs_Ref_Units,,AL$52)),0)","v":0},{"$f":"IFERROR(SUMPRODUCT(--(INDEX(Model_Inputs_Ref_Units,,AM$51)=$E54),INDEX(Model_Inputs_Ref_Units,,AM$52)),0)","v":0},{"$f":"IFERROR(SUMPRODUCT(--(INDEX(Model_Inputs_Ref_Units,,AN$51)=$E54),INDEX(Model_Inputs_Ref_Units,,AN$52)),0)","v":0},{"$f":"IFERROR(SUMPRODUCT(--(INDEX(Model_Inputs_Ref_Units,,AO$51)=$E54),INDEX(Model_Inputs_Ref_Units,,AO$52)),0)","v":0},{"$f":"IFERROR(SUMPRODUCT(--(INDEX(Model_Inputs_Ref_Units,,AP$51)=$E54),INDEX(Model_Inputs_Ref_Units,,AP$52)),0)","v":0},{"$f":"IFERROR(SUMPRODUCT(--(INDEX(Model_Inputs_Ref_Units,,AQ$51)=$E54),INDEX(Model_Inputs_Ref_Units,,AQ$52)),0)","v":0},{"$f":"IFERROR(SUMPRODUCT(--(INDEX(Model_Inputs_Ref_Units,,AR$51)=$E54),INDEX(Model_Inputs_Ref_Units,,AR$52)),0)","v":0},{"$f":"IFERROR(SUMPRODUCT(--(INDEX(Model_Inputs_Ref_Units,,AS$51)=$E54),INDEX(Model_Inputs_Ref_Units,,AS$52)),0)","v":0},{"$f":"IFERROR(SUMPRODUCT(--(INDEX(Model_Inputs_Ref_Units,,AT$51)=$E54),INDEX(Model_Inputs_Ref_Units,,AT$52)),0)","v":0},{"$f":"IFERROR(SUMPRODUCT(--(INDEX(Model_Inputs_Ref_Units,,AU$51)=$E54),INDEX(Model_Inputs_Ref_Units,,AU$52)),0)","v":0},{"$f":"IFERROR(SUMPRODUCT(--(INDEX(Model_Inputs_Ref_Units,,AV$51)=$E54),INDEX(Model_Inputs_Ref_Units,,AV$52)),0)","v":0},{"$f":"IFERROR(SUMPRODUCT(--(INDEX(Model_Inputs_Ref_Units,,AW$51)=$E54),INDEX(Model_Inputs_Ref_Units,,AW$52)),0)","v":0},{"$f":"IFERROR(SUMPRODUCT(--(INDEX(Model_Inputs_Ref_Units,,AX$51)=$E54),INDEX(Model_Inputs_Ref_Units,,AX$52)),0)","v":0},{"$f":"IFERROR(SUMPRODUCT(--(INDEX(Model_Inputs_Ref_Units,,AY$51)=$E54),INDEX(Model_Inputs_Ref_Units,,AY$52)),0)","v":0},{"$f":"IFERROR(SUMPRODUCT(--(INDEX(Model_Inputs_Ref_Units,,AZ$51)=$E54),INDEX(Model_Inputs_Ref_Units,,AZ$52)),0)","v":0},{"$f":"IFERROR(SUMPRODUCT(--(INDEX(Model_Inputs_Ref_Units,,BA$51)=$E54),INDEX(Model_Inputs_Ref_Units,,BA$52)),0)","v":0},{"$f":"IFERROR(SUMPRODUCT(--(INDEX(Model_Inputs_Ref_Units,,BB$51)=$E54),INDEX(Model_Inputs_Ref_Units,,BB$52)),0)","v":0},{"$f":"IFERROR(SUMPRODUCT(--(INDEX(Model_Inputs_Ref_Units,,BC$51)=$E54),INDEX(Model_Inputs_Ref_Units,,BC$52)),0)","v":0},{"$f":"IFERROR(SUMPRODUCT(--(INDEX(Model_Inputs_Ref_Units,,BD$51)=$E54),INDEX(Model_Inputs_Ref_Units,,BD$52)),0)","v":0},{"$f":"IFERROR(SUMPRODUCT(--(INDEX(Model_Inputs_Ref_Units,,BE$51)=$E54),INDEX(Model_Inputs_Ref_Units,,BE$52)),0)","v":0},{"$f":"IFERROR(SUMPRODUCT(--(INDEX(Model_Inputs_Ref_Units,,BF$51)=$E54),INDEX(Model_Inputs_Ref_Units,,BF$52)),0)","v":0},{"$f":"IFERROR(SUMPRODUCT(--(INDEX(Model_Inputs_Ref_Units,,BG$51)=$E54),INDEX(Model_Inputs_Ref_Units,,BG$52)),0)","v":0},{"$f":"IFERROR(SUMPRODUCT(--(INDEX(Model_Inputs_Ref_Units,,BH$51)=$E54),INDEX(Model_Inputs_Ref_Units,,BH$52)),0)","v":0},{"$f":"IFERROR(SUMPRODUCT(--(INDEX(Model_Inputs_Ref_Units,,BI$51)=$E54),INDEX(Model_Inputs_Ref_Units,,BI$52)),0)","v":0},{"$f":"IFERROR(SUMPRODUCT(--(INDEX(Model_Inputs_Ref_Units,,BJ$51)=$E54),INDEX(Model_Inputs_Ref_Units,,BJ$52)),0)","v":0},{"$f":"IFERROR(SUMPRODUCT(--(INDEX(Model_Inputs_Ref_Units,,BK$51)=$E54),INDEX(Model_Inputs_Ref_Units,,BK$52)),0)","v":0},{"$f":"IFERROR(SUMPRODUCT(--(INDEX(Model_Inputs_Ref_Units,,BL$51)=$E54),INDEX(Model_Inputs_Ref_Units,,BL$52)),0)","v":0},{"$f":"IFERROR(SUMPRODUCT(--(INDEX(Model_Inputs_Ref_Units,,BM$51)=$E54),INDEX(Model_Inputs_Ref_Units,,BM$52)),0)","v":0},{"$f":"IFERROR(SUMPRODUCT(--(INDEX(Model_Inputs_Ref_Units,,BN$51)=$E54),INDEX(Model_Inputs_Ref_Units,,BN$52)),0)","v":0},{"$f":"IFERROR(SUMPRODUCT(--(INDEX(Model_Inputs_Ref_Units,,BO$51)=$E54),INDEX(Model_Inputs_Ref_Units,,BO$52)),0)","v":0},{"$f":"IFERROR(SUMPRODUCT(--(INDEX(Model_Inputs_Ref_Units,,BP$51)=$E54),INDEX(Model_Inputs_Ref_Units,,BP$52)),0)","v":0},{"$f":"IFERROR(SUMPRODUCT(--(INDEX(Model_Inputs_Ref_Units,,BQ$51)=$E54),INDEX(Model_Inputs_Ref_Units,,BQ$52)),0)","v":0},{"$f":"IFERROR(SUMPRODUCT(--(INDEX(Model_Inputs_Ref_Units,,BR$51)=$E54),INDEX(Model_Inputs_Ref_Units,,BR$52)),0)","v":0},{"$f":"IFERROR(SUMPRODUCT(--(INDEX(Model_Inputs_Ref_Units,,BS$51)=$E54),INDEX(Model_Inputs_Ref_Units,,BS$52)),0)","v":0},{"$f":"IFERROR(SUMPRODUCT(--(INDEX(Model_Inputs_Ref_Units,,BT$51)=$E54),INDEX(Model_Inputs_Ref_Units,,BT$52)),0)","v":0},{"$f":"IFERROR(SUMPRODUCT(--(INDEX(Model_Inputs_Ref_Units,,BU$51)=$E54),INDEX(Model_Inputs_Ref_Units,,BU$52)),0)","v":0},{"$f":"IFERROR(SUMPRODUCT(--(INDEX(Model_Inputs_Ref_Units,,BV$51)=$E54),INDEX(Model_Inputs_Ref_Units,,BV$52)),0)","v":0},{"$f":"IFERROR(SUMPRODUCT(--(INDEX(Model_Inputs_Ref_Units,,BW$51)=$E54),INDEX(Model_Inputs_Ref_Units,,BW$52)),0)","v":0},{"$f":"IFERROR(SUMPRODUCT(--(INDEX(Model_Inputs_Ref_Units,,BX$51)=$E54),INDEX(Model_Inputs_Ref_Units,,BX$52)),0)","v":0},{"$f":"IFERROR(SUMPRODUCT(--(INDEX(Model_Inputs_Ref_Units,,BY$51)=$E54),INDEX(Model_Inputs_Ref_Units,,BY$52)),0)","v":0},{"$f":"IFERROR(SUMPRODUCT(--(INDEX(Model_Inputs_Ref_Units,,BZ$51)=$E54),INDEX(Model_Inputs_Ref_Units,,BZ$52)),0)","v":0},{"$f":"IFERROR(SUMPRODUCT(--(INDEX(Model_Inputs_Ref_Units,,CA$51)=$E54),INDEX(Model_Inputs_Ref_Units,,CA$52)),0)","v":0},{"$f":"IFERROR(SUMPRODUCT(--(INDEX(Model_Inputs_Ref_Units,,CB$51)=$E54),INDEX(Model_Inputs_Ref_Units,,CB$52)),0)","v":0},{"$f":"IFERROR(SUMPRODUCT(--(INDEX(Model_Inputs_Ref_Units,,CC$51)=$E54),INDEX(Model_Inputs_Ref_Units,,CC$52)),0)","v":0},{"$f":"IFERROR(SUMPRODUCT(--(INDEX(Model_Inputs_Ref_Units,,CD$51)=$E54),INDEX(Model_Inputs_Ref_Units,,CD$52)),0)","v":0},{"$f":"IFERROR(SUMPRODUCT(--(INDEX(Model_Inputs_Ref_Units,,CE$51)=$E54),INDEX(Model_Inputs_Ref_Units,,CE$52)),0)","v":0},{"$f":"IFERROR(SUMPRODUCT(--(INDEX(Model_Inputs_Ref_Units,,CF$51)=$E54),INDEX(Model_Inputs_Ref_Units,,CF$52)),0)","v":0},{"$f":"IFERROR(SUMPRODUCT(--(INDEX(Model_Inputs_Ref_Units,,CG$51)=$E54),INDEX(Model_Inputs_Ref_Units,,CG$52)),0)","v":0},{"$f":"IFERROR(SUMPRODUCT(--(INDEX(Model_Inputs_Ref_Units,,CH$51)=$E54),INDEX(Model_Inputs_Ref_Units,,CH$52)),0)","v":0},{"$f":"IFERROR(SUMPRODUCT(--(INDEX(Model_Inputs_Ref_Units,,CI$51)=$E54),INDEX(Model_Inputs_Ref_Units,,CI$52)),0)","v":0},{"$f":"IFERROR(SUMPRODUCT(--(INDEX(Model_Inputs_Ref_Units,,CJ$51)=$E54),INDEX(Model_Inputs_Ref_Units,,CJ$52)),0)","v":0},{"$f":"IFERROR(SUMPRODUCT(--(INDEX(Model_Inputs_Ref_Units,,CK$51)=$E54),INDEX(Model_Inputs_Ref_Units,,CK$52)),0)","v":0},{"$f":"IFERROR(SUMPRODUCT(--(INDEX(Model_Inputs_Ref_Units,,CL$51)=$E54),INDEX(Model_Inputs_Ref_Units,,CL$52)),0)","v":0},{"$f":"IFERROR(SUMPRODUCT(--(INDEX(Model_Inputs_Ref_Units,,CM$51)=$E54),INDEX(Model_Inputs_Ref_Units,,CM$52)),0)","v":0},{"$f":"IFERROR(SUMPRODUCT(--(INDEX(Model_Inputs_Ref_Units,,CN$51)=$E54),INDEX(Model_Inputs_Ref_Units,,CN$52)),0)","v":0},{"$f":"IFERROR(SUMPRODUCT(--(INDEX(Model_Inputs_Ref_Units,,CO$51)=$E54),INDEX(Model_Inputs_Ref_Units,,CO$52)),0)","v":0},{"$f":"IFERROR(SUMPRODUCT(--(INDEX(Model_Inputs_Ref_Units,,CP$51)=$E54),INDEX(Model_Inputs_Ref_Units,,CP$52)),0)","v":0},{"$f":"IFERROR(SUMPRODUCT(--(INDEX(Model_Inputs_Ref_Units,,CQ$51)=$E54),INDEX(Model_Inputs_Ref_Units,,CQ$52)),0)","v":0},{"$f":"IFERROR(SUMPRODUCT(--(INDEX(Model_Inputs_Ref_Units,,CR$51)=$E54),INDEX(Model_Inputs_Ref_Units,,CR$52)),0)","v":0},{"$f":"IFERROR(SUMPRODUCT(--(INDEX(Model_Inputs_Ref_Units,,CS$51)=$E54),INDEX(Model_Inputs_Ref_Units,,CS$52)),0)","v":0},{"$f":"IFERROR(SUMPRODUCT(--(INDEX(Model_Inputs_Ref_Units,,CT$51)=$E54),INDEX(Model_Inputs_Ref_Units,,CT$52)),0)","v":0},{"$f":"IFERROR(SUMPRODUCT(--(INDEX(Model_Inputs_Ref_Units,,CU$51)=$E54),INDEX(Model_Inputs_Ref_Units,,CU$52)),0)","v":0},{"$f":"IFERROR(SUMPRODUCT(--(INDEX(Model_Inputs_Ref_Units,,CV$51)=$E54),INDEX(Model_Inputs_Ref_Units,,CV$52)),0)","v":0},{"$f":"IFERROR(SUMPRODUCT(--(INDEX(Model_Inputs_Ref_Units,,CW$51)=$E54),INDEX(Model_Inputs_Ref_Units,,CW$52)),0)","v":0},{"$f":"IFERROR(SUMPRODUCT(--(INDEX(Model_Inputs_Ref_Units,,CX$51)=$E54),INDEX(Model_Inputs_Ref_Units,,CX$52)),0)","v":0},{"$f":"IFERROR(SUMPRODUCT(--(INDEX(Model_Inputs_Ref_Units,,CY$51)=$E54),INDEX(Model_Inputs_Ref_Units,,CY$52)),0)","v":0},{"$f":"IFERROR(SUMPRODUCT(--(INDEX(Model_Inputs_Ref_Units,,CZ$51)=$E54),INDEX(Model_Inputs_Ref_Units,,CZ$52)),0)","v":0},{"$f":"IFERROR(SUMPRODUCT(--(INDEX(Model_Inputs_Ref_Units,,DA$51)=$E54),INDEX(Model_Inputs_Ref_Units,,DA$52)),0)","v":0},{"$f":"IFERROR(SUMPRODUCT(--(INDEX(Model_Inputs_Ref_Units,,DB$51)=$E54),INDEX(Model_Inputs_Ref_Units,,DB$52)),0)","v":0},{"$f":"IFERROR(SUMPRODUCT(--(INDEX(Model_Inputs_Ref_Units,,DC$51)=$E54),INDEX(Model_Inputs_Ref_Units,,DC$52)),0)","v":0},{"$f":"IFERROR(SUMPRODUCT(--(INDEX(Model_Inputs_Ref_Units,,DD$51)=$E54),INDEX(Model_Inputs_Ref_Units,,DD$52)),0)","v":0},{"$f":"IFERROR(SUMPRODUCT(--(INDEX(Model_Inputs_Ref_Units,,DE$51)=$E54),INDEX(Model_Inputs_Ref_Units,,DE$52)),0)","v":0},{"$f":"IFERROR(SUMPRODUCT(--(INDEX(Model_Inputs_Ref_Units,,DF$51)=$E54),INDEX(Model_Inputs_Ref_Units,,DF$52)),0)","v":0}]
[null,null,{"$f":"5/0","v":{"$error":"#DIV/0!"}},null,{"$f":"IFERROR(INDEX(Ref_Data,1,F55),\"\")","v":0},2,{"$f":"IFERROR(INDEX(Ref_Data,6,MATCH(E55,INDEX(Ref_Data,1,0),0)),0)","v":0},0,{"$f":"IF(H55>G55,1,0)","v":0},{"$f":"IF(H55<G55,1,0)","v":0},{"$f":"IFERROR(SUMPRODUCT(--(INDEX(Model_Inputs_Ref_Units,,K$51)=$E55),INDEX(Model_Inputs_Ref_Units,,K$52)),0)","v":0},{"$f":"IFERROR(SUMPRODUCT(--(INDEX(Model_Inputs_Ref_Units,,L$51)=$E55),INDEX(Model_Inputs_Ref_Units,,L$52)),0)","v":0},{"$f":"IFERROR(SUMPRODUCT(--(INDEX(Model_Inputs_Ref_Units,,M$51)=$E55),INDEX(Model_Inputs_Ref_Units,,M$52)),0)","v":0},{"$f":"IFERROR(SUMPRODUCT(--(INDEX(Model_Inputs_Ref_Units,,N$51)=$E55),INDEX(Model_Inputs_Ref_Units,,N$52)),0)","v":0},{"$f":"IFERROR(SUMPRODUCT(--(INDEX(Model_Inputs_Ref_Units,,O$51)=$E55),INDEX(Model_Inputs_Ref_Units,,O$52)),0)","v":0},{"$f":"IFERROR(SUMPRODUCT(--(INDEX(Model_Inputs_Ref_Units,,P$51)=$E55),INDEX(Model_Inputs_Ref_Units,,P$52)),0)","v":0},{"$f":"IFERROR(SUMPRODUCT(--(INDEX(Model_Inputs_Ref_Units,,Q$51)=$E55),INDEX(Model_Inputs_Ref_Units,,Q$52)),0)","v":0},{"$f":"IFERROR(SUMPRODUCT(--(INDEX(Model_Inputs_Ref_Units,,R$51)=$E55),INDEX(Model_Inputs_Ref_Units,,R$52)),0)","v":0},{"$f":"IFERROR(SUMPRODUCT(--(INDEX(Model_Inputs_Ref_Units,,S$51)=$E55),INDEX(Model_Inputs_Ref_Units,,S$52)),0)","v":0},{"$f":"IFERROR(SUMPRODUCT(--(INDEX(Model_Inputs_Ref_Units,,T$51)=$E55),INDEX(Model_Inputs_Ref_Units,,T$52)),0)","v":0},{"$f":"IFERROR(SUMPRODUCT(--(INDEX(Model_Inputs_Ref_Units,,U$51)=$E55),INDEX(Model_Inputs_Ref_Units,,U$52)),0)","v":0},{"$f":"IFERROR(SUMPRODUCT(--(INDEX(Model_Inputs_Ref_Units,,V$51)=$E55),INDEX(Model_Inputs_Ref_Units,,V$52)),0)","v":0},{"$f":"IFERROR(SUMPRODUCT(--(INDEX(Model_Inputs_Ref_Units,,W$51)=$E55),INDEX(Model_Inputs_Ref_Units,,W$52)),0)","v":0},{"$f":"IFERROR(SUMPRODUCT(--(INDEX(Model_Inputs_Ref_Units,,X$51)=$E55),INDEX(Model_Inputs_Ref_Units,,X$52)),0)","v":0},{"$f":"IFERROR(SUMPRODUCT(--(INDEX(Model_Inputs_Ref_Units,,Y$51)=$E55),INDEX(Model_Inputs_Ref_Units,,Y$52)),0)","v":0},{"$f":"IFERROR(SUMPRODUCT(--(INDEX(Model_Inputs_Ref_Units,,Z$51)=$E55),INDEX(Model_Inputs_Ref_Units,,Z$52)),0)","v":0},{"$f":"IFERROR(SUMPRODUCT(--(INDEX(Model_Inputs_Ref_Units,,AA$51)=$E55),INDEX(Model_Inputs_Ref_Units,,AA$52)),0)","v":0},{"$f":"IFERROR(SUMPRODUCT(--(INDEX(Model_Inputs_Ref_Units,,AB$51)=$E55),INDEX(Model_Inputs_Ref_Units,,AB$52)),0)","v":0},{"$f":"IFERROR(SUMPRODUCT(--(INDEX(Model_Inputs_Ref_Units,,AC$51)=$E55),INDEX(Model_Inputs_Ref_Units,,AC$52)),0)","v":0},{"$f":"IFERROR(SUMPRODUCT(--(INDEX(Model_Inputs_Ref_Units,,AD$51)=$E55),INDEX(Model_Inputs_Ref_Units,,AD$52)),0)","v":0},{"$f":"IFERROR(SUMPRODUCT(--(INDEX(Model_Inputs_Ref_Units,,AE$51)=$E55),INDEX(Model_Inputs_Ref_Units,,AE$52)),0)","v":0},{"$f":"IFERROR(SUMPRODUCT(--(INDEX(Model_Inputs_Ref_Units,,AF$51)=$E55),INDEX(Model_Inputs_Ref_Units,,AF$52)),0)","v":0},{"$f":"IFERROR(SUMPRODUCT(--(INDEX(Model_Inputs_Ref_Units,,AG$51)=$E55),INDEX(Model_Inputs_Ref_Units,,AG$52)),0)","v":0},{"$f":"IFERROR(SUMPRODUCT(--(INDEX(Model_Inputs_Ref_Units,,AH$51)=$E55),INDEX(Model_Inputs_Ref_Units,,AH$52)),0)","v":0},{"$f":"IFERROR(SUMPRODUCT(--(INDEX(Model_Inputs_Ref_Units,,AI$51)=$E55),INDEX(Model_Inputs_Ref_Units,,AI$52)),0)","v":0},{"$f":"IFERROR(SUMPRODUCT(--(INDEX(Model_Inputs_Ref_Units,,AJ$51)=$E55),INDEX(Model_Inputs_Ref_Units,,AJ$52)),0)","v":0},{"$f":"IFERROR(SUMPRODUCT(--(INDEX(Model_Inputs_Ref_Units,,AK$51)=$E55),INDEX(Model_Inputs_Ref_Units,,AK$52)),0)","v":0},{"$f":"IFERROR(SUMPRODUCT(--(INDEX(Model_Inputs_Ref_Units,,AL$51)=$E55),INDEX(Model_Inputs_Ref_Units,,AL$52)),0)","v":0},{"$f":"IFERROR(SUMPRODUCT(--(INDEX(Model_Inputs_Ref_Units,,AM$51)=$E55),INDEX(Model_Inputs_Ref_Units,,AM$52)),0)","v":0},{"$f":"IFERROR(SUMPRODUCT(--(INDEX(Model_Inputs_Ref_Units,,AN$51)=$E55),INDEX(Model_Inputs_Ref_Units,,AN$52)),0)","v":0},{"$f":"IFERROR(SUMPRODUCT(--(INDEX(Model_Inputs_Ref_Units,,AO$51)=$E55),INDEX(Model_Inputs_Ref_Units,,AO$52)),0)","v":0},{"$f":"IFERROR(SUMPRODUCT(--(INDEX(Model_Inputs_Ref_Units,,AP$51)=$E55),INDEX(Model_Inputs_Ref_Units,,AP$52)),0)","v":0},{"$f":"IFERROR(SUMPRODUCT(--(INDEX(Model_Inputs_Ref_Units,,AQ$51)=$E55),INDEX(Model_Inputs_Ref_Units,,AQ$52)),0)","v":0},{"$f":"IFERROR(SUMPRODUCT(--(INDEX(Model_Inputs_Ref_Units,,AR$51)=$E55),INDEX(Model_Inputs_Ref_Units,,AR$52)),0)","v":0},{"$f":"IFERROR(SUMPRODUCT(--(INDEX(Model_Inputs_Ref_Units,,AS$51)=$E55),INDEX(Model_Inputs_Ref_Units,,AS$52)),0)","v":0},{"$f":"IFERROR(SUMPRODUCT(--(INDEX(Model_Inputs_Ref_Units,,AT$51)=$E55),INDEX(Model_Inputs_Ref_Units,,AT$52)),0)","v":0},{"$f":"IFERROR(SUMPRODUCT(--(INDEX(Model_Inputs_Ref_Units,,AU$51)=$E55),INDEX(Model_Inputs_Ref_Units,,AU$52)),0)","v":0},{"$f":"IFERROR(SUMPRODUCT(--(INDEX(Model_Inputs_Ref_Units,,AV$51)=$E55),INDEX(Model_Inputs_Ref_Units,,AV$52)),0)","v":0},{"$f":"IFERROR(SUMPRODUCT(--(INDEX(Model_Inputs_Ref_Units,,AW$51)=$E55),INDEX(Model_Inputs_Ref_Units,,AW$52)),0)","v":0},{"$f":"IFERROR(SUMPRODUCT(--(INDEX(Model_Inputs_Ref_Units,,AX$51)=$E55),INDEX(Model_Inputs_Ref_Units,,AX$52)),0)","v":0},{"$f":"IFERROR(SUMPRODUCT(--(INDEX(Model_Inputs_Ref_Units,,AY$51)=$E55),INDEX(Model_Inputs_Ref_Units,,AY$52)),0)","v":0},{"$f":"IFERROR(SUMPRODUCT(--(INDEX(Model_Inputs_Ref_Units,,AZ$51)=$E55),INDEX(Model_Inputs_Ref_Units,,AZ$52)),0)","v":0},{"$f":"IFERROR(SUMPRODUCT(--(INDEX(Model_Inputs_Ref_Units,,BA$51)=$E55),INDEX(Model_Inputs_Ref_Units,,BA$52)),0)","v":0},{"$f":"IFERROR(SUMPRODUCT(--(INDEX(Model_Inputs_Ref_Units,,BB$51)=$E55),INDEX(Model_Inputs_Ref_Units,,BB$52)),0)","v":0},{"$f":"IFERROR(SUMPRODUCT(--(INDEX(Model_Inputs_Ref_Units,,BC$51)=$E55),INDEX(Model_Inputs_Ref_Units,,BC$52)),0)","v":0},{"$f":"IFERROR(SUMPRODUCT(--(INDEX(Model_Inputs_Ref_Units,,BD$51)=$E55),INDEX(Model_Inputs_Ref_Units,,BD$52)),0)","v":0},{"$f":"IFERROR(SUMPRODUCT(--(INDEX(Model_Inputs_Ref_Units,,BE$51)=$E55),INDEX(Model_Inputs_Ref_Units,,BE$52)),0)","v":0},{"$f":"IFERROR(SUMPRODUCT(--(INDEX(Model_Inputs_Ref_Units,,BF$51)=$E55),INDEX(Model_Inputs_Ref_Units,,BF$52)),0)","v":0},{"$f":"IFERROR(SUMPRODUCT(--(INDEX(Model_Inputs_Ref_Units,,BG$51)=$E55),INDEX(Model_Inputs_Ref_Units,,BG$52)),0)","v":0},{"$f":"IFERROR(SUMPRODUCT(--(INDEX(Model_Inputs_Ref_Units,,BH$51)=$E55),INDEX(Model_Inputs_Ref_Units,,BH$52)),0)","v":0},{"$f":"IFERROR(SUMPRODUCT(--(INDEX(Model_Inputs_Ref_Units,,BI$51)=$E55),INDEX(Model_Inputs_Ref_Units,,BI$52)),0)","v":0},{"$f":"IFERROR(SUMPRODUCT(--(INDEX(Model_Inputs_Ref_Units,,BJ$51)=$E55),INDEX(Model_Inputs_Ref_Units,,BJ$52)),0)","v":0},{"$f":"IFERROR(SUMPRODUCT(--(INDEX(Model_Inputs_Ref_Units,,BK$51)=$E55),INDEX(Model_Inputs_Ref_Units,,BK$52)),0)","v":0},{"$f":"IFERROR(SUMPRODUCT(--(INDEX(Model_Inputs_Ref_Units,,BL$51)=$E55),INDEX(Model_Inputs_Ref_Units,,BL$52)),0)","v":0},{"$f":"IFERROR(SUMPRODUCT(--(INDEX(Model_Inputs_Ref_Units,,BM$51)=$E55),INDEX(Model_Inputs_Ref_Units,,BM$52)),0)","v":0},{"$f":"IFERROR(SUMPRODUCT(--(INDEX(Model_Inputs_Ref_Units,,BN$51)=$E55),INDEX(Model_Inputs_Ref_Units,,BN$52)),0)","v":0},{"$f":"IFERROR(SUMPRODUCT(--(INDEX(Model_Inputs_Ref_Units,,BO$51)=$E55),INDEX(Model_Inputs_Ref_Units,,BO$52)),0)","v":0},{"$f":"IFERROR(SUMPRODUCT(--(INDEX(Model_Inputs_Ref_Units,,BP$51)=$E55),INDEX(Model_Inputs_Ref_Units,,BP$52)),0)","v":0},{"$f":"IFERROR(SUMPRODUCT(--(INDEX(Model_Inputs_Ref_Units,,BQ$51)=$E55),INDEX(Model_Inputs_Ref_Units,,BQ$52)),0)","v":0},{"$f":"IFERROR(SUMPRODUCT(--(INDEX(Model_Inputs_Ref_Units,,BR$51)=$E55),INDEX(Model_Inputs_Ref_Units,,BR$52)),0)","v":0},{"$f":"IFERROR(SUMPRODUCT(--(INDEX(Model_Inputs_Ref_Units,,BS$51)=$E55),INDEX(Model_Inputs_Ref_Units,,BS$52)),0)","v":0},{"$f":"IFERROR(SUMPRODUCT(--(INDEX(Model_Inputs_Ref_Units,,BT$51)=$E55),INDEX(Model_Inputs_Ref_Units,,BT$52)),0)","v":0},{"$f":"IFERROR(SUMPRODUCT(--(INDEX(Model_Inputs_Ref_Units,,BU$51)=$E55),INDEX(Model_Inputs_Ref_Units,,BU$52)),0)","v":0},{"$f":"IFERROR(SUMPRODUCT(--(INDEX(Model_Inputs_Ref_Units,,BV$51)=$E55),INDEX(Model_Inputs_Ref_Units,,BV$52)),0)","v":0},{"$f":"IFERROR(SUMPRODUCT(--(INDEX(Model_Inputs_Ref_Units,,BW$51)=$E55),INDEX(Model_Inputs_Ref_Units,,BW$52)),0)","v":0},{"$f":"IFERROR(SUMPRODUCT(--(INDEX(Model_Inputs_Ref_Units,,BX$51)=$E55),INDEX(Model_Inputs_Ref_Units,,BX$52)),0)","v":0},{"$f":"IFERROR(SUMPRODUCT(--(INDEX(Model_Inputs_Ref_Units,,BY$51)=$E55),INDEX(Model_Inputs_Ref_Units,,BY$52)),0)","v":0},{"$f":"IFERROR(SUMPRODUCT(--(INDEX(Model_Inputs_Ref_Units,,BZ$51)=$E55),INDEX(Model_Inputs_Ref_Units,,BZ$52)),0)","v":0},{"$f":"IFERROR(SUMPRODUCT(--(INDEX(Model_Inputs_Ref_Units,,CA$51)=$E55),INDEX(Model_Inputs_Ref_Units,,CA$52)),0)","v":0},{"$f":"IFERROR(SUMPRODUCT(--(INDEX(Model_Inputs_Ref_Units,,CB$51)=$E55),INDEX(Model_Inputs_Ref_Units,,CB$52)),0)","v":0},{"$f":"IFERROR(SUMPRODUCT(--(INDEX(Model_Inputs_Ref_Units,,CC$51)=$E55),INDEX(Model_Inputs_Ref_Units,,CC$52)),0)","v":0},{"$f":"IFERROR(SUMPRODUCT(--(INDEX(Model_Inputs_Ref_Units,,CD$51)=$E55),INDEX(Model_Inputs_Ref_Units,,CD$52)),0)","v":0},{"$f":"IFERROR(SUMPRODUCT(--(INDEX(Model_Inputs_Ref_Units,,CE$51)=$E55),INDEX(Model_Inputs_Ref_Units,,CE$52)),0)","v":0},{"$f":"IFERROR(SUMPRODUCT(--(INDEX(Model_Inputs_Ref_Units,,CF$51)=$E55),INDEX(Model_Inputs_Ref_Units,,CF$52)),0)","v":0},{"$f":"IFERROR(SUMPRODUCT(--(INDEX(Model_Inputs_Ref_Units,,CG$51)=$E55),INDEX(Model_Inputs_Ref_Units,,CG$52)),0)","v":0},{"$f":"IFERROR(SUMPRODUCT(--(INDEX(Model_Inputs_Ref_Units,,CH$51)=$E55),INDEX(Model_Inputs_Ref_Units,,CH$52)),0)","v":0},{"$f":"IFERROR(SUMPRODUCT(--(INDEX(Model_Inputs_Ref_Units,,CI$51)=$E55),INDEX(Model_Inputs_Ref_Units,,CI$52)),0)","v":0},{"$f":"IFERROR(SUMPRODUCT(--(INDEX(Model_Inputs_Ref_Units,,CJ$51)=$E55),INDEX(Model_Inputs_Ref_Units,,CJ$52)),0)","v":0},{"$f":"IFERROR(SUMPRODUCT(--(INDEX(Model_Inputs_Ref_Units,,CK$51)=$E55),INDEX(Model_Inputs_Ref_Units,,CK$52)),0)","v":0},{"$f":"IFERROR(SUMPRODUCT(--(INDEX(Model_Inputs_Ref_Units,,CL$51)=$E55),INDEX(Model_Inputs_Ref_Units,,CL$52)),0)","v":0},{"$f":"IFERROR(SUMPRODUCT(--(INDEX(Model_Inputs_Ref_Units,,CM$51)=$E55),INDEX(Model_Inputs_Ref_Units,,CM$52)),0)","v":0},{"$f":"IFERROR(SUMPRODUCT(--(INDEX(Model_Inputs_Ref_Units,,CN$51)=$E55),INDEX(Model_Inputs_Ref_Units,,CN$52)),0)","v":0},{"$f":"IFERROR(SUMPRODUCT(--(INDEX(Model_Inputs_Ref_Units,,CO$51)=$E55),INDEX(Model_Inputs_Ref_Units,,CO$52)),0)","v":0},{"$f":"IFERROR(SUMPRODUCT(--(INDEX(Model_Inputs_Ref_Units,,CP$51)=$E55),INDEX(Model_Inputs_Ref_Units,,CP$52)),0)","v":0},{"$f":"IFERROR(SUMPRODUCT(--(INDEX(Model_Inputs_Ref_Units,,CQ$51)=$E55),INDEX(Model_Inputs_Ref_Units,,CQ$52)),0)","v":0},{"$f":"IFERROR(SUMPRODUCT(--(INDEX(Model_Inputs_Ref_Units,,CR$51)=$E55),INDEX(Model_Inputs_Ref_Units,,CR$52)),0)","v":0},{"$f":"IFERROR(SUMPRODUCT(--(INDEX(Model_Inputs_Ref_Units,,CS$51)=$E55),INDEX(Model_Inputs_Ref_Units,,CS$52)),0)","v":0},{"$f":"IFERROR(SUMPRODUCT(--(INDEX(Model_Inputs_Ref_Units,,CT$51)=$E55),INDEX(Model_Inputs_Ref_Units,,CT$52)),0)","v":0},{"$f":"IFERROR(SUMPRODUCT(--(INDEX(Model_Inputs_Ref_Units,,CU$51)=$E55),INDEX(Model_Inputs_Ref_Units,,CU$52)),0)","v":0},{"$f":"IFERROR(SUMPRODUCT(--(INDEX(Model_Inputs_Ref_Units,,CV$51)=$E55),INDEX(Model_Inputs_Ref_Units,,CV$52)),0)","v":0},{"$f":"IFERROR(SUMPRODUCT(--(INDEX(Model_Inputs_Ref_Units,,CW$51)=$E55),INDEX(Model_Inputs_Ref_Units,,CW$52)),0)","v":0},{"$f":"IFERROR(SUMPRODUCT(--(INDEX(Model_Inputs_Ref_Units,,CX$51)=$E55),INDEX(Model_Inputs_Ref_Units,,CX$52)),0)","v":0},{"$f":"IFERROR(SUMPRODUCT(--(INDEX(Model_Inputs_Ref_Units,,CY$51)=$E55),INDEX(Model_Inputs_Ref_Units,,CY$52)),0)","v":0},{"$f":"IFERROR(SUMPRODUCT(--(INDEX(Model_Inputs_Ref_Units,,CZ$51)=$E55),INDEX(Model_Inputs_Ref_Units,,CZ$52)),0)","v":0},{"$f":"IFERROR(SUMPRODUCT(--(INDEX(Model_Inputs_Ref_Units,,DA$51)=$E55),INDEX(Model_Inputs_Ref_Units,,DA$52)),0)","v":0},{"$f":"IFERROR(SUMPRODUCT(--(INDEX(Model_Inputs_Ref_Units,,DB$51)=$E55),INDEX(Model_Inputs_Ref_Units,,DB$52)),0)","v":0},{"$f":"IFERROR(SUMPRODUCT(--(INDEX(Model_Inputs_Ref_Units,,DC$51)=$E55),INDEX(Model_Inputs_Ref_Units,,DC$52)),0)","v":0},{"$f":"IFERROR(SUMPRODUCT(--(INDEX(Model_Inputs_Ref_Units,,DD$51)=$E55),INDEX(Model_Inputs_Ref_Units,,DD$52)),0)","v":0},{"$f":"IFERROR(SUMPRODUCT(--(INDEX(Model_Inputs_Ref_Units,,DE$51)=$E55),INDEX(Model_Inputs_Ref_Units,,DE$52)),0)","v":0},{"$f":"IFERROR(SUMPRODUCT(--(INDEX(Model_Inputs_Ref_Units,,DF$51)=$E55),INDEX(Model_Inputs_Ref_Units,,DF$52)),0)","v":0}]
[null,null,{"$error":"#DIV/0!"},null,{"$f":"IFERROR(INDEX(Ref_Data,1,F56),\"\")","v":0},3,0,0,0,0,{"$f":"IFERROR(SUMPRODUCT(--(INDEX(Model_Inputs_Ref_Units,,K$51)=$E56),INDEX(Model_Inputs_Ref_Units,,K$52)),0)","v":0},{"$f":"IFERROR(SUMPRODUCT(--(INDEX(Model_Inputs_Ref_Units,,L$51)=$E56),INDEX(Model_Inputs_Ref_Units,,L$52)),0)","v":0},{"$f":"IFERROR(SUMPRODUCT(--(INDEX(Model_Inputs_Ref_Units,,M$51)=$E56),INDEX(Model_Inputs_Ref_Units,,M$52)),0)","v":0},{"$f":"IFERROR(SUMPRODUCT(--(INDEX(Model_Inputs_Ref_Units,,N$51)=$E56),INDEX(Model_Inputs_Ref_Units,,N$52)),0)","v":0},{"$f":"IFERROR(SUMPRODUCT(--(INDEX(Model_Inputs_Ref_Units,,O$51)=$E56),INDEX(Model_Inputs_Ref_Units,,O$52)),0)","v":0},{"$f":"IFERROR(SUMPRODUCT(--(INDEX(Model_Inputs_Ref_Units,,P$51)=$E56),INDEX(Model_Inputs_Ref_Units,,P$52)),0)","v":0},{"$f":"IFERROR(SUMPRODUCT(--(INDEX(Model_Inputs_Ref_Units,,Q$51)=$E56),INDEX(Model_Inputs_Ref_Units,,Q$52)),0)","v":0},{"$f":"IFERROR(SUMPRODUCT(--(INDEX(Model_Inputs_Ref_Units,,R$51)=$E56),INDEX(Model_Inputs_Ref_Units,,R$52)),0)","v":0},{"$f":"IFERROR(SUMPRODUCT(--(INDEX(Model_Inputs_Ref_Units,,S$51)=$E56),INDEX(Model_Inputs_Ref_Units,,S$52)),0)","v":0},{"$f":"IFERROR(SUMPRODUCT(--(INDEX(Model_Inputs_Ref_Units,,T$51)=$E56),INDEX(Model_Inputs_Ref_Units,,T$52)),0)","v":0},{"$f":"IFERROR(SUMPRODUCT(--(INDEX(Model_Inputs_Ref_Units,,U$51)=$E56),INDEX(Model_Inputs_Ref_Units,,U$52)),0)","v":0},{"$f":"IFERROR(SUMPRODUCT(--(INDEX(Model_Inputs_Ref_Units,,V$51)=$E56),INDEX(Model_Inputs_Ref_Units,,V$52)),0)","v":0},{"$f":"IFERROR(SUMPRODUCT(--(INDEX(Model_Inputs_Ref_Units,,W$51)=$E56),INDEX(Model_Inputs_Ref_Units,,W$52)),0)","v":0},{"$f":"IFERROR(SUMPRODUCT(--(INDEX(Model_Inputs_Ref_Units,,X$51)=$E56),INDEX(Model_Inputs_Ref_Units,,X$52)),0)","v":0},{"$f":"IFERROR(SUMPRODUCT(--(INDEX(Model_Inputs_Ref_Units,,Y$51)=$E56),INDEX(Model_Inputs_Ref_Units,,Y$52)),0)","v":0},{"$f":"IFERROR(SUMPRODUCT(--(INDEX(Model_Inputs_Ref_Units,,Z$51)=$E56),INDEX(Model_Inputs_Ref_Units,,Z$52)),0)","v":0},{"$f":"IFERROR(SUMPRODUCT(--(INDEX(Model_Inputs_Ref_Units,,AA$51)=$E56),INDEX(Model_Inputs_Ref_Units,,AA$52)),0)","v":0},{"$f":"IFERROR(SUMPRODUCT(--(INDEX(Model_Inputs_Ref_Units,,AB$51)=$E56),INDEX(Model_Inputs_Ref_Units,,AB$52)),0)","v":0},{"$f":"IFERROR(SUMPRODUCT(--(INDEX(Model_Inputs_Ref_Units,,AC$51)=$E56),INDEX(Model_Inputs_Ref_Units,,AC$52)),0)","v":0},{"$f":"IFERROR(SUMPRODUCT(--(INDEX(Model_Inputs_Ref_Units,,AD$51)=$E56),INDEX(Model_Inputs_Ref_Units,,AD$52)),0)","v":0},{"$f":"IFERROR(SUMPRODUCT(--(INDEX(Model_Inputs_Ref_Units,,AE$51)=$E56),INDEX(Model_Inputs_Ref_Units,,AE$52)),0)","v":0},{"$f":"IFERROR(SUMPRODUCT(--(INDEX(Model_Inputs_Ref_Units,,AF$51)=$E56),INDEX(Model_Inputs_Ref_Units,,AF$52)),0)","v":0},{"$f":"IFERROR(SUMPRODUCT(--(INDEX(Model_Inputs_Ref_Units,,AG$51)=$E56),INDEX(Model_Inputs_Ref_Units,,AG$52)),0)","v":0},{"$f":"IFERROR(SUMPRODUCT(--(INDEX(Model_Inputs_Ref_Units,,AH$51)=$E56),INDEX(Model_Inputs_Ref_Units,,AH$52)),0)","v":0},{"$f":"IFERROR(SUMPRODUCT(--(INDEX(Model_Inputs_Ref_Units,,AI$51)=$E56),INDEX(Model_Inputs_Ref_Units,,AI$52)),0)","v":0},{"$f":"IFERROR(SUMPRODUCT(--(INDEX(Model_Inputs_Ref_Units,,AJ$51)=$E56),INDEX(Model_Inputs_Ref_Units,,AJ$52)),0)","v":0},{"$f":"IFERROR(SUMPRODUCT(--(INDEX(Model_Inputs_Ref_Units,,AK$51)=$E56),INDEX(Model_Inputs_Ref_Units,,AK$52)),0)","v":0},{"$f":"IFERROR(SUMPRODUCT(--(INDEX(Model_Inputs_Ref_Units,,AL$51)=$E56),INDEX(Model_Inputs_Ref_Units,,AL$52)),0)","v":0},{"$f":"IFERROR(SUMPRODUCT(--(INDEX(Model_Inputs_Ref_Units,,AM$51)=$E56),INDEX(Model_Inputs_Ref_Units,,AM$52)),0)","v":0},{"$f":"IFERROR(SUMPRODUCT(--(INDEX(Model_Inputs_Ref_Units,,AN$51)=$E56),INDEX(Model_Inputs_Ref_Units,,AN$52)),0)","v":0},{"$f":"IFERROR(SUMPRODUCT(--(INDEX(Model_Inputs_Ref_Units,,AO$51)=$E56),INDEX(Model_Inputs_Ref_Units,,AO$52)),0)","v":0},{"$f":"IFERROR(SUMPRODUCT(--(INDEX(Model_Inputs_Ref_Units,,AP$51)=$E56),INDEX(Model_Inputs_Ref_Units,,AP$52)),0)","v":0},{"$f":"IFERROR(SUMPRODUCT(--(INDEX(Model_Inputs_Ref_Units,,AQ$51)=$E56),INDEX(Model_Inputs_Ref_Units,,AQ$52)),0)","v":0},{"$f":"IFERROR(SUMPRODUCT(--(INDEX(Model_Inputs_Ref_Units,,AR$51)=$E56),INDEX(Model_Inputs_Ref_Units,,AR$52)),0)","v":0},{"$f":"IFERROR(SUMPRODUCT(--(INDEX(Model_Inputs_Ref_Units,,AS$51)=$E56),INDEX(Model_Inputs_Ref_Units,,AS$52)),0)","v":0},{"$f":"IFERROR(SUMPRODUCT(--(INDEX(Model_Inputs_Ref_Units,,AT$51)=$E56),INDEX(Model_Inputs_Ref_Units,,AT$52)),0)","v":0},{"$f":"IFERROR(SUMPRODUCT(--(INDEX(Model_Inputs_Ref_Units,,AU$51)=$E56),INDEX(Model_Inputs_Ref_Units,,AU$52)),0)","v":0},{"$f":"IFERROR(SUMPRODUCT(--(INDEX(Model_Inputs_Ref_Units,,AV$51)=$E56),INDEX(Model_Inputs_Ref_Units,,AV$52)),0)","v":0},{"$f":"IFERROR(SUMPRODUCT(--(INDEX(Model_Inputs_Ref_Units,,AW$51)=$E56),INDEX(Model_Inputs_Ref_Units,,AW$52)),0)","v":0},{"$f":"IFERROR(SUMPRODUCT(--(INDEX(Model_Inputs_Ref_Units,,AX$51)=$E56),INDEX(Model_Inputs_Ref_Units,,AX$52)),0)","v":0},{"$f":"IFERROR(SUMPRODUCT(--(INDEX(Model_Inputs_Ref_Units,,AY$51)=$E56),INDEX(Model_Inputs_Ref_Units,,AY$52)),0)","v":0},{"$f":"IFERROR(SUMPRODUCT(--(INDEX(Model_Inputs_Ref_Units,,AZ$51)=$E56),INDEX(Model_Inputs_Ref_Units,,AZ$52)),0)","v":0},{"$f":"IFERROR(SUMPRODUCT(--(INDEX(Model_Inputs_Ref_Units,,BA$51)=$E56),INDEX(Model_Inputs_Ref_Units,,BA$52)),0)","v":0},{"$f":"IFERROR(SUMPRODUCT(--(INDEX(Model_Inputs_Ref_Units,,BB$51)=$E56),INDEX(Model_Inputs_Ref_Units,,BB$52)),0)","v":0},{"$f":"IFERROR(SUMPRODUCT(--(INDEX(Model_Inputs_Ref_Units,,BC$51)=$E56),INDEX(Model_Inputs_Ref_Units,,BC$52)),0)","v":0},{"$f":"IFERROR(SUMPRODUCT(--(INDEX(Model_Inputs_Ref_Units,,BD$51)=$E56),INDEX(Model_Inputs_Ref_Units,,BD$52)),0)","v":0},{"$f":"IFERROR(SUMPRODUCT(--(INDEX(Model_Inputs_Ref_Units,,BE$51)=$E56),INDEX(Model_Inputs_Ref_Units,,BE$52)),0)","v":0},{"$f":"IFERROR(SUMPRODUCT(--(INDEX(Model_Inputs_Ref_Units,,BF$51)=$E56),INDEX(Model_Inputs_Ref_Units,,BF$52)),0)","v":0},{"$f":"IFERROR(SUMPRODUCT(--(INDEX(Model_Inputs_Ref_Units,,BG$51)=$E56),INDEX(Model_Inputs_Ref_Units,,BG$52)),0)","v":0},{"$f":"IFERROR(SUMPRODUCT(--(INDEX(Model_Inputs_Ref_Units,,BH$51)=$E56),INDEX(Model_Inputs_Ref_Units,,BH$52)),0)","v":0},{"$f":"IFERROR(SUMPRODUCT(--(INDEX(Model_Inputs_Ref_Units,,BI$51)=$E56),INDEX(Model_Inputs_Ref_Units,,BI$52)),0)","v":0},{"$f":"IFERROR(SUMPRODUCT(--(INDEX(Model_Inputs_Ref_Units,,BJ$51)=$E56),INDEX(Model_Inputs_Ref_Units,,BJ$52)),0)","v":0},{"$f":"IFERROR(SUMPRODUCT(--(INDEX(Model_Inputs_Ref_Units,,BK$51)=$E56),INDEX(Model_Inputs_Ref_Units,,BK$52)),0)","v":0},{"$f":"IFERROR(SUMPRODUCT(--(INDEX(Model_Inputs_Ref_Units,,BL$51)=$E56),INDEX(Model_Inputs_Ref_Units,,BL$52)),0)","v":0},{"$f":"IFERROR(SUMPRODUCT(--(INDEX(Model_Inputs_Ref_Units,,BM$51)=$E56),INDEX(Model_Inputs_Ref_Units,,BM$52)),0)","v":0},{"$f":"IFERROR(SUMPRODUCT(--(INDEX(Model_Inputs_Ref_Units,,BN$51)=$E56),INDEX(Model_Inputs_Ref_Units,,BN$52)),0)","v":0},{"$f":"IFERROR(SUMPRODUCT(--(INDEX(Model_Inputs_Ref_Units,,BO$51)=$E56),INDEX(Model_Inputs_Ref_Units,,BO$52)),0)","v":0},{"$f":"IFERROR(SUMPRODUCT(--(INDEX(Model_Inputs_Ref_Units,,BP$51)=$E56),INDEX(Model_Inputs_Ref_Units,,BP$52)),0)","v":0},{"$f":"IFERROR(SUMPRODUCT(--(INDEX(Model_Inputs_Ref_Units,,BQ$51)=$E56),INDEX(Model_Inputs_Ref_Units,,BQ$52)),0)","v":0},{"$f":"IFERROR(SUMPRODUCT(--(INDEX(Model_Inputs_Ref_Units,,BR$51)=$E56),INDEX(Model_Inputs_Ref_Units,,BR$52)),0)","v":0},{"$f":"IFERROR(SUMPRODUCT(--(INDEX(Model_Inputs_Ref_Units,,BS$51)=$E56),INDEX(Model_Inputs_Ref_Units,,BS$52)),0)","v":0},{"$f":"IFERROR(SUMPRODUCT(--(INDEX(Model_Inputs_Ref_Units,,BT$51)=$E56),INDEX(Model_Inputs_Ref_Units,,BT$52)),0)","v":0},{"$f":"IFERROR(SUMPRODUCT(--(INDEX(Model_Inputs_Ref_Units,,BU$51)=$E56),INDEX(Model_Inputs_Ref_Units,,BU$52)),0)","v":0},{"$f":"IFERROR(SUMPRODUCT(--(INDEX(Model_Inputs_Ref_Units,,BV$51)=$E56),INDEX(Model_Inputs_Ref_Units,,BV$52)),0)","v":0},{"$f":"IFERROR(SUMPRODUCT(--(INDEX(Model_Inputs_Ref_Units,,BW$51)=$E56),INDEX(Model_Inputs_Ref_Units,,BW$52)),0)","v":0},{"$f":"IFERROR(SUMPRODUCT(--(INDEX(Model_Inputs_Ref_Units,,BX$51)=$E56),INDEX(Model_Inputs_Ref_Units,,BX$52)),0)","v":0},{"$f":"IFERROR(SUMPRODUCT(--(INDEX(Model_Inputs_Ref_Units,,BY$51)=$E56),INDEX(Model_Inputs_Ref_Units,,BY$52)),0)","v":0},{"$f":"IFERROR(SUMPRODUCT(--(INDEX(Model_Inputs_Ref_Units,,BZ$51)=$E56),INDEX(Model_Inputs_Ref_Units,,BZ$52)),0)","v":0},{"$f":"IFERROR(SUMPRODUCT(--(INDEX(Model_Inputs_Ref_Units,,CA$51)=$E56),INDEX(Model_Inputs_Ref_Units,,CA$52)),0)","v":0},{"$f":"IFERROR(SUMPRODUCT(--(INDEX(Model_Inputs_Ref_Units,,CB$51)=$E56),INDEX(Model_Inputs_Ref_Units,,CB$52)),0)","v":0},{"$f":"IFERROR(SUMPRODUCT(--(INDEX(Model_Inputs_Ref_Units,,CC$51)=$E56),INDEX(Model_Inputs_Ref_Units,,CC$52)),0)","v":0},{"$f":"IFERROR(SUMPRODUCT(--(INDEX(Model_Inputs_Ref_Units,,CD$51)=$E56),INDEX(Model_Inputs_Ref_Units,,CD$52)),0)","v":0},{"$f":"IFERROR(SUMPRODUCT(--(INDEX(Model_Inputs_Ref_Units,,CE$51)=$E56),INDEX(Model_Inputs_Ref_Units,,CE$52)),0)","v":0},{"$f":"IFERROR(SUMPRODUCT(--(INDEX(Model_Inputs_Ref_Units,,CF$51)=$E56),INDEX(Model_Inputs_Ref_Units,,CF$52)),0)","v":0},{"$f":"IFERROR(SUMPRODUCT(--(INDEX(Model_Inputs_Ref_Units,,CG$51)=$E56),INDEX(Model_Inputs_Ref_Units,,CG$52)),0)","v":0},{"$f":"IFERROR(SUMPRODUCT(--(INDEX(Model_Inputs_Ref_Units,,CH$51)=$E56),INDEX(Model_Inputs_Ref_Units,,CH$52)),0)","v":0},{"$f":"IFERROR(SUMPRODUCT(--(INDEX(Model_Inputs_Ref_Units,,CI$51)=$E56),INDEX(Model_Inputs_Ref_Units,,CI$52)),0)","v":0},{"$f":"IFERROR(SUMPRODUCT(--(INDEX(Model_Inputs_Ref_Units,,CJ$51)=$E56),INDEX(Model_Inputs_Ref_Units,,CJ$52)),0)","v":0},{"$f":"IFERROR(SUMPRODUCT(--(INDEX(Model_Inputs_Ref_Units,,CK$51)=$E56),INDEX(Model_Inputs_Ref_Units,,CK$52)),0)","v":0},{"$f":"IFERROR(SUMPRODUCT(--(INDEX(Model_Inputs_Ref_Units,,CL$51)=$E56),INDEX(Model_Inputs_Ref_Units,,CL$52)),0)","v":0},{"$f":"IFERROR(SUMPRODUCT(--(INDEX(Model_Inputs_Ref_Units,,CM$51)=$E56),INDEX(Model_Inputs_Ref_Units,,CM$52)),0)","v":0},{"$f":"IFERROR(SUMPRODUCT(--(INDEX(Model_Inputs_Ref_Units,,CN$51)=$E56),INDEX(Model_Inputs_Ref_Units,,CN$52)),0)","v":0},{"$f":"IFERROR(SUMPRODUCT(--(INDEX(Model_Inputs_Ref_Units,,CO$51)=$E56),INDEX(Model_Inputs_Ref_Units,,CO$52)),0)","v":0},{"$f":"IFERROR(SUMPRODUCT(--(INDEX(Model_Inputs_Ref_Units,,CP$51)=$E56),INDEX(Model_Inputs_Ref_Units,,CP$52)),0)","v":0},{"$f":"IFERROR(SUMPRODUCT(--(INDEX(Model_Inputs_Ref_Units,,CQ$51)=$E56),INDEX(Model_Inputs_Ref_Units,,CQ$52)),0)","v":0},{"$f":"IFERROR(SUMPRODUCT(--(INDEX(Model_Inputs_Ref_Units,,CR$51)=$E56),INDEX(Model_Inputs_Ref_Units,,CR$52)),0)","v":0},{"$f":"IFERROR(SUMPRODUCT(--(INDEX(Model_Inputs_Ref_Units,,CS$51)=$E56),INDEX(Model_Inputs_Ref_Units,,CS$52)),0)","v":0},{"$f":"IFERROR(SUMPRODUCT(--(INDEX(Model_Inputs_Ref_Units,,CT$51)=$E56),INDEX(Model_Inputs_Ref_Units,,CT$52)),0)","v":0},{"$f":"IFERROR(SUMPRODUCT(--(INDEX(Model_Inputs_Ref_Units,,CU$51)=$E56),INDEX(Model_Inputs_Ref_Units,,CU$52)),0)","v":0},{"$f":"IFERROR(SUMPRODUCT(--(INDEX(Model_Inputs_Ref_Units,,CV$51)=$E56),INDEX(Model_Inputs_Ref_Units,,CV$52)),0)","v":0},{"$f":"IFERROR(SUMPRODUCT(--(INDEX(Model_Inputs_Ref_Units,,CW$51)=$E56),INDEX(Model_Inputs_Ref_Units,,CW$52)),0)","v":0},{"$f":"IFERROR(SUMPRODUCT(--(INDEX(Model_Inputs_Ref_Units,,CX$51)=$E56),INDEX(Model_Inputs_Ref_Units,,CX$52)),0)","v":0},{"$f":"IFERROR(SUMPRODUCT(--(INDEX(Model_Inputs_Ref_Units,,CY$51)=$E56),INDEX(Model_Inputs_Ref_Units,,CY$52)),0)","v":0},{"$f":"IFERROR(SUMPRODUCT(--(INDEX(Model_Inputs_Ref_Units,,CZ$51)=$E56),INDEX(Model_Inputs_Ref_Units,,CZ$52)),0)","v":0},{"$f":"IFERROR(SUMPRODUCT(--(INDEX(Model_Inputs_Ref_Units,,DA$51)=$E56),INDEX(Model_Inputs_Ref_Units,,DA$52)),0)","v":0},{"$f":"IFERROR(SUMPRODUCT(--(INDEX(Model_Inputs_Ref_Units,,DB$51)=$E56),INDEX(Model_Inputs_Ref_Units,,DB$52)),0)","v":0},{"$f":"IFERROR(SUMPRODUCT(--(INDEX(Model_Inputs_Ref_Units,,DC$51)=$E56),INDEX(Model_Inputs_Ref_Units,,DC$52)),0)","v":0},{"$f":"IFERROR(SUMPRODUCT(--(INDEX(Model_Inputs_Ref_Units,,DD$51)=$E56),INDEX(Model_Inputs_Ref_Units,,DD$52)),0)","v":0},{"$f":"IFERROR(SUMPRODUCT(--(INDEX(Model_Inputs_Ref_Units,,DE$51)=$E56),INDEX(Model_Inputs_Ref_Units,,DE$52)),0)","v":0},{"$f":"IFERROR(SUMPRODUCT(--(INDEX(Model_Inputs_Ref_Units,,DF$51)=$E56),INDEX(Model_Inputs_Ref_Units,,DF$52)),0)","v":0}]
[null,null,{"$error":"#DIV/0!"},null,{"$f":"IFERROR(INDEX(Ref_Data,1,F57),\"\")","v":0},4,0,0,0,0,{"$f":"IFERROR(SUMPRODUCT(--(INDEX(Model_Inputs_Ref_Units,,K$51)=$E57),INDEX(Model_Inputs_Ref_Units,,K$52)),0)","v":0},{"$f":"IFERROR(SUMPRODUCT(--(INDEX(Model_Inputs_Ref_Units,,L$51)=$E57),INDEX(Model_Inputs_Ref_Units,,L$52)),0)","v":0},{"$f":"IFERROR(SUMPRODUCT(--(INDEX(Model_Inputs_Ref_Units,,M$51)=$E57),INDEX(Model_Inputs_Ref_Units,,M$52)),0)","v":0},{"$f":"IFERROR(SUMPRODUCT(--(INDEX(Model_Inputs_Ref_Units,,N$51)=$E57),INDEX(Model_Inputs_Ref_Units,,N$52)),0)","v":0},{"$f":"IFERROR(SUMPRODUCT(--(INDEX(Model_Inputs_Ref_Units,,O$51)=$E57),INDEX(Model_Inputs_Ref_Units,,O$52)),0)","v":0},{"$f":"IFERROR(SUMPRODUCT(--(INDEX(Model_Inputs_Ref_Units,,P$51)=$E57),INDEX(Model_Inputs_Ref_Units,,P$52)),0)","v":0},{"$f":"IFERROR(SUMPRODUCT(--(INDEX(Model_Inputs_Ref_Units,,Q$51)=$E57),INDEX(Model_Inputs_Ref_Units,,Q$52)),0)","v":0},{"$f":"IFERROR(SUMPRODUCT(--(INDEX(Model_Inputs_Ref_Units,,R$51)=$E57),INDEX(Model_Inputs_Ref_Units,,R$52)),0)","v":0},{"$f":"IFERROR(SUMPRODUCT(--(INDEX(Model_Inputs_Ref_Units,,S$51)=$E57),INDEX(Model_Inputs_Ref_Units,,S$52)),0)","v":0},{"$f":"IFERROR(SUMPRODUCT(--(INDEX(Model_Inputs_Ref_Units,,T$51)=$E57),INDEX(Model_Inputs_Ref_Units,,T$52)),0)","v":0},{"$f":"IFERROR(SUMPRODUCT(--(INDEX(Model_Inputs_Ref_Units,,U$51)=$E57),INDEX(Model_Inputs_Ref_Units,,U$52)),0)","v":0},{"$f":"IFERROR(SUMPRODUCT(--(INDEX(Model_Inputs_Ref_Units,,V$51)=$E57),INDEX(Model_Inputs_Ref_Units,,V$52)),0)","v":0},{"$f":"IFERROR(SUMPRODUCT(--(INDEX(Model_Inputs_Ref_Units,,W$51)=$E57),INDEX(Model_Inputs_Ref_Units,,W$52)),0)","v":0},{"$f":"IFERROR(SUMPRODUCT(--(INDEX(Model_Inputs_Ref_Units,,X$51)=$E57),INDEX(Model_Inputs_Ref_Units,,X$52)),0)","v":0},{"$f":"IFERROR(SUMPRODUCT(--(INDEX(Model_Inputs_Ref_Units,,Y$51)=$E57),INDEX(Model_Inputs_Ref_Units,,Y$52)),0)","v":0},{"$f":"IFERROR(SUMPRODUCT(--(INDEX(Model_Inputs_Ref_Units,,Z$51)=$E57),INDEX(Model_Inputs_Ref_Units,,Z$52)),0)","v":0},{"$f":"IFERROR(SUMPRODUCT(--(INDEX(Model_Inputs_Ref_Units,,AA$51)=$E57),INDEX(Model_Inputs_Ref_Units,,AA$52)),0)","v":0},{"$f":"IFERROR(SUMPRODUCT(--(INDEX(Model_Inputs_Ref_Units,,AB$51)=$E57),INDEX(Model_Inputs_Ref_Units,,AB$52)),0)","v":0},{"$f":"IFERROR(SUMPRODUCT(--(INDEX(Model_Inputs_Ref_Units,,AC$51)=$E57),INDEX(Model_Inputs_Ref_Units,,AC$52)),0)","v":0},{"$f":"IFERROR(SUMPRODUCT(--(INDEX(Model_Inputs_Ref_Units,,AD$51)=$E57),INDEX(Model_Inputs_Ref_Units,,AD$52)),0)","v":0},{"$f":"IFERROR(SUMPRODUCT(--(INDEX(Model_Inputs_Ref_Units,,AE$51)=$E57),INDEX(Model_Inputs_Ref_Units,,AE$52)),0)","v":0},{"$f":"IFERROR(SUMPRODUCT(--(INDEX(Model_Inputs_Ref_Units,,AF$51)=$E57),INDEX(Model_Inputs_Ref_Units,,AF$52)),0)","v":0},{"$f":"IFERROR(SUMPRODUCT(--(INDEX(Model_Inputs_Ref_Units,,AG$51)=$E57),INDEX(Model_Inputs_Ref_Units,,AG$52)),0)","v":0},{"$f":"IFERROR(SUMPRODUCT(--(INDEX(Model_Inputs_Ref_Units,,AH$51)=$E57),INDEX(Model_Inputs_Ref_Units,,AH$52)),0)","v":0},{"$f":"IFERROR(SUMPRODUCT(--(INDEX(Model_Inputs_Ref_Units,,AI$51)=$E57),INDEX(Model_Inputs_Ref_Units,,AI$52)),0)","v":0},{"$f":"IFERROR(SUMPRODUCT(--(INDEX(Model_Inputs_Ref_Units,,AJ$51)=$E57),INDEX(Model_Inputs_Ref_Units,,AJ$52)),0)","v":0},{"$f":"IFERROR(SUMPRODUCT(--(INDEX(Model_Inputs_Ref_Units,,AK$51)=$E57),INDEX(Model_Inputs_Ref_Units,,AK$52)),0)","v":0},{"$f":"IFERROR(SUMPRODUCT(--(INDEX(Model_Inputs_Ref_Units,,AL$51)=$E57),INDEX(Model_Inputs_Ref_Units,,AL$52)),0)","v":0},{"$f":"IFERROR(SUMPRODUCT(--(INDEX(Model_Inputs_Ref_Units,,AM$51)=$E57),INDEX(Model_Inputs_Ref_Units,,AM$52)),0)","v":0},{"$f":"IFERROR(SUMPRODUCT(--(INDEX(Model_Inputs_Ref_Units,,AN$51)=$E57),INDEX(Model_Inputs_Ref_Units,,AN$52)),0)","v":0},{"$f":"IFERROR(SUMPRODUCT(--(INDEX(Model_Inputs_Ref_Units,,AO$51)=$E57),INDEX(Model_Inputs_Ref_Units,,AO$52)),0)","v":0},{"$f":"IFERROR(SUMPRODUCT(--(INDEX(Model_Inputs_Ref_Units,,AP$51)=$E57),INDEX(Model_Inputs_Ref_Units,,AP$52)),0)","v":0},{"$f":"IFERROR(SUMPRODUCT(--(INDEX(Model_Inputs_Ref_Units,,AQ$51)=$E57),INDEX(Model_Inputs_Ref_Units,,AQ$52)),0)","v":0},{"$f":"IFERROR(SUMPRODUCT(--(INDEX(Model_Inputs_Ref_Units,,AR$51)=$E57),INDEX(Model_Inputs_Ref_Units,,AR$52)),0)","v":0},{"$f":"IFERROR(SUMPRODUCT(--(INDEX(Model_Inputs_Ref_Units,,AS$51)=$E57),INDEX(Model_Inputs_Ref_Units,,AS$52)),0)","v":0},{"$f":"IFERROR(SUMPRODUCT(--(INDEX(Model_Inputs_Ref_Units,,AT$51)=$E57),INDEX(Model_Inputs_Ref_Units,,AT$52)),0)","v":0},{"$f":"IFERROR(SUMPRODUCT(--(INDEX(Model_Inputs_Ref_Units,,AU$51)=$E57),INDEX(Model_Inputs_Ref_Units,,AU$52)),0)","v":0},{"$f":"IFERROR(SUMPRODUCT(--(INDEX(Model_Inputs_Ref_Units,,AV$51)=$E57),INDEX(Model_Inputs_Ref_Units,,AV$52)),0)","v":0},{"$f":"IFERROR(SUMPRODUCT(--(INDEX(Model_Inputs_Ref_Units,,AW$51)=$E57),INDEX(Model_Inputs_Ref_Units,,AW$52)),0)","v":0},{"$f":"IFERROR(SUMPRODUCT(--(INDEX(Model_Inputs_Ref_Units,,AX$51)=$E57),INDEX(Model_Inputs_Ref_Units,,AX$52)),0)","v":0},{"$f":"IFERROR(SUMPRODUCT(--(INDEX(Model_Inputs_Ref_Units,,AY$51)=$E57),INDEX(Model_Inputs_Ref_Units,,AY$52)),0)","v":0},{"$f":"IFERROR(SUMPRODUCT(--(INDEX(Model_Inputs_Ref_Units,,AZ$51)=$E57),INDEX(Model_Inputs_Ref_Units,,AZ$52)),0)","v":0},{"$f":"IFERROR(SUMPRODUCT(--(INDEX(Model_Inputs_Ref_Units,,BA$51)=$E57),INDEX(Model_Inputs_Ref_Units,,BA$52)),0)","v":0},{"$f":"IFERROR(SUMPRODUCT(--(INDEX(Model_Inputs_Ref_Units,,BB$51)=$E57),INDEX(Model_Inputs_Ref_Units,,BB$52)),0)","v":0},{"$f":"IFERROR(SUMPRODUCT(--(INDEX(Model_Inputs_Ref_Units,,BC$51)=$E57),INDEX(Model_Inputs_Ref_Units,,BC$52)),0)","v":0},{"$f":"IFERROR(SUMPRODUCT(--(INDEX(Model_Inputs_Ref_Units,,BD$51)=$E57),INDEX(Model_Inputs_Ref_Units,,BD$52)),0)","v":0},{"$f":"IFERROR(SUMPRODUCT(--(INDEX(Model_Inputs_Ref_Units,,BE$51)=$E57),INDEX(Model_Inputs_Ref_Units,,BE$52)),0)","v":0},{"$f":"IFERROR(SUMPRODUCT(--(INDEX(Model_Inputs_Ref_Units,,BF$51)=$E57),INDEX(Model_Inputs_Ref_Units,,BF$52)),0)","v":0},{"$f":"IFERROR(SUMPRODUCT(--(INDEX(Model_Inputs_Ref_Units,,BG$51)=$E57),INDEX(Model_Inputs_Ref_Units,,BG$52)),0)","v":0},{"$f":"IFERROR(SUMPRODUCT(--(INDEX(Model_Inputs_Ref_Units,,BH$51)=$E57),INDEX(Model_Inputs_Ref_Units,,BH$52)),0)","v":0},{"$f":"IFERROR(SUMPRODUCT(--(INDEX(Model_Inputs_Ref_Units,,BI$51)=$E57),INDEX(Model_Inputs_Ref_Units,,BI$52)),0)","v":0},{"$f":"IFERROR(SUMPRODUCT(--(INDEX(Model_Inputs_Ref_Units,,BJ$51)=$E57),INDEX(Model_Inputs_Ref_Units,,BJ$52)),0)","v":0},{"$f":"IFERROR(SUMPRODUCT(--(INDEX(Model_Inputs_Ref_Units,,BK$51)=$E57),INDEX(Model_Inputs_Ref_Units,,BK$52)),0)","v":0},{"$f":"IFERROR(SUMPRODUCT(--(INDEX(Model_Inputs_Ref_Units,,BL$51)=$E57),INDEX(Model_Inputs_Ref_Units,,BL$52)),0)","v":0},{"$f":"IFERROR(SUMPRODUCT(--(INDEX(Model_Inputs_Ref_Units,,BM$51)=$E57),INDEX(Model_Inputs_Ref_Units,,BM$52)),0)","v":0},{"$f":"IFERROR(SUMPRODUCT(--(INDEX(Model_Inputs_Ref_Units,,BN$51)=$E57),INDEX(Model_Inputs_Ref_Units,,BN$52)),0)","v":0},{"$f":"IFERROR(SUMPRODUCT(--(INDEX(Model_Inputs_Ref_Units,,BO$51)=$E57),INDEX(Model_Inputs_Ref_Units,,BO$52)),0)","v":0},{"$f":"IFERROR(SUMPRODUCT(--(INDEX(Model_Inputs_Ref_Units,,BP$51)=$E57),INDEX(Model_Inputs_Ref_Units,,BP$52)),0)","v":0},{"$f":"IFERROR(SUMPRODUCT(--(INDEX(Model_Inputs_Ref_Units,,BQ$51)=$E57),INDEX(Model_Inputs_Ref_Units,,BQ$52)),0)","v":0},{"$f":"IFERROR(SUMPRODUCT(--(INDEX(Model_Inputs_Ref_Units,,BR$51)=$E57),INDEX(Model_Inputs_Ref_Units,,BR$52)),0)","v":0},{"$f":"IFERROR(SUMPRODUCT(--(INDEX(Model_Inputs_Ref_Units,,BS$51)=$E57),INDEX(Model_Inputs_Ref_Units,,BS$52)),0)","v":0},{"$f":"IFERROR(SUMPRODUCT(--(INDEX(Model_Inputs_Ref_Units,,BT$51)=$E57),INDEX(Model_Inputs_Ref_Units,,BT$52)),0)","v":0},{"$f":"IFERROR(SUMPRODUCT(--(INDEX(Model_Inputs_Ref_Units,,BU$51)=$E57),INDEX(Model_Inputs_Ref_Units,,BU$52)),0)","v":0},{"$f":"IFERROR(SUMPRODUCT(--(INDEX(Model_Inputs_Ref_Units,,BV$51)=$E57),INDEX(Model_Inputs_Ref_Units,,BV$52)),0)","v":0},{"$f":"IFERROR(SUMPRODUCT(--(INDEX(Model_Inputs_Ref_Units,,BW$51)=$E57),INDEX(Model_Inputs_Ref_Units,,BW$52)),0)","v":0},{"$f":"IFERROR(SUMPRODUCT(--(INDEX(Model_Inputs_Ref_Units,,BX$51)=$E57),INDEX(Model_Inputs_Ref_Units,,BX$52)),0)","v":0},{"$f":"IFERROR(SUMPRODUCT(--(INDEX(Model_Inputs_Ref_Units,,BY$51)=$E57),INDEX(Model_Inputs_Ref_Units,,BY$52)),0)","v":0},{"$f":"IFERROR(SUMPRODUCT(--(INDEX(Model_Inputs_Ref_Units,,BZ$51)=$E57),INDEX(Model_Inputs_Ref_Units,,BZ$52)),0)","v":0},{"$f":"IFERROR(SUMPRODUCT(--(INDEX(Model_Inputs_Ref_Units,,CA$51)=$E57),INDEX(Model_Inputs_Ref_Units,,CA$52)),0)","v":0},{"$f":"IFERROR(SUMPRODUCT(--(INDEX(Model_Inputs_Ref_Units,,CB$51)=$E57),INDEX(Model_Inputs_Ref_Units,,CB$52)),0)","v":0},{"$f":"IFERROR(SUMPRODUCT(--(INDEX(Model_Inputs_Ref_Units,,CC$51)=$E57),INDEX(Model_Inputs_Ref_Units,,CC$52)),0)","v":0},{"$f":"IFERROR(SUMPRODUCT(--(INDEX(Model_Inputs_Ref_Units,,CD$51)=$E57),INDEX(Model_Inputs_Ref_Units,,CD$52)),0)","v":0},{"$f":"IFERROR(SUMPRODUCT(--(INDEX(Model_Inputs_Ref_Units,,CE$51)=$E57),INDEX(Model_Inputs_Ref_Units,,CE$52)),0)","v":0},{"$f":"IFERROR(SUMPRODUCT(--(INDEX(Model_Inputs_Ref_Units,,CF$51)=$E57),INDEX(Model_Inputs_Ref_Units,,CF$52)),0)","v":0},{"$f":"IFERROR(SUMPRODUCT(--(INDEX(Model_Inputs_Ref_Units,,CG$51)=$E57),INDEX(Model_Inputs_Ref_Units,,CG$52)),0)","v":0},{"$f":"IFERROR(SUMPRODUCT(--(INDEX(Model_Inputs_Ref_Units,,CH$51)=$E57),INDEX(Model_Inputs_Ref_Units,,CH$52)),0)","v":0},{"$f":"IFERROR(SUMPRODUCT(--(INDEX(Model_Inputs_Ref_Units,,CI$51)=$E57),INDEX(Model_Inputs_Ref_Units,,CI$52)),0)","v":0},{"$f":"IFERROR(SUMPRODUCT(--(INDEX(Model_Inputs_Ref_Units,,CJ$51)=$E57),INDEX(Model_Inputs_Ref_Units,,CJ$52)),0)","v":0},{"$f":"IFERROR(SUMPRODUCT(--(INDEX(Model_Inputs_Ref_Units,,CK$51)=$E57),INDEX(Model_Inputs_Ref_Units,,CK$52)),0)","v":0},{"$f":"IFERROR(SUMPRODUCT(--(INDEX(Model_Inputs_Ref_Units,,CL$51)=$E57),INDEX(Model_Inputs_Ref_Units,,CL$52)),0)","v":0},{"$f":"IFERROR(SUMPRODUCT(--(INDEX(Model_Inputs_Ref_Units,,CM$51)=$E57),INDEX(Model_Inputs_Ref_Units,,CM$52)),0)","v":0},{"$f":"IFERROR(SUMPRODUCT(--(INDEX(Model_Inputs_Ref_Units,,CN$51)=$E57),INDEX(Model_Inputs_Ref_Units,,CN$52)),0)","v":0},{"$f":"IFERROR(SUMPRODUCT(--(INDEX(Model_Inputs_Ref_Units,,CO$51)=$E57),INDEX(Model_Inputs_Ref_Units,,CO$52)),0)","v":0},{"$f":"IFERROR(SUMPRODUCT(--(INDEX(Model_Inputs_Ref_Units,,CP$51)=$E57),INDEX(Model_Inputs_Ref_Units,,CP$52)),0)","v":0},{"$f":"IFERROR(SUMPRODUCT(--(INDEX(Model_Inputs_Ref_Units,,CQ$51)=$E57),INDEX(Model_Inputs_Ref_Units,,CQ$52)),0)","v":0},{"$f":"IFERROR(SUMPRODUCT(--(INDEX(Model_Inputs_Ref_Units,,CR$51)=$E57),INDEX(Model_Inputs_Ref_Units,,CR$52)),0)","v":0},{"$f":"IFERROR(SUMPRODUCT(--(INDEX(Model_Inputs_Ref_Units,,CS$51)=$E57),INDEX(Model_Inputs_Ref_Units,,CS$52)),0)","v":0},{"$f":"IFERROR(SUMPRODUCT(--(INDEX(Model_Inputs_Ref_Units,,CT$51)=$E57),INDEX(Model_Inputs_Ref_Units,,CT$52)),0)","v":0},{"$f":"IFERROR(SUMPRODUCT(--(INDEX(Model_Inputs_Ref_Units,,CU$51)=$E57),INDEX(Model_Inputs_Ref_Units,,CU$52)),0)","v":0},{"$f":"IFERROR(SUMPRODUCT(--(INDEX(Model_Inputs_Ref_Units,,CV$51)=$E57),INDEX(Model_Inputs_Ref_Units,,CV$52)),0)","v":0},{"$f":"IFERROR(SUMPRODUCT(--(INDEX(Model_Inputs_Ref_Units,,CW$51)=$E57),INDEX(Model_Inputs_Ref_Units,,CW$52)),0)","v":0},{"$f":"IFERROR(SUMPRODUCT(--(INDEX(Model_Inputs_Ref_Units,,CX$51)=$E57),INDEX(Model_Inputs_Ref_Units,,CX$52)),0)","v":0},{"$f":"IFERROR(SUMPRODUCT(--(INDEX(Model_Inputs_Ref_Units,,CY$51)=$E57),INDEX(Model_Inputs_Ref_Units,,CY$52)),0)","v":0},{"$f":"IFERROR(SUMPRODUCT(--(INDEX(Model_Inputs_Ref_Units,,CZ$51)=$E57),INDEX(Model_Inputs_Ref_Units,,CZ$52)),0)","v":0},{"$f":"IFERROR(SUMPRODUCT(--(INDEX(Model_Inputs_Ref_Units,,DA$51)=$E57),INDEX(Model_Inputs_Ref_Units,,DA$52)),0)","v":0},{"$f":"IFERROR(SUMPRODUCT(--(INDEX(Model_Inputs_Ref_Units,,DB$51)=$E57),INDEX(Model_Inputs_Ref_Units,,DB$52)),0)","v":0},{"$f":"IFERROR(SUMPRODUCT(--(INDEX(Model_Inputs_Ref_Units,,DC$51)=$E57),INDEX(Model_Inputs_Ref_Units,,DC$52)),0)","v":0},{"$f":"IFERROR(SUMPRODUCT(--(INDEX(Model_Inputs_Ref_Units,,DD$51)=$E57),INDEX(Model_Inputs_Ref_Units,,DD$52)),0)","v":0},{"$f":"IFERROR(SUMPRODUCT(--(INDEX(Model_Inputs_Ref_Units,,DE$51)=$E57),INDEX(Model_Inputs_Ref_Units,,DE$52)),0)","v":0},{"$f":"IFERROR(SUMPRODUCT(--(INDEX(Model_Inputs_Ref_Units,,DF$51)=$E57),INDEX(Model_Inputs_Ref_Units,,DF$52)),0)","v":0}]
[null,null,{"$error":"#DIV/0!"},null,{"$f":"IFERROR(INDEX(Ref_Data,1,F58),\"\")","v":0},5,0,0,0,0,{"$f":"IFERROR(SUMPRODUCT(--(INDEX(Model_Inputs_Ref_Units,,K$51)=$E58),INDEX(Model_Inputs_Ref_Units,,K$52)),0)","v":0},{"$f":"IFERROR(SUMPRODUCT(--(INDEX(Model_Inputs_Ref_Units,,L$51)=$E58),INDEX(Model_Inputs_Ref_Units,,L$52)),0)","v":0},{"$f":"IFERROR(SUMPRODUCT(--(INDEX(Model_Inputs_Ref_Units,,M$51)=$E58),INDEX(Model_Inputs_Ref_Units,,M$52)),0)","v":0},{"$f":"IFERROR(SUMPRODUCT(--(INDEX(Model_Inputs_Ref_Units,,N$51)=$E58),INDEX(Model_Inputs_Ref_Units,,N$52)),0)","v":0},{"$f":"IFERROR(SUMPRODUCT(--(INDEX(Model_Inputs_Ref_Units,,O$51)=$E58),INDEX(Model_Inputs_Ref_Units,,O$52)),0)","v":0},{"$f":"IFERROR(SUMPRODUCT(--(INDEX(Model_Inputs_Ref_Units,,P$51)=$E58),INDEX(Model_Inputs_Ref_Units,,P$52)),0)","v":0},{"$f":"IFERROR(SUMPRODUCT(--(INDEX(Model_Inputs_Ref_Units,,Q$51)=$E58),INDEX(Model_Inputs_Ref_Units,,Q$52)),0)","v":0},{"$f":"IFERROR(SUMPRODUCT(--(INDEX(Model_Inputs_Ref_Units,,R$51)=$E58),INDEX(Model_Inputs_Ref_Units,,R$52)),0)","v":0},{"$f":"IFERROR(SUMPRODUCT(--(INDEX(Model_Inputs_Ref_Units,,S$51)=$E58),INDEX(Model_Inputs_Ref_Units,,S$52)),0)","v":0},{"$f":"IFERROR(SUMPRODUCT(--(INDEX(Model_Inputs_Ref_Units,,T$51)=$E58),INDEX(Model_Inputs_Ref_Units,,T$52)),0)","v":0},{"$f":"IFERROR(SUMPRODUCT(--(INDEX(Model_Inputs_Ref_Units,,U$51)=$E58),INDEX(Model_Inputs_Ref_Units,,U$52)),0)","v":0},{"$f":"IFERROR(SUMPRODUCT(--(INDEX(Model_Inputs_Ref_Units,,V$51)=$E58),INDEX(Model_Inputs_Ref_Units,,V$52)),0)","v":0},{"$f":"IFERROR(SUMPRODUCT(--(INDEX(Model_Inputs_Ref_Units,,W$51)=$E58),INDEX(Model_Inputs_Ref_Units,,W$52)),0)","v":0},{"$f":"IFERROR(SUMPRODUCT(--(INDEX(Model_Inputs_Ref_Units,,X$51)=$E58),INDEX(Model_Inputs_Ref_Units,,X$52)),0)","v":0},{"$f":"IFERROR(SUMPRODUCT(--(INDEX(Model_Inputs_Ref_Units,,Y$51)=$E58),INDEX(Model_Inputs_Ref_Units,,Y$52)),0)","v":0},{"$f":"IFERROR(SUMPRODUCT(--(INDEX(Model_Inputs_Ref_Units,,Z$51)=$E58),INDEX(Model_Inputs_Ref_Units,,Z$52)),0)","v":0},{"$f":"IFERROR(SUMPRODUCT(--(INDEX(Model_Inputs_Ref_Units,,AA$51)=$E58),INDEX(Model_Inputs_Ref_Units,,AA$52)),0)","v":0},{"$f":"IFERROR(SUMPRODUCT(--(INDEX(Model_Inputs_Ref_Units,,AB$51)=$E58),INDEX(Model_Inputs_Ref_Units,,AB$52)),0)","v":0},{"$f":"IFERROR(SUMPRODUCT(--(INDEX(Model_Inputs_Ref_Units,,AC$51)=$E58),INDEX(Model_Inputs_Ref_Units,,AC$52)),0)","v":0},{"$f":"IFERROR(SUMPRODUCT(--(INDEX(Model_Inputs_Ref_Units,,AD$51)=$E58),INDEX(Model_Inputs_Ref_Units,,AD$52)),0)","v":0},{"$f":"IFERROR(SUMPRODUCT(--(INDEX(Model_Inputs_Ref_Units,,AE$51)=$E58),INDEX(Model_Inputs_Ref_Units,,AE$52)),0)","v":0},{"$f":"IFERROR(SUMPRODUCT(--(INDEX(Model_Inputs_Ref_Units,,AF$51)=$E58),INDEX(Model_Inputs_Ref_Units,,AF$52)),0)","v":0},{"$f":"IFERROR(SUMPRODUCT(--(INDEX(Model_Inputs_Ref_Units,,AG$51)=$E58),INDEX(Model_Inputs_Ref_Units,,AG$52)),0)","v":0},{"$f":"IFERROR(SUMPRODUCT(--(INDEX(Model_Inputs_Ref_Units,,AH$51)=$E58),INDEX(Model_Inputs_Ref_Units,,AH$52)),0)","v":0},{"$f":"IFERROR(SUMPRODUCT(--(INDEX(Model_Inputs_Ref_Units,,AI$51)=$E58),INDEX(Model_Inputs_Ref_Units,,AI$52)),0)","v":0},{"$f":"IFERROR(SUMPRODUCT(--(INDEX(Model_Inputs_Ref_Units,,AJ$51)=$E58),INDEX(Model_Inputs_Ref_Units,,AJ$52)),0)","v":0},{"$f":"IFERROR(SUMPRODUCT(--(INDEX(Model_Inputs_Ref_Units,,AK$51)=$E58),INDEX(Model_Inputs_Ref_Units,,AK$52)),0)","v":0},{"$f":"IFERROR(SUMPRODUCT(--(INDEX(Model_Inputs_Ref_Units,,AL$51)=$E58),INDEX(Model_Inputs_Ref_Units,,AL$52)),0)","v":0},{"$f":"IFERROR(SUMPRODUCT(--(INDEX(Model_Inputs_Ref_Units,,AM$51)=$E58),INDEX(Model_Inputs_Ref_Units,,AM$52)),0)","v":0},{"$f":"IFERROR(SUMPRODUCT(--(INDEX(Model_Inputs_Ref_Units,,AN$51)=$E58),INDEX(Model_Inputs_Ref_Units,,AN$52)),0)","v":0},{"$f":"IFERROR(SUMPRODUCT(--(INDEX(Model_Inputs_Ref_Units,,AO$51)=$E58),INDEX(Model_Inputs_Ref_Units,,AO$52)),0)","v":0},{"$f":"IFERROR(SUMPRODUCT(--(INDEX(Model_Inputs_Ref_Units,,AP$51)=$E58),INDEX(Model_Inputs_Ref_Units,,AP$52)),0)","v":0},{"$f":"IFERROR(SUMPRODUCT(--(INDEX(Model_Inputs_Ref_Units,,AQ$51)=$E58),INDEX(Model_Inputs_Ref_Units,,AQ$52)),0)","v":0},{"$f":"IFERROR(SUMPRODUCT(--(INDEX(Model_Inputs_Ref_Units,,AR$51)=$E58),INDEX(Model_Inputs_Ref_Units,,AR$52)),0)","v":0},{"$f":"IFERROR(SUMPRODUCT(--(INDEX(Model_Inputs_Ref_Units,,AS$51)=$E58),INDEX(Model_Inputs_Ref_Units,,AS$52)),0)","v":0},{"$f":"IFERROR(SUMPRODUCT(--(INDEX(Model_Inputs_Ref_Units,,AT$51)=$E58),INDEX(Model_Inputs_Ref_Units,,AT$52)),0)","v":0},{"$f":"IFERROR(SUMPRODUCT(--(INDEX(Model_Inputs_Ref_Units,,AU$51)=$E58),INDEX(Model_Inputs_Ref_Units,,AU$52)),0)","v":0},{"$f":"IFERROR(SUMPRODUCT(--(INDEX(Model_Inputs_Ref_Units,,AV$51)=$E58),INDEX(Model_Inputs_Ref_Units,,AV$52)),0)","v":0},{"$f":"IFERROR(SUMPRODUCT(--(INDEX(Model_Inputs_Ref_Units,,AW$51)=$E58),INDEX(Model_Inputs_Ref_Units,,AW$52)),0)","v":0},{"$f":"IFERROR(SUMPRODUCT(--(INDEX(Model_Inputs_Ref_Units,,AX$51)=$E58),INDEX(Model_Inputs_Ref_Units,,AX$52)),0)","v":0},{"$f":"IFERROR(SUMPRODUCT(--(INDEX(Model_Inputs_Ref_Units,,AY$51)=$E58),INDEX(Model_Inputs_Ref_Units,,AY$52)),0)","v":0},{"$f":"IFERROR(SUMPRODUCT(--(INDEX(Model_Inputs_Ref_Units,,AZ$51)=$E58),INDEX(Model_Inputs_Ref_Units,,AZ$52)),0)","v":0},{"$f":"IFERROR(SUMPRODUCT(--(INDEX(Model_Inputs_Ref_Units,,BA$51)=$E58),INDEX(Model_Inputs_Ref_Units,,BA$52)),0)","v":0},{"$f":"IFERROR(SUMPRODUCT(--(INDEX(Model_Inputs_Ref_Units,,BB$51)=$E58),INDEX(Model_Inputs_Ref_Units,,BB$52)),0)","v":0},{"$f":"IFERROR(SUMPRODUCT(--(INDEX(Model_Inputs_Ref_Units,,BC$51)=$E58),INDEX(Model_Inputs_Ref_Units,,BC$52)),0)","v":0},{"$f":"IFERROR(SUMPRODUCT(--(INDEX(Model_Inputs_Ref_Units,,BD$51)=$E58),INDEX(Model_Inputs_Ref_Units,,BD$52)),0)","v":0},{"$f":"IFERROR(SUMPRODUCT(--(INDEX(Model_Inputs_Ref_Units,,BE$51)=$E58),INDEX(Model_Inputs_Ref_Units,,BE$52)),0)","v":0},{"$f":"IFERROR(SUMPRODUCT(--(INDEX(Model_Inputs_Ref_Units,,BF$51)=$E58),INDEX(Model_Inputs_Ref_Units,,BF$52)),0)","v":0},{"$f":"IFERROR(SUMPRODUCT(--(INDEX(Model_Inputs_Ref_Units,,BG$51)=$E58),INDEX(Model_Inputs_Ref_Units,,BG$52)),0)","v":0},{"$f":"IFERROR(SUMPRODUCT(--(INDEX(Model_Inputs_Ref_Units,,BH$51)=$E58),INDEX(Model_Inputs_Ref_Units,,BH$52)),0)","v":0},{"$f":"IFERROR(SUMPRODUCT(--(INDEX(Model_Inputs_Ref_Units,,BI$51)=$E58),INDEX(Model_Inputs_Ref_Units,,BI$52)),0)","v":0},{"$f":"IFERROR(SUMPRODUCT(--(INDEX(Model_Inputs_Ref_Units,,BJ$51)=$E58),INDEX(Model_Inputs_Ref_Units,,BJ$52)),0)","v":0},{"$f":"IFERROR(SUMPRODUCT(--(INDEX(Model_Inputs_Ref_Units,,BK$51)=$E58),INDEX(Model_Inputs_Ref_Units,,BK$52)),0)","v":0},{"$f":"IFERROR(SUMPRODUCT(--(INDEX(Model_Inputs_Ref_Units,,BL$51)=$E58),INDEX(Model_Inputs_Ref_Units,,BL$52)),0)","v":0},{"$f":"IFERROR(SUMPRODUCT(--(INDEX(Model_Inputs_Ref_Units,,BM$51)=$E58),INDEX(Model_Inputs_Ref_Units,,BM$52)),0)","v":0},{"$f":"IFERROR(SUMPRODUCT(--(INDEX(Model_Inputs_Ref_Units,,BN$51)=$E58),INDEX(Model_Inputs_Ref_Units,,BN$52)),0)","v":0},{"$f":"IFERROR(SUMPRODUCT(--(INDEX(Model_Inputs_Ref_Units,,BO$51)=$E58),INDEX(Model_Inputs_Ref_Units,,BO$52)),0)","v":0},{"$f":"IFERROR(SUMPRODUCT(--(INDEX(Model_Inputs_Ref_Units,,BP$51)=$E58),INDEX(Model_Inputs_Ref_Units,,BP$52)),0)","v":0},{"$f":"IFERROR(SUMPRODUCT(--(INDEX(Model_Inputs_Ref_Units,,BQ$51)=$E58),INDEX(Model_Inputs_Ref_Units,,BQ$52)),0)","v":0},{"$f":"IFERROR(SUMPRODUCT(--(INDEX(Model_Inputs_Ref_Units,,BR$51)=$E58),INDEX(Model_Inputs_Ref_Units,,BR$52)),0)","v":0},{"$f":"IFERROR(SUMPRODUCT(--(INDEX(Model_Inputs_Ref_Units,,BS$51)=$E58),INDEX(Model_Inputs_Ref_Units,,BS$52)),0)","v":0},{"$f":"IFERROR(SUMPRODUCT(--(INDEX(Model_Inputs_Ref_Units,,BT$51)=$E58),INDEX(Model_Inputs_Ref_Units,,BT$52)),0)","v":0},{"$f":"IFERROR(SUMPRODUCT(--(INDEX(Model_Inputs_Ref_Units,,BU$51)=$E58),INDEX(Model_Inputs_Ref_Units,,BU$52)),0)","v":0},{"$f":"IFERROR(SUMPRODUCT(--(INDEX(Model_Inputs_Ref_Units,,BV$51)=$E58),INDEX(Model_Inputs_Ref_Units,,BV$52)),0)","v":0},{"$f":"IFERROR(SUMPRODUCT(--(INDEX(Model_Inputs_Ref_Units,,BW$51)=$E58),INDEX(Model_Inputs_Ref_Units,,BW$52)),0)","v":0},{"$f":"IFERROR(SUMPRODUCT(--(INDEX(Model_Inputs_Ref_Units,,BX$51)=$E58),INDEX(Model_Inputs_Ref_Units,,BX$52)),0)","v":0},{"$f":"IFERROR(SUMPRODUCT(--(INDEX(Model_Inputs_Ref_Units,,BY$51)=$E58),INDEX(Model_Inputs_Ref_Units,,BY$52)),0)","v":0},{"$f":"IFERROR(SUMPRODUCT(--(INDEX(Model_Inputs_Ref_Units,,BZ$51)=$E58),INDEX(Model_Inputs_Ref_Units,,BZ$52)),0)","v":0},{"$f":"IFERROR(SUMPRODUCT(--(INDEX(Model_Inputs_Ref_Units,,CA$51)=$E58),INDEX(Model_Inputs_Ref_Units,,CA$52)),0)","v":0},{"$f":"IFERROR(SUMPRODUCT(--(INDEX(Model_Inputs_Ref_Units,,CB$51)=$E58),INDEX(Model_Inputs_Ref_Units,,CB$52)),0)","v":0},{"$f":"IFERROR(SUMPRODUCT(--(INDEX(Model_Inputs_Ref_Units,,CC$51)=$E58),INDEX(Model_Inputs_Ref_Units,,CC$52)),0)","v":0},{"$f":"IFERROR(SUMPRODUCT(--(INDEX(Model_Inputs_Ref_Units,,CD$51)=$E58),INDEX(Model_Inputs_Ref_Units,,CD$52)),0)","v":0},{"$f":"IFERROR(SUMPRODUCT(--(INDEX(Model_Inputs_Ref_Units,,CE$51)=$E58),INDEX(Model_Inputs_Ref_Units,,CE$52)),0)","v":0},{"$f":"IFERROR(SUMPRODUCT(--(INDEX(Model_Inputs_Ref_Units,,CF$51)=$E58),INDEX(Model_Inputs_Ref_Units,,CF$52)),0)","v":0},{"$f":"IFERROR(SUMPRODUCT(--(INDEX(Model_Inputs_Ref_Units,,CG$51)=$E58),INDEX(Model_Inputs_Ref_Units,,CG$52)),0)","v":0},{"$f":"IFERROR(SUMPRODUCT(--(INDEX(Model_Inputs_Ref_Units,,CH$51)=$E58),INDEX(Model_Inputs_Ref_Units,,CH$52)),0)","v":0},{"$f":"IFERROR(SUMPRODUCT(--(INDEX(Model_Inputs_Ref_Units,,CI$51)=$E58),INDEX(Model_Inputs_Ref_Units,,CI$52)),0)","v":0},{"$f":"IFERROR(SUMPRODUCT(--(INDEX(Model_Inputs_Ref_Units,,CJ$51)=$E58),INDEX(Model_Inputs_Ref_Units,,CJ$52)),0)","v":0},{"$f":"IFERROR(SUMPRODUCT(--(INDEX(Model_Inputs_Ref_Units,,CK$51)=$E58),INDEX(Model_Inputs_Ref_Units,,CK$52)),0)","v":0},{"$f":"IFERROR(SUMPRODUCT(--(INDEX(Model_Inputs_Ref_Units,,CL$51)=$E58),INDEX(Model_Inputs_Ref_Units,,CL$52)),0)","v":0},{"$f":"IFERROR(SUMPRODUCT(--(INDEX(Model_Inputs_Ref_Units,,CM$51)=$E58),INDEX(Model_Inputs_Ref_Units,,CM$52)),0)","v":0},{"$f":"IFERROR(SUMPRODUCT(--(INDEX(Model_Inputs_Ref_Units,,CN$51)=$E58),INDEX(Model_Inputs_Ref_Units,,CN$52)),0)","v":0},{"$f":"IFERROR(SUMPRODUCT(--(INDEX(Model_Inputs_Ref_Units,,CO$51)=$E58),INDEX(Model_Inputs_Ref_Units,,CO$52)),0)","v":0},{"$f":"IFERROR(SUMPRODUCT(--(INDEX(Model_Inputs_Ref_Units,,CP$51)=$E58),INDEX(Model_Inputs_Ref_Units,,CP$52)),0)","v":0},{"$f":"IFERROR(SUMPRODUCT(--(INDEX(Model_Inputs_Ref_Units,,CQ$51)=$E58),INDEX(Model_Inputs_Ref_Units,,CQ$52)),0)","v":0},{"$f":"IFERROR(SUMPRODUCT(--(INDEX(Model_Inputs_Ref_Units,,CR$51)=$E58),INDEX(Model_Inputs_Ref_Units,,CR$52)),0)","v":0},{"$f":"IFERROR(SUMPRODUCT(--(INDEX(Model_Inputs_Ref_Units,,CS$51)=$E58),INDEX(Model_Inputs_Ref_Units,,CS$52)),0)","v":0},{"$f":"IFERROR(SUMPRODUCT(--(INDEX(Model_Inputs_Ref_Units,,CT$51)=$E58),INDEX(Model_Inputs_Ref_Units,,CT$52)),0)","v":0},{"$f":"IFERROR(SUMPRODUCT(--(INDEX(Model_Inputs_Ref_Units,,CU$51)=$E58),INDEX(Model_Inputs_Ref_Units,,CU$52)),0)","v":0},{"$f":"IFERROR(SUMPRODUCT(--(INDEX(Model_Inputs_Ref_Units,,CV$51)=$E58),INDEX(Model_Inputs_Ref_Units,,CV$52)),0)","v":0},{"$f":"IFERROR(SUMPRODUCT(--(INDEX(Model_Inputs_Ref_Units,,CW$51)=$E58),INDEX(Model_Inputs_Ref_Units,,CW$52)),0)","v":0},{"$f":"IFERROR(SUMPRODUCT(--(INDEX(Model_Inputs_Ref_Units,,CX$51)=$E58),INDEX(Model_Inputs_Ref_Units,,CX$52)),0)","v":0},{"$f":"IFERROR(SUMPRODUCT(--(INDEX(Model_Inputs_Ref_Units,,CY$51)=$E58),INDEX(Model_Inputs_Ref_Units,,CY$52)),0)","v":0},{"$f":"IFERROR(SUMPRODUCT(--(INDEX(Model_Inputs_Ref_Units,,CZ$51)=$E58),INDEX(Model_Inputs_Ref_Units,,CZ$52)),0)","v":0},{"$f":"IFERROR(SUMPRODUCT(--(INDEX(Model_Inputs_Ref_Units,,DA$51)=$E58),INDEX(Model_Inputs_Ref_Units,,DA$52)),0)","v":0},{"$f":"IFERROR(SUMPRODUCT(--(INDEX(Model_Inputs_Ref_Units,,DB$51)=$E58),INDEX(Model_Inputs_Ref_Units,,DB$52)),0)","v":0},{"$f":"IFERROR(SUMPRODUCT(--(INDEX(Model_Inputs_Ref_Units,,DC$51)=$E58),INDEX(Model_Inputs_Ref_Units,,DC$52)),0)","v":0},{"$f":"IFERROR(SUMPRODUCT(--(INDEX(Model_Inputs_Ref_Units,,DD$51)=$E58),INDEX(Model_Inputs_Ref_Units,,DD$52)),0)","v":0},{"$f":"IFERROR(SUMPRODUCT(--(INDEX(Model_Inputs_Ref_Units,,DE$51)=$E58),INDEX(Model_Inputs_Ref_Units,,DE$52)),0)","v":0},{"$f":"IFERROR(SUMPRODUCT(--(INDEX(Model_Inputs_Ref_Units,,DF$51)=$E58),INDEX(Model_Inputs_Ref_Units,,DF$52)),0)","v":0}]
[null,null,{"$error":"#DIV/0!"},null,{"$f":"IFERROR(INDEX(Ref_Data,1,F59),\"\")","v":0},6,0,0,0,0,{"$f":"IFERROR(SUMPRODUCT(--(INDEX(Model_Inputs_Ref_Units,,K$51)=$E59),INDEX(Model_Inputs_Ref_Units,,K$52)),0)","v":0},{"$f":"IFERROR(SUMPRODUCT(--(INDEX(Model_Inputs_Ref_Units,,L$51)=$E59),INDEX(Model_Inputs_Ref_Units,,L$52)),0)","v":0},{"$f":"IFERROR(SUMPRODUCT(--(INDEX(Model_Inputs_Ref_Units,,M$51)=$E59),INDEX(Model_Inputs_Ref_Units,,M$52)),0)","v":0},{"$f":"IFERROR(SUMPRODUCT(--(INDEX(Model_Inputs_Ref_Units,,N$51)=$E59),INDEX(Model_Inputs_Ref_Units,,N$52)),0)","v":0},{"$f":"IFERROR(SUMPRODUCT(--(INDEX(Model_Inputs_Ref_Units,,O$51)=$E59),INDEX(Model_Inputs_Ref_Units,,O$52)),0)","v":0},{"$f":"IFERROR(SUMPRODUCT(--(INDEX(Model_Inputs_Ref_Units,,P$51)=$E59),INDEX(Model_Inputs_Ref_Units,,P$52)),0)","v":0},{"$f":"IFERROR(SUMPRODUCT(--(INDEX(Model_Inputs_Ref_Units,,Q$51)=$E59),INDEX(Model_Inputs_Ref_Units,,Q$52)),0)","v":0},{"$f":"IFERROR(SUMPRODUCT(--(INDEX(Model_Inputs_Ref_Units,,R$51)=$E59),INDEX(Model_Inputs_Ref_Units,,R$52)),0)","v":0},{"$f":"IFERROR(SUMPRODUCT(--(INDEX(Model_Inputs_Ref_Units,,S$51)=$E59),INDEX(Model_Inputs_Ref_Units,,S$52)),0)","v":0},{"$f":"IFERROR(SUMPRODUCT(--(INDEX(Model_Inputs_Ref_Units,,T$51)=$E59),INDEX(Model_Inputs_Ref_Units,,T$52)),0)","v":0},{"$f":"IFERROR(SUMPRODUCT(--(INDEX(Model_Inputs_Ref_Units,,U$51)=$E59),INDEX(Model_Inputs_Ref_Units,,U$52)),0)","v":0},{"$f":"IFERROR(SUMPRODUCT(--(INDEX(Model_Inputs_Ref_Units,,V$51)=$E59),INDEX(Model_Inputs_Ref_Units,,V$52)),0)","v":0},{"$f":"IFERROR(SUMPRODUCT(--(INDEX(Model_Inputs_Ref_Units,,W$51)=$E59),INDEX(Model_Inputs_Ref_Units,,W$52)),0)","v":0},{"$f":"IFERROR(SUMPRODUCT(--(INDEX(Model_Inputs_Ref_Units,,X$51)=$E59),INDEX(Model_Inputs_Ref_Units,,X$52)),0)","v":0},{"$f":"IFERROR(SUMPRODUCT(--(INDEX(Model_Inputs_Ref_Units,,Y$51)=$E59),INDEX(Model_Inputs_Ref_Units,,Y$52)),0)","v":0},{"$f":"IFERROR(SUMPRODUCT(--(INDEX(Model_Inputs_Ref_Units,,Z$51)=$E59),INDEX(Model_Inputs_Ref_Units,,Z$52)),0)","v":0},{"$f":"IFERROR(SUMPRODUCT(--(INDEX(Model_Inputs_Ref_Units,,AA$51)=$E59),INDEX(Model_Inputs_Ref_Units,,AA$52)),0)","v":0},{"$f":"IFERROR(SUMPRODUCT(--(INDEX(Model_Inputs_Ref_Units,,AB$51)=$E59),INDEX(Model_Inputs_Ref_Units,,AB$52)),0)","v":0},{"$f":"IFERROR(SUMPRODUCT(--(INDEX(Model_Inputs_Ref_Units,,AC$51)=$E59),INDEX(Model_Inputs_Ref_Units,,AC$52)),0)","v":0},{"$f":"IFERROR(SUMPRODUCT(--(INDEX(Model_Inputs_Ref_Units,,AD$51)=$E59),INDEX(Model_Inputs_Ref_Units,,AD$52)),0)","v":0},{"$f":"IFERROR(SUMPRODUCT(--(INDEX(Model_Inputs_Ref_Units,,AE$51)=$E59),INDEX(Model_Inputs_Ref_Units,,AE$52)),0)","v":0},{"$f":"IFERROR(SUMPRODUCT(--(INDEX(Model_Inputs_Ref_Units,,AF$51)=$E59),INDEX(Model_Inputs_Ref_Units,,AF$52)),0)","v":0},{"$f":"IFERROR(SUMPRODUCT(--(INDEX(Model_Inputs_Ref_Units,,AG$51)=$E59),INDEX(Model_Inputs_Ref_Units,,AG$52)),0)","v":0},{"$f":"IFERROR(SUMPRODUCT(--(INDEX(Model_Inputs_Ref_Units,,AH$51)=$E59),INDEX(Model_Inputs_Ref_Units,,AH$52)),0)","v":0},{"$f":"IFERROR(SUMPRODUCT(--(INDEX(Model_Inputs_Ref_Units,,AI$51)=$E59),INDEX(Model_Inputs_Ref_Units,,AI$52)),0)","v":0},{"$f":"IFERROR(SUMPRODUCT(--(INDEX(Model_Inputs_Ref_Units,,AJ$51)=$E59),INDEX(Model_Inputs_Ref_Units,,AJ$52)),0)","v":0},{"$f":"IFERROR(SUMPRODUCT(--(INDEX(Model_Inputs_Ref_Units,,AK$51)=$E59),INDEX(Model_Inputs_Ref_Units,,AK$52)),0)","v":0},{"$f":"IFERROR(SUMPRODUCT(--(INDEX(Model_Inputs_Ref_Units,,AL$51)=$E59),INDEX(Model_Inputs_Ref_Units,,AL$52)),0)","v":0},{"$f":"IFERROR(SUMPRODUCT(--(INDEX(Model_Inputs_Ref_Units,,AM$51)=$E59),INDEX(Model_Inputs_Ref_Units,,AM$52)),0)","v":0},{"$f":"IFERROR(SUMPRODUCT(--(INDEX(Model_Inputs_Ref_Units,,AN$51)=$E59),INDEX(Model_Inputs_Ref_Units,,AN$52)),0)","v":0},{"$f":"IFERROR(SUMPRODUCT(--(INDEX(Model_Inputs_Ref_Units,,AO$51)=$E59),INDEX(Model_Inputs_Ref_Units,,AO$52)),0)","v":0},{"$f":"IFERROR(SUMPRODUCT(--(INDEX(Model_Inputs_Ref_Units,,AP$51)=$E59),INDEX(Model_Inputs_Ref_Units,,AP$52)),0)","v":0},{"$f":"IFERROR(SUMPRODUCT(--(INDEX(Model_Inputs_Ref_Units,,AQ$51)=$E59),INDEX(Model_Inputs_Ref_Units,,AQ$52)),0)","v":0},{"$f":"IFERROR(SUMPRODUCT(--(INDEX(Model_Inputs_Ref_Units,,AR$51)=$E59),INDEX(Model_Inputs_Ref_Units,,AR$52)),0)","v":0},{"$f":"IFERROR(SUMPRODUCT(--(INDEX(Model_Inputs_Ref_Units,,AS$51)=$E59),INDEX(Model_Inputs_Ref_Units,,AS$52)),0)","v":0},{"$f":"IFERROR(SUMPRODUCT(--(INDEX(Model_Inputs_Ref_Units,,AT$51)=$E59),INDEX(Model_Inputs_Ref_Units,,AT$52)),0)","v":0},{"$f":"IFERROR(SUMPRODUCT(--(INDEX(Model_Inputs_Ref_Units,,AU$51)=$E59),INDEX(Model_Inputs_Ref_Units,,AU$52)),0)","v":0},{"$f":"IFERROR(SUMPRODUCT(--(INDEX(Model_Inputs_Ref_Units,,AV$51)=$E59),INDEX(Model_Inputs_Ref_Units,,AV$52)),0)","v":0},{"$f":"IFERROR(SUMPRODUCT(--(INDEX(Model_Inputs_Ref_Units,,AW$51)=$E59),INDEX(Model_Inputs_Ref_Units,,AW$52)),0)","v":0},{"$f":"IFERROR(SUMPRODUCT(--(INDEX(Model_Inputs_Ref_Units,,AX$51)=$E59),INDEX(Model_Inputs_Ref_Units,,AX$52)),0)","v":0},{"$f":"IFERROR(SUMPRODUCT(--(INDEX(Model_Inputs_Ref_Units,,AY$51)=$E59),INDEX(Model_Inputs_Ref_Units,,AY$52)),0)","v":0},{"$f":"IFERROR(SUMPRODUCT(--(INDEX(Model_Inputs_Ref_Units,,AZ$51)=$E59),INDEX(Model_Inputs_Ref_Units,,AZ$52)),0)","v":0},{"$f":"IFERROR(SUMPRODUCT(--(INDEX(Model_Inputs_Ref_Units,,BA$51)=$E59),INDEX(Model_Inputs_Ref_Units,,BA$52)),0)","v":0},{"$f":"IFERROR(SUMPRODUCT(--(INDEX(Model_Inputs_Ref_Units,,BB$51)=$E59),INDEX(Model_Inputs_Ref_Units,,BB$52)),0)","v":0},{"$f":"IFERROR(SUMPRODUCT(--(INDEX(Model_Inputs_Ref_Units,,BC$51)=$E59),INDEX(Model_Inputs_Ref_Units,,BC$52)),0)","v":0},{"$f":"IFERROR(SUMPRODUCT(--(INDEX(Model_Inputs_Ref_Units,,BD$51)=$E59),INDEX(Model_Inputs_Ref_Units,,BD$52)),0)","v":0},{"$f":"IFERROR(SUMPRODUCT(--(INDEX(Model_Inputs_Ref_Units,,BE$51)=$E59),INDEX(Model_Inputs_Ref_Units,,BE$52)),0)","v":0},{"$f":"IFERROR(SUMPRODUCT(--(INDEX(Model_Inputs_Ref_Units,,BF$51)=$E59),INDEX(Model_Inputs_Ref_Units,,BF$52)),0)","v":0},{"$f":"IFERROR(SUMPRODUCT(--(INDEX(Model_Inputs_Ref_Units,,BG$51)=$E59),INDEX(Model_Inputs_Ref_Units,,BG$52)),0)","v":0},{"$f":"IFERROR(SUMPRODUCT(--(INDEX(Model_Inputs_Ref_Units,,BH$51)=$E59),INDEX(Model_Inputs_Ref_Units,,BH$52)),0)","v":0},{"$f":"IFERROR(SUMPRODUCT(--(INDEX(Model_Inputs_Ref_Units,,BI$51)=$E59),INDEX(Model_Inputs_Ref_Units,,BI$52)),0)","v":0},{"$f":"IFERROR(SUMPRODUCT(--(INDEX(Model_Inputs_Ref_Units,,BJ$51)=$E59),INDEX(Model_Inputs_Ref_Units,,BJ$52)),0)","v":0},{"$f":"IFERROR(SUMPRODUCT(--(INDEX(Model_Inputs_Ref_Units,,BK$51)=$E59),INDEX(Model_Inputs_Ref_Units,,BK$52)),0)","v":0},{"$f":"IFERROR(SUMPRODUCT(--(INDEX(Model_Inputs_Ref_Units,,BL$51)=$E59),INDEX(Model_Inputs_Ref_Units,,BL$52)),0)","v":0},{"$f":"IFERROR(SUMPRODUCT(--(INDEX(Model_Inputs_Ref_Units,,BM$51)=$E59),INDEX(Model_Inputs_Ref_Units,,BM$52)),0)","v":0},{"$f":"IFERROR(SUMPRODUCT(--(INDEX(Model_Inputs_Ref_Units,,BN$51)=$E59),INDEX(Model_Inputs_Ref_Units,,BN$52)),0)","v":0},{"$f":"IFERROR(SUMPRODUCT(--(INDEX(Model_Inputs_Ref_Units,,BO$51)=$E59),INDEX(Model_Inputs_Ref_Units,,BO$52)),0)","v":0},{"$f":"IFERROR(SUMPRODUCT(--(INDEX(Model_Inputs_Ref_Units,,BP$51)=$E59),INDEX(Model_Inputs_Ref_Units,,BP$52)),0)","v":0},{"$f":"IFERROR(SUMPRODUCT(--(INDEX(Model_Inputs_Ref_Units,,BQ$51)=$E59),INDEX(Model_Inputs_Ref_Units,,BQ$52)),0)","v":0},{"$f":"IFERROR(SUMPRODUCT(--(INDEX(Model_Inputs_Ref_Units,,BR$51)=$E59),INDEX(Model_Inputs_Ref_Units,,BR$52)),0)","v":0},{"$f":"IFERROR(SUMPRODUCT(--(INDEX(Model_Inputs_Ref_Units,,BS$51)=$E59),INDEX(Model_Inputs_Ref_Units,,BS$52)),0)","v":0},{"$f":"IFERROR(SUMPRODUCT(--(INDEX(Model_Inputs_Ref_Units,,BT$51)=$E59),INDEX(Model_Inputs_Ref_Units,,BT$52)),0)","v":0},{"$f":"IFERROR(SUMPRODUCT(--(INDEX(Model_Inputs_Ref_Units,,BU$51)=$E59),INDEX(Model_Inputs_Ref_Units,,BU$52)),0)","v":0},{"$f":"IFERROR(SUMPRODUCT(--(INDEX(Model_Inputs_Ref_Units,,BV$51)=$E59),INDEX(Model_Inputs_Ref_Units,,BV$52)),0)","v":0},{"$f":"IFERROR(SUMPRODUCT(--(INDEX(Model_Inputs_Ref_Units,,BW$51)=$E59),INDEX(Model_Inputs_Ref_Units,,BW$52)),0)","v":0},{"$f":"IFERROR(SUMPRODUCT(--(INDEX(Model_Inputs_Ref_Units,,BX$51)=$E59),INDEX(Model_Inputs_Ref_Units,,BX$52)),0)","v":0},{"$f":"IFERROR(SUMPRODUCT(--(INDEX(Model_Inputs_Ref_Units,,BY$51)=$E59),INDEX(Model_Inputs_Ref_Units,,BY$52)),0)","v":0},{"$f":"IFERROR(SUMPRODUCT(--(INDEX(Model_Inputs_Ref_Units,,BZ$51)=$E59),INDEX(Model_Inputs_Ref_Units,,BZ$52)),0)","v":0},{"$f":"IFERROR(SUMPRODUCT(--(INDEX(Model_Inputs_Ref_Units,,CA$51)=$E59),INDEX(Model_Inputs_Ref_Units,,CA$52)),0)","v":0},{"$f":"IFERROR(SUMPRODUCT(--(INDEX(Model_Inputs_Ref_Units,,CB$51)=$E59),INDEX(Model_Inputs_Ref_Units,,CB$52)),0)","v":0},{"$f":"IFERROR(SUMPRODUCT(--(INDEX(Model_Inputs_Ref_Units,,CC$51)=$E59),INDEX(Model_Inputs_Ref_Units,,CC$52)),0)","v":0},{"$f":"IFERROR(SUMPRODUCT(--(INDEX(Model_Inputs_Ref_Units,,CD$51)=$E59),INDEX(Model_Inputs_Ref_Units,,CD$52)),0)","v":0},{"$f":"IFERROR(SUMPRODUCT(--(INDEX(Model_Inputs_Ref_Units,,CE$51)=$E59),INDEX(Model_Inputs_Ref_Units,,CE$52)),0)","v":0},{"$f":"IFERROR(SUMPRODUCT(--(INDEX(Model_Inputs_Ref_Units,,CF$51)=$E59),INDEX(Model_Inputs_Ref_Units,,CF$52)),0)","v":0},{"$f":"IFERROR(SUMPRODUCT(--(INDEX(Model_Inputs_Ref_Units,,CG$51)=$E59),INDEX(Model_Inputs_Ref_Units,,CG$52)),0)","v":0},{"$f":"IFERROR(SUMPRODUCT(--(INDEX(Model_Inputs_Ref_Units,,CH$51)=$E59),INDEX(Model_Inputs_Ref_Units,,CH$52)),0)","v":0},{"$f":"IFERROR(SUMPRODUCT(--(INDEX(Model_Inputs_Ref_Units,,CI$51)=$E59),INDEX(Model_Inputs_Ref_Units,,CI$52)),0)","v":0},{"$f":"IFERROR(SUMPRODUCT(--(INDEX(Model_Inputs_Ref_Units,,CJ$51)=$E59),INDEX(Model_Inputs_Ref_Units,,CJ$52)),0)","v":0},{"$f":"IFERROR(SUMPRODUCT(--(INDEX(Model_Inputs_Ref_Units,,CK$51)=$E59),INDEX(Model_Inputs_Ref_Units,,CK$52)),0)","v":0},{"$f":"IFERROR(SUMPRODUCT(--(INDEX(Model_Inputs_Ref_Units,,CL$51)=$E59),INDEX(Model_Inputs_Ref_Units,,CL$52)),0)","v":0},{"$f":"IFERROR(SUMPRODUCT(--(INDEX(Model_Inputs_Ref_Units,,CM$51)=$E59),INDEX(Model_Inputs_Ref_Units,,CM$52)),0)","v":0},{"$f":"IFERROR(SUMPRODUCT(--(INDEX(Model_Inputs_Ref_Units,,CN$51)=$E59),INDEX(Model_Inputs_Ref_Units,,CN$52)),0)","v":0},{"$f":"IFERROR(SUMPRODUCT(--(INDEX(Model_Inputs_Ref_Units,,CO$51)=$E59),INDEX(Model_Inputs_Ref_Units,,CO$52)),0)","v":0},{"$f":"IFERROR(SUMPRODUCT(--(INDEX(Model_Inputs_Ref_Units,,CP$51)=$E59),INDEX(Model_Inputs_Ref_Units,,CP$52)),0)","v":0},{"$f":"IFERROR(SUMPRODUCT(--(INDEX(Model_Inputs_Ref_Units,,CQ$51)=$E59),INDEX(Model_Inputs_Ref_Units,,CQ$52)),0)","v":0},{"$f":"IFERROR(SUMPRODUCT(--(INDEX(Model_Inputs_Ref_Units,,CR$51)=$E59),INDEX(Model_Inputs_Ref_Units,,CR$52)),0)","v":0},{"$f":"IFERROR(SUMPRODUCT(--(INDEX(Model_Inputs_Ref_Units,,CS$51)=$E59),INDEX(Model_Inputs_Ref_Units,,CS$52)),0)","v":0},{"$f":"IFERROR(SUMPRODUCT(--(INDEX(Model_Inputs_Ref_Units,,CT$51)=$E59),INDEX(Model_Inputs_Ref_Units,,CT$52)),0)","v":0},{"$f":"IFERROR(SUMPRODUCT(--(INDEX(Model_Inputs_Ref_Units,,CU$51)=$E59),INDEX(Model_Inputs_Ref_Units,,CU$52)),0)","v":0},{"$f":"IFERROR(SUMPRODUCT(--(INDEX(Model_Inputs_Ref_Units,,CV$51)=$E59),INDEX(Model_Inputs_Ref_Units,,CV$52)),0)","v":0},{"$f":"IFERROR(SUMPRODUCT(--(INDEX(Model_Inputs_Ref_Units,,CW$51)=$E59),INDEX(Model_Inputs_Ref_Units,,CW$52)),0)","v":0},{"$f":"IFERROR(SUMPRODUCT(--(INDEX(Model_Inputs_Ref_Units,,CX$51)=$E59),INDEX(Model_Inputs_Ref_Units,,CX$52)),0)","v":0},{"$f":"IFERROR(SUMPRODUCT(--(INDEX(Model_Inputs_Ref_Units,,CY$51)=$E59),INDEX(Model_Inputs_Ref_Units,,CY$52)),0)","v":0},{"$f":"IFERROR(SUMPRODUCT(--(INDEX(Model_Inputs_Ref_Units,,CZ$51)=$E59),INDEX(Model_Inputs_Ref_Units,,CZ$52)),0)","v":0},{"$f":"IFERROR(SUMPRODUCT(--(INDEX(Model_Inputs_Ref_Units,,DA$51)=$E59),INDEX(Model_Inputs_Ref_Units,,DA$52)),0)","v":0},{"$f":"IFERROR(SUMPRODUCT(--(INDEX(Model_Inputs_Ref_Units,,DB$51)=$E59),INDEX(Model_Inputs_Ref_Units,,DB$52)),0)","v":0},{"$f":"IFERROR(SUMPRODUCT(--(INDEX(Model_Inputs_Ref_Units,,DC$51)=$E59),INDEX(Model_Inputs_Ref_Units,,DC$52)),0)","v":0},{"$f":"IFERROR(SUMPRODUCT(--(INDEX(Model_Inputs_Ref_Units,,DD$51)=$E59),INDEX(Model_Inputs_Ref_Units,,DD$52)),0)","v":0},{"$f":"IFERROR(SUMPRODUCT(--(INDEX(Model_Inputs_Ref_Units,,DE$51)=$E59),INDEX(Model_Inputs_Ref_Units,,DE$52)),0)","v":0},{"$f":"IFERROR(SUMPRODUCT(--(INDEX(Model_Inputs_Ref_Units,,DF$51)=$E59),INDEX(Model_Inputs_Ref_Units,,DF$52)),0)","v":0}]
[null,null,{"$error":"#DIV/0!"},null,{"$f":"IFERROR(INDEX(Ref_Data,1,F60),\"\")","v":0},7,0,0,0,0,{"$f":"IFERROR(SUMPRODUCT(--(INDEX(Model_Inputs_Ref_Units,,K$51)=$E60),INDEX(Model_Inputs_Ref_Units,,K$52)),0)","v":0},{"$f":"IFERROR(SUMPRODUCT(--(INDEX(Model_Inputs_Ref_Units,,L$51)=$E60),INDEX(Model_Inputs_Ref_Units,,L$52)),0)","v":0},{"$f":"IFERROR(SUMPRODUCT(--(INDEX(Model_Inputs_Ref_Units,,M$51)=$E60),INDEX(Model_Inputs_Ref_Units,,M$52)),0)","v":0},{"$f":"IFERROR(SUMPRODUCT(--(INDEX(Model_Inputs_Ref_Units,,N$51)=$E60),INDEX(Model_Inputs_Ref_Units,,N$52)),0)","v":0},{"$f":"IFERROR(SUMPRODUCT(--(INDEX(Model_Inputs_Ref_Units,,O$51)=$E60),INDEX(Model_Inputs_Ref_Units,,O$52)),0)","v":0},{"$f":"IFERROR(SUMPRODUCT(--(INDEX(Model_Inputs_Ref_Units,,P$51)=$E60),INDEX(Model_Inputs_Ref_Units,,P$52)),0)","v":0},{"$f":"IFERROR(SUMPRODUCT(--(INDEX(Model_Inputs_Ref_Units,,Q$51)=$E60),INDEX(Model_Inputs_Ref_Units,,Q$52)),0)","v":0},{"$f":"IFERROR(SUMPRODUCT(--(INDEX(Model_Inputs_Ref_Units,,R$51)=$E60),INDEX(Model_Inputs_Ref_Units,,R$52)),0)","v":0},{"$f":"IFERROR(SUMPRODUCT(--(INDEX(Model_Inputs_Ref_Units,,S$51)=$E60),INDEX(Model_Inputs_Ref_Units,,S$52)),0)","v":0},{"$f":"IFERROR(SUMPRODUCT(--(INDEX(Model_Inputs_Ref_Units,,T$51)=$E60),INDEX(Model_Inputs_Ref_Units,,T$52)),0)","v":0},{"$f":"IFERROR(SUMPRODUCT(--(INDEX(Model_Inputs_Ref_Units,,U$51)=$E60),INDEX(Model_Inputs_Ref_Units,,U$52)),0)","v":0},{"$f":"IFERROR(SUMPRODUCT(--(INDEX(Model_Inputs_Ref_Units,,V$51)=$E60),INDEX(Model_Inputs_Ref_Units,,V$52)),0)","v":0},{"$f":"IFERROR(SUMPRODUCT(--(INDEX(Model_Inputs_Ref_Units,,W$51)=$E60),INDEX(Model_Inputs_Ref_Units,,W$52)),0)","v":0},{"$f":"IFERROR(SUMPRODUCT(--(INDEX(Model_Inputs_Ref_Units,,X$51)=$E60),INDEX(Model_Inputs_Ref_Units,,X$52)),0)","v":0},{"$f":"IFERROR(SUMPRODUCT(--(INDEX(Model_Inputs_Ref_Units,,Y$51)=$E60),INDEX(Model_Inputs_Ref_Units,,Y$52)),0)","v":0},{"$f":"IFERROR(SUMPRODUCT(--(INDEX(Model_Inputs_Ref_Units,,Z$51)=$E60),INDEX(Model_Inputs_Ref_Units,,Z$52)),0)","v":0},{"$f":"IFERROR(SUMPRODUCT(--(INDEX(Model_Inputs_Ref_Units,,AA$51)=$E60),INDEX(Model_Inputs_Ref_Units,,AA$52)),0)","v":0},{"$f":"IFERROR(SUMPRODUCT(--(INDEX(Model_Inputs_Ref_Units,,AB$51)=$E60),INDEX(Model_Inputs_Ref_Units,,AB$52)),0)","v":0},{"$f":"IFERROR(SUMPRODUCT(--(INDEX(Model_Inputs_Ref_Units,,AC$51)=$E60),INDEX(Model_Inputs_Ref_Units,,AC$52)),0)","v":0},{"$f":"IFERROR(SUMPRODUCT(--(INDEX(Model_Inputs_Ref_Units,,AD$51)=$E60),INDEX(Model_Inputs_Ref_Units,,AD$52)),0)","v":0},{"$f":"IFERROR(SUMPRODUCT(--(INDEX(Model_Inputs_Ref_Units,,AE$51)=$E60),INDEX(Model_Inputs_Ref_Units,,AE$52)),0)","v":0},{"$f":"IFERROR(SUMPRODUCT(--(INDEX(Model_Inputs_Ref_Units,,AF$51)=$E60),INDEX(Model_Inputs_Ref_Units,,AF$52)),0)","v":0},{"$f":"IFERROR(SUMPRODUCT(--(INDEX(Model_Inputs_Ref_Units,,AG$51)=$E60),INDEX(Model_Inputs_Ref_Units,,AG$52)),0)","v":0},{"$f":"IFERROR(SUMPRODUCT(--(INDEX(Model_Inputs_Ref_Units,,AH$51)=$E60),INDEX(Model_Inputs_Ref_Units,,AH$52)),0)","v":0},{"$f":"IFERROR(SUMPRODUCT(--(INDEX(Model_Inputs_Ref_Units,,AI$51)=$E60),INDEX(Model_Inputs_Ref_Units,,AI$52)),0)","v":0},{"$f":"IFERROR(SUMPRODUCT(--(INDEX(Model_Inputs_Ref_Units,,AJ$51)=$E60),INDEX(Model_Inputs_Ref_Units,,AJ$52)),0)","v":0},{"$f":"IFERROR(SUMPRODUCT(--(INDEX(Model_Inputs_Ref_Units,,AK$51)=$E60),INDEX(Model_Inputs_Ref_Units,,AK$52)),0)","v":0},{"$f":"IFERROR(SUMPRODUCT(--(INDEX(Model_Inputs_Ref_Units,,AL$51)=$E60),INDEX(Model_Inputs_Ref_Units,,AL$52)),0)","v":0},{"$f":"IFERROR(SUMPRODUCT(--(INDEX(Model_Inputs_Ref_Units,,AM$51)=$E60),INDEX(Model_Inputs_Ref_Units,,AM$52)),0)","v":0},{"$f":"IFERROR(SUMPRODUCT(--(INDEX(Model_Inputs_Ref_Units,,AN$51)=$E60),INDEX(Model_Inputs_Ref_Units,,AN$52)),0)","v":0},{"$f":"IFERROR(SUMPRODUCT(--(INDEX(Model_Inputs_Ref_Units,,AO$51)=$E60),INDEX(Model_Inputs_Ref_Units,,AO$52)),0)","v":0},{"$f":"IFERROR(SUMPRODUCT(--(INDEX(Model_Inputs_Ref_Units,,AP$51)=$E60),INDEX(Model_Inputs_Ref_Units,,AP$52)),0)","v":0},{"$f":"IFERROR(SUMPRODUCT(--(INDEX(Model_Inputs_Ref_Units,,AQ$51)=$E60),INDEX(Model_Inputs_Ref_Units,,AQ$52)),0)","v":0},{"$f":"IFERROR(SUMPRODUCT(--(INDEX(Model_Inputs_Ref_Units,,AR$51)=$E60),INDEX(Model_Inputs_Ref_Units,,AR$52)),0)","v":0},{"$f":"IFERROR(SUMPRODUCT(--(INDEX(Model_Inputs_Ref_Units,,AS$51)=$E60),INDEX(Model_Inputs_Ref_Units,,AS$52)),0)","v":0},{"$f":"IFERROR(SUMPRODUCT(--(INDEX(Model_Inputs_Ref_Units,,AT$51)=$E60),INDEX(Model_Inputs_Ref_Units,,AT$52)),0)","v":0},{"$f":"IFERROR(SUMPRODUCT(--(INDEX(Model_Inputs_Ref_Units,,AU$51)=$E60),INDEX(Model_Inputs_Ref_Units,,AU$52)),0)","v":0},{"$f":"IFERROR(SUMPRODUCT(--(INDEX(Model_Inputs_Ref_Units,,AV$51)=$E60),INDEX(Model_Inputs_Ref_Units,,AV$52)),0)","v":0},{"$f":"IFERROR(SUMPRODUCT(--(INDEX(Model_Inputs_Ref_Units,,AW$51)=$E60),INDEX(Model_Inputs_Ref_Units,,AW$52)),0)","v":0},{"$f":"IFERROR(SUMPRODUCT(--(INDEX(Model_Inputs_Ref_Units,,AX$51)=$E60),INDEX(Model_Inputs_Ref_Units,,AX$52)),0)","v":0},{"$f":"IFERROR(SUMPRODUCT(--(INDEX(Model_Inputs_Ref_Units,,AY$51)=$E60),INDEX(Model_Inputs_Ref_Units,,AY$52)),0)","v":0},{"$f":"IFERROR(SUMPRODUCT(--(INDEX(Model_Inputs_Ref_Units,,AZ$51)=$E60),INDEX(Model_Inputs_Ref_Units,,AZ$52)),0)","v":0},{"$f":"IFERROR(SUMPRODUCT(--(INDEX(Model_Inputs_Ref_Units,,BA$51)=$E60),INDEX(Model_Inputs_Ref_Units,,BA$52)),0)","v":0},{"$f":"IFERROR(SUMPRODUCT(--(INDEX(Model_Inputs_Ref_Units,,BB$51)=$E60),INDEX(Model_Inputs_Ref_Units,,BB$52)),0)","v":0},{"$f":"IFERROR(SUMPRODUCT(--(INDEX(Model_Inputs_Ref_Units,,BC$51)=$E60),INDEX(Model_Inputs_Ref_Units,,BC$52)),0)","v":0},{"$f":"IFERROR(SUMPRODUCT(--(INDEX(Model_Inputs_Ref_Units,,BD$51)=$E60),INDEX(Model_Inputs_Ref_Units,,BD$52)),0)","v":0},{"$f":"IFERROR(SUMPRODUCT(--(INDEX(Model_Inputs_Ref_Units,,BE$51)=$E60),INDEX(Model_Inputs_Ref_Units,,BE$52)),0)","v":0},{"$f":"IFERROR(SUMPRODUCT(--(INDEX(Model_Inputs_Ref_Units,,BF$51)=$E60),INDEX(Model_Inputs_Ref_Units,,BF$52)),0)","v":0},{"$f":"IFERROR(SUMPRODUCT(--(INDEX(Model_Inputs_Ref_Units,,BG$51)=$E60),INDEX(Model_Inputs_Ref_Units,,BG$52)),0)","v":0},{"$f":"IFERROR(SUMPRODUCT(--(INDEX(Model_Inputs_Ref_Units,,BH$51)=$E60),INDEX(Model_Inputs_Ref_Units,,BH$52)),0)","v":0},{"$f":"IFERROR(SUMPRODUCT(--(INDEX(Model_Inputs_Ref_Units,,BI$51)=$E60),INDEX(Model_Inputs_Ref_Units,,BI$52)),0)","v":0},{"$f":"IFERROR(SUMPRODUCT(--(INDEX(Model_Inputs_Ref_Units,,BJ$51)=$E60),INDEX(Model_Inputs_Ref_Units,,BJ$52)),0)","v":0},{"$f":"IFERROR(SUMPRODUCT(--(INDEX(Model_Inputs_Ref_Units,,BK$51)=$E60),INDEX(Model_Inputs_Ref_Units,,BK$52)),0)","v":0},{"$f":"IFERROR(SUMPRODUCT(--(INDEX(Model_Inputs_Ref_Units,,BL$51)=$E60),INDEX(Model_Inputs_Ref_Units,,BL$52)),0)","v":0},{"$f":"IFERROR(SUMPRODUCT(--(INDEX(Model_Inputs_Ref_Units,,BM$51)=$E60),INDEX(Model_Inputs_Ref_Units,,BM$52)),0)","v":0},{"$f":"IFERROR(SUMPRODUCT(--(INDEX(Model_Inputs_Ref_Units,,BN$51)=$E60),INDEX(Model_Inputs_Ref_Units,,BN$52)),0)","v":0},{"$f":"IFERROR(SUMPRODUCT(--(INDEX(Model_Inputs_Ref_Units,,BO$51)=$E60),INDEX(Model_Inputs_Ref_Units,,BO$52)),0)","v":0},{"$f":"IFERROR(SUMPRODUCT(--(INDEX(Model_Inputs_Ref_Units,,BP$51)=$E60),INDEX(Model_Inputs_Ref_Units,,BP$52)),0)","v":0},{"$f":"IFERROR(SUMPRODUCT(--(INDEX(Model_Inputs_Ref_Units,,BQ$51)=$E60),INDEX(Model_Inputs_Ref_Units,,BQ$52)),0)","v":0},{"$f":"IFERROR(SUMPRODUCT(--(INDEX(Model_Inputs_Ref_Units,,BR$51)=$E60),INDEX(Model_Inputs_Ref_Units,,BR$52)),0)","v":0},{"$f":"IFERROR(SUMPRODUCT(--(INDEX(Model_Inputs_Ref_Units,,BS$51)=$E60),INDEX(Model_Inputs_Ref_Units,,BS$52)),0)","v":0},{"$f":"IFERROR(SUMPRODUCT(--(INDEX(Model_Inputs_Ref_Units,,BT$51)=$E60),INDEX(Model_Inputs_Ref_Units,,BT$52)),0)","v":0},{"$f":"IFERROR(SUMPRODUCT(--(INDEX(Model_Inputs_Ref_Units,,BU$51)=$E60),INDEX(Model_Inputs_Ref_Units,,BU$52)),0)","v":0},{"$f":"IFERROR(SUMPRODUCT(--(INDEX(Model_Inputs_Ref_Units,,BV$51)=$E60),INDEX(Model_Inputs_Ref_Units,,BV$52)),0)","v":0},{"$f":"IFERROR(SUMPRODUCT(--(INDEX(Model_Inputs_Ref_Units,,BW$51)=$E60),INDEX(Model_Inputs_Ref_Units,,BW$52)),0)","v":0},{"$f":"IFERROR(SUMPRODUCT(--(INDEX(Model_Inputs_Ref_Units,,BX$51)=$E60),INDEX(Model_Inputs_Ref_Units,,BX$52)),0)","v":0},{"$f":"IFERROR(SUMPRODUCT(--(INDEX(Model_Inputs_Ref_Units,,BY$51)=$E60),INDEX(Model_Inputs_Ref_Units,,BY$52)),0)","v":0},{"$f":"IFERROR(SUMPRODUCT(--(INDEX(Model_Inputs_Ref_Units,,BZ$51)=$E60),INDEX(Model_Inputs_Ref_Units,,BZ$52)),0)","v":0},{"$f":"IFERROR(SUMPRODUCT(--(INDEX(Model_Inputs_Ref_Units,,CA$51)=$E60),INDEX(Model_Inputs_Ref_Units,,CA$52)),0)","v":0},{"$f":"IFERROR(SUMPRODUCT(--(INDEX(Model_Inputs_Ref_Units,,CB$51)=$E60),INDEX(Model_Inputs_Ref_Units,,CB$52)),0)","v":0},{"$f":"IFERROR(SUMPRODUCT(--(INDEX(Model_Inputs_Ref_Units,,CC$51)=$E60),INDEX(Model_Inputs_Ref_Units,,CC$52)),0)","v":0},{"$f":"IFERROR(SUMPRODUCT(--(INDEX(Model_Inputs_Ref_Units,,CD$51)=$E60),INDEX(Model_Inputs_Ref_Units,,CD$52)),0)","v":0},{"$f":"IFERROR(SUMPRODUCT(--(INDEX(Model_Inputs_Ref_Units,,CE$51)=$E60),INDEX(Model_Inputs_Ref_Units,,CE$52)),0)","v":0},{"$f":"IFERROR(SUMPRODUCT(--(INDEX(Model_Inputs_Ref_Units,,CF$51)=$E60),INDEX(Model_Inputs_Ref_Units,,CF$52)),0)","v":0},{"$f":"IFERROR(SUMPRODUCT(--(INDEX(Model_Inputs_Ref_Units,,CG$51)=$E60),INDEX(Model_Inputs_Ref_Units,,CG$52)),0)","v":0},{"$f":"IFERROR(SUMPRODUCT(--(INDEX(Model_Inputs_Ref_Units,,CH$51)=$E60),INDEX(Model_Inputs_Ref_Units,,CH$52)),0)","v":0},{"$f":"IFERROR(SUMPRODUCT(--(INDEX(Model_Inputs_Ref_Units,,CI$51)=$E60),INDEX(Model_Inputs_Ref_Units,,CI$52)),0)","v":0},{"$f":"IFERROR(SUMPRODUCT(--(INDEX(Model_Inputs_Ref_Units,,CJ$51)=$E60),INDEX(Model_Inputs_Ref_Units,,CJ$52)),0)","v":0},{"$f":"IFERROR(SUMPRODUCT(--(INDEX(Model_Inputs_Ref_Units,,CK$51)=$E60),INDEX(Model_Inputs_Ref_Units,,CK$52)),0)","v":0},{"$f":"IFERROR(SUMPRODUCT(--(INDEX(Model_Inputs_Ref_Units,,CL$51)=$E60),INDEX(Model_Inputs_Ref_Units,,CL$52)),0)","v":0},{"$f":"IFERROR(SUMPRODUCT(--(INDEX(Model_Inputs_Ref_Units,,CM$51)=$E60),INDEX(Model_Inputs_Ref_Units,,CM$52)),0)","v":0},{"$f":"IFERROR(SUMPRODUCT(--(INDEX(Model_Inputs_Ref_Units,,CN$51)=$E60),INDEX(Model_Inputs_Ref_Units,,CN$52)),0)","v":0},{"$f":"IFERROR(SUMPRODUCT(--(INDEX(Model_Inputs_Ref_Units,,CO$51)=$E60),INDEX(Model_Inputs_Ref_Units,,CO$52)),0)","v":0},{"$f":"IFERROR(SUMPRODUCT(--(INDEX(Model_Inputs_Ref_Units,,CP$51)=$E60),INDEX(Model_Inputs_Ref_Units,,CP$52)),0)","v":0},{"$f":"IFERROR(SUMPRODUCT(--(INDEX(Model_Inputs_Ref_Units,,CQ$51)=$E60),INDEX(Model_Inputs_Ref_Units,,CQ$52)),0)","v":0},{"$f":"IFERROR(SUMPRODUCT(--(INDEX(Model_Inputs_Ref_Units,,CR$51)=$E60),INDEX(Model_Inputs_Ref_Units,,CR$52)),0)","v":0},{"$f":"IFERROR(SUMPRODUCT(--(INDEX(Model_Inputs_Ref_Units,,CS$51)=$E60),INDEX(Model_Inputs_Ref_Units,,CS$52)),0)","v":0},{"$f":"IFERROR(SUMPRODUCT(--(INDEX(Model_Inputs_Ref_Units,,CT$51)=$E60),INDEX(Model_Inputs_Ref_Units,,CT$52)),0)","v":0},{"$f":"IFERROR(SUMPRODUCT(--(INDEX(Model_Inputs_Ref_Units,,CU$51)=$E60),INDEX(Model_Inputs_Ref_Units,,CU$52)),0)","v":0},{"$f":"IFERROR(SUMPRODUCT(--(INDEX(Model_Inputs_Ref_Units,,CV$51)=$E60),INDEX(Model_Inputs_Ref_Units,,CV$52)),0)","v":0},{"$f":"IFERROR(SUMPRODUCT(--(INDEX(Model_Inputs_Ref_Units,,CW$51)=$E60),INDEX(Model_Inputs_Ref_Units,,CW$52)),0)","v":0},{"$f":"IFERROR(SUMPRODUCT(--(INDEX(Model_Inputs_Ref_Units,,CX$51)=$E60),INDEX(Model_Inputs_Ref_Units,,CX$52)),0)","v":0},{"$f":"IFERROR(SUMPRODUCT(--(INDEX(Model_Inputs_Ref_Units,,CY$51)=$E60),INDEX(Model_Inputs_Ref_Units,,CY$52)),0)","v":0},{"$f":"IFERROR(SUMPRODUCT(--(INDEX(Model_Inputs_Ref_Units,,CZ$51)=$E60),INDEX(Model_Inputs_Ref_Units,,CZ$52)),0)","v":0},{"$f":"IFERROR(SUMPRODUCT(--(INDEX(Model_Inputs_Ref_Units,,DA$51)=$E60),INDEX(Model_Inputs_Ref_Units,,DA$52)),0)","v":0},{"$f":"IFERROR(SUMPRODUCT(--(INDEX(Model_Inputs_Ref_Units,,DB$51)=$E60),INDEX(Model_Inputs_Ref_Units,,DB$52)),0)","v":0},{"$f":"IFERROR(SUMPRODUCT(--(INDEX(Model_Inputs_Ref_Units,,DC$51)=$E60),INDEX(Model_Inputs_Ref_Units,,DC$52)),0)","v":0},{"$f":"IFERROR(SUMPRODUCT(--(INDEX(Model_Inputs_Ref_Units,,DD$51)=$E60),INDEX(Model_Inputs_Ref_Units,,DD$52)),0)","v":0},{"$f":"IFERROR(SUMPRODUCT(--(INDEX(Model_Inputs_Ref_Units,,DE$51)=$E60),INDEX(Model_Inputs_Ref_Units,,DE$52)),0)","v":0},{"$f":"IFERROR(SUMPRODUCT(--(INDEX(Model_Inputs_Ref_Units,,DF$51)=$E60),INDEX(Model_Inputs_Ref_Units,,DF$52)),0)","v":0}]
[null,null,{"$error":"#DIV/0!"},null,{"$f":"IFERROR(INDEX(Ref_Data,1,F61),\"\")","v":0},8,0,0,0,0,{"$f":"IFERROR(SUMPRODUCT(--(INDEX(Model_Inputs_Ref_Units,,K$51)=$E61),INDEX(Model_Inputs_Ref_Units,,K$52)),0)","v":0},{"$f":"IFERROR(SUMPRODUCT(--(INDEX(Model_Inputs_Ref_Units,,L$51)=$E61),INDEX(Model_Inputs_Ref_Units,,L$52)),0)","v":0},{"$f":"IFERROR(SUMPRODUCT(--(INDEX(Model_Inputs_Ref_Units,,M$51)=$E61),INDEX(Model_Inputs_Ref_Units,,M$52)),0)","v":0},{"$f":"IFERROR(SUMPRODUCT(--(INDEX(Model_Inputs_Ref_Units,,N$51)=$E61),INDEX(Model_Inputs_Ref_Units,,N$52)),0)","v":0},{"$f":"IFERROR(SUMPRODUCT(--(INDEX(Model_Inputs_Ref_Units,,O$51)=$E61),INDEX(Model_Inputs_Ref_Units,,O$52)),0)","v":0},{"$f":"IFERROR(SUMPRODUCT(--(INDEX(Model_Inputs_Ref_Units,,P$51)=$E61),INDEX(Model_Inputs_Ref_Units,,P$52)),0)","v":0},{"$f":"IFERROR(SUMPRODUCT(--(INDEX(Model_Inputs_Ref_Units,,Q$51)=$E61),INDEX(Model_Inputs_Ref_Units,,Q$52)),0)","v":0},{"$f":"IFERROR(SUMPRODUCT(--(INDEX(Model_Inputs_Ref_Units,,R$51)=$E61),INDEX(Model_Inputs_Ref_Units,,R$52)),0)","v":0},{"$f":"IFERROR(SUMPRODUCT(--(INDEX(Model_Inputs_Ref_Units,,S$51)=$E61),INDEX(Model_Inputs_Ref_Units,,S$52)),0)","v":0},{"$f":"IFERROR(SUMPRODUCT(--(INDEX(Model_Inputs_Ref_Units,,T$51)=$E61),INDEX(Model_Inputs_Ref_Units,,T$52)),0)","v":0},{"$f":"IFERROR(SUMPRODUCT(--(INDEX(Model_Inputs_Ref_Units,,U$51)=$E61),INDEX(Model_Inputs_Ref_Units,,U$52)),0)","v":0},{"$f":"IFERROR(SUMPRODUCT(--(INDEX(Model_Inputs_Ref_Units,,V$51)=$E61),INDEX(Model_Inputs_Ref_Units,,V$52)),0)","v":0},{"$f":"IFERROR(SUMPRODUCT(--(INDEX(Model_Inputs_Ref_Units,,W$51)=$E61),INDEX(Model_Inputs_Ref_Units,,W$52)),0)","v":0},{"$f":"IFERROR(SUMPRODUCT(--(INDEX(Model_Inputs_Ref_Units,,X$51)=$E61),INDEX(Model_Inputs_Ref_Units,,X$52)),0)","v":0},{"$f":"IFERROR(SUMPRODUCT(--(INDEX(Model_Inputs_Ref_Units,,Y$51)=$E61),INDEX(Model_Inputs_Ref_Units,,Y$52)),0)","v":0},{"$f":"IFERROR(SUMPRODUCT(--(INDEX(Model_Inputs_Ref_Units,,Z$51)=$E61),INDEX(Model_Inputs_Ref_Units,,Z$52)),0)","v":0},{"$f":"IFERROR(SUMPRODUCT(--(INDEX(Model_Inputs_Ref_Units,,AA$51)=$E61),INDEX(Model_Inputs_Ref_Units,,AA$52)),0)","v":0},{"$f":"IFERROR(SUMPRODUCT(--(INDEX(Model_Inputs_Ref_Units,,AB$51)=$E61),INDEX(Model_Inputs_Ref_Units,,AB$52)),0)","v":0},{"$f":"IFERROR(SUMPRODUCT(--(INDEX(Model_Inputs_Ref_Units,,AC$51)=$E61),INDEX(Model_Inputs_Ref_Units,,AC$52)),0)","v":0},{"$f":"IFERROR(SUMPRODUCT(--(INDEX(Model_Inputs_Ref_Units,,AD$51)=$E61),INDEX(Model_Inputs_Ref_Units,,AD$52)),0)","v":0},{"$f":"IFERROR(SUMPRODUCT(--(INDEX(Model_Inputs_Ref_Units,,AE$51)=$E61),INDEX(Model_Inputs_Ref_Units,,AE$52)),0)","v":0},{"$f":"IFERROR(SUMPRODUCT(--(INDEX(Model_Inputs_Ref_Units,,AF$51)=$E61),INDEX(Model_Inputs_Ref_Units,,AF$52)),0)","v":0},{"$f":"IFERROR(SUMPRODUCT(--(INDEX(Model_Inputs_Ref_Units,,AG$51)=$E61),INDEX(Model_Inputs_Ref_Units,,AG$52)),0)","v":0},{"$f":"IFERROR(SUMPRODUCT(--(INDEX(Model_Inputs_Ref_Units,,AH$51)=$E61),INDEX(Model_Inputs_Ref_Units,,AH$52)),0)","v":0},{"$f":"IFERROR(SUMPRODUCT(--(INDEX(Model_Inputs_Ref_Units,,AI$51)=$E61),INDEX(Model_Inputs_Ref_Units,,AI$52)),0)","v":0},{"$f":"IFERROR(SUMPRODUCT(--(INDEX(Model_Inputs_Ref_Units,,AJ$51)=$E61),INDEX(Model_Inputs_Ref_Units,,AJ$52)),0)","v":0},{"$f":"IFERROR(SUMPRODUCT(--(INDEX(Model_Inputs_Ref_Units,,AK$51)=$E61),INDEX(Model_Inputs_Ref_Units,,AK$52)),0)","v":0},{"$f":"IFERROR(SUMPRODUCT(--(INDEX(Model_Inputs_Ref_Units,,AL$51)=$E61),INDEX(Model_Inputs_Ref_Units,,AL$52)),0)","v":0},{"$f":"IFERROR(SUMPRODUCT(--(INDEX(Model_Inputs_Ref_Units,,AM$51)=$E61),INDEX(Model_Inputs_Ref_Units,,AM$52)),0)","v":0},{"$f":"IFERROR(SUMPRODUCT(--(INDEX(Model_Inputs_Ref_Units,,AN$51)=$E61),INDEX(Model_Inputs_Ref_Units,,AN$52)),0)","v":0},{"$f":"IFERROR(SUMPRODUCT(--(INDEX(Model_Inputs_Ref_Units,,AO$51)=$E61),INDEX(Model_Inputs_Ref_Units,,AO$52)),0)","v":0},{"$f":"IFERROR(SUMPRODUCT(--(INDEX(Model_Inputs_Ref_Units,,AP$51)=$E61),INDEX(Model_Inputs_Ref_Units,,AP$52)),0)","v":0},{"$f":"IFERROR(SUMPRODUCT(--(INDEX(Model_Inputs_Ref_Units,,AQ$51)=$E61),INDEX(Model_Inputs_Ref_Units,,AQ$52)),0)","v":0},{"$f":"IFERROR(SUMPRODUCT(--(INDEX(Model_Inputs_Ref_Units,,AR$51)=$E61),INDEX(Model_Inputs_Ref_Units,,AR$52)),0)","v":0},{"$f":"IFERROR(SUMPRODUCT(--(INDEX(Model_Inputs_Ref_Units,,AS$51)=$E61),INDEX(Model_Inputs_Ref_Units,,AS$52)),0)","v":0},{"$f":"IFERROR(SUMPRODUCT(--(INDEX(Model_Inputs_Ref_Units,,AT$51)=$E61),INDEX(Model_Inputs_Ref_Units,,AT$52)),0)","v":0},{"$f":"IFERROR(SUMPRODUCT(--(INDEX(Model_Inputs_Ref_Units,,AU$51)=$E61),INDEX(Model_Inputs_Ref_Units,,AU$52)),0)","v":0},{"$f":"IFERROR(SUMPRODUCT(--(INDEX(Model_Inputs_Ref_Units,,AV$51)=$E61),INDEX(Model_Inputs_Ref_Units,,AV$52)),0)","v":0},{"$f":"IFERROR(SUMPRODUCT(--(INDEX(Model_Inputs_Ref_Units,,AW$51)=$E61),INDEX(Model_Inputs_Ref_Units,,AW$52)),0)","v":0},{"$f":"IFERROR(SUMPRODUCT(--(INDEX(Model_Inputs_Ref_Units,,AX$51)=$E61),INDEX(Model_Inputs_Ref_Units,,AX$52)),0)","v":0},{"$f":"IFERROR(SUMPRODUCT(--(INDEX(Model_Inputs_Ref_Units,,AY$51)=$E61),INDEX(Model_Inputs_Ref_Units,,AY$52)),0)","v":0},{"$f":"IFERROR(SUMPRODUCT(--(INDEX(Model_Inputs_Ref_Units,,AZ$51)=$E61),INDEX(Model_Inputs_Ref_Units,,AZ$52)),0)","v":0},{"$f":"IFERROR(SUMPRODUCT(--(INDEX(Model_Inputs_Ref_Units,,BA$51)=$E61),INDEX(Model_Inputs_Ref_Units,,BA$52)),0)","v":0},{"$f":"IFERROR(SUMPRODUCT(--(INDEX(Model_Inputs_Ref_Units,,BB$51)=$E61),INDEX(Model_Inputs_Ref_Units,,BB$52)),0)","v":0},{"$f":"IFERROR(SUMPRODUCT(--(INDEX(Model_Inputs_Ref_Units,,BC$51)=$E61),INDEX(Model_Inputs_Ref_Units,,BC$52)),0)","v":0},{"$f":"IFERROR(SUMPRODUCT(--(INDEX(Model_Inputs_Ref_Units,,BD$51)=$E61),INDEX(Model_Inputs_Ref_Units,,BD$52)),0)","v":0},{"$f":"IFERROR(SUMPRODUCT(--(INDEX(Model_Inputs_Ref_Units,,BE$51)=$E61),INDEX(Model_Inputs_Ref_Units,,BE$52)),0)","v":0},{"$f":"IFERROR(SUMPRODUCT(--(INDEX(Model_Inputs_Ref_Units,,BF$51)=$E61),INDEX(Model_Inputs_Ref_Units,,BF$52)),0)","v":0},{"$f":"IFERROR(SUMPRODUCT(--(INDEX(Model_Inputs_Ref_Units,,BG$51)=$E61),INDEX(Model_Inputs_Ref_Units,,BG$52)),0)","v":0},{"$f":"IFERROR(SUMPRODUCT(--(INDEX(Model_Inputs_Ref_Units,,BH$51)=$E61),INDEX(Model_Inputs_Ref_Units,,BH$52)),0)","v":0},{"$f":"IFERROR(SUMPRODUCT(--(INDEX(Model_Inputs_Ref_Units,,BI$51)=$E61),INDEX(Model_Inputs_Ref_Units,,BI$52)),0)","v":0},{"$f":"IFERROR(SUMPRODUCT(--(INDEX(Model_Inputs_Ref_Units,,BJ$51)=$E61),INDEX(Model_Inputs_Ref_Units,,BJ$52)),0)","v":0},{"$f":"IFERROR(SUMPRODUCT(--(INDEX(Model_Inputs_Ref_Units,,BK$51)=$E61),INDEX(Model_Inputs_Ref_Units,,BK$52)),0)","v":0},{"$f":"IFERROR(SUMPRODUCT(--(INDEX(Model_Inputs_Ref_Units,,BL$51)=$E61),INDEX(Model_Inputs_Ref_Units,,BL$52)),0)","v":0},{"$f":"IFERROR(SUMPRODUCT(--(INDEX(Model_Inputs_Ref_Units,,BM$51)=$E61),INDEX(Model_Inputs_Ref_Units,,BM$52)),0)","v":0},{"$f":"IFERROR(SUMPRODUCT(--(INDEX(Model_Inputs_Ref_Units,,BN$51)=$E61),INDEX(Model_Inputs_Ref_Units,,BN$52)),0)","v":0},{"$f":"IFERROR(SUMPRODUCT(--(INDEX(Model_Inputs_Ref_Units,,BO$51)=$E61),INDEX(Model_Inputs_Ref_Units,,BO$52)),0)","v":0},{"$f":"IFERROR(SUMPRODUCT(--(INDEX(Model_Inputs_Ref_Units,,BP$51)=$E61),INDEX(Model_Inputs_Ref_Units,,BP$52)),0)","v":0},{"$f":"IFERROR(SUMPRODUCT(--(INDEX(Model_Inputs_Ref_Units,,BQ$51)=$E61),INDEX(Model_Inputs_Ref_Units,,BQ$52)),0)","v":0},{"$f":"IFERROR(SUMPRODUCT(--(INDEX(Model_Inputs_Ref_Units,,BR$51)=$E61),INDEX(Model_Inputs_Ref_Units,,BR$52)),0)","v":0},{"$f":"IFERROR(SUMPRODUCT(--(INDEX(Model_Inputs_Ref_Units,,BS$51)=$E61),INDEX(Model_Inputs_Ref_Units,,BS$52)),0)","v":0},{"$f":"IFERROR(SUMPRODUCT(--(INDEX(Model_Inputs_Ref_Units,,BT$51)=$E61),INDEX(Model_Inputs_Ref_Units,,BT$52)),0)","v":0},{"$f":"IFERROR(SUMPRODUCT(--(INDEX(Model_Inputs_Ref_Units,,BU$51)=$E61),INDEX(Model_Inputs_Ref_Units,,BU$52)),0)","v":0},{"$f":"IFERROR(SUMPRODUCT(--(INDEX(Model_Inputs_Ref_Units,,BV$51)=$E61),INDEX(Model_Inputs_Ref_Units,,BV$52)),0)","v":0},{"$f":"IFERROR(SUMPRODUCT(--(INDEX(Model_Inputs_Ref_Units,,BW$51)=$E61),INDEX(Model_Inputs_Ref_Units,,BW$52)),0)","v":0},{"$f":"IFERROR(SUMPRODUCT(--(INDEX(Model_Inputs_Ref_Units,,BX$51)=$E61),INDEX(Model_Inputs_Ref_Units,,BX$52)),0)","v":0},{"$f":"IFERROR(SUMPRODUCT(--(INDEX(Model_Inputs_Ref_Units,,BY$51)=$E61),INDEX(Model_Inputs_Ref_Units,,BY$52)),0)","v":0},{"$f":"IFERROR(SUMPRODUCT(--(INDEX(Model_Inputs_Ref_Units,,BZ$51)=$E61),INDEX(Model_Inputs_Ref_Units,,BZ$52)),0)","v":0},{"$f":"IFERROR(SUMPRODUCT(--(INDEX(Model_Inputs_Ref_Units,,CA$51)=$E61),INDEX(Model_Inputs_Ref_Units,,CA$52)),0)","v":0},{"$f":"IFERROR(SUMPRODUCT(--(INDEX(Model_Inputs_Ref_Units,,CB$51)=$E61),INDEX(Model_Inputs_Ref_Units,,CB$52)),0)","v":0},{"$f":"IFERROR(SUMPRODUCT(--(INDEX(Model_Inputs_Ref_Units,,CC$51)=$E61),INDEX(Model_Inputs_Ref_Units,,CC$52)),0)","v":0},{"$f":"IFERROR(SUMPRODUCT(--(INDEX(Model_Inputs_Ref_Units,,CD$51)=$E61),INDEX(Model_Inputs_Ref_Units,,CD$52)),0)","v":0},{"$f":"IFERROR(SUMPRODUCT(--(INDEX(Model_Inputs_Ref_Units,,CE$51)=$E61),INDEX(Model_Inputs_Ref_Units,,CE$52)),0)","v":0},{"$f":"IFERROR(SUMPRODUCT(--(INDEX(Model_Inputs_Ref_Units,,CF$51)=$E61),INDEX(Model_Inputs_Ref_Units,,CF$52)),0)","v":0},{"$f":"IFERROR(SUMPRODUCT(--(INDEX(Model_Inputs_Ref_Units,,CG$51)=$E61),INDEX(Model_Inputs_Ref_Units,,CG$52)),0)","v":0},{"$f":"IFERROR(SUMPRODUCT(--(INDEX(Model_Inputs_Ref_Units,,CH$51)=$E61),INDEX(Model_Inputs_Ref_Units,,CH$52)),0)","v":0},{"$f":"IFERROR(SUMPRODUCT(--(INDEX(Model_Inputs_Ref_Units,,CI$51)=$E61),INDEX(Model_Inputs_Ref_Units,,CI$52)),0)","v":0},{"$f":"IFERROR(SUMPRODUCT(--(INDEX(Model_Inputs_Ref_Units,,CJ$51)=$E61),INDEX(Model_Inputs_Ref_Units,,CJ$52)),0)","v":0},{"$f":"IFERROR(SUMPRODUCT(--(INDEX(Model_Inputs_Ref_Units,,CK$51)=$E61),INDEX(Model_Inputs_Ref_Units,,CK$52)),0)","v":0},{"$f":"IFERROR(SUMPRODUCT(--(INDEX(Model_Inputs_Ref_Units,,CL$51)=$E61),INDEX(Model_Inputs_Ref_Units,,CL$52)),0)","v":0},{"$f":"IFERROR(SUMPRODUCT(--(INDEX(Model_Inputs_Ref_Units,,CM$51)=$E61),INDEX(Model_Inputs_Ref_Units,,CM$52)),0)","v":0},{"$f":"IFERROR(SUMPRODUCT(--(INDEX(Model_Inputs_Ref_Units,,CN$51)=$E61),INDEX(Model_Inputs_Ref_Units,,CN$52)),0)","v":0},{"$f":"IFERROR(SUMPRODUCT(--(INDEX(Model_Inputs_Ref_Units,,CO$51)=$E61),INDEX(Model_Inputs_Ref_Units,,CO$52)),0)","v":0},{"$f":"IFERROR(SUMPRODUCT(--(INDEX(Model_Inputs_Ref_Units,,CP$51)=$E61),INDEX(Model_Inputs_Ref_Units,,CP$52)),0)","v":0},{"$f":"IFERROR(SUMPRODUCT(--(INDEX(Model_Inputs_Ref_Units,,CQ$51)=$E61),INDEX(Model_Inputs_Ref_Units,,CQ$52)),0)","v":0},{"$f":"IFERROR(SUMPRODUCT(--(INDEX(Model_Inputs_Ref_Units,,CR$51)=$E61),INDEX(Model_Inputs_Ref_Units,,CR$52)),0)","v":0},{"$f":"IFERROR(SUMPRODUCT(--(INDEX(Model_Inputs_Ref_Units,,CS$51)=$E61),INDEX(Model_Inputs_Ref_Units,,CS$52)),0)","v":0},{"$f":"IFERROR(SUMPRODUCT(--(INDEX(Model_Inputs_Ref_Units,,CT$51)=$E61),INDEX(Model_Inputs_Ref_Units,,CT$52)),0)","v":0},{"$f":"IFERROR(SUMPRODUCT(--(INDEX(Model_Inputs_Ref_Units,,CU$51)=$E61),INDEX(Model_Inputs_Ref_Units,,CU$52)),0)","v":0},{"$f":"IFERROR(SUMPRODUCT(--(INDEX(Model_Inputs_Ref_Units,,CV$51)=$E61),INDEX(Model_Inputs_Ref_Units,,CV$52)),0)","v":0},{"$f":"IFERROR(SUMPRODUCT(--(INDEX(Model_Inputs_Ref_Units,,CW$51)=$E61),INDEX(Model_Inputs_Ref_Units,,CW$52)),0)","v":0},{"$f":"IFERROR(SUMPRODUCT(--(INDEX(Model_Inputs_Ref_Units,,CX$51)=$E61),INDEX(Model_Inputs_Ref_Units,,CX$52)),0)","v":0},{"$f":"IFERROR(SUMPRODUCT(--(INDEX(Model_Inputs_Ref_Units,,CY$51)=$E61),INDEX(Model_Inputs_Ref_Units,,CY$52)),0)","v":0},{"$f":"IFERROR(SUMPRODUCT(--(INDEX(Model_Inputs_Ref_Units,,CZ$51)=$E61),INDEX(Model_Inputs_Ref_Units,,CZ$52)),0)","v":0},{"$f":"IFERROR(SUMPRODUCT(--(INDEX(Model_Inputs_Ref_Units,,DA$51)=$E61),INDEX(Model_Inputs_Ref_Units,,DA$52)),0)","v":0},{"$f":"IFERROR(SUMPRODUCT(--(INDEX(Model_Inputs_Ref_Units,,DB$51)=$E61),INDEX(Model_Inputs_Ref_Units,,DB$52)),0)","v":0},{"$f":"IFERROR(SUMPRODUCT(--(INDEX(Model_Inputs_Ref_Units,,DC$51)=$E61),INDEX(Model_Inputs_Ref_Units,,DC$52)),0)","v":0},{"$f":"IFERROR(SUMPRODUCT(--(INDEX(Model_Inputs_Ref_Units,,DD$51)=$E61),INDEX(Model_Inputs_Ref_Units,,DD$52)),0)","v":0},{"$f":"IFERROR(SUMPRODUCT(--(INDEX(Model_Inputs_Ref_Units,,DE$51)=$E61),INDEX(Model_Inputs_Ref_Units,,DE$52)),0)","v":0},{"$f":"IFERROR(SUMPRODUCT(--(INDEX(Model_Inputs_Ref_Units,,DF$51)=$E61),INDEX(Model_Inputs_Ref_Units,,DF$52)),0)","v":0}]
[null,null,{"$error":"#DIV/0!"},null,{"$f":"IFERROR(INDEX(Ref_Data,1,F62),\"\")","v":0},9,0,0,0,0,{"$f":"IFERROR(SUMPRODUCT(--(INDEX(Model_Inputs_Ref_Units,,K$51)=$E62),INDEX(Model_Inputs_Ref_Units,,K$52)),0)","v":0},{"$f":"IFERROR(SUMPRODUCT(--(INDEX(Model_Inputs_Ref_Units,,L$51)=$E62),INDEX(Model_Inputs_Ref_Units,,L$52)),0)","v":0},{"$f":"IFERROR(SUMPRODUCT(--(INDEX(Model_Inputs_Ref_Units,,M$51)=$E62),INDEX(Model_Inputs_Ref_Units,,M$52)),0)","v":0},{"$f":"IFERROR(SUMPRODUCT(--(INDEX(Model_Inputs_Ref_Units,,N$51)=$E62),INDEX(Model_Inputs_Ref_Units,,N$52)),0)","v":0},{"$f":"IFERROR(SUMPRODUCT(--(INDEX(Model_Inputs_Ref_Units,,O$51)=$E62),INDEX(Model_Inputs_Ref_Units,,O$52)),0)","v":0},{"$f":"IFERROR(SUMPRODUCT(--(INDEX(Model_Inputs_Ref_Units,,P$51)=$E62),INDEX(Model_Inputs_Ref_Units,,P$52)),0)","v":0},{"$f":"IFERROR(SUMPRODUCT(--(INDEX(Model_Inputs_Ref_Units,,Q$51)=$E62),INDEX(Model_Inputs_Ref_Units,,Q$52)),0)","v":0},{"$f":"IFERROR(SUMPRODUCT(--(INDEX(Model_Inputs_Ref_Units,,R$51)=$E62),INDEX(Model_Inputs_Ref_Units,,R$52)),0)","v":0},{"$f":"IFERROR(SUMPRODUCT(--(INDEX(Model_Inputs_Ref_Units,,S$51)=$E62),INDEX(Model_Inputs_Ref_Units,,S$52)),0)","v":0},{"$f":"IFERROR(SUMPRODUCT(--(INDEX(Model_Inputs_Ref_Units,,T$51)=$E62),INDEX(Model_Inputs_Ref_Units,,T$52)),0)","v":0},{"$f":"IFERROR(SUMPRODUCT(--(INDEX(Model_Inputs_Ref_Units,,U$51)=$E62),INDEX(Model_Inputs_Ref_Units,,U$52)),0)","v":0},{"$f":"IFERROR(SUMPRODUCT(--(INDEX(Model_Inputs_Ref_Units,,V$51)=$E62),INDEX(Model_Inputs_Ref_Units,,V$52)),0)","v":0},{"$f":"IFERROR(SUMPRODUCT(--(INDEX(Model_Inputs_Ref_Units,,W$51)=$E62),INDEX(Model_Inputs_Ref_Units,,W$52)),0)","v":0},{"$f":"IFERROR(SUMPRODUCT(--(INDEX(Model_Inputs_Ref_Units,,X$51)=$E62),INDEX(Model_Inputs_Ref_Units,,X$52)),0)","v":0},{"$f":"IFERROR(SUMPRODUCT(--(INDEX(Model_Inputs_Ref_Units,,Y$51)=$E62),INDEX(Model_Inputs_Ref_Units,,Y$52)),0)","v":0},{"$f":"IFERROR(SUMPRODUCT(--(INDEX(Model_Inputs_Ref_Units,,Z$51)=$E62),INDEX(Model_Inputs_Ref_Units,,Z$52)),0)","v":0},{"$f":"IFERROR(SUMPRODUCT(--(INDEX(Model_Inputs_Ref_Units,,AA$51)=$E62),INDEX(Model_Inputs_Ref_Units,,AA$52)),0)","v":0},{"$f":"IFERROR(SUMPRODUCT(--(INDEX(Model_Inputs_Ref_Units,,AB$51)=$E62),INDEX(Model_Inputs_Ref_Units,,AB$52)),0)","v":0},{"$f":"IFERROR(SUMPRODUCT(--(INDEX(Model_Inputs_Ref_Units,,AC$51)=$E62),INDEX(Model_Inputs_Ref_Units,,AC$52)),0)","v":0},{"$f":"IFERROR(SUMPRODUCT(--(INDEX(Model_Inputs_Ref_Units,,AD$51)=$E62),INDEX(Model_Inputs_Ref_Units,,AD$52)),0)","v":0},{"$f":"IFERROR(SUMPRODUCT(--(INDEX(Model_Inputs_Ref_Units,,AE$51)=$E62),INDEX(Model_Inputs_Ref_Units,,AE$52)),0)","v":0},{"$f":"IFERROR(SUMPRODUCT(--(INDEX(Model_Inputs_Ref_Units,,AF$51)=$E62),INDEX(Model_Inputs_Ref_Units,,AF$52)),0)","v":0},{"$f":"IFERROR(SUMPRODUCT(--(INDEX(Model_Inputs_Ref_Units,,AG$51)=$E62),INDEX(Model_Inputs_Ref_Units,,AG$52)),0)","v":0},{"$f":"IFERROR(SUMPRODUCT(--(INDEX(Model_Inputs_Ref_Units,,AH$51)=$E62),INDEX(Model_Inputs_Ref_Units,,AH$52)),0)","v":0},{"$f":"IFERROR(SUMPRODUCT(--(INDEX(Model_Inputs_Ref_Units,,AI$51)=$E62),INDEX(Model_Inputs_Ref_Units,,AI$52)),0)","v":0},{"$f":"IFERROR(SUMPRODUCT(--(INDEX(Model_Inputs_Ref_Units,,AJ$51)=$E62),INDEX(Model_Inputs_Ref_Units,,AJ$52)),0)","v":0},{"$f":"IFERROR(SUMPRODUCT(--(INDEX(Model_Inputs_Ref_Units,,AK$51)=$E62),INDEX(Model_Inputs_Ref_Units,,AK$52)),0)","v":0},{"$f":"IFERROR(SUMPRODUCT(--(INDEX(Model_Inputs_Ref_Units,,AL$51)=$E62),INDEX(Model_Inputs_Ref_Units,,AL$52)),0)","v":0},{"$f":"IFERROR(SUMPRODUCT(--(INDEX(Model_Inputs_Ref_Units,,AM$51)=$E62),INDEX(Model_Inputs_Ref_Units,,AM$52)),0)","v":0},{"$f":"IFERROR(SUMPRODUCT(--(INDEX(Model_Inputs_Ref_Units,,AN$51)=$E62),INDEX(Model_Inputs_Ref_Units,,AN$52)),0)","v":0},{"$f":"IFERROR(SUMPRODUCT(--(INDEX(Model_Inputs_Ref_Units,,AO$51)=$E62),INDEX(Model_Inputs_Ref_Units,,AO$52)),0)","v":0},{"$f":"IFERROR(SUMPRODUCT(--(INDEX(Model_Inputs_Ref_Units,,AP$51)=$E62),INDEX(Model_Inputs_Ref_Units,,AP$52)),0)","v":0},{"$f":"IFERROR(SUMPRODUCT(--(INDEX(Model_Inputs_Ref_Units,,AQ$51)=$E62),INDEX(Model_Inputs_Ref_Units,,AQ$52)),0)","v":0},{"$f":"IFERROR(SUMPRODUCT(--(INDEX(Model_Inputs_Ref_Units,,AR$51)=$E62),INDEX(Model_Inputs_Ref_Units,,AR$52)),0)","v":0},{"$f":"IFERROR(SUMPRODUCT(--(INDEX(Model_Inputs_Ref_Units,,AS$51)=$E62),INDEX(Model_Inputs_Ref_Units,,AS$52)),0)","v":0},{"$f":"IFERROR(SUMPRODUCT(--(INDEX(Model_Inputs_Ref_Units,,AT$51)=$E62),INDEX(Model_Inputs_Ref_Units,,AT$52)),0)","v":0},{"$f":"IFERROR(SUMPRODUCT(--(INDEX(Model_Inputs_Ref_Units,,AU$51)=$E62),INDEX(Model_Inputs_Ref_Units,,AU$52)),0)","v":0},{"$f":"IFERROR(SUMPRODUCT(--(INDEX(Model_Inputs_Ref_Units,,AV$51)=$E62),INDEX(Model_Inputs_Ref_Units,,AV$52)),0)","v":0},{"$f":"IFERROR(SUMPRODUCT(--(INDEX(Model_Inputs_Ref_Units,,AW$51)=$E62),INDEX(Model_Inputs_Ref_Units,,AW$52)),0)","v":0},{"$f":"IFERROR(SUMPRODUCT(--(INDEX(Model_Inputs_Ref_Units,,AX$51)=$E62),INDEX(Model_Inputs_Ref_Units,,AX$52)),0)","v":0},{"$f":"IFERROR(SUMPRODUCT(--(INDEX(Model_Inputs_Ref_Units,,AY$51)=$E62),INDEX(Model_Inputs_Ref_Units,,AY$52)),0)","v":0},{"$f":"IFERROR(SUMPRODUCT(--(INDEX(Model_Inputs_Ref_Units,,AZ$51)=$E62),INDEX(Model_Inputs_Ref_Units,,AZ$52)),0)","v":0},{"$f":"IFERROR(SUMPRODUCT(--(INDEX(Model_Inputs_Ref_Units,,BA$51)=$E62),INDEX(Model_Inputs_Ref_Units,,BA$52)),0)","v":0},{"$f":"IFERROR(SUMPRODUCT(--(INDEX(Model_Inputs_Ref_Units,,BB$51)=$E62),INDEX(Model_Inputs_Ref_Units,,BB$52)),0)","v":0},{"$f":"IFERROR(SUMPRODUCT(--(INDEX(Model_Inputs_Ref_Units,,BC$51)=$E62),INDEX(Model_Inputs_Ref_Units,,BC$52)),0)","v":0},{"$f":"IFERROR(SUMPRODUCT(--(INDEX(Model_Inputs_Ref_Units,,BD$51)=$E62),INDEX(Model_Inputs_Ref_Units,,BD$52)),0)","v":0},{"$f":"IFERROR(SUMPRODUCT(--(INDEX(Model_Inputs_Ref_Units,,BE$51)=$E62),INDEX(Model_Inputs_Ref_Units,,BE$52)),0)","v":0},{"$f":"IFERROR(SUMPRODUCT(--(INDEX(Model_Inputs_Ref_Units,,BF$51)=$E62),INDEX(Model_Inputs_Ref_Units,,BF$52)),0)","v":0},{"$f":"IFERROR(SUMPRODUCT(--(INDEX(Model_Inputs_Ref_Units,,BG$51)=$E62),INDEX(Model_Inputs_Ref_Units,,BG$52)),0)","v":0},{"$f":"IFERROR(SUMPRODUCT(--(INDEX(Model_Inputs_Ref_Units,,BH$51)=$E62),INDEX(Model_Inputs_Ref_Units,,BH$52)),0)","v":0},{"$f":"IFERROR(SUMPRODUCT(--(INDEX(Model_Inputs_Ref_Units,,BI$51)=$E62),INDEX(Model_Inputs_Ref_Units,,BI$52)),0)","v":0},{"$f":"IFERROR(SUMPRODUCT(--(INDEX(Model_Inputs_Ref_Units,,BJ$51)=$E62),INDEX(Model_Inputs_Ref_Units,,BJ$52)),0)","v":0},{"$f":"IFERROR(SUMPRODUCT(--(INDEX(Model_Inputs_Ref_Units,,BK$51)=$E62),INDEX(Model_Inputs_Ref_Units,,BK$52)),0)","v":0},{"$f":"IFERROR(SUMPRODUCT(--(INDEX(Model_Inputs_Ref_Units,,BL$51)=$E62),INDEX(Model_Inputs_Ref_Units,,BL$52)),0)","v":0},{"$f":"IFERROR(SUMPRODUCT(--(INDEX(Model_Inputs_Ref_Units,,BM$51)=$E62),INDEX(Model_Inputs_Ref_Units,,BM$52)),0)","v":0},{"$f":"IFERROR(SUMPRODUCT(--(INDEX(Model_Inputs_Ref_Units,,BN$51)=$E62),INDEX(Model_Inputs_Ref_Units,,BN$52)),0)","v":0},{"$f":"IFERROR(SUMPRODUCT(--(INDEX(Model_Inputs_Ref_Units,,BO$51)=$E62),INDEX(Model_Inputs_Ref_Units,,BO$52)),0)","v":0},{"$f":"IFERROR(SUMPRODUCT(--(INDEX(Model_Inputs_Ref_Units,,BP$51)=$E62),INDEX(Model_Inputs_Ref_Units,,BP$52)),0)","v":0},{"$f":"IFERROR(SUMPRODUCT(--(INDEX(Model_Inputs_Ref_Units,,BQ$51)=$E62),INDEX(Model_Inputs_Ref_Units,,BQ$52)),0)","v":0},{"$f":"IFERROR(SUMPRODUCT(--(INDEX(Model_Inputs_Ref_Units,,BR$51)=$E62),INDEX(Model_Inputs_Ref_Units,,BR$52)),0)","v":0},{"$f":"IFERROR(SUMPRODUCT(--(INDEX(Model_Inputs_Ref_Units,,BS$51)=$E62),INDEX(Model_Inputs_Ref_Units,,BS$52)),0)","v":0},{"$f":"IFERROR(SUMPRODUCT(--(INDEX(Model_Inputs_Ref_Units,,BT$51)=$E62),INDEX(Model_Inputs_Ref_Units,,BT$52)),0)","v":0},{"$f":"IFERROR(SUMPRODUCT(--(INDEX(Model_Inputs_Ref_Units,,BU$51)=$E62),INDEX(Model_Inputs_Ref_Units,,BU$52)),0)","v":0},{"$f":"IFERROR(SUMPRODUCT(--(INDEX(Model_Inputs_Ref_Units,,BV$51)=$E62),INDEX(Model_Inputs_Ref_Units,,BV$52)),0)","v":0},{"$f":"IFERROR(SUMPRODUCT(--(INDEX(Model_Inputs_Ref_Units,,BW$51)=$E62),INDEX(Model_Inputs_Ref_Units,,BW$52)),0)","v":0},{"$f":"IFERROR(SUMPRODUCT(--(INDEX(Model_Inputs_Ref_Units,,BX$51)=$E62),INDEX(Model_Inputs_Ref_Units,,BX$52)),0)","v":0},{"$f":"IFERROR(SUMPRODUCT(--(INDEX(Model_Inputs_Ref_Units,,BY$51)=$E62),INDEX(Model_Inputs_Ref_Units,,BY$52)),0)","v":0},{"$f":"IFERROR(SUMPRODUCT(--(INDEX(Model_Inputs_Ref_Units,,BZ$51)=$E62),INDEX(Model_Inputs_Ref_Units,,BZ$52)),0)","v":0},{"$f":"IFERROR(SUMPRODUCT(--(INDEX(Model_Inputs_Ref_Units,,CA$51)=$E62),INDEX(Model_Inputs_Ref_Units,,CA$52)),0)","v":0},{"$f":"IFERROR(SUMPRODUCT(--(INDEX(Model_Inputs_Ref_Units,,CB$51)=$E62),INDEX(Model_Inputs_Ref_Units,,CB$52)),0)","v":0},{"$f":"IFERROR(SUMPRODUCT(--(INDEX(Model_Inputs_Ref_Units,,CC$51)=$E62),INDEX(Model_Inputs_Ref_Units,,CC$52)),0)","v":0},{"$f":"IFERROR(SUMPRODUCT(--(INDEX(Model_Inputs_Ref_Units,,CD$51)=$E62),INDEX(Model_Inputs_Ref_Units,,CD$52)),0)","v":0},{"$f":"IFERROR(SUMPRODUCT(--(INDEX(Model_Inputs_Ref_Units,,CE$51)=$E62),INDEX(Model_Inputs_Ref_Units,,CE$52)),0)","v":0},{"$f":"IFERROR(SUMPRODUCT(--(INDEX(Model_Inputs_Ref_Units,,CF$51)=$E62),INDEX(Model_Inputs_Ref_Units,,CF$52)),0)","v":0},{"$f":"IFERROR(SUMPRODUCT(--(INDEX(Model_Inputs_Ref_Units,,CG$51)=$E62),INDEX(Model_Inputs_Ref_Units,,CG$52)),0)","v":0},{"$f":"IFERROR(SUMPRODUCT(--(INDEX(Model_Inputs_Ref_Units,,CH$51)=$E62),INDEX(Model_Inputs_Ref_Units,,CH$52)),0)","v":0},{"$f":"IFERROR(SUMPRODUCT(--(INDEX(Model_Inputs_Ref_Units,,CI$51)=$E62),INDEX(Model_Inputs_Ref_Units,,CI$52)),0)","v":0},{"$f":"IFERROR(SUMPRODUCT(--(INDEX(Model_Inputs_Ref_Units,,CJ$51)=$E62),INDEX(Model_Inputs_Ref_Units,,CJ$52)),0)","v":0},{"$f":"IFERROR(SUMPRODUCT(--(INDEX(Model_Inputs_Ref_Units,,CK$51)=$E62),INDEX(Model_Inputs_Ref_Units,,CK$52)),0)","v":0},{"$f":"IFERROR(SUMPRODUCT(--(INDEX(Model_Inputs_Ref_Units,,CL$51)=$E62),INDEX(Model_Inputs_Ref_Units,,CL$52)),0)","v":0},{"$f":"IFERROR(SUMPRODUCT(--(INDEX(Model_Inputs_Ref_Units,,CM$51)=$E62),INDEX(Model_Inputs_Ref_Units,,CM$52)),0)","v":0},{"$f":"IFERROR(SUMPRODUCT(--(INDEX(Model_Inputs_Ref_Units,,CN$51)=$E62),INDEX(Model_Inputs_Ref_Units,,CN$52)),0)","v":0},{"$f":"IFERROR(SUMPRODUCT(--(INDEX(Model_Inputs_Ref_Units,,CO$51)=$E62),INDEX(Model_Inputs_Ref_Units,,CO$52)),0)","v":0},{"$f":"IFERROR(SUMPRODUCT(--(INDEX(Model_Inputs_Ref_Units,,CP$51)=$E62),INDEX(Model_Inputs_Ref_Units,,CP$52)),0)","v":0},{"$f":"IFERROR(SUMPRODUCT(--(INDEX(Model_Inputs_Ref_Units,,CQ$51)=$E62),INDEX(Model_Inputs_Ref_Units,,CQ$52)),0)","v":0},{"$f":"IFERROR(SUMPRODUCT(--(INDEX(Model_Inputs_Ref_Units,,CR$51)=$E62),INDEX(Model_Inputs_Ref_Units,,CR$52)),0)","v":0},{"$f":"IFERROR(SUMPRODUCT(--(INDEX(Model_Inputs_Ref_Units,,CS$51)=$E62),INDEX(Model_Inputs_Ref_Units,,CS$52)),0)","v":0},{"$f":"IFERROR(SUMPRODUCT(--(INDEX(Model_Inputs_Ref_Units,,CT$51)=$E62),INDEX(Model_Inputs_Ref_Units,,CT$52)),0)","v":0},{"$f":"IFERROR(SUMPRODUCT(--(INDEX(Model_Inputs_Ref_Units,,CU$51)=$E62),INDEX(Model_Inputs_Ref_Units,,CU$52)),0)","v":0},{"$f":"IFERROR(SUMPRODUCT(--(INDEX(Model_Inputs_Ref_Units,,CV$51)=$E62),INDEX(Model_Inputs_Ref_Units,,CV$52)),0)","v":0},{"$f":"IFERROR(SUMPRODUCT(--(INDEX(Model_Inputs_Ref_Units,,CW$51)=$E62),INDEX(Model_Inputs_Ref_Units,,CW$52)),0)","v":0},{"$f":"IFERROR(SUMPRODUCT(--(INDEX(Model_Inputs_Ref_Units,,CX$51)=$E62),INDEX(Model_Inputs_Ref_Units,,CX$52)),0)","v":0},{"$f":"IFERROR(SUMPRODUCT(--(INDEX(Model_Inputs_Ref_Units,,CY$51)=$E62),INDEX(Model_Inputs_Ref_Units,,CY$52)),0)","v":0},{"$f":"IFERROR(SUMPRODUCT(--(INDEX(Model_Inputs_Ref_Units,,CZ$51)=$E62),INDEX(Model_Inputs_Ref_Units,,CZ$52)),0)","v":0},{"$f":"IFERROR(SUMPRODUCT(--(INDEX(Model_Inputs_Ref_Units,,DA$51)=$E62),INDEX(Model_Inputs_Ref_Units,,DA$52)),0)","v":0},{"$f":"IFERROR(SUMPRODUCT(--(INDEX(Model_Inputs_Ref_Units,,DB$51)=$E62),INDEX(Model_Inputs_Ref_Units,,DB$52)),0)","v":0},{"$f":"IFERROR(SUMPRODUCT(--(INDEX(Model_Inputs_Ref_Units,,DC$51)=$E62),INDEX(Model_Inputs_Ref_Units,,DC$52)),0)","v":0},{"$f":"IFERROR(SUMPRODUCT(--(INDEX(Model_Inputs_Ref_Units,,DD$51)=$E62),INDEX(Model_Inputs_Ref_Units,,DD$52)),0)","v":0},{"$f":"IFERROR(SUMPRODUCT(--(INDEX(Model_Inputs_Ref_Units,,DE$51)=$E62),INDEX(Model_Inputs_Ref_Units,,DE$52)),0)","v":0},{"$f":"IFERROR(SUMPRODUCT(--(INDEX(Model_Inputs_Ref_Units,,DF$51)=$E62),INDEX(Model_Inputs_Ref_Units,,DF$52)),0)","v":0}]
[null,null,{"$error":"#DIV/0!"},null,{"$f":"IFERROR(INDEX(Ref_Data,1,F63),\"\")","v":0},10,0,0,0,0,{"$f":"IFERROR(SUMPRODUCT(--(INDEX(Model_Inputs_Ref_Units,,K$51)=$E63),INDEX(Model_Inputs_Ref_Units,,K$52)),0)","v":0},{"$f":"IFERROR(SUMPRODUCT(--(INDEX(Model_Inputs_Ref_Units,,L$51)=$E63),INDEX(Model_Inputs_Ref_Units,,L$52)),0)","v":0},{"$f":"IFERROR(SUMPRODUCT(--(INDEX(Model_Inputs_Ref_Units,,M$51)=$E63),INDEX(Model_Inputs_Ref_Units,,M$52)),0)","v":0},{"$f":"IFERROR(SUMPRODUCT(--(INDEX(Model_Inputs_Ref_Units,,N$51)=$E63),INDEX(Model_Inputs_Ref_Units,,N$52)),0)","v":0},{"$f":"IFERROR(SUMPRODUCT(--(INDEX(Model_Inputs_Ref_Units,,O$51)=$E63),INDEX(Model_Inputs_Ref_Units,,O$52)),0)","v":0},{"$f":"IFERROR(SUMPRODUCT(--(INDEX(Model_Inputs_Ref_Units,,P$51)=$E63),INDEX(Model_Inputs_Ref_Units,,P$52)),0)","v":0},{"$f":"IFERROR(SUMPRODUCT(--(INDEX(Model_Inputs_Ref_Units,,Q$51)=$E63),INDEX(Model_Inputs_Ref_Units,,Q$52)),0)","v":0},{"$f":"IFERROR(SUMPRODUCT(--(INDEX(Model_Inputs_Ref_Units,,R$51)=$E63),INDEX(Model_Inputs_Ref_Units,,R$52)),0)","v":0},{"$f":"IFERROR(SUMPRODUCT(--(INDEX(Model_Inputs_Ref_Units,,S$51)=$E63),INDEX(Model_Inputs_Ref_Units,,S$52)),0)","v":0},{"$f":"IFERROR(SUMPRODUCT(--(INDEX(Model_Inputs_Ref_Units,,T$51)=$E63),INDEX(Model_Inputs_Ref_Units,,T$52)),0)","v":0},{"$f":"IFERROR(SUMPRODUCT(--(INDEX(Model_Inputs_Ref_Units,,U$51)=$E63),INDEX(Model_Inputs_Ref_Units,,U$52)),0)","v":0},{"$f":"IFERROR(SUMPRODUCT(--(INDEX(Model_Inputs_Ref_Units,,V$51)=$E63),INDEX(Model_Inputs_Ref_Units,,V$52)),0)","v":0},{"$f":"IFERROR(SUMPRODUCT(--(INDEX(Model_Inputs_Ref_Units,,W$51)=$E63),INDEX(Model_Inputs_Ref_Units,,W$52)),0)","v":0},{"$f":"IFERROR(SUMPRODUCT(--(INDEX(Model_Inputs_Ref_Units,,X$51)=$E63),INDEX(Model_Inputs_Ref_Units,,X$52)),0)","v":0},{"$f":"IFERROR(SUMPRODUCT(--(INDEX(Model_Inputs_Ref_Units,,Y$51)=$E63),INDEX(Model_Inputs_Ref_Units,,Y$52)),0)","v":0},{"$f":"IFERROR(SUMPRODUCT(--(INDEX(Model_Inputs_Ref_Units,,Z$51)=$E63),INDEX(Model_Inputs_Ref_Units,,Z$52)),0)","v":0},{"$f":"IFERROR(SUMPRODUCT(--(INDEX(Model_Inputs_Ref_Units,,AA$51)=$E63),INDEX(Model_Inputs_Ref_Units,,AA$52)),0)","v":0},{"$f":"IFERROR(SUMPRODUCT(--(INDEX(Model_Inputs_Ref_Units,,AB$51)=$E63),INDEX(Model_Inputs_Ref_Units,,AB$52)),0)","v":0},{"$f":"IFERROR(SUMPRODUCT(--(INDEX(Model_Inputs_Ref_Units,,AC$51)=$E63),INDEX(Model_Inputs_Ref_Units,,AC$52)),0)","v":0},{"$f":"IFERROR(SUMPRODUCT(--(INDEX(Model_Inputs_Ref_Units,,AD$51)=$E63),INDEX(Model_Inputs_Ref_Units,,AD$52)),0)","v":0},{"$f":"IFERROR(SUMPRODUCT(--(INDEX(Model_Inputs_Ref_Units,,AE$51)=$E63),INDEX(Model_Inputs_Ref_Units,,AE$52)),0)","v":0},{"$f":"IFERROR(SUMPRODUCT(--(INDEX(Model_Inputs_Ref_Units,,AF$51)=$E63),INDEX(Model_Inputs_Ref_Units,,AF$52)),0)","v":0},{"$f":"IFERROR(SUMPRODUCT(--(INDEX(Model_Inputs_Ref_Units,,AG$51)=$E63),INDEX(Model_Inputs_Ref_Units,,AG$52)),0)","v":0},{"$f":"IFERROR(SUMPRODUCT(--(INDEX(Model_Inputs_Ref_Units,,AH$51)=$E63),INDEX(Model_Inputs_Ref_Units,,AH$52)),0)","v":0},{"$f":"IFERROR(SUMPRODUCT(--(INDEX(Model_Inputs_Ref_Units,,AI$51)=$E63),INDEX(Model_Inputs_Ref_Units,,AI$52)),0)","v":0},{"$f":"IFERROR(SUMPRODUCT(--(INDEX(Model_Inputs_Ref_Units,,AJ$51)=$E63),INDEX(Model_Inputs_Ref_Units,,AJ$52)),0)","v":0},{"$f":"IFERROR(SUMPRODUCT(--(INDEX(Model_Inputs_Ref_Units,,AK$51)=$E63),INDEX(Model_Inputs_Ref_Units,,AK$52)),0)","v":0},{"$f":"IFERROR(SUMPRODUCT(--(INDEX(Model_Inputs_Ref_Units,,AL$51)=$E63),INDEX(Model_Inputs_Ref_Units,,AL$52)),0)","v":0},{"$f":"IFERROR(SUMPRODUCT(--(INDEX(Model_Inputs_Ref_Units,,AM$51)=$E63),INDEX(Model_Inputs_Ref_Units,,AM$52)),0)","v":0},{"$f":"IFERROR(SUMPRODUCT(--(INDEX(Model_Inputs_Ref_Units,,AN$51)=$E63),INDEX(Model_Inputs_Ref_Units,,AN$52)),0)","v":0},{"$f":"IFERROR(SUMPRODUCT(--(INDEX(Model_Inputs_Ref_Units,,AO$51)=$E63),INDEX(Model_Inputs_Ref_Units,,AO$52)),0)","v":0},{"$f":"IFERROR(SUMPRODUCT(--(INDEX(Model_Inputs_Ref_Units,,AP$51)=$E63),INDEX(Model_Inputs_Ref_Units,,AP$52)),0)","v":0},{"$f":"IFERROR(SUMPRODUCT(--(INDEX(Model_Inputs_Ref_Units,,AQ$51)=$E63),INDEX(Model_Inputs_Ref_Units,,AQ$52)),0)","v":0},{"$f":"IFERROR(SUMPRODUCT(--(INDEX(Model_Inputs_Ref_Units,,AR$51)=$E63),INDEX(Model_Inputs_Ref_Units,,AR$52)),0)","v":0},{"$f":"IFERROR(SUMPRODUCT(--(INDEX(Model_Inputs_Ref_Units,,AS$51)=$E63),INDEX(Model_Inputs_Ref_Units,,AS$52)),0)","v":0},{"$f":"IFERROR(SUMPRODUCT(--(INDEX(Model_Inputs_Ref_Units,,AT$51)=$E63),INDEX(Model_Inputs_Ref_Units,,AT$52)),0)","v":0},{"$f":"IFERROR(SUMPRODUCT(--(INDEX(Model_Inputs_Ref_Units,,AU$51)=$E63),INDEX(Model_Inputs_Ref_Units,,AU$52)),0)","v":0},{"$f":"IFERROR(SUMPRODUCT(--(INDEX(Model_Inputs_Ref_Units,,AV$51)=$E63),INDEX(Model_Inputs_Ref_Units,,AV$52)),0)","v":0},{"$f":"IFERROR(SUMPRODUCT(--(INDEX(Model_Inputs_Ref_Units,,AW$51)=$E63),INDEX(Model_Inputs_Ref_Units,,AW$52)),0)","v":0},{"$f":"IFERROR(SUMPRODUCT(--(INDEX(Model_Inputs_Ref_Units,,AX$51)=$E63),INDEX(Model_Inputs_Ref_Units,,AX$52)),0)","v":0},{"$f":"IFERROR(SUMPRODUCT(--(INDEX(Model_Inputs_Ref_Units,,AY$51)=$E63),INDEX(Model_Inputs_Ref_Units,,AY$52)),0)","v":0},{"$f":"IFERROR(SUMPRODUCT(--(INDEX(Model_Inputs_Ref_Units,,AZ$51)=$E63),INDEX(Model_Inputs_Ref_Units,,AZ$52)),0)","v":0},{"$f":"IFERROR(SUMPRODUCT(--(INDEX(Model_Inputs_Ref_Units,,BA$51)=$E63),INDEX(Model_Inputs_Ref_Units,,BA$52)),0)","v":0},{"$f":"IFERROR(SUMPRODUCT(--(INDEX(Model_Inputs_Ref_Units,,BB$51)=$E63),INDEX(Model_Inputs_Ref_Units,,BB$52)),0)","v":0},{"$f":"IFERROR(SUMPRODUCT(--(INDEX(Model_Inputs_Ref_Units,,BC$51)=$E63),INDEX(Model_Inputs_Ref_Units,,BC$52)),0)","v":0},{"$f":"IFERROR(SUMPRODUCT(--(INDEX(Model_Inputs_Ref_Units,,BD$51)=$E63),INDEX(Model_Inputs_Ref_Units,,BD$52)),0)","v":0},{"$f":"IFERROR(SUMPRODUCT(--(INDEX(Model_Inputs_Ref_Units,,BE$51)=$E63),INDEX(Model_Inputs_Ref_Units,,BE$52)),0)","v":0},{"$f":"IFERROR(SUMPRODUCT(--(INDEX(Model_Inputs_Ref_Units,,BF$51)=$E63),INDEX(Model_Inputs_Ref_Units,,BF$52)),0)","v":0},{"$f":"IFERROR(SUMPRODUCT(--(INDEX(Model_Inputs_Ref_Units,,BG$51)=$E63),INDEX(Model_Inputs_Ref_Units,,BG$52)),0)","v":0},{"$f":"IFERROR(SUMPRODUCT(--(INDEX(Model_Inputs_Ref_Units,,BH$51)=$E63),INDEX(Model_Inputs_Ref_Units,,BH$52)),0)","v":0},{"$f":"IFERROR(SUMPRODUCT(--(INDEX(Model_Inputs_Ref_Units,,BI$51)=$E63),INDEX(Model_Inputs_Ref_Units,,BI$52)),0)","v":0},{"$f":"IFERROR(SUMPRODUCT(--(INDEX(Model_Inputs_Ref_Units,,BJ$51)=$E63),INDEX(Model_Inputs_Ref_Units,,BJ$52)),0)","v":0},{"$f":"IFERROR(SUMPRODUCT(--(INDEX(Model_Inputs_Ref_Units,,BK$51)=$E63),INDEX(Model_Inputs_Ref_Units,,BK$52)),0)","v":0},{"$f":"IFERROR(SUMPRODUCT(--(INDEX(Model_Inputs_Ref_Units,,BL$51)=$E63),INDEX(Model_Inputs_Ref_Units,,BL$52)),0)","v":0},{"$f":"IFERROR(SUMPRODUCT(--(INDEX(Model_Inputs_Ref_Units,,BM$51)=$E63),INDEX(Model_Inputs_Ref_Units,,BM$52)),0)","v":0},{"$f":"IFERROR(SUMPRODUCT(--(INDEX(Model_Inputs_Ref_Units,,BN$51)=$E63),INDEX(Model_Inputs_Ref_Units,,BN$52)),0)","v":0},{"$f":"IFERROR(SUMPRODUCT(--(INDEX(Model_Inputs_Ref_Units,,BO$51)=$E63),INDEX(Model_Inputs_Ref_Units,,BO$52)),0)","v":0},{"$f":"IFERROR(SUMPRODUCT(--(INDEX(Model_Inputs_Ref_Units,,BP$51)=$E63),INDEX(Model_Inputs_Ref_Units,,BP$52)),0)","v":0},{"$f":"IFERROR(SUMPRODUCT(--(INDEX(Model_Inputs_Ref_Units,,BQ$51)=$E63),INDEX(Model_Inputs_Ref_Units,,BQ$52)),0)","v":0},{"$f":"IFERROR(SUMPRODUCT(--(INDEX(Model_Inputs_Ref_Units,,BR$51)=$E63),INDEX(Model_Inputs_Ref_Units,,BR$52)),0)","v":0},{"$f":"IFERROR(SUMPRODUCT(--(INDEX(Model_Inputs_Ref_Units,,BS$51)=$E63),INDEX(Model_Inputs_Ref_Units,,BS$52)),0)","v":0},{"$f":"IFERROR(SUMPRODUCT(--(INDEX(Model_Inputs_Ref_Units,,BT$51)=$E63),INDEX(Model_Inputs_Ref_Units,,BT$52)),0)","v":0},{"$f":"IFERROR(SUMPRODUCT(--(INDEX(Model_Inputs_Ref_Units,,BU$51)=$E63),INDEX(Model_Inputs_Ref_Units,,BU$52)),0)","v":0},{"$f":"IFERROR(SUMPRODUCT(--(INDEX(Model_Inputs_Ref_Units,,BV$51)=$E63),INDEX(Model_Inputs_Ref_Units,,BV$52)),0)","v":0},{"$f":"IFERROR(SUMPRODUCT(--(INDEX(Model_Inputs_Ref_Units,,BW$51)=$E63),INDEX(Model_Inputs_Ref_Units,,BW$52)),0)","v":0},{"$f":"IFERROR(SUMPRODUCT(--(INDEX(Model_Inputs_Ref_Units,,BX$51)=$E63),INDEX(Model_Inputs_Ref_Units,,BX$52)),0)","v":0},{"$f":"IFERROR(SUMPRODUCT(--(INDEX(Model_Inputs_Ref_Units,,BY$51)=$E63),INDEX(Model_Inputs_Ref_Units,,BY$52)),0)","v":0},{"$f":"IFERROR(SUMPRODUCT(--(INDEX(Model_Inputs_Ref_Units,,BZ$51)=$E63),INDEX(Model_Inputs_Ref_Units,,BZ$52)),0)","v":0},{"$f":"IFERROR(SUMPRODUCT(--(INDEX(Model_Inputs_Ref_Units,,CA$51)=$E63),INDEX(Model_Inputs_Ref_Units,,CA$52)),0)","v":0},{"$f":"IFERROR(SUMPRODUCT(--(INDEX(Model_Inputs_Ref_Units,,CB$51)=$E63),INDEX(Model_Inputs_Ref_Units,,CB$52)),0)","v":0},{"$f":"IFERROR(SUMPRODUCT(--(INDEX(Model_Inputs_Ref_Units,,CC$51)=$E63),INDEX(Model_Inputs_Ref_Units,,CC$52)),0)","v":0},{"$f":"IFERROR(SUMPRODUCT(--(INDEX(Model_Inputs_Ref_Units,,CD$51)=$E63),INDEX(Model_Inputs_Ref_Units,,CD$52)),0)","v":0},{"$f":"IFERROR(SUMPRODUCT(--(INDEX(Model_Inputs_Ref_Units,,CE$51)=$E63),INDEX(Model_Inputs_Ref_Units,,CE$52)),0)","v":0},{"$f":"IFERROR(SUMPRODUCT(--(INDEX(Model_Inputs_Ref_Units,,CF$51)=$E63),INDEX(Model_Inputs_Ref_Units,,CF$52)),0)","v":0},{"$f":"IFERROR(SUMPRODUCT(--(INDEX(Model_Inputs_Ref_Units,,CG$51)=$E63),INDEX(Model_Inputs_Ref_Units,,CG$52)),0)","v":0},{"$f":"IFERROR(SUMPRODUCT(--(INDEX(Model_Inputs_Ref_Units,,CH$51)=$E63),INDEX(Model_Inputs_Ref_Units,,CH$52)),0)","v":0},{"$f":"IFERROR(SUMPRODUCT(--(INDEX(Model_Inputs_Ref_Units,,CI$51)=$E63),INDEX(Model_Inputs_Ref_Units,,CI$52)),0)","v":0},{"$f":"IFERROR(SUMPRODUCT(--(INDEX(Model_Inputs_Ref_Units,,CJ$51)=$E63),INDEX(Model_Inputs_Ref_Units,,CJ$52)),0)","v":0},{"$f":"IFERROR(SUMPRODUCT(--(INDEX(Model_Inputs_Ref_Units,,CK$51)=$E63),INDEX(Model_Inputs_Ref_Units,,CK$52)),0)","v":0},{"$f":"IFERROR(SUMPRODUCT(--(INDEX(Model_Inputs_Ref_Units,,CL$51)=$E63),INDEX(Model_Inputs_Ref_Units,,CL$52)),0)","v":0},{"$f":"IFERROR(SUMPRODUCT(--(INDEX(Model_Inputs_Ref_Units,,CM$51)=$E63),INDEX(Model_Inputs_Ref_Units,,CM$52)),0)","v":0},{"$f":"IFERROR(SUMPRODUCT(--(INDEX(Model_Inputs_Ref_Units,,CN$51)=$E63),INDEX(Model_Inputs_Ref_Units,,CN$52)),0)","v":0},{"$f":"IFERROR(SUMPRODUCT(--(INDEX(Model_Inputs_Ref_Units,,CO$51)=$E63),INDEX(Model_Inputs_Ref_Units,,CO$52)),0)","v":0},{"$f":"IFERROR(SUMPRODUCT(--(INDEX(Model_Inputs_Ref_Units,,CP$51)=$E63),INDEX(Model_Inputs_Ref_Units,,CP$52)),0)","v":0},{"$f":"IFERROR(SUMPRODUCT(--(INDEX(Model_Inputs_Ref_Units,,CQ$51)=$E63),INDEX(Model_Inputs_Ref_Units,,CQ$52)),0)","v":0},{"$f":"IFERROR(SUMPRODUCT(--(INDEX(Model_Inputs_Ref_Units,,CR$51)=$E63),INDEX(Model_Inputs_Ref_Units,,CR$52)),0)","v":0},{"$f":"IFERROR(SUMPRODUCT(--(INDEX(Model_Inputs_Ref_Units,,CS$51)=$E63),INDEX(Model_Inputs_Ref_Units,,CS$52)),0)","v":0},{"$f":"IFERROR(SUMPRODUCT(--(INDEX(Model_Inputs_Ref_Units,,CT$51)=$E63),INDEX(Model_Inputs_Ref_Units,,CT$52)),0)","v":0},{"$f":"IFERROR(SUMPRODUCT(--(INDEX(Model_Inputs_Ref_Units,,CU$51)=$E63),INDEX(Model_Inputs_Ref_Units,,CU$52)),0)","v":0},{"$f":"IFERROR(SUMPRODUCT(--(INDEX(Model_Inputs_Ref_Units,,CV$51)=$E63),INDEX(Model_Inputs_Ref_Units,,CV$52)),0)","v":0},{"$f":"IFERROR(SUMPRODUCT(--(INDEX(Model_Inputs_Ref_Units,,CW$51)=$E63),INDEX(Model_Inputs_Ref_Units,,CW$52)),0)","v":0},{"$f":"IFERROR(SUMPRODUCT(--(INDEX(Model_Inputs_Ref_Units,,CX$51)=$E63),INDEX(Model_Inputs_Ref_Units,,CX$52)),0)","v":0},{"$f":"IFERROR(SUMPRODUCT(--(INDEX(Model_Inputs_Ref_Units,,CY$51)=$E63),INDEX(Model_Inputs_Ref_Units,,CY$52)),0)","v":0},{"$f":"IFERROR(SUMPRODUCT(--(INDEX(Model_Inputs_Ref_Units,,CZ$51)=$E63),INDEX(Model_Inputs_Ref_Units,,CZ$52)),0)","v":0},{"$f":"IFERROR(SUMPRODUCT(--(INDEX(Model_Inputs_Ref_Units,,DA$51)=$E63),INDEX(Model_Inputs_Ref_Units,,DA$52)),0)","v":0},{"$f":"IFERROR(SUMPRODUCT(--(INDEX(Model_Inputs_Ref_Units,,DB$51)=$E63),INDEX(Model_Inputs_Ref_Units,,DB$52)),0)","v":0},{"$f":"IFERROR(SUMPRODUCT(--(INDEX(Model_Inputs_Ref_Units,,DC$51)=$E63),INDEX(Model_Inputs_Ref_Units,,DC$52)),0)","v":0},{"$f":"IFERROR(SUMPRODUCT(--(INDEX(Model_Inputs_Ref_Units,,DD$51)=$E63),INDEX(Model_Inputs_Ref_Units,,DD$52)),0)","v":0},{"$f":"IFERROR(SUMPRODUCT(--(INDEX(Model_Inputs_Ref_Units,,DE$51)=$E63),INDEX(Model_Inputs_Ref_Units,,DE$52)),0)","v":0},{"$f":"IFERROR(SUMPRODUCT(--(INDEX(Model_Inputs_Ref_Units,,DF$51)=$E63),INDEX(Model_Inputs_Ref_Units,,DF$52)),0)","v":0}]
[null,null,{"$error":"#DIV/0!"},null,{"$f":"IFERROR(INDEX(Ref_Data,1,F64),\"\")","v":""},11,0,0,0,0,{"$f":"IFERROR(SUMPRODUCT(--(INDEX(Model_Inputs_Ref_Units,,K$51)=$E64),INDEX(Model_Inputs_Ref_Units,,K$52)),0)","v":0},{"$f":"IFERROR(SUMPRODUCT(--(INDEX(Model_Inputs_Ref_Units,,L$51)=$E64),INDEX(Model_Inputs_Ref_Units,,L$52)),0)","v":0},{"$f":"IFERROR(SUMPRODUCT(--(INDEX(Model_Inputs_Ref_Units,,M$51)=$E64),INDEX(Model_Inputs_Ref_Units,,M$52)),0)","v":0},{"$f":"IFERROR(SUMPRODUCT(--(INDEX(Model_Inputs_Ref_Units,,N$51)=$E64),INDEX(Model_Inputs_Ref_Units,,N$52)),0)","v":0},{"$f":"IFERROR(SUMPRODUCT(--(INDEX(Model_Inputs_Ref_Units,,O$51)=$E64),INDEX(Model_Inputs_Ref_Units,,O$52)),0)","v":0},{"$f":"IFERROR(SUMPRODUCT(--(INDEX(Model_Inputs_Ref_Units,,P$51)=$E64),INDEX(Model_Inputs_Ref_Units,,P$52)),0)","v":0},{"$f":"IFERROR(SUMPRODUCT(--(INDEX(Model_Inputs_Ref_Units,,Q$51)=$E64),INDEX(Model_Inputs_Ref_Units,,Q$52)),0)","v":0},{"$f":"IFERROR(SUMPRODUCT(--(INDEX(Model_Inputs_Ref_Units,,R$51)=$E64),INDEX(Model_Inputs_Ref_Units,,R$52)),0)","v":0},{"$f":"IFERROR(SUMPRODUCT(--(INDEX(Model_Inputs_Ref_Units,,S$51)=$E64),INDEX(Model_Inputs_Ref_Units,,S$52)),0)","v":0},{"$f":"IFERROR(SUMPRODUCT(--(INDEX(Model_Inputs_Ref_Units,,T$51)=$E64),INDEX(Model_Inputs_Ref_Units,,T$52)),0)","v":0},{"$f":"IFERROR(SUMPRODUCT(--(INDEX(Model_Inputs_Ref_Units,,U$51)=$E64),INDEX(Model_Inputs_Ref_Units,,U$52)),0)","v":0},{"$f":"IFERROR(SUMPRODUCT(--(INDEX(Model_Inputs_Ref_Units,,V$51)=$E64),INDEX(Model_Inputs_Ref_Units,,V$52)),0)","v":0},{"$f":"IFERROR(SUMPRODUCT(--(INDEX(Model_Inputs_Ref_Units,,W$51)=$E64),INDEX(Model_Inputs_Ref_Units,,W$52)),0)","v":0},{"$f":"IFERROR(SUMPRODUCT(--(INDEX(Model_Inputs_Ref_Units,,X$51)=$E64),INDEX(Model_Inputs_Ref_Units,,X$52)),0)","v":0},{"$f":"IFERROR(SUMPRODUCT(--(INDEX(Model_Inputs_Ref_Units,,Y$51)=$E64),INDEX(Model_Inputs_Ref_Units,,Y$52)),0)","v":0},{"$f":"IFERROR(SUMPRODUCT(--(INDEX(Model_Inputs_Ref_Units,,Z$51)=$E64),INDEX(Model_Inputs_Ref_Units,,Z$52)),0)","v":0},{"$f":"IFERROR(SUMPRODUCT(--(INDEX(Model_Inputs_Ref_Units,,AA$51)=$E64),INDEX(Model_Inputs_Ref_Units,,AA$52)),0)","v":0},{"$f":"IFERROR(SUMPRODUCT(--(INDEX(Model_Inputs_Ref_Units,,AB$51)=$E64),INDEX(Model_Inputs_Ref_Units,,AB$52)),0)","v":0},{"$f":"IFERROR(SUMPRODUCT(--(INDEX(Model_Inputs_Ref_Units,,AC$51)=$E64),INDEX(Model_Inputs_Ref_Units,,AC$52)),0)","v":0},{"$f":"IFERROR(SUMPRODUCT(--(INDEX(Model_Inputs_Ref_Units,,AD$51)=$E64),INDEX(Model_Inputs_Ref_Units,,AD$52)),0)","v":0},{"$f":"IFERROR(SUMPRODUCT(--(INDEX(Model_Inputs_Ref_Units,,AE$51)=$E64),INDEX(Model_Inputs_Ref_Units,,AE$52)),0)","v":0},{"$f":"IFERROR(SUMPRODUCT(--(INDEX(Model_Inputs_Ref_Units,,AF$51)=$E64),INDEX(Model_Inputs_Ref_Units,,AF$52)),0)","v":0},{"$f":"IFERROR(SUMPRODUCT(--(INDEX(Model_Inputs_Ref_Units,,AG$51)=$E64),INDEX(Model_Inputs_Ref_Units,,AG$52)),0)","v":0},{"$f":"IFERROR(SUMPRODUCT(--(INDEX(Model_Inputs_Ref_Units,,AH$51)=$E64),INDEX(Model_Inputs_Ref_Units,,AH$52)),0)","v":0},{"$f":"IFERROR(SUMPRODUCT(--(INDEX(Model_Inputs_Ref_Units,,AI$51)=$E64),INDEX(Model_Inputs_Ref_Units,,AI$52)),0)","v":0},{"$f":"IFERROR(SUMPRODUCT(--(INDEX(Model_Inputs_Ref_Units,,AJ$51)=$E64),INDEX(Model_Inputs_Ref_Units,,AJ$52)),0)","v":0},{"$f":"IFERROR(SUMPRODUCT(--(INDEX(Model_Inputs_Ref_Units,,AK$51)=$E64),INDEX(Model_Inputs_Ref_Units,,AK$52)),0)","v":0},{"$f":"IFERROR(SUMPRODUCT(--(INDEX(Model_Inputs_Ref_Units,,AL$51)=$E64),INDEX(Model_Inputs_Ref_Units,,AL$52)),0)","v":0},{"$f":"IFERROR(SUMPRODUCT(--(INDEX(Model_Inputs_Ref_Units,,AM$51)=$E64),INDEX(Model_Inputs_Ref_Units,,AM$52)),0)","v":0},{"$f":"IFERROR(SUMPRODUCT(--(INDEX(Model_Inputs_Ref_Units,,AN$51)=$E64),INDEX(Model_Inputs_Ref_Units,,AN$52)),0)","v":0},{"$f":"IFERROR(SUMPRODUCT(--(INDEX(Model_Inputs_Ref_Units,,AO$51)=$E64),INDEX(Model_Inputs_Ref_Units,,AO$52)),0)","v":0},{"$f":"IFERROR(SUMPRODUCT(--(INDEX(Model_Inputs_Ref_Units,,AP$51)=$E64),INDEX(Model_Inputs_Ref_Units,,AP$52)),0)","v":0},{"$f":"IFERROR(SUMPRODUCT(--(INDEX(Model_Inputs_Ref_Units,,AQ$51)=$E64),INDEX(Model_Inputs_Ref_Units,,AQ$52)),0)","v":0},{"$f":"IFERROR(SUMPRODUCT(--(INDEX(Model_Inputs_Ref_Units,,AR$51)=$E64),INDEX(Model_Inputs_Ref_Units,,AR$52)),0)","v":0},{"$f":"IFERROR(SUMPRODUCT(--(INDEX(Model_Inputs_Ref_Units,,AS$51)=$E64),INDEX(Model_Inputs_Ref_Units,,AS$52)),0)","v":0},{"$f":"IFERROR(SUMPRODUCT(--(INDEX(Model_Inputs_Ref_Units,,AT$51)=$E64),INDEX(Model_Inputs_Ref_Units,,AT$52)),0)","v":0},{"$f":"IFERROR(SUMPRODUCT(--(INDEX(Model_Inputs_Ref_Units,,AU$51)=$E64),INDEX(Model_Inputs_Ref_Units,,AU$52)),0)","v":0},{"$f":"IFERROR(SUMPRODUCT(--(INDEX(Model_Inputs_Ref_Units,,AV$51)=$E64),INDEX(Model_Inputs_Ref_Units,,AV$52)),0)","v":0},{"$f":"IFERROR(SUMPRODUCT(--(INDEX(Model_Inputs_Ref_Units,,AW$51)=$E64),INDEX(Model_Inputs_Ref_Units,,AW$52)),0)","v":0},{"$f":"IFERROR(SUMPRODUCT(--(INDEX(Model_Inputs_Ref_Units,,AX$51)=$E64),INDEX(Model_Inputs_Ref_Units,,AX$52)),0)","v":0},{"$f":"IFERROR(SUMPRODUCT(--(INDEX(Model_Inputs_Ref_Units,,AY$51)=$E64),INDEX(Model_Inputs_Ref_Units,,AY$52)),0)","v":0},{"$f":"IFERROR(SUMPRODUCT(--(INDEX(Model_Inputs_Ref_Units,,AZ$51)=$E64),INDEX(Model_Inputs_Ref_Units,,AZ$52)),0)","v":0},{"$f":"IFERROR(SUMPRODUCT(--(INDEX(Model_Inputs_Ref_Units,,BA$51)=$E64),INDEX(Model_Inputs_Ref_Units,,BA$52)),0)","v":0},{"$f":"IFERROR(SUMPRODUCT(--(INDEX(Model_Inputs_Ref_Units,,BB$51)=$E64),INDEX(Model_Inputs_Ref_Units,,BB$52)),0)","v":0},{"$f":"IFERROR(SUMPRODUCT(--(INDEX(Model_Inputs_Ref_Units,,BC$51)=$E64),INDEX(Model_Inputs_Ref_Units,,BC$52)),0)","v":0},{"$f":"IFERROR(SUMPRODUCT(--(INDEX(Model_Inputs_Ref_Units,,BD$51)=$E64),INDEX(Model_Inputs_Ref_Units,,BD$52)),0)","v":0},{"$f":"IFERROR(SUMPRODUCT(--(INDEX(Model_Inputs_Ref_Units,,BE$51)=$E64),INDEX(Model_Inputs_Ref_Units,,BE$52)),0)","v":0},{"$f":"IFERROR(SUMPRODUCT(--(INDEX(Model_Inputs_Ref_Units,,BF$51)=$E64),INDEX(Model_Inputs_Ref_Units,,BF$52)),0)","v":0},{"$f":"IFERROR(SUMPRODUCT(--(INDEX(Model_Inputs_Ref_Units,,BG$51)=$E64),INDEX(Model_Inputs_Ref_Units,,BG$52)),0)","v":0},{"$f":"IFERROR(SUMPRODUCT(--(INDEX(Model_Inputs_Ref_Units,,BH$51)=$E64),INDEX(Model_Inputs_Ref_Units,,BH$52)),0)","v":0},{"$f":"IFERROR(SUMPRODUCT(--(INDEX(Model_Inputs_Ref_Units,,BI$51)=$E64),INDEX(Model_Inputs_Ref_Units,,BI$52)),0)","v":0},{"$f":"IFERROR(SUMPRODUCT(--(INDEX(Model_Inputs_Ref_Units,,BJ$51)=$E64),INDEX(Model_Inputs_Ref_Units,,BJ$52)),0)","v":0},{"$f":"IFERROR(SUMPRODUCT(--(INDEX(Model_Inputs_Ref_Units,,BK$51)=$E64),INDEX(Model_Inputs_Ref_Units,,BK$52)),0)","v":0},{"$f":"IFERROR(SUMPRODUCT(--(INDEX(Model_Inputs_Ref_Units,,BL$51)=$E64),INDEX(Model_Inputs_Ref_Units,,BL$52)),0)","v":0},{"$f":"IFERROR(SUMPRODUCT(--(INDEX(Model_Inputs_Ref_Units,,BM$51)=$E64),INDEX(Model_Inputs_Ref_Units,,BM$52)),0)","v":0},{"$f":"IFERROR(SUMPRODUCT(--(INDEX(Model_Inputs_Ref_Units,,BN$51)=$E64),INDEX(Model_Inputs_Ref_Units,,BN$52)),0)","v":0},{"$f":"IFERROR(SUMPRODUCT(--(INDEX(Model_Inputs_Ref_Units,,BO$51)=$E64),INDEX(Model_Inputs_Ref_Units,,BO$52)),0)","v":0},{"$f":"IFERROR(SUMPRODUCT(--(INDEX(Model_Inputs_Ref_Units,,BP$51)=$E64),INDEX(Model_Inputs_Ref_Units,,BP$52)),0)","v":0},{"$f":"IFERROR(SUMPRODUCT(--(INDEX(Model_Inputs_Ref_Units,,BQ$51)=$E64),INDEX(Model_Inputs_Ref_Units,,BQ$52)),0)","v":0},{"$f":"IFERROR(SUMPRODUCT(--(INDEX(Model_Inputs_Ref_Units,,BR$51)=$E64),INDEX(Model_Inputs_Ref_Units,,BR$52)),0)","v":0},{"$f":"IFERROR(SUMPRODUCT(--(INDEX(Model_Inputs_Ref_Units,,BS$51)=$E64),INDEX(Model_Inputs_Ref_Units,,BS$52)),0)","v":0},{"$f":"IFERROR(SUMPRODUCT(--(INDEX(Model_Inputs_Ref_Units,,BT$51)=$E64),INDEX(Model_Inputs_Ref_Units,,BT$52)),0)","v":0},{"$f":"IFERROR(SUMPRODUCT(--(INDEX(Model_Inputs_Ref_Units,,BU$51)=$E64),INDEX(Model_Inputs_Ref_Units,,BU$52)),0)","v":0},{"$f":"IFERROR(SUMPRODUCT(--(INDEX(Model_Inputs_Ref_Units,,BV$51)=$E64),INDEX(Model_Inputs_Ref_Units,,BV$52)),0)","v":0},{"$f":"IFERROR(SUMPRODUCT(--(INDEX(Model_Inputs_Ref_Units,,BW$51)=$E64),INDEX(Model_Inputs_Ref_Units,,BW$52)),0)","v":0},{"$f":"IFERROR(SUMPRODUCT(--(INDEX(Model_Inputs_Ref_Units,,BX$51)=$E64),INDEX(Model_Inputs_Ref_Units,,BX$52)),0)","v":0},{"$f":"IFERROR(SUMPRODUCT(--(INDEX(Model_Inputs_Ref_Units,,BY$51)=$E64),INDEX(Model_Inputs_Ref_Units,,BY$52)),0)","v":0},{"$f":"IFERROR(SUMPRODUCT(--(INDEX(Model_Inputs_Ref_Units,,BZ$51)=$E64),INDEX(Model_Inputs_Ref_Units,,BZ$52)),0)","v":0},{"$f":"IFERROR(SUMPRODUCT(--(INDEX(Model_Inputs_Ref_Units,,CA$51)=$E64),INDEX(Model_Inputs_Ref_Units,,CA$52)),0)","v":0},{"$f":"IFERROR(SUMPRODUCT(--(INDEX(Model_Inputs_Ref_Units,,CB$51)=$E64),INDEX(Model_Inputs_Ref_Units,,CB$52)),0)","v":0},{"$f":"IFERROR(SUMPRODUCT(--(INDEX(Model_Inputs_Ref_Units,,CC$51)=$E64),INDEX(Model_Inputs_Ref_Units,,CC$52)),0)","v":0},{"$f":"IFERROR(SUMPRODUCT(--(INDEX(Model_Inputs_Ref_Units,,CD$51)=$E64),INDEX(Model_Inputs_Ref_Units,,CD$52)),0)","v":0},{"$f":"IFERROR(SUMPRODUCT(--(INDEX(Model_Inputs_Ref_Units,,CE$51)=$E64),INDEX(Model_Inputs_Ref_Units,,CE$52)),0)","v":0},{"$f":"IFERROR(SUMPRODUCT(--(INDEX(Model_Inputs_Ref_Units,,CF$51)=$E64),INDEX(Model_Inputs_Ref_Units,,CF$52)),0)","v":0},{"$f":"IFERROR(SUMPRODUCT(--(INDEX(Model_Inputs_Ref_Units,,CG$51)=$E64),INDEX(Model_Inputs_Ref_Units,,CG$52)),0)","v":0},{"$f":"IFERROR(SUMPRODUCT(--(INDEX(Model_Inputs_Ref_Units,,CH$51)=$E64),INDEX(Model_Inputs_Ref_Units,,CH$52)),0)","v":0},{"$f":"IFERROR(SUMPRODUCT(--(INDEX(Model_Inputs_Ref_Units,,CI$51)=$E64),INDEX(Model_Inputs_Ref_Units,,CI$52)),0)","v":0},{"$f":"IFERROR(SUMPRODUCT(--(INDEX(Model_Inputs_Ref_Units,,CJ$51)=$E64),INDEX(Model_Inputs_Ref_Units,,CJ$52)),0)","v":0},{"$f":"IFERROR(SUMPRODUCT(--(INDEX(Model_Inputs_Ref_Units,,CK$51)=$E64),INDEX(Model_Inputs_Ref_Units,,CK$52)),0)","v":0},{"$f":"IFERROR(SUMPRODUCT(--(INDEX(Model_Inputs_Ref_Units,,CL$51)=$E64),INDEX(Model_Inputs_Ref_Units,,CL$52)),0)","v":0},{"$f":"IFERROR(SUMPRODUCT(--(INDEX(Model_Inputs_Ref_Units,,CM$51)=$E64),INDEX(Model_Inputs_Ref_Units,,CM$52)),0)","v":0},{"$f":"IFERROR(SUMPRODUCT(--(INDEX(Model_Inputs_Ref_Units,,CN$51)=$E64),INDEX(Model_Inputs_Ref_Units,,CN$52)),0)","v":0},{"$f":"IFERROR(SUMPRODUCT(--(INDEX(Model_Inputs_Ref_Units,,CO$51)=$E64),INDEX(Model_Inputs_Ref_Units,,CO$52)),0)","v":0},{"$f":"IFERROR(SUMPRODUCT(--(INDEX(Model_Inputs_Ref_Units,,CP$51)=$E64),INDEX(Model_Inputs_Ref_Units,,CP$52)),0)","v":0},{"$f":"IFERROR(SUMPRODUCT(--(INDEX(Model_Inputs_Ref_Units,,CQ$51)=$E64),INDEX(Model_Inputs_Ref_Units,,CQ$52)),0)","v":0},{"$f":"IFERROR(SUMPRODUCT(--(INDEX(Model_Inputs_Ref_Units,,CR$51)=$E64),INDEX(Model_Inputs_Ref_Units,,CR$52)),0)","v":0},{"$f":"IFERROR(SUMPRODUCT(--(INDEX(Model_Inputs_Ref_Units,,CS$51)=$E64),INDEX(Model_Inputs_Ref_Units,,CS$52)),0)","v":0},{"$f":"IFERROR(SUMPRODUCT(--(INDEX(Model_Inputs_Ref_Units,,CT$51)=$E64),INDEX(Model_Inputs_Ref_Units,,CT$52)),0)","v":0},{"$f":"IFERROR(SUMPRODUCT(--(INDEX(Model_Inputs_Ref_Units,,CU$51)=$E64),INDEX(Model_Inputs_Ref_Units,,CU$52)),0)","v":0},{"$f":"IFERROR(SUMPRODUCT(--(INDEX(Model_Inputs_Ref_Units,,CV$51)=$E64),INDEX(Model_Inputs_Ref_Units,,CV$52)),0)","v":0},{"$f":"IFERROR(SUMPRODUCT(--(INDEX(Model_Inputs_Ref_Units,,CW$51)=$E64),INDEX(Model_Inputs_Ref_Units,,CW$52)),0)","v":0},{"$f":"IFERROR(SUMPRODUCT(--(INDEX(Model_Inputs_Ref_Units,,CX$51)=$E64),INDEX(Model_Inputs_Ref_Units,,CX$52)),0)","v":0},{"$f":"IFERROR(SUMPRODUCT(--(INDEX(Model_Inputs_Ref_Units,,CY$51)=$E64),INDEX(Model_Inputs_Ref_Units,,CY$52)),0)","v":0},{"$f":"IFERROR(SUMPRODUCT(--(INDEX(Model_Inputs_Ref_Units,,CZ$51)=$E64),INDEX(Model_Inputs_Ref_Units,,CZ$52)),0)","v":0},{"$f":"IFERROR(SUMPRODUCT(--(INDEX(Model_Inputs_Ref_Units,,DA$51)=$E64),INDEX(Model_Inputs_Ref_Units,,DA$52)),0)","v":0},{"$f":"IFERROR(SUMPRODUCT(--(INDEX(Model_Inputs_Ref_Units,,DB$51)=$E64),INDEX(Model_Inputs_Ref_Units,,DB$52)),0)","v":0},{"$f":"IFERROR(SUMPRODUCT(--(INDEX(Model_Inputs_Ref_Units,,DC$51)=$E64),INDEX(Model_Inputs_Ref_Units,,DC$52)),0)","v":0},{"$f":"IFERROR(SUMPRODUCT(--(INDEX(Model_Inputs_Ref_Units,,DD$51)=$E64),INDEX(Model_Inputs_Ref_Units,,DD$52)),0)","v":0},{"$f":"IFERROR(SUMPRODUCT(--(INDEX(Model_Inputs_Ref_Units,,DE$51)=$E64),INDEX(Model_Inputs_Ref_Units,,DE$52)),0)","v":0},{"$f":"IFERROR(SUMPRODUCT(--(INDEX(Model_Inputs_Ref_Units,,DF$51)=$E64),INDEX(Model_Inputs_Ref_Units,,DF$52)),0)","v":0}]
[null,null,{"$error":"#DIV/0!"},null,{"$f":"IFERROR(INDEX(Ref_Data,1,F65),\"\")","v":""},12,0,0,0,0,{"$f":"IFERROR(SUMPRODUCT(--(INDEX(Model_Inputs_Ref_Units,,K$51)=$E65),INDEX(Model_Inputs_Ref_Units,,K$52)),0)","v":0},{"$f":"IFERROR(SUMPRODUCT(--(INDEX(Model_Inputs_Ref_Units,,L$51)=$E65),INDEX(Model_Inputs_Ref_Units,,L$52)),0)","v":0},{"$f":"IFERROR(SUMPRODUCT(--(INDEX(Model_Inputs_Ref_Units,,M$51)=$E65),INDEX(Model_Inputs_Ref_Units,,M$52)),0)","v":0},{"$f":"IFERROR(SUMPRODUCT(--(INDEX(Model_Inputs_Ref_Units,,N$51)=$E65),INDEX(Model_Inputs_Ref_Units,,N$52)),0)","v":0},{"$f":"IFERROR(SUMPRODUCT(--(INDEX(Model_Inputs_Ref_Units,,O$51)=$E65),INDEX(Model_Inputs_Ref_Units,,O$52)),0)","v":0},{"$f":"IFERROR(SUMPRODUCT(--(INDEX(Model_Inputs_Ref_Units,,P$51)=$E65),INDEX(Model_Inputs_Ref_Units,,P$52)),0)","v":0},{"$f":"IFERROR(SUMPRODUCT(--(INDEX(Model_Inputs_Ref_Units,,Q$51)=$E65),INDEX(Model_Inputs_Ref_Units,,Q$52)),0)","v":0},{"$f":"IFERROR(SUMPRODUCT(--(INDEX(Model_Inputs_Ref_Units,,R$51)=$E65),INDEX(Model_Inputs_Ref_Units,,R$52)),0)","v":0},{"$f":"IFERROR(SUMPRODUCT(--(INDEX(Model_Inputs_Ref_Units,,S$51)=$E65),INDEX(Model_Inputs_Ref_Units,,S$52)),0)","v":0},{"$f":"IFERROR(SUMPRODUCT(--(INDEX(Model_Inputs_Ref_Units,,T$51)=$E65),INDEX(Model_Inputs_Ref_Units,,T$52)),0)","v":0},{"$f":"IFERROR(SUMPRODUCT(--(INDEX(Model_Inputs_Ref_Units,,U$51)=$E65),INDEX(Model_Inputs_Ref_Units,,U$52)),0)","v":0},{"$f":"IFERROR(SUMPRODUCT(--(INDEX(Model_Inputs_Ref_Units,,V$51)=$E65),INDEX(Model_Inputs_Ref_Units,,V$52)),0)","v":0},{"$f":"IFERROR(SUMPRODUCT(--(INDEX(Model_Inputs_Ref_Units,,W$51)=$E65),INDEX(Model_Inputs_Ref_Units,,W$52)),0)","v":0},{"$f":"IFERROR(SUMPRODUCT(--(INDEX(Model_Inputs_Ref_Units,,X$51)=$E65),INDEX(Model_Inputs_Ref_Units,,X$52)),0)","v":0},{"$f":"IFERROR(SUMPRODUCT(--(INDEX(Model_Inputs_Ref_Units,,Y$51)=$E65),INDEX(Model_Inputs_Ref_Units,,Y$52)),0)","v":0},{"$f":"IFERROR(SUMPRODUCT(--(INDEX(Model_Inputs_Ref_Units,,Z$51)=$E65),INDEX(Model_Inputs_Ref_Units,,Z$52)),0)","v":0},{"$f":"IFERROR(SUMPRODUCT(--(INDEX(Model_Inputs_Ref_Units,,AA$51)=$E65),INDEX(Model_Inputs_Ref_Units,,AA$52)),0)","v":0},{"$f":"IFERROR(SUMPRODUCT(--(INDEX(Model_Inputs_Ref_Units,,AB$51)=$E65),INDEX(Model_Inputs_Ref_Units,,AB$52)),0)","v":0},{"$f":"IFERROR(SUMPRODUCT(--(INDEX(Model_Inputs_Ref_Units,,AC$51)=$E65),INDEX(Model_Inputs_Ref_Units,,AC$52)),0)","v":0},{"$f":"IFERROR(SUMPRODUCT(--(INDEX(Model_Inputs_Ref_Units,,AD$51)=$E65),INDEX(Model_Inputs_Ref_Units,,AD$52)),0)","v":0},{"$f":"IFERROR(SUMPRODUCT(--(INDEX(Model_Inputs_Ref_Units,,AE$51)=$E65),INDEX(Model_Inputs_Ref_Units,,AE$52)),0)","v":0},{"$f":"IFERROR(SUMPRODUCT(--(INDEX(Model_Inputs_Ref_Units,,AF$51)=$E65),INDEX(Model_Inputs_Ref_Units,,AF$52)),0)","v":0},{"$f":"IFERROR(SUMPRODUCT(--(INDEX(Model_Inputs_Ref_Units,,AG$51)=$E65),INDEX(Model_Inputs_Ref_Units,,AG$52)),0)","v":0},{"$f":"IFERROR(SUMPRODUCT(--(INDEX(Model_Inputs_Ref_Units,,AH$51)=$E65),INDEX(Model_Inputs_Ref_Units,,AH$52)),0)","v":0},{"$f":"IFERROR(SUMPRODUCT(--(INDEX(Model_Inputs_Ref_Units,,AI$51)=$E65),INDEX(Model_Inputs_Ref_Units,,AI$52)),0)","v":0},{"$f":"IFERROR(SUMPRODUCT(--(INDEX(Model_Inputs_Ref_Units,,AJ$51)=$E65),INDEX(Model_Inputs_Ref_Units,,AJ$52)),0)","v":0},{"$f":"IFERROR(SUMPRODUCT(--(INDEX(Model_Inputs_Ref_Units,,AK$51)=$E65),INDEX(Model_Inputs_Ref_Units,,AK$52)),0)","v":0},{"$f":"IFERROR(SUMPRODUCT(--(INDEX(Model_Inputs_Ref_Units,,AL$51)=$E65),INDEX(Model_Inputs_Ref_Units,,AL$52)),0)","v":0},{"$f":"IFERROR(SUMPRODUCT(--(INDEX(Model_Inputs_Ref_Units,,AM$51)=$E65),INDEX(Model_Inputs_Ref_Units,,AM$52)),0)","v":0},{"$f":"IFERROR(SUMPRODUCT(--(INDEX(Model_Inputs_Ref_Units,,AN$51)=$E65),INDEX(Model_Inputs_Ref_Units,,AN$52)),0)","v":0},{"$f":"IFERROR(SUMPRODUCT(--(INDEX(Model_Inputs_Ref_Units,,AO$51)=$E65),INDEX(Model_Inputs_Ref_Units,,AO$52)),0)","v":0},{"$f":"IFERROR(SUMPRODUCT(--(INDEX(Model_Inputs_Ref_Units,,AP$51)=$E65),INDEX(Model_Inputs_Ref_Units,,AP$52)),0)","v":0},{"$f":"IFERROR(SUMPRODUCT(--(INDEX(Model_Inputs_Ref_Units,,AQ$51)=$E65),INDEX(Model_Inputs_Ref_Units,,AQ$52)),0)","v":0},{"$f":"IFERROR(SUMPRODUCT(--(INDEX(Model_Inputs_Ref_Units,,AR$51)=$E65),INDEX(Model_Inputs_Ref_Units,,AR$52)),0)","v":0},{"$f":"IFERROR(SUMPRODUCT(--(INDEX(Model_Inputs_Ref_Units,,AS$51)=$E65),INDEX(Model_Inputs_Ref_Units,,AS$52)),0)","v":0},{"$f":"IFERROR(SUMPRODUCT(--(INDEX(Model_Inputs_Ref_Units,,AT$51)=$E65),INDEX(Model_Inputs_Ref_Units,,AT$52)),0)","v":0},{"$f":"IFERROR(SUMPRODUCT(--(INDEX(Model_Inputs_Ref_Units,,AU$51)=$E65),INDEX(Model_Inputs_Ref_Units,,AU$52)),0)","v":0},{"$f":"IFERROR(SUMPRODUCT(--(INDEX(Model_Inputs_Ref_Units,,AV$51)=$E65),INDEX(Model_Inputs_Ref_Units,,AV$52)),0)","v":0},{"$f":"IFERROR(SUMPRODUCT(--(INDEX(Model_Inputs_Ref_Units,,AW$51)=$E65),INDEX(Model_Inputs_Ref_Units,,AW$52)),0)","v":0},{"$f":"IFERROR(SUMPRODUCT(--(INDEX(Model_Inputs_Ref_Units,,AX$51)=$E65),INDEX(Model_Inputs_Ref_Units,,AX$52)),0)","v":0},{"$f":"IFERROR(SUMPRODUCT(--(INDEX(Model_Inputs_Ref_Units,,AY$51)=$E65),INDEX(Model_Inputs_Ref_Units,,AY$52)),0)","v":0},{"$f":"IFERROR(SUMPRODUCT(--(INDEX(Model_Inputs_Ref_Units,,AZ$51)=$E65),INDEX(Model_Inputs_Ref_Units,,AZ$52)),0)","v":0},{"$f":"IFERROR(SUMPRODUCT(--(INDEX(Model_Inputs_Ref_Units,,BA$51)=$E65),INDEX(Model_Inputs_Ref_Units,,BA$52)),0)","v":0},{"$f":"IFERROR(SUMPRODUCT(--(INDEX(Model_Inputs_Ref_Units,,BB$51)=$E65),INDEX(Model_Inputs_Ref_Units,,BB$52)),0)","v":0},{"$f":"IFERROR(SUMPRODUCT(--(INDEX(Model_Inputs_Ref_Units,,BC$51)=$E65),INDEX(Model_Inputs_Ref_Units,,BC$52)),0)","v":0},{"$f":"IFERROR(SUMPRODUCT(--(INDEX(Model_Inputs_Ref_Units,,BD$51)=$E65),INDEX(Model_Inputs_Ref_Units,,BD$52)),0)","v":0},{"$f":"IFERROR(SUMPRODUCT(--(INDEX(Model_Inputs_Ref_Units,,BE$51)=$E65),INDEX(Model_Inputs_Ref_Units,,BE$52)),0)","v":0},{"$f":"IFERROR(SUMPRODUCT(--(INDEX(Model_Inputs_Ref_Units,,BF$51)=$E65),INDEX(Model_Inputs_Ref_Units,,BF$52)),0)","v":0},{"$f":"IFERROR(SUMPRODUCT(--(INDEX(Model_Inputs_Ref_Units,,BG$51)=$E65),INDEX(Model_Inputs_Ref_Units,,BG$52)),0)","v":0},{"$f":"IFERROR(SUMPRODUCT(--(INDEX(Model_Inputs_Ref_Units,,BH$51)=$E65),INDEX(Model_Inputs_Ref_Units,,BH$52)),0)","v":0},{"$f":"IFERROR(SUMPRODUCT(--(INDEX(Model_Inputs_Ref_Units,,BI$51)=$E65),INDEX(Model_Inputs_Ref_Units,,BI$52)),0)","v":0},{"$f":"IFERROR(SUMPRODUCT(--(INDEX(Model_Inputs_Ref_Units,,BJ$51)=$E65),INDEX(Model_Inputs_Ref_Units,,BJ$52)),0)","v":0},{"$f":"IFERROR(SUMPRODUCT(--(INDEX(Model_Inputs_Ref_Units,,BK$51)=$E65),INDEX(Model_Inputs_Ref_Units,,BK$52)),0)","v":0},{"$f":"IFERROR(SUMPRODUCT(--(INDEX(Model_Inputs_Ref_Units,,BL$51)=$E65),INDEX(Model_Inputs_Ref_Units,,BL$52)),0)","v":0},{"$f":"IFERROR(SUMPRODUCT(--(INDEX(Model_Inputs_Ref_Units,,BM$51)=$E65),INDEX(Model_Inputs_Ref_Units,,BM$52)),0)","v":0},{"$f":"IFERROR(SUMPRODUCT(--(INDEX(Model_Inputs_Ref_Units,,BN$51)=$E65),INDEX(Model_Inputs_Ref_Units,,BN$52)),0)","v":0},{"$f":"IFERROR(SUMPRODUCT(--(INDEX(Model_Inputs_Ref_Units,,BO$51)=$E65),INDEX(Model_Inputs_Ref_Units,,BO$52)),0)","v":0},{"$f":"IFERROR(SUMPRODUCT(--(INDEX(Model_Inputs_Ref_Units,,BP$51)=$E65),INDEX(Model_Inputs_Ref_Units,,BP$52)),0)","v":0},{"$f":"IFERROR(SUMPRODUCT(--(INDEX(Model_Inputs_Ref_Units,,BQ$51)=$E65),INDEX(Model_Inputs_Ref_Units,,BQ$52)),0)","v":0},{"$f":"IFERROR(SUMPRODUCT(--(INDEX(Model_Inputs_Ref_Units,,BR$51)=$E65),INDEX(Model_Inputs_Ref_Units,,BR$52)),0)","v":0},{"$f":"IFERROR(SUMPRODUCT(--(INDEX(Model_Inputs_Ref_Units,,BS$51)=$E65),INDEX(Model_Inputs_Ref_Units,,BS$52)),0)","v":0},{"$f":"IFERROR(SUMPRODUCT(--(INDEX(Model_Inputs_Ref_Units,,BT$51)=$E65),INDEX(Model_Inputs_Ref_Units,,BT$52)),0)","v":0},{"$f":"IFERROR(SUMPRODUCT(--(INDEX(Model_Inputs_Ref_Units,,BU$51)=$E65),INDEX(Model_Inputs_Ref_Units,,BU$52)),0)","v":0},{"$f":"IFERROR(SUMPRODUCT(--(INDEX(Model_Inputs_Ref_Units,,BV$51)=$E65),INDEX(Model_Inputs_Ref_Units,,BV$52)),0)","v":0},{"$f":"IFERROR(SUMPRODUCT(--(INDEX(Model_Inputs_Ref_Units,,BW$51)=$E65),INDEX(Model_Inputs_Ref_Units,,BW$52)),0)","v":0},{"$f":"IFERROR(SUMPRODUCT(--(INDEX(Model_Inputs_Ref_Units,,BX$51)=$E65),INDEX(Model_Inputs_Ref_Units,,BX$52)),0)","v":0},{"$f":"IFERROR(SUMPRODUCT(--(INDEX(Model_Inputs_Ref_Units,,BY$51)=$E65),INDEX(Model_Inputs_Ref_Units,,BY$52)),0)","v":0},{"$f":"IFERROR(SUMPRODUCT(--(INDEX(Model_Inputs_Ref_Units,,BZ$51)=$E65),INDEX(Model_Inputs_Ref_Units,,BZ$52)),0)","v":0},{"$f":"IFERROR(SUMPRODUCT(--(INDEX(Model_Inputs_Ref_Units,,CA$51)=$E65),INDEX(Model_Inputs_Ref_Units,,CA$52)),0)","v":0},{"$f":"IFERROR(SUMPRODUCT(--(INDEX(Model_Inputs_Ref_Units,,CB$51)=$E65),INDEX(Model_Inputs_Ref_Units,,CB$52)),0)","v":0},{"$f":"IFERROR(SUMPRODUCT(--(INDEX(Model_Inputs_Ref_Units,,CC$51)=$E65),INDEX(Model_Inputs_Ref_Units,,CC$52)),0)","v":0},{"$f":"IFERROR(SUMPRODUCT(--(INDEX(Model_Inputs_Ref_Units,,CD$51)=$E65),INDEX(Model_Inputs_Ref_Units,,CD$52)),0)","v":0},{"$f":"IFERROR(SUMPRODUCT(--(INDEX(Model_Inputs_Ref_Units,,CE$51)=$E65),INDEX(Model_Inputs_Ref_Units,,CE$52)),0)","v":0},{"$f":"IFERROR(SUMPRODUCT(--(INDEX(Model_Inputs_Ref_Units,,CF$51)=$E65),INDEX(Model_Inputs_Ref_Units,,CF$52)),0)","v":0},{"$f":"IFERROR(SUMPRODUCT(--(INDEX(Model_Inputs_Ref_Units,,CG$51)=$E65),INDEX(Model_Inputs_Ref_Units,,CG$52)),0)","v":0},{"$f":"IFERROR(SUMPRODUCT(--(INDEX(Model_Inputs_Ref_Units,,CH$51)=$E65),INDEX(Model_Inputs_Ref_Units,,CH$52)),0)","v":0},{"$f":"IFERROR(SUMPRODUCT(--(INDEX(Model_Inputs_Ref_Units,,CI$51)=$E65),INDEX(Model_Inputs_Ref_Units,,CI$52)),0)","v":0},{"$f":"IFERROR(SUMPRODUCT(--(INDEX(Model_Inputs_Ref_Units,,CJ$51)=$E65),INDEX(Model_Inputs_Ref_Units,,CJ$52)),0)","v":0},{"$f":"IFERROR(SUMPRODUCT(--(INDEX(Model_Inputs_Ref_Units,,CK$51)=$E65),INDEX(Model_Inputs_Ref_Units,,CK$52)),0)","v":0},{"$f":"IFERROR(SUMPRODUCT(--(INDEX(Model_Inputs_Ref_Units,,CL$51)=$E65),INDEX(Model_Inputs_Ref_Units,,CL$52)),0)","v":0},{"$f":"IFERROR(SUMPRODUCT(--(INDEX(Model_Inputs_Ref_Units,,CM$51)=$E65),INDEX(Model_Inputs_Ref_Units,,CM$52)),0)","v":0},{"$f":"IFERROR(SUMPRODUCT(--(INDEX(Model_Inputs_Ref_Units,,CN$51)=$E65),INDEX(Model_Inputs_Ref_Units,,CN$52)),0)","v":0},{"$f":"IFERROR(SUMPRODUCT(--(INDEX(Model_Inputs_Ref_Units,,CO$51)=$E65),INDEX(Model_Inputs_Ref_Units,,CO$52)),0)","v":0},{"$f":"IFERROR(SUMPRODUCT(--(INDEX(Model_Inputs_Ref_Units,,CP$51)=$E65),INDEX(Model_Inputs_Ref_Units,,CP$52)),0)","v":0},{"$f":"IFERROR(SUMPRODUCT(--(INDEX(Model_Inputs_Ref_Units,,CQ$51)=$E65),INDEX(Model_Inputs_Ref_Units,,CQ$52)),0)","v":0},{"$f":"IFERROR(SUMPRODUCT(--(INDEX(Model_Inputs_Ref_Units,,CR$51)=$E65),INDEX(Model_Inputs_Ref_Units,,CR$52)),0)","v":0},{"$f":"IFERROR(SUMPRODUCT(--(INDEX(Model_Inputs_Ref_Units,,CS$51)=$E65),INDEX(Model_Inputs_Ref_Units,,CS$52)),0)","v":0},{"$f":"IFERROR(SUMPRODUCT(--(INDEX(Model_Inputs_Ref_Units,,CT$51)=$E65),INDEX(Model_Inputs_Ref_Units,,CT$52)),0)","v":0},{"$f":"IFERROR(SUMPRODUCT(--(INDEX(Model_Inputs_Ref_Units,,CU$51)=$E65),INDEX(Model_Inputs_Ref_Units,,CU$52)),0)","v":0},{"$f":"IFERROR(SUMPRODUCT(--(INDEX(Model_Inputs_Ref_Units,,CV$51)=$E65),INDEX(Model_Inputs_Ref_Units,,CV$52)),0)","v":0},{"$f":"IFERROR(SUMPRODUCT(--(INDEX(Model_Inputs_Ref_Units,,CW$51)=$E65),INDEX(Model_Inputs_Ref_Units,,CW$52)),0)","v":0},{"$f":"IFERROR(SUMPRODUCT(--(INDEX(Model_Inputs_Ref_Units,,CX$51)=$E65),INDEX(Model_Inputs_Ref_Units,,CX$52)),0)","v":0},{"$f":"IFERROR(SUMPRODUCT(--(INDEX(Model_Inputs_Ref_Units,,CY$51)=$E65),INDEX(Model_Inputs_Ref_Units,,CY$52)),0)","v":0},{"$f":"IFERROR(SUMPRODUCT(--(INDEX(Model_Inputs_Ref_Units,,CZ$51)=$E65),INDEX(Model_Inputs_Ref_Units,,CZ$52)),0)","v":0},{"$f":"IFERROR(SUMPRODUCT(--(INDEX(Model_Inputs_Ref_Units,,DA$51)=$E65),INDEX(Model_Inputs_Ref_Units,,DA$52)),0)","v":0},{"$f":"IFERROR(SUMPRODUCT(--(INDEX(Model_Inputs_Ref_Units,,DB$51)=$E65),INDEX(Model_Inputs_Ref_Units,,DB$52)),0)","v":0},{"$f":"IFERROR(SUMPRODUCT(--(INDEX(Model_Inputs_Ref_Units,,DC$51)=$E65),INDEX(Model_Inputs_Ref_Units,,DC$52)),0)","v":0},{"$f":"IFERROR(SUMPRODUCT(--(INDEX(Model_Inputs_Ref_Units,,DD$51)=$E65),INDEX(Model_Inputs_Ref_Units,,DD$52)),0)","v":0},{"$f":"IFERROR(SUMPRODUCT(--(INDEX(Model_Inputs_Ref_Units,,DE$51)=$E65),INDEX(Model_Inputs_Ref_Units,,DE$52)),0)","v":0},{"$f":"IFERROR(SUMPRODUCT(--(INDEX(Model_Inputs_Ref_Units,,DF$51)=$E65),INDEX(Model_Inputs_Ref_Units,,DF$52)),0)","v":0}]
[null,null,{"$error":"#DIV/0!"},null,{"$f":"IFERROR(INDEX(Ref_Data,1,F66),\"\")","v":""},13,0,0,0,0,{"$f":"IFERROR(SUMPRODUCT(--(INDEX(Model_Inputs_Ref_Units,,K$51)=$E66),INDEX(Model_Inputs_Ref_Units,,K$52)),0)","v":0},{"$f":"IFERROR(SUMPRODUCT(--(INDEX(Model_Inputs_Ref_Units,,L$51)=$E66),INDEX(Model_Inputs_Ref_Units,,L$52)),0)","v":0},{"$f":"IFERROR(SUMPRODUCT(--(INDEX(Model_Inputs_Ref_Units,,M$51)=$E66),INDEX(Model_Inputs_Ref_Units,,M$52)),0)","v":0},{"$f":"IFERROR(SUMPRODUCT(--(INDEX(Model_Inputs_Ref_Units,,N$51)=$E66),INDEX(Model_Inputs_Ref_Units,,N$52)),0)","v":0},{"$f":"IFERROR(SUMPRODUCT(--(INDEX(Model_Inputs_Ref_Units,,O$51)=$E66),INDEX(Model_Inputs_Ref_Units,,O$52)),0)","v":0},{"$f":"IFERROR(SUMPRODUCT(--(INDEX(Model_Inputs_Ref_Units,,P$51)=$E66),INDEX(Model_Inputs_Ref_Units,,P$52)),0)","v":0},{"$f":"IFERROR(SUMPRODUCT(--(INDEX(Model_Inputs_Ref_Units,,Q$51)=$E66),INDEX(Model_Inputs_Ref_Units,,Q$52)),0)","v":0},{"$f":"IFERROR(SUMPRODUCT(--(INDEX(Model_Inputs_Ref_Units,,R$51)=$E66),INDEX(Model_Inputs_Ref_Units,,R$52)),0)","v":0},{"$f":"IFERROR(SUMPRODUCT(--(INDEX(Model_Inputs_Ref_Units,,S$51)=$E66),INDEX(Model_Inputs_Ref_Units,,S$52)),0)","v":0},{"$f":"IFERROR(SUMPRODUCT(--(INDEX(Model_Inputs_Ref_Units,,T$51)=$E66),INDEX(Model_Inputs_Ref_Units,,T$52)),0)","v":0},{"$f":"IFERROR(SUMPRODUCT(--(INDEX(Model_Inputs_Ref_Units,,U$51)=$E66),INDEX(Model_Inputs_Ref_Units,,U$52)),0)","v":0},{"$f":"IFERROR(SUMPRODUCT(--(INDEX(Model_Inputs_Ref_Units,,V$51)=$E66),INDEX(Model_Inputs_Ref_Units,,V$52)),0)","v":0},{"$f":"IFERROR(SUMPRODUCT(--(INDEX(Model_Inputs_Ref_Units,,W$51)=$E66),INDEX(Model_Inputs_Ref_Units,,W$52)),0)","v":0},{"$f":"IFERROR(SUMPRODUCT(--(INDEX(Model_Inputs_Ref_Units,,X$51)=$E66),INDEX(Model_Inputs_Ref_Units,,X$52)),0)","v":0},{"$f":"IFERROR(SUMPRODUCT(--(INDEX(Model_Inputs_Ref_Units,,Y$51)=$E66),INDEX(Model_Inputs_Ref_Units,,Y$52)),0)","v":0},{"$f":"IFERROR(SUMPRODUCT(--(INDEX(Model_Inputs_Ref_Units,,Z$51)=$E66),INDEX(Model_Inputs_Ref_Units,,Z$52)),0)","v":0},{"$f":"IFERROR(SUMPRODUCT(--(INDEX(Model_Inputs_Ref_Units,,AA$51)=$E66),INDEX(Model_Inputs_Ref_Units,,AA$52)),0)","v":0},{"$f":"IFERROR(SUMPRODUCT(--(INDEX(Model_Inputs_Ref_Units,,AB$51)=$E66),INDEX(Model_Inputs_Ref_Units,,AB$52)),0)","v":0},{"$f":"IFERROR(SUMPRODUCT(--(INDEX(Model_Inputs_Ref_Units,,AC$51)=$E66),INDEX(Model_Inputs_Ref_Units,,AC$52)),0)","v":0},{"$f":"IFERROR(SUMPRODUCT(--(INDEX(Model_Inputs_Ref_Units,,AD$51)=$E66),INDEX(Model_Inputs_Ref_Units,,AD$52)),0)","v":0},{"$f":"IFERROR(SUMPRODUCT(--(INDEX(Model_Inputs_Ref_Units,,AE$51)=$E66),INDEX(Model_Inputs_Ref_Units,,AE$52)),0)","v":0},{"$f":"IFERROR(SUMPRODUCT(--(INDEX(Model_Inputs_Ref_Units,,AF$51)=$E66),INDEX(Model_Inputs_Ref_Units,,AF$52)),0)","v":0},{"$f":"IFERROR(SUMPRODUCT(--(INDEX(Model_Inputs_Ref_Units,,AG$51)=$E66),INDEX(Model_Inputs_Ref_Units,,AG$52)),0)","v":0},{"$f":"IFERROR(SUMPRODUCT(--(INDEX(Model_Inputs_Ref_Units,,AH$51)=$E66),INDEX(Model_Inputs_Ref_Units,,AH$52)),0)","v":0},{"$f":"IFERROR(SUMPRODUCT(--(INDEX(Model_Inputs_Ref_Units,,AI$51)=$E66),INDEX(Model_Inputs_Ref_Units,,AI$52)),0)","v":0},{"$f":"IFERROR(SUMPRODUCT(--(INDEX(Model_Inputs_Ref_Units,,AJ$51)=$E66),INDEX(Model_Inputs_Ref_Units,,AJ$52)),0)","v":0},{"$f":"IFERROR(SUMPRODUCT(--(INDEX(Model_Inputs_Ref_Units,,AK$51)=$E66),INDEX(Model_Inputs_Ref_Units,,AK$52)),0)","v":0},{"$f":"IFERROR(SUMPRODUCT(--(INDEX(Model_Inputs_Ref_Units,,AL$51)=$E66),INDEX(Model_Inputs_Ref_Units,,AL$52)),0)","v":0},{"$f":"IFERROR(SUMPRODUCT(--(INDEX(Model_Inputs_Ref_Units,,AM$51)=$E66),INDEX(Model_Inputs_Ref_Units,,AM$52)),0)","v":0},{"$f":"IFERROR(SUMPRODUCT(--(INDEX(Model_Inputs_Ref_Units,,AN$51)=$E66),INDEX(Model_Inputs_Ref_Units,,AN$52)),0)","v":0},{"$f":"IFERROR(SUMPRODUCT(--(INDEX(Model_Inputs_Ref_Units,,AO$51)=$E66),INDEX(Model_Inputs_Ref_Units,,AO$52)),0)","v":0},{"$f":"IFERROR(SUMPRODUCT(--(INDEX(Model_Inputs_Ref_Units,,AP$51)=$E66),INDEX(Model_Inputs_Ref_Units,,AP$52)),0)","v":0},{"$f":"IFERROR(SUMPRODUCT(--(INDEX(Model_Inputs_Ref_Units,,AQ$51)=$E66),INDEX(Model_Inputs_Ref_Units,,AQ$52)),0)","v":0},{"$f":"IFERROR(SUMPRODUCT(--(INDEX(Model_Inputs_Ref_Units,,AR$51)=$E66),INDEX(Model_Inputs_Ref_Units,,AR$52)),0)","v":0},{"$f":"IFERROR(SUMPRODUCT(--(INDEX(Model_Inputs_Ref_Units,,AS$51)=$E66),INDEX(Model_Inputs_Ref_Units,,AS$52)),0)","v":0},{"$f":"IFERROR(SUMPRODUCT(--(INDEX(Model_Inputs_Ref_Units,,AT$51)=$E66),INDEX(Model_Inputs_Ref_Units,,AT$52)),0)","v":0},{"$f":"IFERROR(SUMPRODUCT(--(INDEX(Model_Inputs_Ref_Units,,AU$51)=$E66),INDEX(Model_Inputs_Ref_Units,,AU$52)),0)","v":0},{"$f":"IFERROR(SUMPRODUCT(--(INDEX(Model_Inputs_Ref_Units,,AV$51)=$E66),INDEX(Model_Inputs_Ref_Units,,AV$52)),0)","v":0},{"$f":"IFERROR(SUMPRODUCT(--(INDEX(Model_Inputs_Ref_Units,,AW$51)=$E66),INDEX(Model_Inputs_Ref_Units,,AW$52)),0)","v":0},{"$f":"IFERROR(SUMPRODUCT(--(INDEX(Model_Inputs_Ref_Units,,AX$51)=$E66),INDEX(Model_Inputs_Ref_Units,,AX$52)),0)","v":0},{"$f":"IFERROR(SUMPRODUCT(--(INDEX(Model_Inputs_Ref_Units,,AY$51)=$E66),INDEX(Model_Inputs_Ref_Units,,AY$52)),0)","v":0},{"$f":"IFERROR(SUMPRODUCT(--(INDEX(Model_Inputs_Ref_Units,,AZ$51)=$E66),INDEX(Model_Inputs_Ref_Units,,AZ$52)),0)","v":0},{"$f":"IFERROR(SUMPRODUCT(--(INDEX(Model_Inputs_Ref_Units,,BA$51)=$E66),INDEX(Model_Inputs_Ref_Units,,BA$52)),0)","v":0},{"$f":"IFERROR(SUMPRODUCT(--(INDEX(Model_Inputs_Ref_Units,,BB$51)=$E66),INDEX(Model_Inputs_Ref_Units,,BB$52)),0)","v":0},{"$f":"IFERROR(SUMPRODUCT(--(INDEX(Model_Inputs_Ref_Units,,BC$51)=$E66),INDEX(Model_Inputs_Ref_Units,,BC$52)),0)","v":0},{"$f":"IFERROR(SUMPRODUCT(--(INDEX(Model_Inputs_Ref_Units,,BD$51)=$E66),INDEX(Model_Inputs_Ref_Units,,BD$52)),0)","v":0},{"$f":"IFERROR(SUMPRODUCT(--(INDEX(Model_Inputs_Ref_Units,,BE$51)=$E66),INDEX(Model_Inputs_Ref_Units,,BE$52)),0)","v":0},{"$f":"IFERROR(SUMPRODUCT(--(INDEX(Model_Inputs_Ref_Units,,BF$51)=$E66),INDEX(Model_Inputs_Ref_Units,,BF$52)),0)","v":0},{"$f":"IFERROR(SUMPRODUCT(--(INDEX(Model_Inputs_Ref_Units,,BG$51)=$E66),INDEX(Model_Inputs_Ref_Units,,BG$52)),0)","v":0},{"$f":"IFERROR(SUMPRODUCT(--(INDEX(Model_Inputs_Ref_Units,,BH$51)=$E66),INDEX(Model_Inputs_Ref_Units,,BH$52)),0)","v":0},{"$f":"IFERROR(SUMPRODUCT(--(INDEX(Model_Inputs_Ref_Units,,BI$51)=$E66),INDEX(Model_Inputs_Ref_Units,,BI$52)),0)","v":0},{"$f":"IFERROR(SUMPRODUCT(--(INDEX(Model_Inputs_Ref_Units,,BJ$51)=$E66),INDEX(Model_Inputs_Ref_Units,,BJ$52)),0)","v":0},{"$f":"IFERROR(SUMPRODUCT(--(INDEX(Model_Inputs_Ref_Units,,BK$51)=$E66),INDEX(Model_Inputs_Ref_Units,,BK$52)),0)","v":0},{"$f":"IFERROR(SUMPRODUCT(--(INDEX(Model_Inputs_Ref_Units,,BL$51)=$E66),INDEX(Model_Inputs_Ref_Units,,BL$52)),0)","v":0},{"$f":"IFERROR(SUMPRODUCT(--(INDEX(Model_Inputs_Ref_Units,,BM$51)=$E66),INDEX(Model_Inputs_Ref_Units,,BM$52)),0)","v":0},{"$f":"IFERROR(SUMPRODUCT(--(INDEX(Model_Inputs_Ref_Units,,BN$51)=$E66),INDEX(Model_Inputs_Ref_Units,,BN$52)),0)","v":0},{"$f":"IFERROR(SUMPRODUCT(--(INDEX(Model_Inputs_Ref_Units,,BO$51)=$E66),INDEX(Model_Inputs_Ref_Units,,BO$52)),0)","v":0},{"$f":"IFERROR(SUMPRODUCT(--(INDEX(Model_Inputs_Ref_Units,,BP$51)=$E66),INDEX(Model_Inputs_Ref_Units,,BP$52)),0)","v":0},{"$f":"IFERROR(SUMPRODUCT(--(INDEX(Model_Inputs_Ref_Units,,BQ$51)=$E66),INDEX(Model_Inputs_Ref_Units,,BQ$52)),0)","v":0},{"$f":"IFERROR(SUMPRODUCT(--(INDEX(Model_Inputs_Ref_Units,,BR$51)=$E66),INDEX(Model_Inputs_Ref_Units,,BR$52)),0)","v":0},{"$f":"IFERROR(SUMPRODUCT(--(INDEX(Model_Inputs_Ref_Units,,BS$51)=$E66),INDEX(Model_Inputs_Ref_Units,,BS$52)),0)","v":0},{"$f":"IFERROR(SUMPRODUCT(--(INDEX(Model_Inputs_Ref_Units,,BT$51)=$E66),INDEX(Model_Inputs_Ref_Units,,BT$52)),0)","v":0},{"$f":"IFERROR(SUMPRODUCT(--(INDEX(Model_Inputs_Ref_Units,,BU$51)=$E66),INDEX(Model_Inputs_Ref_Units,,BU$52)),0)","v":0},{"$f":"IFERROR(SUMPRODUCT(--(INDEX(Model_Inputs_Ref_Units,,BV$51)=$E66),INDEX(Model_Inputs_Ref_Units,,BV$52)),0)","v":0},{"$f":"IFERROR(SUMPRODUCT(--(INDEX(Model_Inputs_Ref_Units,,BW$51)=$E66),INDEX(Model_Inputs_Ref_Units,,BW$52)),0)","v":0},{"$f":"IFERROR(SUMPRODUCT(--(INDEX(Model_Inputs_Ref_Units,,BX$51)=$E66),INDEX(Model_Inputs_Ref_Units,,BX$52)),0)","v":0},{"$f":"IFERROR(SUMPRODUCT(--(INDEX(Model_Inputs_Ref_Units,,BY$51)=$E66),INDEX(Model_Inputs_Ref_Units,,BY$52)),0)","v":0},{"$f":"IFERROR(SUMPRODUCT(--(INDEX(Model_Inputs_Ref_Units,,BZ$51)=$E66),INDEX(Model_Inputs_Ref_Units,,BZ$52)),0)","v":0},{"$f":"IFERROR(SUMPRODUCT(--(INDEX(Model_Inputs_Ref_Units,,CA$51)=$E66),INDEX(Model_Inputs_Ref_Units,,CA$52)),0)","v":0},{"$f":"IFERROR(SUMPRODUCT(--(INDEX(Model_Inputs_Ref_Units,,CB$51)=$E66),INDEX(Model_Inputs_Ref_Units,,CB$52)),0)","v":0},{"$f":"IFERROR(SUMPRODUCT(--(INDEX(Model_Inputs_Ref_Units,,CC$51)=$E66),INDEX(Model_Inputs_Ref_Units,,CC$52)),0)","v":0},{"$f":"IFERROR(SUMPRODUCT(--(INDEX(Model_Inputs_Ref_Units,,CD$51)=$E66),INDEX(Model_Inputs_Ref_Units,,CD$52)),0)","v":0},{"$f":"IFERROR(SUMPRODUCT(--(INDEX(Model_Inputs_Ref_Units,,CE$51)=$E66),INDEX(Model_Inputs_Ref_Units,,CE$52)),0)","v":0},{"$f":"IFERROR(SUMPRODUCT(--(INDEX(Model_Inputs_Ref_Units,,CF$51)=$E66),INDEX(Model_Inputs_Ref_Units,,CF$52)),0)","v":0},{"$f":"IFERROR(SUMPRODUCT(--(INDEX(Model_Inputs_Ref_Units,,CG$51)=$E66),INDEX(Model_Inputs_Ref_Units,,CG$52)),0)","v":0},{"$f":"IFERROR(SUMPRODUCT(--(INDEX(Model_Inputs_Ref_Units,,CH$51)=$E66),INDEX(Model_Inputs_Ref_Units,,CH$52)),0)","v":0},{"$f":"IFERROR(SUMPRODUCT(--(INDEX(Model_Inputs_Ref_Units,,CI$51)=$E66),INDEX(Model_Inputs_Ref_Units,,CI$52)),0)","v":0},{"$f":"IFERROR(SUMPRODUCT(--(INDEX(Model_Inputs_Ref_Units,,CJ$51)=$E66),INDEX(Model_Inputs_Ref_Units,,CJ$52)),0)","v":0},{"$f":"IFERROR(SUMPRODUCT(--(INDEX(Model_Inputs_Ref_Units,,CK$51)=$E66),INDEX(Model_Inputs_Ref_Units,,CK$52)),0)","v":0},{"$f":"IFERROR(SUMPRODUCT(--(INDEX(Model_Inputs_Ref_Units,,CL$51)=$E66),INDEX(Model_Inputs_Ref_Units,,CL$52)),0)","v":0},{"$f":"IFERROR(SUMPRODUCT(--(INDEX(Model_Inputs_Ref_Units,,CM$51)=$E66),INDEX(Model_Inputs_Ref_Units,,CM$52)),0)","v":0},{"$f":"IFERROR(SUMPRODUCT(--(INDEX(Model_Inputs_Ref_Units,,CN$51)=$E66),INDEX(Model_Inputs_Ref_Units,,CN$52)),0)","v":0},{"$f":"IFERROR(SUMPRODUCT(--(INDEX(Model_Inputs_Ref_Units,,CO$51)=$E66),INDEX(Model_Inputs_Ref_Units,,CO$52)),0)","v":0},{"$f":"IFERROR(SUMPRODUCT(--(INDEX(Model_Inputs_Ref_Units,,CP$51)=$E66),INDEX(Model_Inputs_Ref_Units,,CP$52)),0)","v":0},{"$f":"IFERROR(SUMPRODUCT(--(INDEX(Model_Inputs_Ref_Units,,CQ$51)=$E66),INDEX(Model_Inputs_Ref_Units,,CQ$52)),0)","v":0},{"$f":"IFERROR(SUMPRODUCT(--(INDEX(Model_Inputs_Ref_Units,,CR$51)=$E66),INDEX(Model_Inputs_Ref_Units,,CR$52)),0)","v":0},{"$f":"IFERROR(SUMPRODUCT(--(INDEX(Model_Inputs_Ref_Units,,CS$51)=$E66),INDEX(Model_Inputs_Ref_Units,,CS$52)),0)","v":0},{"$f":"IFERROR(SUMPRODUCT(--(INDEX(Model_Inputs_Ref_Units,,CT$51)=$E66),INDEX(Model_Inputs_Ref_Units,,CT$52)),0)","v":0},{"$f":"IFERROR(SUMPRODUCT(--(INDEX(Model_Inputs_Ref_Units,,CU$51)=$E66),INDEX(Model_Inputs_Ref_Units,,CU$52)),0)","v":0},{"$f":"IFERROR(SUMPRODUCT(--(INDEX(Model_Inputs_Ref_Units,,CV$51)=$E66),INDEX(Model_Inputs_Ref_Units,,CV$52)),0)","v":0},{"$f":"IFERROR(SUMPRODUCT(--(INDEX(Model_Inputs_Ref_Units,,CW$51)=$E66),INDEX(Model_Inputs_Ref_Units,,CW$52)),0)","v":0},{"$f":"IFERROR(SUMPRODUCT(--(INDEX(Model_Inputs_Ref_Units,,CX$51)=$E66),INDEX(Model_Inputs_Ref_Units,,CX$52)),0)","v":0},{"$f":"IFERROR(SUMPRODUCT(--(INDEX(Model_Inputs_Ref_Units,,CY$51)=$E66),INDEX(Model_Inputs_Ref_Units,,CY$52)),0)","v":0},{"$f":"IFERROR(SUMPRODUCT(--(INDEX(Model_Inputs_Ref_Units,,CZ$51)=$E66),INDEX(Model_Inputs_Ref_Units,,CZ$52)),0)","v":0},{"$f":"IFERROR(SUMPRODUCT(--(INDEX(Model_Inputs_Ref_Units,,DA$51)=$E66),INDEX(Model_Inputs_Ref_Units,,DA$52)),0)","v":0},{"$f":"IFERROR(SUMPRODUCT(--(INDEX(Model_Inputs_Ref_Units,,DB$51)=$E66),INDEX(Model_Inputs_Ref_Units,,DB$52)),0)","v":0},{"$f":"IFERROR(SUMPRODUCT(--(INDEX(Model_Inputs_Ref_Units,,DC$51)=$E66),INDEX(Model_Inputs_Ref_Units,,DC$52)),0)","v":0},{"$f":"IFERROR(SUMPRODUCT(--(INDEX(Model_Inputs_Ref_Units,,DD$51)=$E66),INDEX(Model_Inputs_Ref_Units,,DD$52)),0)","v":0},{"$f":"IFERROR(SUMPRODUCT(--(INDEX(Model_Inputs_Ref_Units,,DE$51)=$E66),INDEX(Model_Inputs_Ref_Units,,DE$52)),0)","v":0},{"$f":"IFERROR(SUMPRODUCT(--(INDEX(Model_Inputs_Ref_Units,,DF$51)=$E66),INDEX(Model_Inputs_Ref_Units,,DF$52)),0)","v":0}]
[null,null,{"$error":"#DIV/0!"},null,{"$f":"IFERROR(INDEX(Ref_Data,1,F67),\"\")","v":""},14,0,0,0,0,{"$f":"IFERROR(SUMPRODUCT(--(INDEX(Model_Inputs_Ref_Units,,K$51)=$E67),INDEX(Model_Inputs_Ref_Units,,K$52)),0)","v":0},{"$f":"IFERROR(SUMPRODUCT(--(INDEX(Model_Inputs_Ref_Units,,L$51)=$E67),INDEX(Model_Inputs_Ref_Units,,L$52)),0)","v":0},{"$f":"IFERROR(SUMPRODUCT(--(INDEX(Model_Inputs_Ref_Units,,M$51)=$E67),INDEX(Model_Inputs_Ref_Units,,M$52)),0)","v":0},{"$f":"IFERROR(SUMPRODUCT(--(INDEX(Model_Inputs_Ref_Units,,N$51)=$E67),INDEX(Model_Inputs_Ref_Units,,N$52)),0)","v":0},{"$f":"IFERROR(SUMPRODUCT(--(INDEX(Model_Inputs_Ref_Units,,O$51)=$E67),INDEX(Model_Inputs_Ref_Units,,O$52)),0)","v":0},{"$f":"IFERROR(SUMPRODUCT(--(INDEX(Model_Inputs_Ref_Units,,P$51)=$E67),INDEX(Model_Inputs_Ref_Units,,P$52)),0)","v":0},{"$f":"IFERROR(SUMPRODUCT(--(INDEX(Model_Inputs_Ref_Units,,Q$51)=$E67),INDEX(Model_Inputs_Ref_Units,,Q$52)),0)","v":0},{"$f":"IFERROR(SUMPRODUCT(--(INDEX(Model_Inputs_Ref_Units,,R$51)=$E67),INDEX(Model_Inputs_Ref_Units,,R$52)),0)","v":0},{"$f":"IFERROR(SUMPRODUCT(--(INDEX(Model_Inputs_Ref_Units,,S$51)=$E67),INDEX(Model_Inputs_Ref_Units,,S$52)),0)","v":0},{"$f":"IFERROR(SUMPRODUCT(--(INDEX(Model_Inputs_Ref_Units,,T$51)=$E67),INDEX(Model_Inputs_Ref_Units,,T$52)),0)","v":0},{"$f":"IFERROR(SUMPRODUCT(--(INDEX(Model_Inputs_Ref_Units,,U$51)=$E67),INDEX(Model_Inputs_Ref_Units,,U$52)),0)","v":0},{"$f":"IFERROR(SUMPRODUCT(--(INDEX(Model_Inputs_Ref_Units,,V$51)=$E67),INDEX(Model_Inputs_Ref_Units,,V$52)),0)","v":0},{"$f":"IFERROR(SUMPRODUCT(--(INDEX(Model_Inputs_Ref_Units,,W$51)=$E67),INDEX(Model_Inputs_Ref_Units,,W$52)),0)","v":0},{"$f":"IFERROR(SUMPRODUCT(--(INDEX(Model_Inputs_Ref_Units,,X$51)=$E67),INDEX(Model_Inputs_Ref_Units,,X$52)),0)","v":0},{"$f":"IFERROR(SUMPRODUCT(--(INDEX(Model_Inputs_Ref_Units,,Y$51)=$E67),INDEX(Model_Inputs_Ref_Units,,Y$52)),0)","v":0},{"$f":"IFERROR(SUMPRODUCT(--(INDEX(Model_Inputs_Ref_Units,,Z$51)=$E67),INDEX(Model_Inputs_Ref_Units,,Z$52)),0)","v":0},{"$f":"IFERROR(SUMPRODUCT(--(INDEX(Model_Inputs_Ref_Units,,AA$51)=$E67),INDEX(Model_Inputs_Ref_Units,,AA$52)),0)","v":0},{"$f":"IFERROR(SUMPRODUCT(--(INDEX(Model_Inputs_Ref_Units,,AB$51)=$E67),INDEX(Model_Inputs_Ref_Units,,AB$52)),0)","v":0},{"$f":"IFERROR(SUMPRODUCT(--(INDEX(Model_Inputs_Ref_Units,,AC$51)=$E67),INDEX(Model_Inputs_Ref_Units,,AC$52)),0)","v":0},{"$f":"IFERROR(SUMPRODUCT(--(INDEX(Model_Inputs_Ref_Units,,AD$51)=$E67),INDEX(Model_Inputs_Ref_Units,,AD$52)),0)","v":0},{"$f":"IFERROR(SUMPRODUCT(--(INDEX(Model_Inputs_Ref_Units,,AE$51)=$E67),INDEX(Model_Inputs_Ref_Units,,AE$52)),0)","v":0},{"$f":"IFERROR(SUMPRODUCT(--(INDEX(Model_Inputs_Ref_Units,,AF$51)=$E67),INDEX(Model_Inputs_Ref_Units,,AF$52)),0)","v":0},{"$f":"IFERROR(SUMPRODUCT(--(INDEX(Model_Inputs_Ref_Units,,AG$51)=$E67),INDEX(Model_Inputs_Ref_Units,,AG$52)),0)","v":0},{"$f":"IFERROR(SUMPRODUCT(--(INDEX(Model_Inputs_Ref_Units,,AH$51)=$E67),INDEX(Model_Inputs_Ref_Units,,AH$52)),0)","v":0},{"$f":"IFERROR(SUMPRODUCT(--(INDEX(Model_Inputs_Ref_Units,,AI$51)=$E67),INDEX(Model_Inputs_Ref_Units,,AI$52)),0)","v":0},{"$f":"IFERROR(SUMPRODUCT(--(INDEX(Model_Inputs_Ref_Units,,AJ$51)=$E67),INDEX(Model_Inputs_Ref_Units,,AJ$52)),0)","v":0},{"$f":"IFERROR(SUMPRODUCT(--(INDEX(Model_Inputs_Ref_Units,,AK$51)=$E67),INDEX(Model_Inputs_Ref_Units,,AK$52)),0)","v":0},{"$f":"IFERROR(SUMPRODUCT(--(INDEX(Model_Inputs_Ref_Units,,AL$51)=$E67),INDEX(Model_Inputs_Ref_Units,,AL$52)),0)","v":0},{"$f":"IFERROR(SUMPRODUCT(--(INDEX(Model_Inputs_Ref_Units,,AM$51)=$E67),INDEX(Model_Inputs_Ref_Units,,AM$52)),0)","v":0},{"$f":"IFERROR(SUMPRODUCT(--(INDEX(Model_Inputs_Ref_Units,,AN$51)=$E67),INDEX(Model_Inputs_Ref_Units,,AN$52)),0)","v":0},{"$f":"IFERROR(SUMPRODUCT(--(INDEX(Model_Inputs_Ref_Units,,AO$51)=$E67),INDEX(Model_Inputs_Ref_Units,,AO$52)),0)","v":0},{"$f":"IFERROR(SUMPRODUCT(--(INDEX(Model_Inputs_Ref_Units,,AP$51)=$E67),INDEX(Model_Inputs_Ref_Units,,AP$52)),0)","v":0},{"$f":"IFERROR(SUMPRODUCT(--(INDEX(Model_Inputs_Ref_Units,,AQ$51)=$E67),INDEX(Model_Inputs_Ref_Units,,AQ$52)),0)","v":0},{"$f":"IFERROR(SUMPRODUCT(--(INDEX(Model_Inputs_Ref_Units,,AR$51)=$E67),INDEX(Model_Inputs_Ref_Units,,AR$52)),0)","v":0},{"$f":"IFERROR(SUMPRODUCT(--(INDEX(Model_Inputs_Ref_Units,,AS$51)=$E67),INDEX(Model_Inputs_Ref_Units,,AS$52)),0)","v":0},{"$f":"IFERROR(SUMPRODUCT(--(INDEX(Model_Inputs_Ref_Units,,AT$51)=$E67),INDEX(Model_Inputs_Ref_Units,,AT$52)),0)","v":0},{"$f":"IFERROR(SUMPRODUCT(--(INDEX(Model_Inputs_Ref_Units,,AU$51)=$E67),INDEX(Model_Inputs_Ref_Units,,AU$52)),0)","v":0},{"$f":"IFERROR(SUMPRODUCT(--(INDEX(Model_Inputs_Ref_Units,,AV$51)=$E67),INDEX(Model_Inputs_Ref_Units,,AV$52)),0)","v":0},{"$f":"IFERROR(SUMPRODUCT(--(INDEX(Model_Inputs_Ref_Units,,AW$51)=$E67),INDEX(Model_Inputs_Ref_Units,,AW$52)),0)","v":0},{"$f":"IFERROR(SUMPRODUCT(--(INDEX(Model_Inputs_Ref_Units,,AX$51)=$E67),INDEX(Model_Inputs_Ref_Units,,AX$52)),0)","v":0},{"$f":"IFERROR(SUMPRODUCT(--(INDEX(Model_Inputs_Ref_Units,,AY$51)=$E67),INDEX(Model_Inputs_Ref_Units,,AY$52)),0)","v":0},{"$f":"IFERROR(SUMPRODUCT(--(INDEX(Model_Inputs_Ref_Units,,AZ$51)=$E67),INDEX(Model_Inputs_Ref_Units,,AZ$52)),0)","v":0},{"$f":"IFERROR(SUMPRODUCT(--(INDEX(Model_Inputs_Ref_Units,,BA$51)=$E67),INDEX(Model_Inputs_Ref_Units,,BA$52)),0)","v":0},{"$f":"IFERROR(SUMPRODUCT(--(INDEX(Model_Inputs_Ref_Units,,BB$51)=$E67),INDEX(Model_Inputs_Ref_Units,,BB$52)),0)","v":0},{"$f":"IFERROR(SUMPRODUCT(--(INDEX(Model_Inputs_Ref_Units,,BC$51)=$E67),INDEX(Model_Inputs_Ref_Units,,BC$52)),0)","v":0},{"$f":"IFERROR(SUMPRODUCT(--(INDEX(Model_Inputs_Ref_Units,,BD$51)=$E67),INDEX(Model_Inputs_Ref_Units,,BD$52)),0)","v":0},{"$f":"IFERROR(SUMPRODUCT(--(INDEX(Model_Inputs_Ref_Units,,BE$51)=$E67),INDEX(Model_Inputs_Ref_Units,,BE$52)),0)","v":0},{"$f":"IFERROR(SUMPRODUCT(--(INDEX(Model_Inputs_Ref_Units,,BF$51)=$E67),INDEX(Model_Inputs_Ref_Units,,BF$52)),0)","v":0},{"$f":"IFERROR(SUMPRODUCT(--(INDEX(Model_Inputs_Ref_Units,,BG$51)=$E67),INDEX(Model_Inputs_Ref_Units,,BG$52)),0)","v":0},{"$f":"IFERROR(SUMPRODUCT(--(INDEX(Model_Inputs_Ref_Units,,BH$51)=$E67),INDEX(Model_Inputs_Ref_Units,,BH$52)),0)","v":0},{"$f":"IFERROR(SUMPRODUCT(--(INDEX(Model_Inputs_Ref_Units,,BI$51)=$E67),INDEX(Model_Inputs_Ref_Units,,BI$52)),0)","v":0},{"$f":"IFERROR(SUMPRODUCT(--(INDEX(Model_Inputs_Ref_Units,,BJ$51)=$E67),INDEX(Model_Inputs_Ref_Units,,BJ$52)),0)","v":0},{"$f":"IFERROR(SUMPRODUCT(--(INDEX(Model_Inputs_Ref_Units,,BK$51)=$E67),INDEX(Model_Inputs_Ref_Units,,BK$52)),0)","v":0},{"$f":"IFERROR(SUMPRODUCT(--(INDEX(Model_Inputs_Ref_Units,,BL$51)=$E67),INDEX(Model_Inputs_Ref_Units,,BL$52)),0)","v":0},{"$f":"IFERROR(SUMPRODUCT(--(INDEX(Model_Inputs_Ref_Units,,BM$51)=$E67),INDEX(Model_Inputs_Ref_Units,,BM$52)),0)","v":0},{"$f":"IFERROR(SUMPRODUCT(--(INDEX(Model_Inputs_Ref_Units,,BN$51)=$E67),INDEX(Model_Inputs_Ref_Units,,BN$52)),0)","v":0},{"$f":"IFERROR(SUMPRODUCT(--(INDEX(Model_Inputs_Ref_Units,,BO$51)=$E67),INDEX(Model_Inputs_Ref_Units,,BO$52)),0)","v":0},{"$f":"IFERROR(SUMPRODUCT(--(INDEX(Model_Inputs_Ref_Units,,BP$51)=$E67),INDEX(Model_Inputs_Ref_Units,,BP$52)),0)","v":0},{"$f":"IFERROR(SUMPRODUCT(--(INDEX(Model_Inputs_Ref_Units,,BQ$51)=$E67),INDEX(Model_Inputs_Ref_Units,,BQ$52)),0)","v":0},{"$f":"IFERROR(SUMPRODUCT(--(INDEX(Model_Inputs_Ref_Units,,BR$51)=$E67),INDEX(Model_Inputs_Ref_Units,,BR$52)),0)","v":0},{"$f":"IFERROR(SUMPRODUCT(--(INDEX(Model_Inputs_Ref_Units,,BS$51)=$E67),INDEX(Model_Inputs_Ref_Units,,BS$52)),0)","v":0},{"$f":"IFERROR(SUMPRODUCT(--(INDEX(Model_Inputs_Ref_Units,,BT$51)=$E67),INDEX(Model_Inputs_Ref_Units,,BT$52)),0)","v":0},{"$f":"IFERROR(SUMPRODUCT(--(INDEX(Model_Inputs_Ref_Units,,BU$51)=$E67),INDEX(Model_Inputs_Ref_Units,,BU$52)),0)","v":0},{"$f":"IFERROR(SUMPRODUCT(--(INDEX(Model_Inputs_Ref_Units,,BV$51)=$E67),INDEX(Model_Inputs_Ref_Units,,BV$52)),0)","v":0},{"$f":"IFERROR(SUMPRODUCT(--(INDEX(Model_Inputs_Ref_Units,,BW$51)=$E67),INDEX(Model_Inputs_Ref_Units,,BW$52)),0)","v":0},{"$f":"IFERROR(SUMPRODUCT(--(INDEX(Model_Inputs_Ref_Units,,BX$51)=$E67),INDEX(Model_Inputs_Ref_Units,,BX$52)),0)","v":0},{"$f":"IFERROR(SUMPRODUCT(--(INDEX(Model_Inputs_Ref_Units,,BY$51)=$E67),INDEX(Model_Inputs_Ref_Units,,BY$52)),0)","v":0},{"$f":"IFERROR(SUMPRODUCT(--(INDEX(Model_Inputs_Ref_Units,,BZ$51)=$E67),INDEX(Model_Inputs_Ref_Units,,BZ$52)),0)","v":0},{"$f":"IFERROR(SUMPRODUCT(--(INDEX(Model_Inputs_Ref_Units,,CA$51)=$E67),INDEX(Model_Inputs_Ref_Units,,CA$52)),0)","v":0},{"$f":"IFERROR(SUMPRODUCT(--(INDEX(Model_Inputs_Ref_Units,,CB$51)=$E67),INDEX(Model_Inputs_Ref_Units,,CB$52)),0)","v":0},{"$f":"IFERROR(SUMPRODUCT(--(INDEX(Model_Inputs_Ref_Units,,CC$51)=$E67),INDEX(Model_Inputs_Ref_Units,,CC$52)),0)","v":0},{"$f":"IFERROR(SUMPRODUCT(--(INDEX(Model_Inputs_Ref_Units,,CD$51)=$E67),INDEX(Model_Inputs_Ref_Units,,CD$52)),0)","v":0},{"$f":"IFERROR(SUMPRODUCT(--(INDEX(Model_Inputs_Ref_Units,,CE$51)=$E67),INDEX(Model_Inputs_Ref_Units,,CE$52)),0)","v":0},{"$f":"IFERROR(SUMPRODUCT(--(INDEX(Model_Inputs_Ref_Units,,CF$51)=$E67),INDEX(Model_Inputs_Ref_Units,,CF$52)),0)","v":0},{"$f":"IFERROR(SUMPRODUCT(--(INDEX(Model_Inputs_Ref_Units,,CG$51)=$E67),INDEX(Model_Inputs_Ref_Units,,CG$52)),0)","v":0},{"$f":"IFERROR(SUMPRODUCT(--(INDEX(Model_Inputs_Ref_Units,,CH$51)=$E67),INDEX(Model_Inputs_Ref_Units,,CH$52)),0)","v":0},{"$f":"IFERROR(SUMPRODUCT(--(INDEX(Model_Inputs_Ref_Units,,CI$51)=$E67),INDEX(Model_Inputs_Ref_Units,,CI$52)),0)","v":0},{"$f":"IFERROR(SUMPRODUCT(--(INDEX(Model_Inputs_Ref_Units,,CJ$51)=$E67),INDEX(Model_Inputs_Ref_Units,,CJ$52)),0)","v":0},{"$f":"IFERROR(SUMPRODUCT(--(INDEX(Model_Inputs_Ref_Units,,CK$51)=$E67),INDEX(Model_Inputs_Ref_Units,,CK$52)),0)","v":0},{"$f":"IFERROR(SUMPRODUCT(--(INDEX(Model_Inputs_Ref_Units,,CL$51)=$E67),INDEX(Model_Inputs_Ref_Units,,CL$52)),0)","v":0},{"$f":"IFERROR(SUMPRODUCT(--(INDEX(Model_Inputs_Ref_Units,,CM$51)=$E67),INDEX(Model_Inputs_Ref_Units,,CM$52)),0)","v":0},{"$f":"IFERROR(SUMPRODUCT(--(INDEX(Model_Inputs_Ref_Units,,CN$51)=$E67),INDEX(Model_Inputs_Ref_Units,,CN$52)),0)","v":0},{"$f":"IFERROR(SUMPRODUCT(--(INDEX(Model_Inputs_Ref_Units,,CO$51)=$E67),INDEX(Model_Inputs_Ref_Units,,CO$52)),0)","v":0},{"$f":"IFERROR(SUMPRODUCT(--(INDEX(Model_Inputs_Ref_Units,,CP$51)=$E67),INDEX(Model_Inputs_Ref_Units,,CP$52)),0)","v":0},{"$f":"IFERROR(SUMPRODUCT(--(INDEX(Model_Inputs_Ref_Units,,CQ$51)=$E67),INDEX(Model_Inputs_Ref_Units,,CQ$52)),0)","v":0},{"$f":"IFERROR(SUMPRODUCT(--(INDEX(Model_Inputs_Ref_Units,,CR$51)=$E67),INDEX(Model_Inputs_Ref_Units,,CR$52)),0)","v":0},{"$f":"IFERROR(SUMPRODUCT(--(INDEX(Model_Inputs_Ref_Units,,CS$51)=$E67),INDEX(Model_Inputs_Ref_Units,,CS$52)),0)","v":0},{"$f":"IFERROR(SUMPRODUCT(--(INDEX(Model_Inputs_Ref_Units,,CT$51)=$E67),INDEX(Model_Inputs_Ref_Units,,CT$52)),0)","v":0},{"$f":"IFERROR(SUMPRODUCT(--(INDEX(Model_Inputs_Ref_Units,,CU$51)=$E67),INDEX(Model_Inputs_Ref_Units,,CU$52)),0)","v":0},{"$f":"IFERROR(SUMPRODUCT(--(INDEX(Model_Inputs_Ref_Units,,CV$51)=$E67),INDEX(Model_Inputs_Ref_Units,,CV$52)),0)","v":0},{"$f":"IFERROR(SUMPRODUCT(--(INDEX(Model_Inputs_Ref_Units,,CW$51)=$E67),INDEX(Model_Inputs_Ref_Units,,CW$52)),0)","v":0},{"$f":"IFERROR(SUMPRODUCT(--(INDEX(Model_Inputs_Ref_Units,,CX$51)=$E67),INDEX(Model_Inputs_Ref_Units,,CX$52)),0)","v":0},{"$f":"IFERROR(SUMPRODUCT(--(INDEX(Model_Inputs_Ref_Units,,CY$51)=$E67),INDEX(Model_Inputs_Ref_Units,,CY$52)),0)","v":0},{"$f":"IFERROR(SUMPRODUCT(--(INDEX(Model_Inputs_Ref_Units,,CZ$51)=$E67),INDEX(Model_Inputs_Ref_Units,,CZ$52)),0)","v":0},{"$f":"IFERROR(SUMPRODUCT(--(INDEX(Model_Inputs_Ref_Units,,DA$51)=$E67),INDEX(Model_Inputs_Ref_Units,,DA$52)),0)","v":0},{"$f":"IFERROR(SUMPRODUCT(--(INDEX(Model_Inputs_Ref_Units,,DB$51)=$E67),INDEX(Model_Inputs_Ref_Units,,DB$52)),0)","v":0},{"$f":"IFERROR(SUMPRODUCT(--(INDEX(Model_Inputs_Ref_Units,,DC$51)=$E67),INDEX(Model_Inputs_Ref_Units,,DC$52)),0)","v":0},{"$f":"IFERROR(SUMPRODUCT(--(INDEX(Model_Inputs_Ref_Units,,DD$51)=$E67),INDEX(Model_Inputs_Ref_Units,,DD$52)),0)","v":0},{"$f":"IFERROR(SUMPRODUCT(--(INDEX(Model_Inputs_Ref_Units,,DE$51)=$E67),INDEX(Model_Inputs_Ref_Units,,DE$52)),0)","v":0},{"$f":"IFERROR(SUMPRODUCT(--(INDEX(Model_Inputs_Ref_Units,,DF$51)=$E67),INDEX(Model_Inputs_Ref_Units,,DF$52)),0)","v":0}]
[null,null,{"$error":"#DIV/0!"},null,{"$f":"IFERROR(INDEX(Ref_Data,1,F68),\"\")","v":""},15,0,0,0,0,{"$f":"IFERROR(SUMPRODUCT(--(INDEX(Model_Inputs_Ref_Units,,K$51)=$E68),INDEX(Model_Inputs_Ref_Units,,K$52)),0)","v":0},{"$f":"IFERROR(SUMPRODUCT(--(INDEX(Model_Inputs_Ref_Units,,L$51)=$E68),INDEX(Model_Inputs_Ref_Units,,L$52)),0)","v":0},{"$f":"IFERROR(SUMPRODUCT(--(INDEX(Model_Inputs_Ref_Units,,M$51)=$E68),INDEX(Model_Inputs_Ref_Units,,M$52)),0)","v":0},{"$f":"IFERROR(SUMPRODUCT(--(INDEX(Model_Inputs_Ref_Units,,N$51)=$E68),INDEX(Model_Inputs_Ref_Units,,N$52)),0)","v":0},{"$f":"IFERROR(SUMPRODUCT(--(INDEX(Model_Inputs_Ref_Units,,O$51)=$E68),INDEX(Model_Inputs_Ref_Units,,O$52)),0)","v":0},{"$f":"IFERROR(SUMPRODUCT(--(INDEX(Model_Inputs_Ref_Units,,P$51)=$E68),INDEX(Model_Inputs_Ref_Units,,P$52)),0)","v":0},{"$f":"IFERROR(SUMPRODUCT(--(INDEX(Model_Inputs_Ref_Units,,Q$51)=$E68),INDEX(Model_Inputs_Ref_Units,,Q$52)),0)","v":0},{"$f":"IFERROR(SUMPRODUCT(--(INDEX(Model_Inputs_Ref_Units,,R$51)=$E68),INDEX(Model_Inputs_Ref_Units,,R$52)),0)","v":0},{"$f":"IFERROR(SUMPRODUCT(--(INDEX(Model_Inputs_Ref_Units,,S$51)=$E68),INDEX(Model_Inputs_Ref_Units,,S$52)),0)","v":0},{"$f":"IFERROR(SUMPRODUCT(--(INDEX(Model_Inputs_Ref_Units,,T$51)=$E68),INDEX(Model_Inputs_Ref_Units,,T$52)),0)","v":0},{"$f":"IFERROR(SUMPRODUCT(--(INDEX(Model_Inputs_Ref_Units,,U$51)=$E68),INDEX(Model_Inputs_Ref_Units,,U$52)),0)","v":0},{"$f":"IFERROR(SUMPRODUCT(--(INDEX(Model_Inputs_Ref_Units,,V$51)=$E68),INDEX(Model_Inputs_Ref_Units,,V$52)),0)","v":0},{"$f":"IFERROR(SUMPRODUCT(--(INDEX(Model_Inputs_Ref_Units,,W$51)=$E68),INDEX(Model_Inputs_Ref_Units,,W$52)),0)","v":0},{"$f":"IFERROR(SUMPRODUCT(--(INDEX(Model_Inputs_Ref_Units,,X$51)=$E68),INDEX(Model_Inputs_Ref_Units,,X$52)),0)","v":0},{"$f":"IFERROR(SUMPRODUCT(--(INDEX(Model_Inputs_Ref_Units,,Y$51)=$E68),INDEX(Model_Inputs_Ref_Units,,Y$52)),0)","v":0},{"$f":"IFERROR(SUMPRODUCT(--(INDEX(Model_Inputs_Ref_Units,,Z$51)=$E68),INDEX(Model_Inputs_Ref_Units,,Z$52)),0)","v":0},{"$f":"IFERROR(SUMPRODUCT(--(INDEX(Model_Inputs_Ref_Units,,AA$51)=$E68),INDEX(Model_Inputs_Ref_Units,,AA$52)),0)","v":0},{"$f":"IFERROR(SUMPRODUCT(--(INDEX(Model_Inputs_Ref_Units,,AB$51)=$E68),INDEX(Model_Inputs_Ref_Units,,AB$52)),0)","v":0},{"$f":"IFERROR(SUMPRODUCT(--(INDEX(Model_Inputs_Ref_Units,,AC$51)=$E68),INDEX(Model_Inputs_Ref_Units,,AC$52)),0)","v":0},{"$f":"IFERROR(SUMPRODUCT(--(INDEX(Model_Inputs_Ref_Units,,AD$51)=$E68),INDEX(Model_Inputs_Ref_Units,,AD$52)),0)","v":0},{"$f":"IFERROR(SUMPRODUCT(--(INDEX(Model_Inputs_Ref_Units,,AE$51)=$E68),INDEX(Model_Inputs_Ref_Units,,AE$52)),0)","v":0},{"$f":"IFERROR(SUMPRODUCT(--(INDEX(Model_Inputs_Ref_Units,,AF$51)=$E68),INDEX(Model_Inputs_Ref_Units,,AF$52)),0)","v":0},{"$f":"IFERROR(SUMPRODUCT(--(INDEX(Model_Inputs_Ref_Units,,AG$51)=$E68),INDEX(Model_Inputs_Ref_Units,,AG$52)),0)","v":0},{"$f":"IFERROR(SUMPRODUCT(--(INDEX(Model_Inputs_Ref_Units,,AH$51)=$E68),INDEX(Model_Inputs_Ref_Units,,AH$52)),0)","v":0},{"$f":"IFERROR(SUMPRODUCT(--(INDEX(Model_Inputs_Ref_Units,,AI$51)=$E68),INDEX(Model_Inputs_Ref_Units,,AI$52)),0)","v":0},{"$f":"IFERROR(SUMPRODUCT(--(INDEX(Model_Inputs_Ref_Units,,AJ$51)=$E68),INDEX(Model_Inputs_Ref_Units,,AJ$52)),0)","v":0},{"$f":"IFERROR(SUMPRODUCT(--(INDEX(Model_Inputs_Ref_Units,,AK$51)=$E68),INDEX(Model_Inputs_Ref_Units,,AK$52)),0)","v":0},{"$f":"IFERROR(SUMPRODUCT(--(INDEX(Model_Inputs_Ref_Units,,AL$51)=$E68),INDEX(Model_Inputs_Ref_Units,,AL$52)),0)","v":0},{"$f":"IFERROR(SUMPRODUCT(--(INDEX(Model_Inputs_Ref_Units,,AM$51)=$E68),INDEX(Model_Inputs_Ref_Units,,AM$52)),0)","v":0},{"$f":"IFERROR(SUMPRODUCT(--(INDEX(Model_Inputs_Ref_Units,,AN$51)=$E68),INDEX(Model_Inputs_Ref_Units,,AN$52)),0)","v":0},{"$f":"IFERROR(SUMPRODUCT(--(INDEX(Model_Inputs_Ref_Units,,AO$51)=$E68),INDEX(Model_Inputs_Ref_Units,,AO$52)),0)","v":0},{"$f":"IFERROR(SUMPRODUCT(--(INDEX(Model_Inputs_Ref_Units,,AP$51)=$E68),INDEX(Model_Inputs_Ref_Units,,AP$52)),0)","v":0},{"$f":"IFERROR(SUMPRODUCT(--(INDEX(Model_Inputs_Ref_Units,,AQ$51)=$E68),INDEX(Model_Inputs_Ref_Units,,AQ$52)),0)","v":0},{"$f":"IFERROR(SUMPRODUCT(--(INDEX(Model_Inputs_Ref_Units,,AR$51)=$E68),INDEX(Model_Inputs_Ref_Units,,AR$52)),0)","v":0},{"$f":"IFERROR(SUMPRODUCT(--(INDEX(Model_Inputs_Ref_Units,,AS$51)=$E68),INDEX(Model_Inputs_Ref_Units,,AS$52)),0)","v":0},{"$f":"IFERROR(SUMPRODUCT(--(INDEX(Model_Inputs_Ref_Units,,AT$51)=$E68),INDEX(Model_Inputs_Ref_Units,,AT$52)),0)","v":0},{"$f":"IFERROR(SUMPRODUCT(--(INDEX(Model_Inputs_Ref_Units,,AU$51)=$E68),INDEX(Model_Inputs_Ref_Units,,AU$52)),0)","v":0},{"$f":"IFERROR(SUMPRODUCT(--(INDEX(Model_Inputs_Ref_Units,,AV$51)=$E68),INDEX(Model_Inputs_Ref_Units,,AV$52)),0)","v":0},{"$f":"IFERROR(SUMPRODUCT(--(INDEX(Model_Inputs_Ref_Units,,AW$51)=$E68),INDEX(Model_Inputs_Ref_Units,,AW$52)),0)","v":0},{"$f":"IFERROR(SUMPRODUCT(--(INDEX(Model_Inputs_Ref_Units,,AX$51)=$E68),INDEX(Model_Inputs_Ref_Units,,AX$52)),0)","v":0},{"$f":"IFERROR(SUMPRODUCT(--(INDEX(Model_Inputs_Ref_Units,,AY$51)=$E68),INDEX(Model_Inputs_Ref_Units,,AY$52)),0)","v":0},{"$f":"IFERROR(SUMPRODUCT(--(INDEX(Model_Inputs_Ref_Units,,AZ$51)=$E68),INDEX(Model_Inputs_Ref_Units,,AZ$52)),0)","v":0},{"$f":"IFERROR(SUMPRODUCT(--(INDEX(Model_Inputs_Ref_Units,,BA$51)=$E68),INDEX(Model_Inputs_Ref_Units,,BA$52)),0)","v":0},{"$f":"IFERROR(SUMPRODUCT(--(INDEX(Model_Inputs_Ref_Units,,BB$51)=$E68),INDEX(Model_Inputs_Ref_Units,,BB$52)),0)","v":0},{"$f":"IFERROR(SUMPRODUCT(--(INDEX(Model_Inputs_Ref_Units,,BC$51)=$E68),INDEX(Model_Inputs_Ref_Units,,BC$52)),0)","v":0},{"$f":"IFERROR(SUMPRODUCT(--(INDEX(Model_Inputs_Ref_Units,,BD$51)=$E68),INDEX(Model_Inputs_Ref_Units,,BD$52)),0)","v":0},{"$f":"IFERROR(SUMPRODUCT(--(INDEX(Model_Inputs_Ref_Units,,BE$51)=$E68),INDEX(Model_Inputs_Ref_Units,,BE$52)),0)","v":0},{"$f":"IFERROR(SUMPRODUCT(--(INDEX(Model_Inputs_Ref_Units,,BF$51)=$E68),INDEX(Model_Inputs_Ref_Units,,BF$52)),0)","v":0},{"$f":"IFERROR(SUMPRODUCT(--(INDEX(Model_Inputs_Ref_Units,,BG$51)=$E68),INDEX(Model_Inputs_Ref_Units,,BG$52)),0)","v":0},{"$f":"IFERROR(SUMPRODUCT(--(INDEX(Model_Inputs_Ref_Units,,BH$51)=$E68),INDEX(Model_Inputs_Ref_Units,,BH$52)),0)","v":0},{"$f":"IFERROR(SUMPRODUCT(--(INDEX(Model_Inputs_Ref_Units,,BI$51)=$E68),INDEX(Model_Inputs_Ref_Units,,BI$52)),0)","v":0},{"$f":"IFERROR(SUMPRODUCT(--(INDEX(Model_Inputs_Ref_Units,,BJ$51)=$E68),INDEX(Model_Inputs_Ref_Units,,BJ$52)),0)","v":0},{"$f":"IFERROR(SUMPRODUCT(--(INDEX(Model_Inputs_Ref_Units,,BK$51)=$E68),INDEX(Model_Inputs_Ref_Units,,BK$52)),0)","v":0},{"$f":"IFERROR(SUMPRODUCT(--(INDEX(Model_Inputs_Ref_Units,,BL$51)=$E68),INDEX(Model_Inputs_Ref_Units,,BL$52)),0)","v":0},{"$f":"IFERROR(SUMPRODUCT(--(INDEX(Model_Inputs_Ref_Units,,BM$51)=$E68),INDEX(Model_Inputs_Ref_Units,,BM$52)),0)","v":0},{"$f":"IFERROR(SUMPRODUCT(--(INDEX(Model_Inputs_Ref_Units,,BN$51)=$E68),INDEX(Model_Inputs_Ref_Units,,BN$52)),0)","v":0},{"$f":"IFERROR(SUMPRODUCT(--(INDEX(Model_Inputs_Ref_Units,,BO$51)=$E68),INDEX(Model_Inputs_Ref_Units,,BO$52)),0)","v":0},{"$f":"IFERROR(SUMPRODUCT(--(INDEX(Model_Inputs_Ref_Units,,BP$51)=$E68),INDEX(Model_Inputs_Ref_Units,,BP$52)),0)","v":0},{"$f":"IFERROR(SUMPRODUCT(--(INDEX(Model_Inputs_Ref_Units,,BQ$51)=$E68),INDEX(Model_Inputs_Ref_Units,,BQ$52)),0)","v":0},{"$f":"IFERROR(SUMPRODUCT(--(INDEX(Model_Inputs_Ref_Units,,BR$51)=$E68),INDEX(Model_Inputs_Ref_Units,,BR$52)),0)","v":0},{"$f":"IFERROR(SUMPRODUCT(--(INDEX(Model_Inputs_Ref_Units,,BS$51)=$E68),INDEX(Model_Inputs_Ref_Units,,BS$52)),0)","v":0},{"$f":"IFERROR(SUMPRODUCT(--(INDEX(Model_Inputs_Ref_Units,,BT$51)=$E68),INDEX(Model_Inputs_Ref_Units,,BT$52)),0)","v":0},{"$f":"IFERROR(SUMPRODUCT(--(INDEX(Model_Inputs_Ref_Units,,BU$51)=$E68),INDEX(Model_Inputs_Ref_Units,,BU$52)),0)","v":0},{"$f":"IFERROR(SUMPRODUCT(--(INDEX(Model_Inputs_Ref_Units,,BV$51)=$E68),INDEX(Model_Inputs_Ref_Units,,BV$52)),0)","v":0},{"$f":"IFERROR(SUMPRODUCT(--(INDEX(Model_Inputs_Ref_Units,,BW$51)=$E68),INDEX(Model_Inputs_Ref_Units,,BW$52)),0)","v":0},{"$f":"IFERROR(SUMPRODUCT(--(INDEX(Model_Inputs_Ref_Units,,BX$51)=$E68),INDEX(Model_Inputs_Ref_Units,,BX$52)),0)","v":0},{"$f":"IFERROR(SUMPRODUCT(--(INDEX(Model_Inputs_Ref_Units,,BY$51)=$E68),INDEX(Model_Inputs_Ref_Units,,BY$52)),0)","v":0},{"$f":"IFERROR(SUMPRODUCT(--(INDEX(Model_Inputs_Ref_Units,,BZ$51)=$E68),INDEX(Model_Inputs_Ref_Units,,BZ$52)),0)","v":0},{"$f":"IFERROR(SUMPRODUCT(--(INDEX(Model_Inputs_Ref_Units,,CA$51)=$E68),INDEX(Model_Inputs_Ref_Units,,CA$52)),0)","v":0},{"$f":"IFERROR(SUMPRODUCT(--(INDEX(Model_Inputs_Ref_Units,,CB$51)=$E68),INDEX(Model_Inputs_Ref_Units,,CB$52)),0)","v":0},{"$f":"IFERROR(SUMPRODUCT(--(INDEX(Model_Inputs_Ref_Units,,CC$51)=$E68),INDEX(Model_Inputs_Ref_Units,,CC$52)),0)","v":0},{"$f":"IFERROR(SUMPRODUCT(--(INDEX(Model_Inputs_Ref_Units,,CD$51)=$E68),INDEX(Model_Inputs_Ref_Units,,CD$52)),0)","v":0},{"$f":"IFERROR(SUMPRODUCT(--(INDEX(Model_Inputs_Ref_Units,,CE$51)=$E68),INDEX(Model_Inputs_Ref_Units,,CE$52)),0)","v":0},{"$f":"IFERROR(SUMPRODUCT(--(INDEX(Model_Inputs_Ref_Units,,CF$51)=$E68),INDEX(Model_Inputs_Ref_Units,,CF$52)),0)","v":0},{"$f":"IFERROR(SUMPRODUCT(--(INDEX(Model_Inputs_Ref_Units,,CG$51)=$E68),INDEX(Model_Inputs_Ref_Units,,CG$52)),0)","v":0},{"$f":"IFERROR(SUMPRODUCT(--(INDEX(Model_Inputs_Ref_Units,,CH$51)=$E68),INDEX(Model_Inputs_Ref_Units,,CH$52)),0)","v":0},{"$f":"IFERROR(SUMPRODUCT(--(INDEX(Model_Inputs_Ref_Units,,CI$51)=$E68),INDEX(Model_Inputs_Ref_Units,,CI$52)),0)","v":0},{"$f":"IFERROR(SUMPRODUCT(--(INDEX(Model_Inputs_Ref_Units,,CJ$51)=$E68),INDEX(Model_Inputs_Ref_Units,,CJ$52)),0)","v":0},{"$f":"IFERROR(SUMPRODUCT(--(INDEX(Model_Inputs_Ref_Units,,CK$51)=$E68),INDEX(Model_Inputs_Ref_Units,,CK$52)),0)","v":0},{"$f":"IFERROR(SUMPRODUCT(--(INDEX(Model_Inputs_Ref_Units,,CL$51)=$E68),INDEX(Model_Inputs_Ref_Units,,CL$52)),0)","v":0},{"$f":"IFERROR(SUMPRODUCT(--(INDEX(Model_Inputs_Ref_Units,,CM$51)=$E68),INDEX(Model_Inputs_Ref_Units,,CM$52)),0)","v":0},{"$f":"IFERROR(SUMPRODUCT(--(INDEX(Model_Inputs_Ref_Units,,CN$51)=$E68),INDEX(Model_Inputs_Ref_Units,,CN$52)),0)","v":0},{"$f":"IFERROR(SUMPRODUCT(--(INDEX(Model_Inputs_Ref_Units,,CO$51)=$E68),INDEX(Model_Inputs_Ref_Units,,CO$52)),0)","v":0},{"$f":"IFERROR(SUMPRODUCT(--(INDEX(Model_Inputs_Ref_Units,,CP$51)=$E68),INDEX(Model_Inputs_Ref_Units,,CP$52)),0)","v":0},{"$f":"IFERROR(SUMPRODUCT(--(INDEX(Model_Inputs_Ref_Units,,CQ$51)=$E68),INDEX(Model_Inputs_Ref_Units,,CQ$52)),0)","v":0},{"$f":"IFERROR(SUMPRODUCT(--(INDEX(Model_Inputs_Ref_Units,,CR$51)=$E68),INDEX(Model_Inputs_Ref_Units,,CR$52)),0)","v":0},{"$f":"IFERROR(SUMPRODUCT(--(INDEX(Model_Inputs_Ref_Units,,CS$51)=$E68),INDEX(Model_Inputs_Ref_Units,,CS$52)),0)","v":0},{"$f":"IFERROR(SUMPRODUCT(--(INDEX(Model_Inputs_Ref_Units,,CT$51)=$E68),INDEX(Model_Inputs_Ref_Units,,CT$52)),0)","v":0},{"$f":"IFERROR(SUMPRODUCT(--(INDEX(Model_Inputs_Ref_Units,,CU$51)=$E68),INDEX(Model_Inputs_Ref_Units,,CU$52)),0)","v":0},{"$f":"IFERROR(SUMPRODUCT(--(INDEX(Model_Inputs_Ref_Units,,CV$51)=$E68),INDEX(Model_Inputs_Ref_Units,,CV$52)),0)","v":0},{"$f":"IFERROR(SUMPRODUCT(--(INDEX(Model_Inputs_Ref_Units,,CW$51)=$E68),INDEX(Model_Inputs_Ref_Units,,CW$52)),0)","v":0},{"$f":"IFERROR(SUMPRODUCT(--(INDEX(Model_Inputs_Ref_Units,,CX$51)=$E68),INDEX(Model_Inputs_Ref_Units,,CX$52)),0)","v":0},{"$f":"IFERROR(SUMPRODUCT(--(INDEX(Model_Inputs_Ref_Units,,CY$51)=$E68),INDEX(Model_Inputs_Ref_Units,,CY$52)),0)","v":0},{"$f":"IFERROR(SUMPRODUCT(--(INDEX(Model_Inputs_Ref_Units,,CZ$51)=$E68),INDEX(Model_Inputs_Ref_Units,,CZ$52)),0)","v":0},{"$f":"IFERROR(SUMPRODUCT(--(INDEX(Model_Inputs_Ref_Units,,DA$51)=$E68),INDEX(Model_Inputs_Ref_Units,,DA$52)),0)","v":0},{"$f":"IFERROR(SUMPRODUCT(--(INDEX(Model_Inputs_Ref_Units,,DB$51)=$E68),INDEX(Model_Inputs_Ref_Units,,DB$52)),0)","v":0},{"$f":"IFERROR(SUMPRODUCT(--(INDEX(Model_Inputs_Ref_Units,,DC$51)=$E68),INDEX(Model_Inputs_Ref_Units,,DC$52)),0)","v":0},{"$f":"IFERROR(SUMPRODUCT(--(INDEX(Model_Inputs_Ref_Units,,DD$51)=$E68),INDEX(Model_Inputs_Ref_Units,,DD$52)),0)","v":0},{"$f":"IFERROR(SUMPRODUCT(--(INDEX(Model_Inputs_Ref_Units,,DE$51)=$E68),INDEX(Model_Inputs_Ref_Units,,DE$52)),0)","v":0},{"$f":"IFERROR(SUMPRODUCT(--(INDEX(Model_Inputs_Ref_Units,,DF$51)=$E68),INDEX(Model_Inputs_Ref_Units,,DF$52)),0)","v":0}]
[null,null,{"$error":"#DIV/0!"},null,{"$f":"IFERROR(INDEX(Ref_Data,1,F69),\"\")","v":""},16,0,0,0,0,{"$f":"IFERROR(SUMPRODUCT(--(INDEX(Model_Inputs_Ref_Units,,K$51)=$E69),INDEX(Model_Inputs_Ref_Units,,K$52)),0)","v":0},{"$f":"IFERROR(SUMPRODUCT(--(INDEX(Model_Inputs_Ref_Units,,L$51)=$E69),INDEX(Model_Inputs_Ref_Units,,L$52)),0)","v":0},{"$f":"IFERROR(SUMPRODUCT(--(INDEX(Model_Inputs_Ref_Units,,M$51)=$E69),INDEX(Model_Inputs_Ref_Units,,M$52)),0)","v":0},{"$f":"IFERROR(SUMPRODUCT(--(INDEX(Model_Inputs_Ref_Units,,N$51)=$E69),INDEX(Model_Inputs_Ref_Units,,N$52)),0)","v":0},{"$f":"IFERROR(SUMPRODUCT(--(INDEX(Model_Inputs_Ref_Units,,O$51)=$E69),INDEX(Model_Inputs_Ref_Units,,O$52)),0)","v":0},{"$f":"IFERROR(SUMPRODUCT(--(INDEX(Model_Inputs_Ref_Units,,P$51)=$E69),INDEX(Model_Inputs_Ref_Units,,P$52)),0)","v":0},{"$f":"IFERROR(SUMPRODUCT(--(INDEX(Model_Inputs_Ref_Units,,Q$51)=$E69),INDEX(Model_Inputs_Ref_Units,,Q$52)),0)","v":0},{"$f":"IFERROR(SUMPRODUCT(--(INDEX(Model_Inputs_Ref_Units,,R$51)=$E69),INDEX(Model_Inputs_Ref_Units,,R$52)),0)","v":0},{"$f":"IFERROR(SUMPRODUCT(--(INDEX(Model_Inputs_Ref_Units,,S$51)=$E69),INDEX(Model_Inputs_Ref_Units,,S$52)),0)","v":0},{"$f":"IFERROR(SUMPRODUCT(--(INDEX(Model_Inputs_Ref_Units,,T$51)=$E69),INDEX(Model_Inputs_Ref_Units,,T$52)),0)","v":0},{"$f":"IFERROR(SUMPRODUCT(--(INDEX(Model_Inputs_Ref_Units,,U$51)=$E69),INDEX(Model_Inputs_Ref_Units,,U$52)),0)","v":0},{"$f":"IFERROR(SUMPRODUCT(--(INDEX(Model_Inputs_Ref_Units,,V$51)=$E69),INDEX(Model_Inputs_Ref_Units,,V$52)),0)","v":0},{"$f":"IFERROR(SUMPRODUCT(--(INDEX(Model_Inputs_Ref_Units,,W$51)=$E69),INDEX(Model_Inputs_Ref_Units,,W$52)),0)","v":0},{"$f":"IFERROR(SUMPRODUCT(--(INDEX(Model_Inputs_Ref_Units,,X$51)=$E69),INDEX(Model_Inputs_Ref_Units,,X$52)),0)","v":0},{"$f":"IFERROR(SUMPRODUCT(--(INDEX(Model_Inputs_Ref_Units,,Y$51)=$E69),INDEX(Model_Inputs_Ref_Units,,Y$52)),0)","v":0},{"$f":"IFERROR(SUMPRODUCT(--(INDEX(Model_Inputs_Ref_Units,,Z$51)=$E69),INDEX(Model_Inputs_Ref_Units,,Z$52)),0)","v":0},{"$f":"IFERROR(SUMPRODUCT(--(INDEX(Model_Inputs_Ref_Units,,AA$51)=$E69),INDEX(Model_Inputs_Ref_Units,,AA$52)),0)","v":0},{"$f":"IFERROR(SUMPRODUCT(--(INDEX(Model_Inputs_Ref_Units,,AB$51)=$E69),INDEX(Model_Inputs_Ref_Units,,AB$52)),0)","v":0},{"$f":"IFERROR(SUMPRODUCT(--(INDEX(Model_Inputs_Ref_Units,,AC$51)=$E69),INDEX(Model_Inputs_Ref_Units,,AC$52)),0)","v":0},{"$f":"IFERROR(SUMPRODUCT(--(INDEX(Model_Inputs_Ref_Units,,AD$51)=$E69),INDEX(Model_Inputs_Ref_Units,,AD$52)),0)","v":0},{"$f":"IFERROR(SUMPRODUCT(--(INDEX(Model_Inputs_Ref_Units,,AE$51)=$E69),INDEX(Model_Inputs_Ref_Units,,AE$52)),0)","v":0},{"$f":"IFERROR(SUMPRODUCT(--(INDEX(Model_Inputs_Ref_Units,,AF$51)=$E69),INDEX(Model_Inputs_Ref_Units,,AF$52)),0)","v":0},{"$f":"IFERROR(SUMPRODUCT(--(INDEX(Model_Inputs_Ref_Units,,AG$51)=$E69),INDEX(Model_Inputs_Ref_Units,,AG$52)),0)","v":0},{"$f":"IFERROR(SUMPRODUCT(--(INDEX(Model_Inputs_Ref_Units,,AH$51)=$E69),INDEX(Model_Inputs_Ref_Units,,AH$52)),0)","v":0},{"$f":"IFERROR(SUMPRODUCT(--(INDEX(Model_Inputs_Ref_Units,,AI$51)=$E69),INDEX(Model_Inputs_Ref_Units,,AI$52)),0)","v":0},{"$f":"IFERROR(SUMPRODUCT(--(INDEX(Model_Inputs_Ref_Units,,AJ$51)=$E69),INDEX(Model_Inputs_Ref_Units,,AJ$52)),0)","v":0},{"$f":"IFERROR(SUMPRODUCT(--(INDEX(Model_Inputs_Ref_Units,,AK$51)=$E69),INDEX(Model_Inputs_Ref_Units,,AK$52)),0)","v":0},{"$f":"IFERROR(SUMPRODUCT(--(INDEX(Model_Inputs_Ref_Units,,AL$51)=$E69),INDEX(Model_Inputs_Ref_Units,,AL$52)),0)","v":0},{"$f":"IFERROR(SUMPRODUCT(--(INDEX(Model_Inputs_Ref_Units,,AM$51)=$E69),INDEX(Model_Inputs_Ref_Units,,AM$52)),0)","v":0},{"$f":"IFERROR(SUMPRODUCT(--(INDEX(Model_Inputs_Ref_Units,,AN$51)=$E69),INDEX(Model_Inputs_Ref_Units,,AN$52)),0)","v":0},{"$f":"IFERROR(SUMPRODUCT(--(INDEX(Model_Inputs_Ref_Units,,AO$51)=$E69),INDEX(Model_Inputs_Ref_Units,,AO$52)),0)","v":0},{"$f":"IFERROR(SUMPRODUCT(--(INDEX(Model_Inputs_Ref_Units,,AP$51)=$E69),INDEX(Model_Inputs_Ref_Units,,AP$52)),0)","v":0},{"$f":"IFERROR(SUMPRODUCT(--(INDEX(Model_Inputs_Ref_Units,,AQ$51)=$E69),INDEX(Model_Inputs_Ref_Units,,AQ$52)),0)","v":0},{"$f":"IFERROR(SUMPRODUCT(--(INDEX(Model_Inputs_Ref_Units,,AR$51)=$E69),INDEX(Model_Inputs_Ref_Units,,AR$52)),0)","v":0},{"$f":"IFERROR(SUMPRODUCT(--(INDEX(Model_Inputs_Ref_Units,,AS$51)=$E69),INDEX(Model_Inputs_Ref_Units,,AS$52)),0)","v":0},{"$f":"IFERROR(SUMPRODUCT(--(INDEX(Model_Inputs_Ref_Units,,AT$51)=$E69),INDEX(Model_Inputs_Ref_Units,,AT$52)),0)","v":0},{"$f":"IFERROR(SUMPRODUCT(--(INDEX(Model_Inputs_Ref_Units,,AU$51)=$E69),INDEX(Model_Inputs_Ref_Units,,AU$52)),0)","v":0},{"$f":"IFERROR(SUMPRODUCT(--(INDEX(Model_Inputs_Ref_Units,,AV$51)=$E69),INDEX(Model_Inputs_Ref_Units,,AV$52)),0)","v":0},{"$f":"IFERROR(SUMPRODUCT(--(INDEX(Model_Inputs_Ref_Units,,AW$51)=$E69),INDEX(Model_Inputs_Ref_Units,,AW$52)),0)","v":0},{"$f":"IFERROR(SUMPRODUCT(--(INDEX(Model_Inputs_Ref_Units,,AX$51)=$E69),INDEX(Model_Inputs_Ref_Units,,AX$52)),0)","v":0},{"$f":"IFERROR(SUMPRODUCT(--(INDEX(Model_Inputs_Ref_Units,,AY$51)=$E69),INDEX(Model_Inputs_Ref_Units,,AY$52)),0)","v":0},{"$f":"IFERROR(SUMPRODUCT(--(INDEX(Model_Inputs_Ref_Units,,AZ$51)=$E69),INDEX(Model_Inputs_Ref_Units,,AZ$52)),0)","v":0},{"$f":"IFERROR(SUMPRODUCT(--(INDEX(Model_Inputs_Ref_Units,,BA$51)=$E69),INDEX(Model_Inputs_Ref_Units,,BA$52)),0)","v":0},{"$f":"IFERROR(SUMPRODUCT(--(INDEX(Model_Inputs_Ref_Units,,BB$51)=$E69),INDEX(Model_Inputs_Ref_Units,,BB$52)),0)","v":0},{"$f":"IFERROR(SUMPRODUCT(--(INDEX(Model_Inputs_Ref_Units,,BC$51)=$E69),INDEX(Model_Inputs_Ref_Units,,BC$52)),0)","v":0},{"$f":"IFERROR(SUMPRODUCT(--(INDEX(Model_Inputs_Ref_Units,,BD$51)=$E69),INDEX(Model_Inputs_Ref_Units,,BD$52)),0)","v":0},{"$f":"IFERROR(SUMPRODUCT(--(INDEX(Model_Inputs_Ref_Units,,BE$51)=$E69),INDEX(Model_Inputs_Ref_Units,,BE$52)),0)","v":0},{"$f":"IFERROR(SUMPRODUCT(--(INDEX(Model_Inputs_Ref_Units,,BF$51)=$E69),INDEX(Model_Inputs_Ref_Units,,BF$52)),0)","v":0},{"$f":"IFERROR(SUMPRODUCT(--(INDEX(Model_Inputs_Ref_Units,,BG$51)=$E69),INDEX(Model_Inputs_Ref_Units,,BG$52)),0)","v":0},{"$f":"IFERROR(SUMPRODUCT(--(INDEX(Model_Inputs_Ref_Units,,BH$51)=$E69),INDEX(Model_Inputs_Ref_Units,,BH$52)),0)","v":0},{"$f":"IFERROR(SUMPRODUCT(--(INDEX(Model_Inputs_Ref_Units,,BI$51)=$E69),INDEX(Model_Inputs_Ref_Units,,BI$52)),0)","v":0},{"$f":"IFERROR(SUMPRODUCT(--(INDEX(Model_Inputs_Ref_Units,,BJ$51)=$E69),INDEX(Model_Inputs_Ref_Units,,BJ$52)),0)","v":0},{"$f":"IFERROR(SUMPRODUCT(--(INDEX(Model_Inputs_Ref_Units,,BK$51)=$E69),INDEX(Model_Inputs_Ref_Units,,BK$52)),0)","v":0},{"$f":"IFERROR(SUMPRODUCT(--(INDEX(Model_Inputs_Ref_Units,,BL$51)=$E69),INDEX(Model_Inputs_Ref_Units,,BL$52)),0)","v":0},{"$f":"IFERROR(SUMPRODUCT(--(INDEX(Model_Inputs_Ref_Units,,BM$51)=$E69),INDEX(Model_Inputs_Ref_Units,,BM$52)),0)","v":0},{"$f":"IFERROR(SUMPRODUCT(--(INDEX(Model_Inputs_Ref_Units,,BN$51)=$E69),INDEX(Model_Inputs_Ref_Units,,BN$52)),0)","v":0},{"$f":"IFERROR(SUMPRODUCT(--(INDEX(Model_Inputs_Ref_Units,,BO$51)=$E69),INDEX(Model_Inputs_Ref_Units,,BO$52)),0)","v":0},{"$f":"IFERROR(SUMPRODUCT(--(INDEX(Model_Inputs_Ref_Units,,BP$51)=$E69),INDEX(Model_Inputs_Ref_Units,,BP$52)),0)","v":0},{"$f":"IFERROR(SUMPRODUCT(--(INDEX(Model_Inputs_Ref_Units,,BQ$51)=$E69),INDEX(Model_Inputs_Ref_Units,,BQ$52)),0)","v":0},{"$f":"IFERROR(SUMPRODUCT(--(INDEX(Model_Inputs_Ref_Units,,BR$51)=$E69),INDEX(Model_Inputs_Ref_Units,,BR$52)),0)","v":0},{"$f":"IFERROR(SUMPRODUCT(--(INDEX(Model_Inputs_Ref_Units,,BS$51)=$E69),INDEX(Model_Inputs_Ref_Units,,BS$52)),0)","v":0},{"$f":"IFERROR(SUMPRODUCT(--(INDEX(Model_Inputs_Ref_Units,,BT$51)=$E69),INDEX(Model_Inputs_Ref_Units,,BT$52)),0)","v":0},{"$f":"IFERROR(SUMPRODUCT(--(INDEX(Model_Inputs_Ref_Units,,BU$51)=$E69),INDEX(Model_Inputs_Ref_Units,,BU$52)),0)","v":0},{"$f":"IFERROR(SUMPRODUCT(--(INDEX(Model_Inputs_Ref_Units,,BV$51)=$E69),INDEX(Model_Inputs_Ref_Units,,BV$52)),0)","v":0},{"$f":"IFERROR(SUMPRODUCT(--(INDEX(Model_Inputs_Ref_Units,,BW$51)=$E69),INDEX(Model_Inputs_Ref_Units,,BW$52)),0)","v":0},{"$f":"IFERROR(SUMPRODUCT(--(INDEX(Model_Inputs_Ref_Units,,BX$51)=$E69),INDEX(Model_Inputs_Ref_Units,,BX$52)),0)","v":0},{"$f":"IFERROR(SUMPRODUCT(--(INDEX(Model_Inputs_Ref_Units,,BY$51)=$E69),INDEX(Model_Inputs_Ref_Units,,BY$52)),0)","v":0},{"$f":"IFERROR(SUMPRODUCT(--(INDEX(Model_Inputs_Ref_Units,,BZ$51)=$E69),INDEX(Model_Inputs_Ref_Units,,BZ$52)),0)","v":0},{"$f":"IFERROR(SUMPRODUCT(--(INDEX(Model_Inputs_Ref_Units,,CA$51)=$E69),INDEX(Model_Inputs_Ref_Units,,CA$52)),0)","v":0},{"$f":"IFERROR(SUMPRODUCT(--(INDEX(Model_Inputs_Ref_Units,,CB$51)=$E69),INDEX(Model_Inputs_Ref_Units,,CB$52)),0)","v":0},{"$f":"IFERROR(SUMPRODUCT(--(INDEX(Model_Inputs_Ref_Units,,CC$51)=$E69),INDEX(Model_Inputs_Ref_Units,,CC$52)),0)","v":0},{"$f":"IFERROR(SUMPRODUCT(--(INDEX(Model_Inputs_Ref_Units,,CD$51)=$E69),INDEX(Model_Inputs_Ref_Units,,CD$52)),0)","v":0},{"$f":"IFERROR(SUMPRODUCT(--(INDEX(Model_Inputs_Ref_Units,,CE$51)=$E69),INDEX(Model_Inputs_Ref_Units,,CE$52)),0)","v":0},{"$f":"IFERROR(SUMPRODUCT(--(INDEX(Model_Inputs_Ref_Units,,CF$51)=$E69),INDEX(Model_Inputs_Ref_Units,,CF$52)),0)","v":0},{"$f":"IFERROR(SUMPRODUCT(--(INDEX(Model_Inputs_Ref_Units,,CG$51)=$E69),INDEX(Model_Inputs_Ref_Units,,CG$52)),0)","v":0},{"$f":"IFERROR(SUMPRODUCT(--(INDEX(Model_Inputs_Ref_Units,,CH$51)=$E69),INDEX(Model_Inputs_Ref_Units,,CH$52)),0)","v":0},{"$f":"IFERROR(SUMPRODUCT(--(INDEX(Model_Inputs_Ref_Units,,CI$51)=$E69),INDEX(Model_Inputs_Ref_Units,,CI$52)),0)","v":0},{"$f":"IFERROR(SUMPRODUCT(--(INDEX(Model_Inputs_Ref_Units,,CJ$51)=$E69),INDEX(Model_Inputs_Ref_Units,,CJ$52)),0)","v":0},{"$f":"IFERROR(SUMPRODUCT(--(INDEX(Model_Inputs_Ref_Units,,CK$51)=$E69),INDEX(Model_Inputs_Ref_Units,,CK$52)),0)","v":0},{"$f":"IFERROR(SUMPRODUCT(--(INDEX(Model_Inputs_Ref_Units,,CL$51)=$E69),INDEX(Model_Inputs_Ref_Units,,CL$52)),0)","v":0},{"$f":"IFERROR(SUMPRODUCT(--(INDEX(Model_Inputs_Ref_Units,,CM$51)=$E69),INDEX(Model_Inputs_Ref_Units,,CM$52)),0)","v":0},{"$f":"IFERROR(SUMPRODUCT(--(INDEX(Model_Inputs_Ref_Units,,CN$51)=$E69),INDEX(Model_Inputs_Ref_Units,,CN$52)),0)","v":0},{"$f":"IFERROR(SUMPRODUCT(--(INDEX(Model_Inputs_Ref_Units,,CO$51)=$E69),INDEX(Model_Inputs_Ref_Units,,CO$52)),0)","v":0},{"$f":"IFERROR(SUMPRODUCT(--(INDEX(Model_Inputs_Ref_Units,,CP$51)=$E69),INDEX(Model_Inputs_Ref_Units,,CP$52)),0)","v":0},{"$f":"IFERROR(SUMPRODUCT(--(INDEX(Model_Inputs_Ref_Units,,CQ$51)=$E69),INDEX(Model_Inputs_Ref_Units,,CQ$52)),0)","v":0},{"$f":"IFERROR(SUMPRODUCT(--(INDEX(Model_Inputs_Ref_Units,,CR$51)=$E69),INDEX(Model_Inputs_Ref_Units,,CR$52)),0)","v":0},{"$f":"IFERROR(SUMPRODUCT(--(INDEX(Model_Inputs_Ref_Units,,CS$51)=$E69),INDEX(Model_Inputs_Ref_Units,,CS$52)),0)","v":0},{"$f":"IFERROR(SUMPRODUCT(--(INDEX(Model_Inputs_Ref_Units,,CT$51)=$E69),INDEX(Model_Inputs_Ref_Units,,CT$52)),0)","v":0},{"$f":"IFERROR(SUMPRODUCT(--(INDEX(Model_Inputs_Ref_Units,,CU$51)=$E69),INDEX(Model_Inputs_Ref_Units,,CU$52)),0)","v":0},{"$f":"IFERROR(SUMPRODUCT(--(INDEX(Model_Inputs_Ref_Units,,CV$51)=$E69),INDEX(Model_Inputs_Ref_Units,,CV$52)),0)","v":0},{"$f":"IFERROR(SUMPRODUCT(--(INDEX(Model_Inputs_Ref_Units,,CW$51)=$E69),INDEX(Model_Inputs_Ref_Units,,CW$52)),0)","v":0},{"$f":"IFERROR(SUMPRODUCT(--(INDEX(Model_Inputs_Ref_Units,,CX$51)=$E69),INDEX(Model_Inputs_Ref_Units,,CX$52)),0)","v":0},{"$f":"IFERROR(SUMPRODUCT(--(INDEX(Model_Inputs_Ref_Units,,CY$51)=$E69),INDEX(Model_Inputs_Ref_Units,,CY$52)),0)","v":0},{"$f":"IFERROR(SUMPRODUCT(--(INDEX(Model_Inputs_Ref_Units,,CZ$51)=$E69),INDEX(Model_Inputs_Ref_Units,,CZ$52)),0)","v":0},{"$f":"IFERROR(SUMPRODUCT(--(INDEX(Model_Inputs_Ref_Units,,DA$51)=$E69),INDEX(Model_Inputs_Ref_Units,,DA$52)),0)","v":0},{"$f":"IFERROR(SUMPRODUCT(--(INDEX(Model_Inputs_Ref_Units,,DB$51)=$E69),INDEX(Model_Inputs_Ref_Units,,DB$52)),0)","v":0},{"$f":"IFERROR(SUMPRODUCT(--(INDEX(Model_Inputs_Ref_Units,,DC$51)=$E69),INDEX(Model_Inputs_Ref_Units,,DC$52)),0)","v":0},{"$f":"IFERROR(SUMPRODUCT(--(INDEX(Model_Inputs_Ref_Units,,DD$51)=$E69),INDEX(Model_Inputs_Ref_Units,,DD$52)),0)","v":0},{"$f":"IFERROR(SUMPRODUCT(--(INDEX(Model_Inputs_Ref_Units,,DE$51)=$E69),INDEX(Model_Inputs_Ref_Units,,DE$52)),0)","v":0},{"$f":"IFERROR(SUMPRODUCT(--(INDEX(Model_Inputs_Ref_Units,,DF$51)=$E69),INDEX(Model_Inputs_Ref_Units,,DF$52)),0)","v":0}]
[null,null,{"$error":"#DIV/0!"},null,{"$f":"IFERROR(INDEX(Ref_Data,1,F70),\"\")","v":""},17,0,0,0,0,{"$f":"IFERROR(SUMPRODUCT(--(INDEX(Model_Inputs_Ref_Units,,K$51)=$E70),INDEX(Model_Inputs_Ref_Units,,K$52)),0)","v":0},{"$f":"IFERROR(SUMPRODUCT(--(INDEX(Model_Inputs_Ref_Units,,L$51)=$E70),INDEX(Model_Inputs_Ref_Units,,L$52)),0)","v":0},{"$f":"IFERROR(SUMPRODUCT(--(INDEX(Model_Inputs_Ref_Units,,M$51)=$E70),INDEX(Model_Inputs_Ref_Units,,M$52)),0)","v":0},{"$f":"IFERROR(SUMPRODUCT(--(INDEX(Model_Inputs_Ref_Units,,N$51)=$E70),INDEX(Model_Inputs_Ref_Units,,N$52)),0)","v":0},{"$f":"IFERROR(SUMPRODUCT(--(INDEX(Model_Inputs_Ref_Units,,O$51)=$E70),INDEX(Model_Inputs_Ref_Units,,O$52)),0)","v":0},{"$f":"IFERROR(SUMPRODUCT(--(INDEX(Model_Inputs_Ref_Units,,P$51)=$E70),INDEX(Model_Inputs_Ref_Units,,P$52)),0)","v":0},{"$f":"IFERROR(SUMPRODUCT(--(INDEX(Model_Inputs_Ref_Units,,Q$51)=$E70),INDEX(Model_Inputs_Ref_Units,,Q$52)),0)","v":0},{"$f":"IFERROR(SUMPRODUCT(--(INDEX(Model_Inputs_Ref_Units,,R$51)=$E70),INDEX(Model_Inputs_Ref_Units,,R$52)),0)","v":0},{"$f":"IFERROR(SUMPRODUCT(--(INDEX(Model_Inputs_Ref_Units,,S$51)=$E70),INDEX(Model_Inputs_Ref_Units,,S$52)),0)","v":0},{"$f":"IFERROR(SUMPRODUCT(--(INDEX(Model_Inputs_Ref_Units,,T$51)=$E70),INDEX(Model_Inputs_Ref_Units,,T$52)),0)","v":0},{"$f":"IFERROR(SUMPRODUCT(--(INDEX(Model_Inputs_Ref_Units,,U$51)=$E70),INDEX(Model_Inputs_Ref_Units,,U$52)),0)","v":0},{"$f":"IFERROR(SUMPRODUCT(--(INDEX(Model_Inputs_Ref_Units,,V$51)=$E70),INDEX(Model_Inputs_Ref_Units,,V$52)),0)","v":0},{"$f":"IFERROR(SUMPRODUCT(--(INDEX(Model_Inputs_Ref_Units,,W$51)=$E70),INDEX(Model_Inputs_Ref_Units,,W$52)),0)","v":0},{"$f":"IFERROR(SUMPRODUCT(--(INDEX(Model_Inputs_Ref_Units,,X$51)=$E70),INDEX(Model_Inputs_Ref_Units,,X$52)),0)","v":0},{"$f":"IFERROR(SUMPRODUCT(--(INDEX(Model_Inputs_Ref_Units,,Y$51)=$E70),INDEX(Model_Inputs_Ref_Units,,Y$52)),0)","v":0},{"$f":"IFERROR(SUMPRODUCT(--(INDEX(Model_Inputs_Ref_Units,,Z$51)=$E70),INDEX(Model_Inputs_Ref_Units,,Z$52)),0)","v":0},{"$f":"IFERROR(SUMPRODUCT(--(INDEX(Model_Inputs_Ref_Units,,AA$51)=$E70),INDEX(Model_Inputs_Ref_Units,,AA$52)),0)","v":0},{"$f":"IFERROR(SUMPRODUCT(--(INDEX(Model_Inputs_Ref_Units,,AB$51)=$E70),INDEX(Model_Inputs_Ref_Units,,AB$52)),0)","v":0},{"$f":"IFERROR(SUMPRODUCT(--(INDEX(Model_Inputs_Ref_Units,,AC$51)=$E70),INDEX(Model_Inputs_Ref_Units,,AC$52)),0)","v":0},{"$f":"IFERROR(SUMPRODUCT(--(INDEX(Model_Inputs_Ref_Units,,AD$51)=$E70),INDEX(Model_Inputs_Ref_Units,,AD$52)),0)","v":0},{"$f":"IFERROR(SUMPRODUCT(--(INDEX(Model_Inputs_Ref_Units,,AE$51)=$E70),INDEX(Model_Inputs_Ref_Units,,AE$52)),0)","v":0},{"$f":"IFERROR(SUMPRODUCT(--(INDEX(Model_Inputs_Ref_Units,,AF$51)=$E70),INDEX(Model_Inputs_Ref_Units,,AF$52)),0)","v":0},{"$f":"IFERROR(SUMPRODUCT(--(INDEX(Model_Inputs_Ref_Units,,AG$51)=$E70),INDEX(Model_Inputs_Ref_Units,,AG$52)),0)","v":0},{"$f":"IFERROR(SUMPRODUCT(--(INDEX(Model_Inputs_Ref_Units,,AH$51)=$E70),INDEX(Model_Inputs_Ref_Units,,AH$52)),0)","v":0},{"$f":"IFERROR(SUMPRODUCT(--(INDEX(Model_Inputs_Ref_Units,,AI$51)=$E70),INDEX(Model_Inputs_Ref_Units,,AI$52)),0)","v":0},{"$f":"IFERROR(SUMPRODUCT(--(INDEX(Model_Inputs_Ref_Units,,AJ$51)=$E70),INDEX(Model_Inputs_Ref_Units,,AJ$52)),0)","v":0},{"$f":"IFERROR(SUMPRODUCT(--(INDEX(Model_Inputs_Ref_Units,,AK$51)=$E70),INDEX(Model_Inputs_Ref_Units,,AK$52)),0)","v":0},{"$f":"IFERROR(SUMPRODUCT(--(INDEX(Model_Inputs_Ref_Units,,AL$51)=$E70),INDEX(Model_Inputs_Ref_Units,,AL$52)),0)","v":0},{"$f":"IFERROR(SUMPRODUCT(--(INDEX(Model_Inputs_Ref_Units,,AM$51)=$E70),INDEX(Model_Inputs_Ref_Units,,AM$52)),0)","v":0},{"$f":"IFERROR(SUMPRODUCT(--(INDEX(Model_Inputs_Ref_Units,,AN$51)=$E70),INDEX(Model_Inputs_Ref_Units,,AN$52)),0)","v":0},{"$f":"IFERROR(SUMPRODUCT(--(INDEX(Model_Inputs_Ref_Units,,AO$51)=$E70),INDEX(Model_Inputs_Ref_Units,,AO$52)),0)","v":0},{"$f":"IFERROR(SUMPRODUCT(--(INDEX(Model_Inputs_Ref_Units,,AP$51)=$E70),INDEX(Model_Inputs_Ref_Units,,AP$52)),0)","v":0},{"$f":"IFERROR(SUMPRODUCT(--(INDEX(Model_Inputs_Ref_Units,,AQ$51)=$E70),INDEX(Model_Inputs_Ref_Units,,AQ$52)),0)","v":0},{"$f":"IFERROR(SUMPRODUCT(--(INDEX(Model_Inputs_Ref_Units,,AR$51)=$E70),INDEX(Model_Inputs_Ref_Units,,AR$52)),0)","v":0},{"$f":"IFERROR(SUMPRODUCT(--(INDEX(Model_Inputs_Ref_Units,,AS$51)=$E70),INDEX(Model_Inputs_Ref_Units,,AS$52)),0)","v":0},{"$f":"IFERROR(SUMPRODUCT(--(INDEX(Model_Inputs_Ref_Units,,AT$51)=$E70),INDEX(Model_Inputs_Ref_Units,,AT$52)),0)","v":0},{"$f":"IFERROR(SUMPRODUCT(--(INDEX(Model_Inputs_Ref_Units,,AU$51)=$E70),INDEX(Model_Inputs_Ref_Units,,AU$52)),0)","v":0},{"$f":"IFERROR(SUMPRODUCT(--(INDEX(Model_Inputs_Ref_Units,,AV$51)=$E70),INDEX(Model_Inputs_Ref_Units,,AV$52)),0)","v":0},{"$f":"IFERROR(SUMPRODUCT(--(INDEX(Model_Inputs_Ref_Units,,AW$51)=$E70),INDEX(Model_Inputs_Ref_Units,,AW$52)),0)","v":0},{"$f":"IFERROR(SUMPRODUCT(--(INDEX(Model_Inputs_Ref_Units,,AX$51)=$E70),INDEX(Model_Inputs_Ref_Units,,AX$52)),0)","v":0},{"$f":"IFERROR(SUMPRODUCT(--(INDEX(Model_Inputs_Ref_Units,,AY$51)=$E70),INDEX(Model_Inputs_Ref_Units,,AY$52)),0)","v":0},{"$f":"IFERROR(SUMPRODUCT(--(INDEX(Model_Inputs_Ref_Units,,AZ$51)=$E70),INDEX(Model_Inputs_Ref_Units,,AZ$52)),0)","v":0},{"$f":"IFERROR(SUMPRODUCT(--(INDEX(Model_Inputs_Ref_Units,,BA$51)=$E70),INDEX(Model_Inputs_Ref_Units,,BA$52)),0)","v":0},{"$f":"IFERROR(SUMPRODUCT(--(INDEX(Model_Inputs_Ref_Units,,BB$51)=$E70),INDEX(Model_Inputs_Ref_Units,,BB$52)),0)","v":0},{"$f":"IFERROR(SUMPRODUCT(--(INDEX(Model_Inputs_Ref_Units,,BC$51)=$E70),INDEX(Model_Inputs_Ref_Units,,BC$52)),0)","v":0},{"$f":"IFERROR(SUMPRODUCT(--(INDEX(Model_Inputs_Ref_Units,,BD$51)=$E70),INDEX(Model_Inputs_Ref_Units,,BD$52)),0)","v":0},{"$f":"IFERROR(SUMPRODUCT(--(INDEX(Model_Inputs_Ref_Units,,BE$51)=$E70),INDEX(Model_Inputs_Ref_Units,,BE$52)),0)","v":0},{"$f":"IFERROR(SUMPRODUCT(--(INDEX(Model_Inputs_Ref_Units,,BF$51)=$E70),INDEX(Model_Inputs_Ref_Units,,BF$52)),0)","v":0},{"$f":"IFERROR(SUMPRODUCT(--(INDEX(Model_Inputs_Ref_Units,,BG$51)=$E70),INDEX(Model_Inputs_Ref_Units,,BG$52)),0)","v":0},{"$f":"IFERROR(SUMPRODUCT(--(INDEX(Model_Inputs_Ref_Units,,BH$51)=$E70),INDEX(Model_Inputs_Ref_Units,,BH$52)),0)","v":0},{"$f":"IFERROR(SUMPRODUCT(--(INDEX(Model_Inputs_Ref_Units,,BI$51)=$E70),INDEX(Model_Inputs_Ref_Units,,BI$52)),0)","v":0},{"$f":"IFERROR(SUMPRODUCT(--(INDEX(Model_Inputs_Ref_Units,,BJ$51)=$E70),INDEX(Model_Inputs_Ref_Units,,BJ$52)),0)","v":0},{"$f":"IFERROR(SUMPRODUCT(--(INDEX(Model_Inputs_Ref_Units,,BK$51)=$E70),INDEX(Model_Inputs_Ref_Units,,BK$52)),0)","v":0},{"$f":"IFERROR(SUMPRODUCT(--(INDEX(Model_Inputs_Ref_Units,,BL$51)=$E70),INDEX(Model_Inputs_Ref_Units,,BL$52)),0)","v":0},{"$f":"IFERROR(SUMPRODUCT(--(INDEX(Model_Inputs_Ref_Units,,BM$51)=$E70),INDEX(Model_Inputs_Ref_Units,,BM$52)),0)","v":0},{"$f":"IFERROR(SUMPRODUCT(--(INDEX(Model_Inputs_Ref_Units,,BN$51)=$E70),INDEX(Model_Inputs_Ref_Units,,BN$52)),0)","v":0},{"$f":"IFERROR(SUMPRODUCT(--(INDEX(Model_Inputs_Ref_Units,,BO$51)=$E70),INDEX(Model_Inputs_Ref_Units,,BO$52)),0)","v":0},{"$f":"IFERROR(SUMPRODUCT(--(INDEX(Model_Inputs_Ref_Units,,BP$51)=$E70),INDEX(Model_Inputs_Ref_Units,,BP$52)),0)","v":0},{"$f":"IFERROR(SUMPRODUCT(--(INDEX(Model_Inputs_Ref_Units,,BQ$51)=$E70),INDEX(Model_Inputs_Ref_Units,,BQ$52)),0)","v":0},{"$f":"IFERROR(SUMPRODUCT(--(INDEX(Model_Inputs_Ref_Units,,BR$51)=$E70),INDEX(Model_Inputs_Ref_Units,,BR$52)),0)","v":0},{"$f":"IFERROR(SUMPRODUCT(--(INDEX(Model_Inputs_Ref_Units,,BS$51)=$E70),INDEX(Model_Inputs_Ref_Units,,BS$52)),0)","v":0},{"$f":"IFERROR(SUMPRODUCT(--(INDEX(Model_Inputs_Ref_Units,,BT$51)=$E70),INDEX(Model_Inputs_Ref_Units,,BT$52)),0)","v":0},{"$f":"IFERROR(SUMPRODUCT(--(INDEX(Model_Inputs_Ref_Units,,BU$51)=$E70),INDEX(Model_Inputs_Ref_Units,,BU$52)),0)","v":0},{"$f":"IFERROR(SUMPRODUCT(--(INDEX(Model_Inputs_Ref_Units,,BV$51)=$E70),INDEX(Model_Inputs_Ref_Units,,BV$52)),0)","v":0},{"$f":"IFERROR(SUMPRODUCT(--(INDEX(Model_Inputs_Ref_Units,,BW$51)=$E70),INDEX(Model_Inputs_Ref_Units,,BW$52)),0)","v":0},{"$f":"IFERROR(SUMPRODUCT(--(INDEX(Model_Inputs_Ref_Units,,BX$51)=$E70),INDEX(Model_Inputs_Ref_Units,,BX$52)),0)","v":0},{"$f":"IFERROR(SUMPRODUCT(--(INDEX(Model_Inputs_Ref_Units,,BY$51)=$E70),INDEX(Model_Inputs_Ref_Units,,BY$52)),0)","v":0},{"$f":"IFERROR(SUMPRODUCT(--(INDEX(Model_Inputs_Ref_Units,,BZ$51)=$E70),INDEX(Model_Inputs_Ref_Units,,BZ$52)),0)","v":0},{"$f":"IFERROR(SUMPRODUCT(--(INDEX(Model_Inputs_Ref_Units,,CA$51)=$E70),INDEX(Model_Inputs_Ref_Units,,CA$52)),0)","v":0},{"$f":"IFERROR(SUMPRODUCT(--(INDEX(Model_Inputs_Ref_Units,,CB$51)=$E70),INDEX(Model_Inputs_Ref_Units,,CB$52)),0)","v":0},{"$f":"IFERROR(SUMPRODUCT(--(INDEX(Model_Inputs_Ref_Units,,CC$51)=$E70),INDEX(Model_Inputs_Ref_Units,,CC$52)),0)","v":0},{"$f":"IFERROR(SUMPRODUCT(--(INDEX(Model_Inputs_Ref_Units,,CD$51)=$E70),INDEX(Model_Inputs_Ref_Units,,CD$52)),0)","v":0},{"$f":"IFERROR(SUMPRODUCT(--(INDEX(Model_Inputs_Ref_Units,,CE$51)=$E70),INDEX(Model_Inputs_Ref_Units,,CE$52)),0)","v":0},{"$f":"IFERROR(SUMPRODUCT(--(INDEX(Model_Inputs_Ref_Units,,CF$51)=$E70),INDEX(Model_Inputs_Ref_Units,,CF$52)),0)","v":0},{"$f":"IFERROR(SUMPRODUCT(--(INDEX(Model_Inputs_Ref_Units,,CG$51)=$E70),INDEX(Model_Inputs_Ref_Units,,CG$52)),0)","v":0},{"$f":"IFERROR(SUMPRODUCT(--(INDEX(Model_Inputs_Ref_Units,,CH$51)=$E70),INDEX(Model_Inputs_Ref_Units,,CH$52)),0)","v":0},{"$f":"IFERROR(SUMPRODUCT(--(INDEX(Model_Inputs_Ref_Units,,CI$51)=$E70),INDEX(Model_Inputs_Ref_Units,,CI$52)),0)","v":0},{"$f":"IFERROR(SUMPRODUCT(--(INDEX(Model_Inputs_Ref_Units,,CJ$51)=$E70),INDEX(Model_Inputs_Ref_Units,,CJ$52)),0)","v":0},{"$f":"IFERROR(SUMPRODUCT(--(INDEX(Model_Inputs_Ref_Units,,CK$51)=$E70),INDEX(Model_Inputs_Ref_Units,,CK$52)),0)","v":0},{"$f":"IFERROR(SUMPRODUCT(--(INDEX(Model_Inputs_Ref_Units,,CL$51)=$E70),INDEX(Model_Inputs_Ref_Units,,CL$52)),0)","v":0},{"$f":"IFERROR(SUMPRODUCT(--(INDEX(Model_Inputs_Ref_Units,,CM$51)=$E70),INDEX(Model_Inputs_Ref_Units,,CM$52)),0)","v":0},{"$f":"IFERROR(SUMPRODUCT(--(INDEX(Model_Inputs_Ref_Units,,CN$51)=$E70),INDEX(Model_Inputs_Ref_Units,,CN$52)),0)","v":0},{"$f":"IFERROR(SUMPRODUCT(--(INDEX(Model_Inputs_Ref_Units,,CO$51)=$E70),INDEX(Model_Inputs_Ref_Units,,CO$52)),0)","v":0},{"$f":"IFERROR(SUMPRODUCT(--(INDEX(Model_Inputs_Ref_Units,,CP$51)=$E70),INDEX(Model_Inputs_Ref_Units,,CP$52)),0)","v":0},{"$f":"IFERROR(SUMPRODUCT(--(INDEX(Model_Inputs_Ref_Units,,CQ$51)=$E70),INDEX(Model_Inputs_Ref_Units,,CQ$52)),0)","v":0},{"$f":"IFERROR(SUMPRODUCT(--(INDEX(Model_Inputs_Ref_Units,,CR$51)=$E70),INDEX(Model_Inputs_Ref_Units,,CR$52)),0)","v":0},{"$f":"IFERROR(SUMPRODUCT(--(INDEX(Model_Inputs_Ref_Units,,CS$51)=$E70),INDEX(Model_Inputs_Ref_Units,,CS$52)),0)","v":0},{"$f":"IFERROR(SUMPRODUCT(--(INDEX(Model_Inputs_Ref_Units,,CT$51)=$E70),INDEX(Model_Inputs_Ref_Units,,CT$52)),0)","v":0},{"$f":"IFERROR(SUMPRODUCT(--(INDEX(Model_Inputs_Ref_Units,,CU$51)=$E70),INDEX(Model_Inputs_Ref_Units,,CU$52)),0)","v":0},{"$f":"IFERROR(SUMPRODUCT(--(INDEX(Model_Inputs_Ref_Units,,CV$51)=$E70),INDEX(Model_Inputs_Ref_Units,,CV$52)),0)","v":0},{"$f":"IFERROR(SUMPRODUCT(--(INDEX(Model_Inputs_Ref_Units,,CW$51)=$E70),INDEX(Model_Inputs_Ref_Units,,CW$52)),0)","v":0},{"$f":"IFERROR(SUMPRODUCT(--(INDEX(Model_Inputs_Ref_Units,,CX$51)=$E70),INDEX(Model_Inputs_Ref_Units,,CX$52)),0)","v":0},{"$f":"IFERROR(SUMPRODUCT(--(INDEX(Model_Inputs_Ref_Units,,CY$51)=$E70),INDEX(Model_Inputs_Ref_Units,,CY$52)),0)","v":0},{"$f":"IFERROR(SUMPRODUCT(--(INDEX(Model_Inputs_Ref_Units,,CZ$51)=$E70),INDEX(Model_Inputs_Ref_Units,,CZ$52)),0)","v":0},{"$f":"IFERROR(SUMPRODUCT(--(INDEX(Model_Inputs_Ref_Units,,DA$51)=$E70),INDEX(Model_Inputs_Ref_Units,,DA$52)),0)","v":0},{"$f":"IFERROR(SUMPRODUCT(--(INDEX(Model_Inputs_Ref_Units,,DB$51)=$E70),INDEX(Model_Inputs_Ref_Units,,DB$52)),0)","v":0},{"$f":"IFERROR(SUMPRODUCT(--(INDEX(Model_Inputs_Ref_Units,,DC$51)=$E70),INDEX(Model_Inputs_Ref_Units,,DC$52)),0)","v":0},{"$f":"IFERROR(SUMPRODUCT(--(INDEX(Model_Inputs_Ref_Units,,DD$51)=$E70),INDEX(Model_Inputs_Ref_Units,,DD$52)),0)","v":0},{"$f":"IFERROR(SUMPRODUCT(--(INDEX(Model_Inputs_Ref_Units,,DE$51)=$E70),INDEX(Model_Inputs_Ref_Units,,DE$52)),0)","v":0},{"$f":"IFERROR(SUMPRODUCT(--(INDEX(Model_Inputs_Ref_Units,,DF$51)=$E70),INDEX(Model_Inputs_Ref_Units,,DF$52)),0)","v":0}]
[null,null,{"$error":"#DIV/0!"},null,{"$f":"IFERROR(INDEX(Ref_Data,1,F71),\"\")","v":""},18,0,0,0,0,{"$f":"IFERROR(SUMPRODUCT(--(INDEX(Model_Inputs_Ref_Units,,K$51)=$E71),INDEX(Model_Inputs_Ref_Units,,K$52)),0)","v":0},{"$f":"IFERROR(SUMPRODUCT(--(INDEX(Model_Inputs_Ref_Units,,L$51)=$E71),INDEX(Model_Inputs_Ref_Units,,L$52)),0)","v":0},{"$f":"IFERROR(SUMPRODUCT(--(INDEX(Model_Inputs_Ref_Units,,M$51)=$E71),INDEX(Model_Inputs_Ref_Units,,M$52)),0)","v":0},{"$f":"IFERROR(SUMPRODUCT(--(INDEX(Model_Inputs_Ref_Units,,N$51)=$E71),INDEX(Model_Inputs_Ref_Units,,N$52)),0)","v":0},{"$f":"IFERROR(SUMPRODUCT(--(INDEX(Model_Inputs_Ref_Units,,O$51)=$E71),INDEX(Model_Inputs_Ref_Units,,O$52)),0)","v":0},{"$f":"IFERROR(SUMPRODUCT(--(INDEX(Model_Inputs_Ref_Units,,P$51)=$E71),INDEX(Model_Inputs_Ref_Units,,P$52)),0)","v":0},{"$f":"IFERROR(SUMPRODUCT(--(INDEX(Model_Inputs_Ref_Units,,Q$51)=$E71),INDEX(Model_Inputs_Ref_Units,,Q$52)),0)","v":0},{"$f":"IFERROR(SUMPRODUCT(--(INDEX(Model_Inputs_Ref_Units,,R$51)=$E71),INDEX(Model_Inputs_Ref_Units,,R$52)),0)","v":0},{"$f":"IFERROR(SUMPRODUCT(--(INDEX(Model_Inputs_Ref_Units,,S$51)=$E71),INDEX(Model_Inputs_Ref_Units,,S$52)),0)","v":0},{"$f":"IFERROR(SUMPRODUCT(--(INDEX(Model_Inputs_Ref_Units,,T$51)=$E71),INDEX(Model_Inputs_Ref_Units,,T$52)),0)","v":0},{"$f":"IFERROR(SUMPRODUCT(--(INDEX(Model_Inputs_Ref_Units,,U$51)=$E71),INDEX(Model_Inputs_Ref_Units,,U$52)),0)","v":0},{"$f":"IFERROR(SUMPRODUCT(--(INDEX(Model_Inputs_Ref_Units,,V$51)=$E71),INDEX(Model_Inputs_Ref_Units,,V$52)),0)","v":0},{"$f":"IFERROR(SUMPRODUCT(--(INDEX(Model_Inputs_Ref_Units,,W$51)=$E71),INDEX(Model_Inputs_Ref_Units,,W$52)),0)","v":0},{"$f":"IFERROR(SUMPRODUCT(--(INDEX(Model_Inputs_Ref_Units,,X$51)=$E71),INDEX(Model_Inputs_Ref_Units,,X$52)),0)","v":0},{"$f":"IFERROR(SUMPRODUCT(--(INDEX(Model_Inputs_Ref_Units,,Y$51)=$E71),INDEX(Model_Inputs_Ref_Units,,Y$52)),0)","v":0},{"$f":"IFERROR(SUMPRODUCT(--(INDEX(Model_Inputs_Ref_Units,,Z$51)=$E71),INDEX(Model_Inputs_Ref_Units,,Z$52)),0)","v":0},{"$f":"IFERROR(SUMPRODUCT(--(INDEX(Model_Inputs_Ref_Units,,AA$51)=$E71),INDEX(Model_Inputs_Ref_Units,,AA$52)),0)","v":0},{"$f":"IFERROR(SUMPRODUCT(--(INDEX(Model_Inputs_Ref_Units,,AB$51)=$E71),INDEX(Model_Inputs_Ref_Units,,AB$52)),0)","v":0},{"$f":"IFERROR(SUMPRODUCT(--(INDEX(Model_Inputs_Ref_Units,,AC$51)=$E71),INDEX(Model_Inputs_Ref_Units,,AC$52)),0)","v":0},{"$f":"IFERROR(SUMPRODUCT(--(INDEX(Model_Inputs_Ref_Units,,AD$51)=$E71),INDEX(Model_Inputs_Ref_Units,,AD$52)),0)","v":0},{"$f":"IFERROR(SUMPRODUCT(--(INDEX(Model_Inputs_Ref_Units,,AE$51)=$E71),INDEX(Model_Inputs_Ref_Units,,AE$52)),0)","v":0},{"$f":"IFERROR(SUMPRODUCT(--(INDEX(Model_Inputs_Ref_Units,,AF$51)=$E71),INDEX(Model_Inputs_Ref_Units,,AF$52)),0)","v":0},{"$f":"IFERROR(SUMPRODUCT(--(INDEX(Model_Inputs_Ref_Units,,AG$51)=$E71),INDEX(Model_Inputs_Ref_Units,,AG$52)),0)","v":0},{"$f":"IFERROR(SUMPRODUCT(--(INDEX(Model_Inputs_Ref_Units,,AH$51)=$E71),INDEX(Model_Inputs_Ref_Units,,AH$52)),0)","v":0},{"$f":"IFERROR(SUMPRODUCT(--(INDEX(Model_Inputs_Ref_Units,,AI$51)=$E71),INDEX(Model_Inputs_Ref_Units,,AI$52)),0)","v":0},{"$f":"IFERROR(SUMPRODUCT(--(INDEX(Model_Inputs_Ref_Units,,AJ$51)=$E71),INDEX(Model_Inputs_Ref_Units,,AJ$52)),0)","v":0},{"$f":"IFERROR(SUMPRODUCT(--(INDEX(Model_Inputs_Ref_Units,,AK$51)=$E71),INDEX(Model_Inputs_Ref_Units,,AK$52)),0)","v":0},{"$f":"IFERROR(SUMPRODUCT(--(INDEX(Model_Inputs_Ref_Units,,AL$51)=$E71),INDEX(Model_Inputs_Ref_Units,,AL$52)),0)","v":0},{"$f":"IFERROR(SUMPRODUCT(--(INDEX(Model_Inputs_Ref_Units,,AM$51)=$E71),INDEX(Model_Inputs_Ref_Units,,AM$52)),0)","v":0},{"$f":"IFERROR(SUMPRODUCT(--(INDEX(Model_Inputs_Ref_Units,,AN$51)=$E71),INDEX(Model_Inputs_Ref_Units,,AN$52)),0)","v":0},{"$f":"IFERROR(SUMPRODUCT(--(INDEX(Model_Inputs_Ref_Units,,AO$51)=$E71),INDEX(Model_Inputs_Ref_Units,,AO$52)),0)","v":0},{"$f":"IFERROR(SUMPRODUCT(--(INDEX(Model_Inputs_Ref_Units,,AP$51)=$E71),INDEX(Model_Inputs_Ref_Units,,AP$52)),0)","v":0},{"$f":"IFERROR(SUMPRODUCT(--(INDEX(Model_Inputs_Ref_Units,,AQ$51)=$E71),INDEX(Model_Inputs_Ref_Units,,AQ$52)),0)","v":0},{"$f":"IFERROR(SUMPRODUCT(--(INDEX(Model_Inputs_Ref_Units,,AR$51)=$E71),INDEX(Model_Inputs_Ref_Units,,AR$52)),0)","v":0},{"$f":"IFERROR(SUMPRODUCT(--(INDEX(Model_Inputs_Ref_Units,,AS$51)=$E71),INDEX(Model_Inputs_Ref_Units,,AS$52)),0)","v":0},{"$f":"IFERROR(SUMPRODUCT(--(INDEX(Model_Inputs_Ref_Units,,AT$51)=$E71),INDEX(Model_Inputs_Ref_Units,,AT$52)),0)","v":0},{"$f":"IFERROR(SUMPRODUCT(--(INDEX(Model_Inputs_Ref_Units,,AU$51)=$E71),INDEX(Model_Inputs_Ref_Units,,AU$52)),0)","v":0},{"$f":"IFERROR(SUMPRODUCT(--(INDEX(Model_Inputs_Ref_Units,,AV$51)=$E71),INDEX(Model_Inputs_Ref_Units,,AV$52)),0)","v":0},{"$f":"IFERROR(SUMPRODUCT(--(INDEX(Model_Inputs_Ref_Units,,AW$51)=$E71),INDEX(Model_Inputs_Ref_Units,,AW$52)),0)","v":0},{"$f":"IFERROR(SUMPRODUCT(--(INDEX(Model_Inputs_Ref_Units,,AX$51)=$E71),INDEX(Model_Inputs_Ref_Units,,AX$52)),0)","v":0},{"$f":"IFERROR(SUMPRODUCT(--(INDEX(Model_Inputs_Ref_Units,,AY$51)=$E71),INDEX(Model_Inputs_Ref_Units,,AY$52)),0)","v":0},{"$f":"IFERROR(SUMPRODUCT(--(INDEX(Model_Inputs_Ref_Units,,AZ$51)=$E71),INDEX(Model_Inputs_Ref_Units,,AZ$52)),0)","v":0},{"$f":"IFERROR(SUMPRODUCT(--(INDEX(Model_Inputs_Ref_Units,,BA$51)=$E71),INDEX(Model_Inputs_Ref_Units,,BA$52)),0)","v":0},{"$f":"IFERROR(SUMPRODUCT(--(INDEX(Model_Inputs_Ref_Units,,BB$51)=$E71),INDEX(Model_Inputs_Ref_Units,,BB$52)),0)","v":0},{"$f":"IFERROR(SUMPRODUCT(--(INDEX(Model_Inputs_Ref_Units,,BC$51)=$E71),INDEX(Model_Inputs_Ref_Units,,BC$52)),0)","v":0},{"$f":"IFERROR(SUMPRODUCT(--(INDEX(Model_Inputs_Ref_Units,,BD$51)=$E71),INDEX(Model_Inputs_Ref_Units,,BD$52)),0)","v":0},{"$f":"IFERROR(SUMPRODUCT(--(INDEX(Model_Inputs_Ref_Units,,BE$51)=$E71),INDEX(Model_Inputs_Ref_Units,,BE$52)),0)","v":0},{"$f":"IFERROR(SUMPRODUCT(--(INDEX(Model_Inputs_Ref_Units,,BF$51)=$E71),INDEX(Model_Inputs_Ref_Units,,BF$52)),0)","v":0},{"$f":"IFERROR(SUMPRODUCT(--(INDEX(Model_Inputs_Ref_Units,,BG$51)=$E71),INDEX(Model_Inputs_Ref_Units,,BG$52)),0)","v":0},{"$f":"IFERROR(SUMPRODUCT(--(INDEX(Model_Inputs_Ref_Units,,BH$51)=$E71),INDEX(Model_Inputs_Ref_Units,,BH$52)),0)","v":0},{"$f":"IFERROR(SUMPRODUCT(--(INDEX(Model_Inputs_Ref_Units,,BI$51)=$E71),INDEX(Model_Inputs_Ref_Units,,BI$52)),0)","v":0},{"$f":"IFERROR(SUMPRODUCT(--(INDEX(Model_Inputs_Ref_Units,,BJ$51)=$E71),INDEX(Model_Inputs_Ref_Units,,BJ$52)),0)","v":0},{"$f":"IFERROR(SUMPRODUCT(--(INDEX(Model_Inputs_Ref_Units,,BK$51)=$E71),INDEX(Model_Inputs_Ref_Units,,BK$52)),0)","v":0},{"$f":"IFERROR(SUMPRODUCT(--(INDEX(Model_Inputs_Ref_Units,,BL$51)=$E71),INDEX(Model_Inputs_Ref_Units,,BL$52)),0)","v":0},{"$f":"IFERROR(SUMPRODUCT(--(INDEX(Model_Inputs_Ref_Units,,BM$51)=$E71),INDEX(Model_Inputs_Ref_Units,,BM$52)),0)","v":0},{"$f":"IFERROR(SUMPRODUCT(--(INDEX(Model_Inputs_Ref_Units,,BN$51)=$E71),INDEX(Model_Inputs_Ref_Units,,BN$52)),0)","v":0},{"$f":"IFERROR(SUMPRODUCT(--(INDEX(Model_Inputs_Ref_Units,,BO$51)=$E71),INDEX(Model_Inputs_Ref_Units,,BO$52)),0)","v":0},{"$f":"IFERROR(SUMPRODUCT(--(INDEX(Model_Inputs_Ref_Units,,BP$51)=$E71),INDEX(Model_Inputs_Ref_Units,,BP$52)),0)","v":0},{"$f":"IFERROR(SUMPRODUCT(--(INDEX(Model_Inputs_Ref_Units,,BQ$51)=$E71),INDEX(Model_Inputs_Ref_Units,,BQ$52)),0)","v":0},{"$f":"IFERROR(SUMPRODUCT(--(INDEX(Model_Inputs_Ref_Units,,BR$51)=$E71),INDEX(Model_Inputs_Ref_Units,,BR$52)),0)","v":0},{"$f":"IFERROR(SUMPRODUCT(--(INDEX(Model_Inputs_Ref_Units,,BS$51)=$E71),INDEX(Model_Inputs_Ref_Units,,BS$52)),0)","v":0},{"$f":"IFERROR(SUMPRODUCT(--(INDEX(Model_Inputs_Ref_Units,,BT$51)=$E71),INDEX(Model_Inputs_Ref_Units,,BT$52)),0)","v":0},{"$f":"IFERROR(SUMPRODUCT(--(INDEX(Model_Inputs_Ref_Units,,BU$51)=$E71),INDEX(Model_Inputs_Ref_Units,,BU$52)),0)","v":0},{"$f":"IFERROR(SUMPRODUCT(--(INDEX(Model_Inputs_Ref_Units,,BV$51)=$E71),INDEX(Model_Inputs_Ref_Units,,BV$52)),0)","v":0},{"$f":"IFERROR(SUMPRODUCT(--(INDEX(Model_Inputs_Ref_Units,,BW$51)=$E71),INDEX(Model_Inputs_Ref_Units,,BW$52)),0)","v":0},{"$f":"IFERROR(SUMPRODUCT(--(INDEX(Model_Inputs_Ref_Units,,BX$51)=$E71),INDEX(Model_Inputs_Ref_Units,,BX$52)),0)","v":0},{"$f":"IFERROR(SUMPRODUCT(--(INDEX(Model_Inputs_Ref_Units,,BY$51)=$E71),INDEX(Model_Inputs_Ref_Units,,BY$52)),0)","v":0},{"$f":"IFERROR(SUMPRODUCT(--(INDEX(Model_Inputs_Ref_Units,,BZ$51)=$E71),INDEX(Model_Inputs_Ref_Units,,BZ$52)),0)","v":0},{"$f":"IFERROR(SUMPRODUCT(--(INDEX(Model_Inputs_Ref_Units,,CA$51)=$E71),INDEX(Model_Inputs_Ref_Units,,CA$52)),0)","v":0},{"$f":"IFERROR(SUMPRODUCT(--(INDEX(Model_Inputs_Ref_Units,,CB$51)=$E71),INDEX(Model_Inputs_Ref_Units,,CB$52)),0)","v":0},{"$f":"IFERROR(SUMPRODUCT(--(INDEX(Model_Inputs_Ref_Units,,CC$51)=$E71),INDEX(Model_Inputs_Ref_Units,,CC$52)),0)","v":0},{"$f":"IFERROR(SUMPRODUCT(--(INDEX(Model_Inputs_Ref_Units,,CD$51)=$E71),INDEX(Model_Inputs_Ref_Units,,CD$52)),0)","v":0},{"$f":"IFERROR(SUMPRODUCT(--(INDEX(Model_Inputs_Ref_Units,,CE$51)=$E71),INDEX(Model_Inputs_Ref_Units,,CE$52)),0)","v":0},{"$f":"IFERROR(SUMPRODUCT(--(INDEX(Model_Inputs_Ref_Units,,CF$51)=$E71),INDEX(Model_Inputs_Ref_Units,,CF$52)),0)","v":0},{"$f":"IFERROR(SUMPRODUCT(--(INDEX(Model_Inputs_Ref_Units,,CG$51)=$E71),INDEX(Model_Inputs_Ref_Units,,CG$52)),0)","v":0},{"$f":"IFERROR(SUMPRODUCT(--(INDEX(Model_Inputs_Ref_Units,,CH$51)=$E71),INDEX(Model_Inputs_Ref_Units,,CH$52)),0)","v":0},{"$f":"IFERROR(SUMPRODUCT(--(INDEX(Model_Inputs_Ref_Units,,CI$51)=$E71),INDEX(Model_Inputs_Ref_Units,,CI$52)),0)","v":0},{"$f":"IFERROR(SUMPRODUCT(--(INDEX(Model_Inputs_Ref_Units,,CJ$51)=$E71),INDEX(Model_Inputs_Ref_Units,,CJ$52)),0)","v":0},{"$f":"IFERROR(SUMPRODUCT(--(INDEX(Model_Inputs_Ref_Units,,CK$51)=$E71),INDEX(Model_Inputs_Ref_Units,,CK$52)),0)","v":0},{"$f":"IFERROR(SUMPRODUCT(--(INDEX(Model_Inputs_Ref_Units,,CL$51)=$E71),INDEX(Model_Inputs_Ref_Units,,CL$52)),0)","v":0},{"$f":"IFERROR(SUMPRODUCT(--(INDEX(Model_Inputs_Ref_Units,,CM$51)=$E71),INDEX(Model_Inputs_Ref_Units,,CM$52)),0)","v":0},{"$f":"IFERROR(SUMPRODUCT(--(INDEX(Model_Inputs_Ref_Units,,CN$51)=$E71),INDEX(Model_Inputs_Ref_Units,,CN$52)),0)","v":0},{"$f":"IFERROR(SUMPRODUCT(--(INDEX(Model_Inputs_Ref_Units,,CO$51)=$E71),INDEX(Model_Inputs_Ref_Units,,CO$52)),0)","v":0},{"$f":"IFERROR(SUMPRODUCT(--(INDEX(Model_Inputs_Ref_Units,,CP$51)=$E71),INDEX(Model_Inputs_Ref_Units,,CP$52)),0)","v":0},{"$f":"IFERROR(SUMPRODUCT(--(INDEX(Model_Inputs_Ref_Units,,CQ$51)=$E71),INDEX(Model_Inputs_Ref_Units,,CQ$52)),0)","v":0},{"$f":"IFERROR(SUMPRODUCT(--(INDEX(Model_Inputs_Ref_Units,,CR$51)=$E71),INDEX(Model_Inputs_Ref_Units,,CR$52)),0)","v":0},{"$f":"IFERROR(SUMPRODUCT(--(INDEX(Model_Inputs_Ref_Units,,CS$51)=$E71),INDEX(Model_Inputs_Ref_Units,,CS$52)),0)","v":0},{"$f":"IFERROR(SUMPRODUCT(--(INDEX(Model_Inputs_Ref_Units,,CT$51)=$E71),INDEX(Model_Inputs_Ref_Units,,CT$52)),0)","v":0},{"$f":"IFERROR(SUMPRODUCT(--(INDEX(Model_Inputs_Ref_Units,,CU$51)=$E71),INDEX(Model_Inputs_Ref_Units,,CU$52)),0)","v":0},{"$f":"IFERROR(SUMPRODUCT(--(INDEX(Model_Inputs_Ref_Units,,CV$51)=$E71),INDEX(Model_Inputs_Ref_Units,,CV$52)),0)","v":0},{"$f":"IFERROR(SUMPRODUCT(--(INDEX(Model_Inputs_Ref_Units,,CW$51)=$E71),INDEX(Model_Inputs_Ref_Units,,CW$52)),0)","v":0},{"$f":"IFERROR(SUMPRODUCT(--(INDEX(Model_Inputs_Ref_Units,,CX$51)=$E71),INDEX(Model_Inputs_Ref_Units,,CX$52)),0)","v":0},{"$f":"IFERROR(SUMPRODUCT(--(INDEX(Model_Inputs_Ref_Units,,CY$51)=$E71),INDEX(Model_Inputs_Ref_Units,,CY$52)),0)","v":0},{"$f":"IFERROR(SUMPRODUCT(--(INDEX(Model_Inputs_Ref_Units,,CZ$51)=$E71),INDEX(Model_Inputs_Ref_Units,,CZ$52)),0)","v":0},{"$f":"IFERROR(SUMPRODUCT(--(INDEX(Model_Inputs_Ref_Units,,DA$51)=$E71),INDEX(Model_Inputs_Ref_Units,,DA$52)),0)","v":0},{"$f":"IFERROR(SUMPRODUCT(--(INDEX(Model_Inputs_Ref_Units,,DB$51)=$E71),INDEX(Model_Inputs_Ref_Units,,DB$52)),0)","v":0},{"$f":"IFERROR(SUMPRODUCT(--(INDEX(Model_Inputs_Ref_Units,,DC$51)=$E71),INDEX(Model_Inputs_Ref_Units,,DC$52)),0)","v":0},{"$f":"IFERROR(SUMPRODUCT(--(INDEX(Model_Inputs_Ref_Units,,DD$51)=$E71),INDEX(Model_Inputs_Ref_Units,,DD$52)),0)","v":0},{"$f":"IFERROR(SUMPRODUCT(--(INDEX(Model_Inputs_Ref_Units,,DE$51)=$E71),INDEX(Model_Inputs_Ref_Units,,DE$52)),0)","v":0},{"$f":"IFERROR(SUMPRODUCT(--(INDEX(Model_Inputs_Ref_Units,,DF$51)=$E71),INDEX(Model_Inputs_Ref_Units,,DF$52)),0)","v":0}]
[null,null,{"$error":"#DIV/0!"},null,{"$f":"IFERROR(INDEX(Ref_Data,1,F72),\"\")","v":""},19,0,0,0,0,{"$f":"IFERROR(SUMPRODUCT(--(INDEX(Model_Inputs_Ref_Units,,K$51)=$E72),INDEX(Model_Inputs_Ref_Units,,K$52)),0)","v":0},{"$f":"IFERROR(SUMPRODUCT(--(INDEX(Model_Inputs_Ref_Units,,L$51)=$E72),INDEX(Model_Inputs_Ref_Units,,L$52)),0)","v":0},{"$f":"IFERROR(SUMPRODUCT(--(INDEX(Model_Inputs_Ref_Units,,M$51)=$E72),INDEX(Model_Inputs_Ref_Units,,M$52)),0)","v":0},{"$f":"IFERROR(SUMPRODUCT(--(INDEX(Model_Inputs_Ref_Units,,N$51)=$E72),INDEX(Model_Inputs_Ref_Units,,N$52)),0)","v":0},{"$f":"IFERROR(SUMPRODUCT(--(INDEX(Model_Inputs_Ref_Units,,O$51)=$E72),INDEX(Model_Inputs_Ref_Units,,O$52)),0)","v":0},{"$f":"IFERROR(SUMPRODUCT(--(INDEX(Model_Inputs_Ref_Units,,P$51)=$E72),INDEX(Model_Inputs_Ref_Units,,P$52)),0)","v":0},{"$f":"IFERROR(SUMPRODUCT(--(INDEX(Model_Inputs_Ref_Units,,Q$51)=$E72),INDEX(Model_Inputs_Ref_Units,,Q$52)),0)","v":0},{"$f":"IFERROR(SUMPRODUCT(--(INDEX(Model_Inputs_Ref_Units,,R$51)=$E72),INDEX(Model_Inputs_Ref_Units,,R$52)),0)","v":0},{"$f":"IFERROR(SUMPRODUCT(--(INDEX(Model_Inputs_Ref_Units,,S$51)=$E72),INDEX(Model_Inputs_Ref_Units,,S$52)),0)","v":0},{"$f":"IFERROR(SUMPRODUCT(--(INDEX(Model_Inputs_Ref_Units,,T$51)=$E72),INDEX(Model_Inputs_Ref_Units,,T$52)),0)","v":0},{"$f":"IFERROR(SUMPRODUCT(--(INDEX(Model_Inputs_Ref_Units,,U$51)=$E72),INDEX(Model_Inputs_Ref_Units,,U$52)),0)","v":0},{"$f":"IFERROR(SUMPRODUCT(--(INDEX(Model_Inputs_Ref_Units,,V$51)=$E72),INDEX(Model_Inputs_Ref_Units,,V$52)),0)","v":0},{"$f":"IFERROR(SUMPRODUCT(--(INDEX(Model_Inputs_Ref_Units,,W$51)=$E72),INDEX(Model_Inputs_Ref_Units,,W$52)),0)","v":0},{"$f":"IFERROR(SUMPRODUCT(--(INDEX(Model_Inputs_Ref_Units,,X$51)=$E72),INDEX(Model_Inputs_Ref_Units,,X$52)),0)","v":0},{"$f":"IFERROR(SUMPRODUCT(--(INDEX(Model_Inputs_Ref_Units,,Y$51)=$E72),INDEX(Model_Inputs_Ref_Units,,Y$52)),0)","v":0},{"$f":"IFERROR(SUMPRODUCT(--(INDEX(Model_Inputs_Ref_Units,,Z$51)=$E72),INDEX(Model_Inputs_Ref_Units,,Z$52)),0)","v":0},{"$f":"IFERROR(SUMPRODUCT(--(INDEX(Model_Inputs_Ref_Units,,AA$51)=$E72),INDEX(Model_Inputs_Ref_Units,,AA$52)),0)","v":0},{"$f":"IFERROR(SUMPRODUCT(--(INDEX(Model_Inputs_Ref_Units,,AB$51)=$E72),INDEX(Model_Inputs_Ref_Units,,AB$52)),0)","v":0},{"$f":"IFERROR(SUMPRODUCT(--(INDEX(Model_Inputs_Ref_Units,,AC$51)=$E72),INDEX(Model_Inputs_Ref_Units,,AC$52)),0)","v":0},{"$f":"IFERROR(SUMPRODUCT(--(INDEX(Model_Inputs_Ref_Units,,AD$51)=$E72),INDEX(Model_Inputs_Ref_Units,,AD$52)),0)","v":0},{"$f":"IFERROR(SUMPRODUCT(--(INDEX(Model_Inputs_Ref_Units,,AE$51)=$E72),INDEX(Model_Inputs_Ref_Units,,AE$52)),0)","v":0},{"$f":"IFERROR(SUMPRODUCT(--(INDEX(Model_Inputs_Ref_Units,,AF$51)=$E72),INDEX(Model_Inputs_Ref_Units,,AF$52)),0)","v":0},{"$f":"IFERROR(SUMPRODUCT(--(INDEX(Model_Inputs_Ref_Units,,AG$51)=$E72),INDEX(Model_Inputs_Ref_Units,,AG$52)),0)","v":0},{"$f":"IFERROR(SUMPRODUCT(--(INDEX(Model_Inputs_Ref_Units,,AH$51)=$E72),INDEX(Model_Inputs_Ref_Units,,AH$52)),0)","v":0},{"$f":"IFERROR(SUMPRODUCT(--(INDEX(Model_Inputs_Ref_Units,,AI$51)=$E72),INDEX(Model_Inputs_Ref_Units,,AI$52)),0)","v":0},{"$f":"IFERROR(SUMPRODUCT(--(INDEX(Model_Inputs_Ref_Units,,AJ$51)=$E72),INDEX(Model_Inputs_Ref_Units,,AJ$52)),0)","v":0},{"$f":"IFERROR(SUMPRODUCT(--(INDEX(Model_Inputs_Ref_Units,,AK$51)=$E72),INDEX(Model_Inputs_Ref_Units,,AK$52)),0)","v":0},{"$f":"IFERROR(SUMPRODUCT(--(INDEX(Model_Inputs_Ref_Units,,AL$51)=$E72),INDEX(Model_Inputs_Ref_Units,,AL$52)),0)","v":0},{"$f":"IFERROR(SUMPRODUCT(--(INDEX(Model_Inputs_Ref_Units,,AM$51)=$E72),INDEX(Model_Inputs_Ref_Units,,AM$52)),0)","v":0},{"$f":"IFERROR(SUMPRODUCT(--(INDEX(Model_Inputs_Ref_Units,,AN$51)=$E72),INDEX(Model_Inputs_Ref_Units,,AN$52)),0)","v":0},{"$f":"IFERROR(SUMPRODUCT(--(INDEX(Model_Inputs_Ref_Units,,AO$51)=$E72),INDEX(Model_Inputs_Ref_Units,,AO$52)),0)","v":0},{"$f":"IFERROR(SUMPRODUCT(--(INDEX(Model_Inputs_Ref_Units,,AP$51)=$E72),INDEX(Model_Inputs_Ref_Units,,AP$52)),0)","v":0},{"$f":"IFERROR(SUMPRODUCT(--(INDEX(Model_Inputs_Ref_Units,,AQ$51)=$E72),INDEX(Model_Inputs_Ref_Units,,AQ$52)),0)","v":0},{"$f":"IFERROR(SUMPRODUCT(--(INDEX(Model_Inputs_Ref_Units,,AR$51)=$E72),INDEX(Model_Inputs_Ref_Units,,AR$52)),0)","v":0},{"$f":"IFERROR(SUMPRODUCT(--(INDEX(Model_Inputs_Ref_Units,,AS$51)=$E72),INDEX(Model_Inputs_Ref_Units,,AS$52)),0)","v":0},{"$f":"IFERROR(SUMPRODUCT(--(INDEX(Model_Inputs_Ref_Units,,AT$51)=$E72),INDEX(Model_Inputs_Ref_Units,,AT$52)),0)","v":0},{"$f":"IFERROR(SUMPRODUCT(--(INDEX(Model_Inputs_Ref_Units,,AU$51)=$E72),INDEX(Model_Inputs_Ref_Units,,AU$52)),0)","v":0},{"$f":"IFERROR(SUMPRODUCT(--(INDEX(Model_Inputs_Ref_Units,,AV$51)=$E72),INDEX(Model_Inputs_Ref_Units,,AV$52)),0)","v":0},{"$f":"IFERROR(SUMPRODUCT(--(INDEX(Model_Inputs_Ref_Units,,AW$51)=$E72),INDEX(Model_Inputs_Ref_Units,,AW$52)),0)","v":0},{"$f":"IFERROR(SUMPRODUCT(--(INDEX(Model_Inputs_Ref_Units,,AX$51)=$E72),INDEX(Model_Inputs_Ref_Units,,AX$52)),0)","v":0},{"$f":"IFERROR(SUMPRODUCT(--(INDEX(Model_Inputs_Ref_Units,,AY$51)=$E72),INDEX(Model_Inputs_Ref_Units,,AY$52)),0)","v":0},{"$f":"IFERROR(SUMPRODUCT(--(INDEX(Model_Inputs_Ref_Units,,AZ$51)=$E72),INDEX(Model_Inputs_Ref_Units,,AZ$52)),0)","v":0},{"$f":"IFERROR(SUMPRODUCT(--(INDEX(Model_Inputs_Ref_Units,,BA$51)=$E72),INDEX(Model_Inputs_Ref_Units,,BA$52)),0)","v":0},{"$f":"IFERROR(SUMPRODUCT(--(INDEX(Model_Inputs_Ref_Units,,BB$51)=$E72),INDEX(Model_Inputs_Ref_Units,,BB$52)),0)","v":0},{"$f":"IFERROR(SUMPRODUCT(--(INDEX(Model_Inputs_Ref_Units,,BC$51)=$E72),INDEX(Model_Inputs_Ref_Units,,BC$52)),0)","v":0},{"$f":"IFERROR(SUMPRODUCT(--(INDEX(Model_Inputs_Ref_Units,,BD$51)=$E72),INDEX(Model_Inputs_Ref_Units,,BD$52)),0)","v":0},{"$f":"IFERROR(SUMPRODUCT(--(INDEX(Model_Inputs_Ref_Units,,BE$51)=$E72),INDEX(Model_Inputs_Ref_Units,,BE$52)),0)","v":0},{"$f":"IFERROR(SUMPRODUCT(--(INDEX(Model_Inputs_Ref_Units,,BF$51)=$E72),INDEX(Model_Inputs_Ref_Units,,BF$52)),0)","v":0},{"$f":"IFERROR(SUMPRODUCT(--(INDEX(Model_Inputs_Ref_Units,,BG$51)=$E72),INDEX(Model_Inputs_Ref_Units,,BG$52)),0)","v":0},{"$f":"IFERROR(SUMPRODUCT(--(INDEX(Model_Inputs_Ref_Units,,BH$51)=$E72),INDEX(Model_Inputs_Ref_Units,,BH$52)),0)","v":0},{"$f":"IFERROR(SUMPRODUCT(--(INDEX(Model_Inputs_Ref_Units,,BI$51)=$E72),INDEX(Model_Inputs_Ref_Units,,BI$52)),0)","v":0},{"$f":"IFERROR(SUMPRODUCT(--(INDEX(Model_Inputs_Ref_Units,,BJ$51)=$E72),INDEX(Model_Inputs_Ref_Units,,BJ$52)),0)","v":0},{"$f":"IFERROR(SUMPRODUCT(--(INDEX(Model_Inputs_Ref_Units,,BK$51)=$E72),INDEX(Model_Inputs_Ref_Units,,BK$52)),0)","v":0},{"$f":"IFERROR(SUMPRODUCT(--(INDEX(Model_Inputs_Ref_Units,,BL$51)=$E72),INDEX(Model_Inputs_Ref_Units,,BL$52)),0)","v":0},{"$f":"IFERROR(SUMPRODUCT(--(INDEX(Model_Inputs_Ref_Units,,BM$51)=$E72),INDEX(Model_Inputs_Ref_Units,,BM$52)),0)","v":0},{"$f":"IFERROR(SUMPRODUCT(--(INDEX(Model_Inputs_Ref_Units,,BN$51)=$E72),INDEX(Model_Inputs_Ref_Units,,BN$52)),0)","v":0},{"$f":"IFERROR(SUMPRODUCT(--(INDEX(Model_Inputs_Ref_Units,,BO$51)=$E72),INDEX(Model_Inputs_Ref_Units,,BO$52)),0)","v":0},{"$f":"IFERROR(SUMPRODUCT(--(INDEX(Model_Inputs_Ref_Units,,BP$51)=$E72),INDEX(Model_Inputs_Ref_Units,,BP$52)),0)","v":0},{"$f":"IFERROR(SUMPRODUCT(--(INDEX(Model_Inputs_Ref_Units,,BQ$51)=$E72),INDEX(Model_Inputs_Ref_Units,,BQ$52)),0)","v":0},{"$f":"IFERROR(SUMPRODUCT(--(INDEX(Model_Inputs_Ref_Units,,BR$51)=$E72),INDEX(Model_Inputs_Ref_Units,,BR$52)),0)","v":0},{"$f":"IFERROR(SUMPRODUCT(--(INDEX(Model_Inputs_Ref_Units,,BS$51)=$E72),INDEX(Model_Inputs_Ref_Units,,BS$52)),0)","v":0},{"$f":"IFERROR(SUMPRODUCT(--(INDEX(Model_Inputs_Ref_Units,,BT$51)=$E72),INDEX(Model_Inputs_Ref_Units,,BT$52)),0)","v":0},{"$f":"IFERROR(SUMPRODUCT(--(INDEX(Model_Inputs_Ref_Units,,BU$51)=$E72),INDEX(Model_Inputs_Ref_Units,,BU$52)),0)","v":0},{"$f":"IFERROR(SUMPRODUCT(--(INDEX(Model_Inputs_Ref_Units,,BV$51)=$E72),INDEX(Model_Inputs_Ref_Units,,BV$52)),0)","v":0},{"$f":"IFERROR(SUMPRODUCT(--(INDEX(Model_Inputs_Ref_Units,,BW$51)=$E72),INDEX(Model_Inputs_Ref_Units,,BW$52)),0)","v":0},{"$f":"IFERROR(SUMPRODUCT(--(INDEX(Model_Inputs_Ref_Units,,BX$51)=$E72),INDEX(Model_Inputs_Ref_Units,,BX$52)),0)","v":0},{"$f":"IFERROR(SUMPRODUCT(--(INDEX(Model_Inputs_Ref_Units,,BY$51)=$E72),INDEX(Model_Inputs_Ref_Units,,BY$52)),0)","v":0},{"$f":"IFERROR(SUMPRODUCT(--(INDEX(Model_Inputs_Ref_Units,,BZ$51)=$E72),INDEX(Model_Inputs_Ref_Units,,BZ$52)),0)","v":0},{"$f":"IFERROR(SUMPRODUCT(--(INDEX(Model_Inputs_Ref_Units,,CA$51)=$E72),INDEX(Model_Inputs_Ref_Units,,CA$52)),0)","v":0},{"$f":"IFERROR(SUMPRODUCT(--(INDEX(Model_Inputs_Ref_Units,,CB$51)=$E72),INDEX(Model_Inputs_Ref_Units,,CB$52)),0)","v":0},{"$f":"IFERROR(SUMPRODUCT(--(INDEX(Model_Inputs_Ref_Units,,CC$51)=$E72),INDEX(Model_Inputs_Ref_Units,,CC$52)),0)","v":0},{"$f":"IFERROR(SUMPRODUCT(--(INDEX(Model_Inputs_Ref_Units,,CD$51)=$E72),INDEX(Model_Inputs_Ref_Units,,CD$52)),0)","v":0},{"$f":"IFERROR(SUMPRODUCT(--(INDEX(Model_Inputs_Ref_Units,,CE$51)=$E72),INDEX(Model_Inputs_Ref_Units,,CE$52)),0)","v":0},{"$f":"IFERROR(SUMPRODUCT(--(INDEX(Model_Inputs_Ref_Units,,CF$51)=$E72),INDEX(Model_Inputs_Ref_Units,,CF$52)),0)","v":0},{"$f":"IFERROR(SUMPRODUCT(--(INDEX(Model_Inputs_Ref_Units,,CG$51)=$E72),INDEX(Model_Inputs_Ref_Units,,CG$52)),0)","v":0},{"$f":"IFERROR(SUMPRODUCT(--(INDEX(Model_Inputs_Ref_Units,,CH$51)=$E72),INDEX(Model_Inputs_Ref_Units,,CH$52)),0)","v":0},{"$f":"IFERROR(SUMPRODUCT(--(INDEX(Model_Inputs_Ref_Units,,CI$51)=$E72),INDEX(Model_Inputs_Ref_Units,,CI$52)),0)","v":0},{"$f":"IFERROR(SUMPRODUCT(--(INDEX(Model_Inputs_Ref_Units,,CJ$51)=$E72),INDEX(Model_Inputs_Ref_Units,,CJ$52)),0)","v":0},{"$f":"IFERROR(SUMPRODUCT(--(INDEX(Model_Inputs_Ref_Units,,CK$51)=$E72),INDEX(Model_Inputs_Ref_Units,,CK$52)),0)","v":0},{"$f":"IFERROR(SUMPRODUCT(--(INDEX(Model_Inputs_Ref_Units,,CL$51)=$E72),INDEX(Model_Inputs_Ref_Units,,CL$52)),0)","v":0},{"$f":"IFERROR(SUMPRODUCT(--(INDEX(Model_Inputs_Ref_Units,,CM$51)=$E72),INDEX(Model_Inputs_Ref_Units,,CM$52)),0)","v":0},{"$f":"IFERROR(SUMPRODUCT(--(INDEX(Model_Inputs_Ref_Units,,CN$51)=$E72),INDEX(Model_Inputs_Ref_Units,,CN$52)),0)","v":0},{"$f":"IFERROR(SUMPRODUCT(--(INDEX(Model_Inputs_Ref_Units,,CO$51)=$E72),INDEX(Model_Inputs_Ref_Units,,CO$52)),0)","v":0},{"$f":"IFERROR(SUMPRODUCT(--(INDEX(Model_Inputs_Ref_Units,,CP$51)=$E72),INDEX(Model_Inputs_Ref_Units,,CP$52)),0)","v":0},{"$f":"IFERROR(SUMPRODUCT(--(INDEX(Model_Inputs_Ref_Units,,CQ$51)=$E72),INDEX(Model_Inputs_Ref_Units,,CQ$52)),0)","v":0},{"$f":"IFERROR(SUMPRODUCT(--(INDEX(Model_Inputs_Ref_Units,,CR$51)=$E72),INDEX(Model_Inputs_Ref_Units,,CR$52)),0)","v":0},{"$f":"IFERROR(SUMPRODUCT(--(INDEX(Model_Inputs_Ref_Units,,CS$51)=$E72),INDEX(Model_Inputs_Ref_Units,,CS$52)),0)","v":0},{"$f":"IFERROR(SUMPRODUCT(--(INDEX(Model_Inputs_Ref_Units,,CT$51)=$E72),INDEX(Model_Inputs_Ref_Units,,CT$52)),0)","v":0},{"$f":"IFERROR(SUMPRODUCT(--(INDEX(Model_Inputs_Ref_Units,,CU$51)=$E72),INDEX(Model_Inputs_Ref_Units,,CU$52)),0)","v":0},{"$f":"IFERROR(SUMPRODUCT(--(INDEX(Model_Inputs_Ref_Units,,CV$51)=$E72),INDEX(Model_Inputs_Ref_Units,,CV$52)),0)","v":0},{"$f":"IFERROR(SUMPRODUCT(--(INDEX(Model_Inputs_Ref_Units,,CW$51)=$E72),INDEX(Model_Inputs_Ref_Units,,CW$52)),0)","v":0},{"$f":"IFERROR(SUMPRODUCT(--(INDEX(Model_Inputs_Ref_Units,,CX$51)=$E72),INDEX(Model_Inputs_Ref_Units,,CX$52)),0)","v":0},{"$f":"IFERROR(SUMPRODUCT(--(INDEX(Model_Inputs_Ref_Units,,CY$51)=$E72),INDEX(Model_Inputs_Ref_Units,,CY$52)),0)","v":0},{"$f":"IFERROR(SUMPRODUCT(--(INDEX(Model_Inputs_Ref_Units,,CZ$51)=$E72),INDEX(Model_Inputs_Ref_Units,,CZ$52)),0)","v":0},{"$f":"IFERROR(SUMPRODUCT(--(INDEX(Model_Inputs_Ref_Units,,DA$51)=$E72),INDEX(Model_Inputs_Ref_Units,,DA$52)),0)","v":0},{"$f":"IFERROR(SUMPRODUCT(--(INDEX(Model_Inputs_Ref_Units,,DB$51)=$E72),INDEX(Model_Inputs_Ref_Units,,DB$52)),0)","v":0},{"$f":"IFERROR(SUMPRODUCT(--(INDEX(Model_Inputs_Ref_Units,,DC$51)=$E72),INDEX(Model_Inputs_Ref_Units,,DC$52)),0)","v":0},{"$f":"IFERROR(SUMPRODUCT(--(INDEX(Model_Inputs_Ref_Units,,DD$51)=$E72),INDEX(Model_Inputs_Ref_Units,,DD$52)),0)","v":0},{"$f":"IFERROR(SUMPRODUCT(--(INDEX(Model_Inputs_Ref_Units,,DE$51)=$E72),INDEX(Model_Inputs_Ref_Units,,DE$52)),0)","v":0},{"$f":"IFERROR(SUMPRODUCT(--(INDEX(Model_Inputs_Ref_Units,,DF$51)=$E72),INDEX(Model_Inputs_Ref_Units,,DF$52)),0)","v":0}]
[null,null,{"$error":"#DIV/0!"},null,{"$f":"IFERROR(INDEX(Ref_Data,1,F73),\"\")","v":""},20,0,0,0,0,{"$f":"IFERROR(SUMPRODUCT(--(INDEX(Model_Inputs_Ref_Units,,K$51)=$E73),INDEX(Model_Inputs_Ref_Units,,K$52)),0)","v":0},{"$f":"IFERROR(SUMPRODUCT(--(INDEX(Model_Inputs_Ref_Units,,L$51)=$E73),INDEX(Model_Inputs_Ref_Units,,L$52)),0)","v":0},{"$f":"IFERROR(SUMPRODUCT(--(INDEX(Model_Inputs_Ref_Units,,M$51)=$E73),INDEX(Model_Inputs_Ref_Units,,M$52)),0)","v":0},{"$f":"IFERROR(SUMPRODUCT(--(INDEX(Model_Inputs_Ref_Units,,N$51)=$E73),INDEX(Model_Inputs_Ref_Units,,N$52)),0)","v":0},{"$f":"IFERROR(SUMPRODUCT(--(INDEX(Model_Inputs_Ref_Units,,O$51)=$E73),INDEX(Model_Inputs_Ref_Units,,O$52)),0)","v":0},{"$f":"IFERROR(SUMPRODUCT(--(INDEX(Model_Inputs_Ref_Units,,P$51)=$E73),INDEX(Model_Inputs_Ref_Units,,P$52)),0)","v":0},{"$f":"IFERROR(SUMPRODUCT(--(INDEX(Model_Inputs_Ref_Units,,Q$51)=$E73),INDEX(Model_Inputs_Ref_Units,,Q$52)),0)","v":0},{"$f":"IFERROR(SUMPRODUCT(--(INDEX(Model_Inputs_Ref_Units,,R$51)=$E73),INDEX(Model_Inputs_Ref_Units,,R$52)),0)","v":0},{"$f":"IFERROR(SUMPRODUCT(--(INDEX(Model_Inputs_Ref_Units,,S$51)=$E73),INDEX(Model_Inputs_Ref_Units,,S$52)),0)","v":0},{"$f":"IFERROR(SUMPRODUCT(--(INDEX(Model_Inputs_Ref_Units,,T$51)=$E73),INDEX(Model_Inputs_Ref_Units,,T$52)),0)","v":0},{"$f":"IFERROR(SUMPRODUCT(--(INDEX(Model_Inputs_Ref_Units,,U$51)=$E73),INDEX(Model_Inputs_Ref_Units,,U$52)),0)","v":0},{"$f":"IFERROR(SUMPRODUCT(--(INDEX(Model_Inputs_Ref_Units,,V$51)=$E73),INDEX(Model_Inputs_Ref_Units,,V$52)),0)","v":0},{"$f":"IFERROR(SUMPRODUCT(--(INDEX(Model_Inputs_Ref_Units,,W$51)=$E73),INDEX(Model_Inputs_Ref_Units,,W$52)),0)","v":0},{"$f":"IFERROR(SUMPRODUCT(--(INDEX(Model_Inputs_Ref_Units,,X$51)=$E73),INDEX(Model_Inputs_Ref_Units,,X$52)),0)","v":0},{"$f":"IFERROR(SUMPRODUCT(--(INDEX(Model_Inputs_Ref_Units,,Y$51)=$E73),INDEX(Model_Inputs_Ref_Units,,Y$52)),0)","v":0},{"$f":"IFERROR(SUMPRODUCT(--(INDEX(Model_Inputs_Ref_Units,,Z$51)=$E73),INDEX(Model_Inputs_Ref_Units,,Z$52)),0)","v":0},{"$f":"IFERROR(SUMPRODUCT(--(INDEX(Model_Inputs_Ref_Units,,AA$51)=$E73),INDEX(Model_Inputs_Ref_Units,,AA$52)),0)","v":0},{"$f":"IFERROR(SUMPRODUCT(--(INDEX(Model_Inputs_Ref_Units,,AB$51)=$E73),INDEX(Model_Inputs_Ref_Units,,AB$52)),0)","v":0},{"$f":"IFERROR(SUMPRODUCT(--(INDEX(Model_Inputs_Ref_Units,,AC$51)=$E73),INDEX(Model_Inputs_Ref_Units,,AC$52)),0)","v":0},{"$f":"IFERROR(SUMPRODUCT(--(INDEX(Model_Inputs_Ref_Units,,AD$51)=$E73),INDEX(Model_Inputs_Ref_Units,,AD$52)),0)","v":0},{"$f":"IFERROR(SUMPRODUCT(--(INDEX(Model_Inputs_Ref_Units,,AE$51)=$E73),INDEX(Model_Inputs_Ref_Units,,AE$52)),0)","v":0},{"$f":"IFERROR(SUMPRODUCT(--(INDEX(Model_Inputs_Ref_Units,,AF$51)=$E73),INDEX(Model_Inputs_Ref_Units,,AF$52)),0)","v":0},{"$f":"IFERROR(SUMPRODUCT(--(INDEX(Model_Inputs_Ref_Units,,AG$51)=$E73),INDEX(Model_Inputs_Ref_Units,,AG$52)),0)","v":0},{"$f":"IFERROR(SUMPRODUCT(--(INDEX(Model_Inputs_Ref_Units,,AH$51)=$E73),INDEX(Model_Inputs_Ref_Units,,AH$52)),0)","v":0},{"$f":"IFERROR(SUMPRODUCT(--(INDEX(Model_Inputs_Ref_Units,,AI$51)=$E73),INDEX(Model_Inputs_Ref_Units,,AI$52)),0)","v":0},{"$f":"IFERROR(SUMPRODUCT(--(INDEX(Model_Inputs_Ref_Units,,AJ$51)=$E73),INDEX(Model_Inputs_Ref_Units,,AJ$52)),0)","v":0},{"$f":"IFERROR(SUMPRODUCT(--(INDEX(Model_Inputs_Ref_Units,,AK$51)=$E73),INDEX(Model_Inputs_Ref_Units,,AK$52)),0)","v":0},{"$f":"IFERROR(SUMPRODUCT(--(INDEX(Model_Inputs_Ref_Units,,AL$51)=$E73),INDEX(Model_Inputs_Ref_Units,,AL$52)),0)","v":0},{"$f":"IFERROR(SUMPRODUCT(--(INDEX(Model_Inputs_Ref_Units,,AM$51)=$E73),INDEX(Model_Inputs_Ref_Units,,AM$52)),0)","v":0},{"$f":"IFERROR(SUMPRODUCT(--(INDEX(Model_Inputs_Ref_Units,,AN$51)=$E73),INDEX(Model_Inputs_Ref_Units,,AN$52)),0)","v":0},{"$f":"IFERROR(SUMPRODUCT(--(INDEX(Model_Inputs_Ref_Units,,AO$51)=$E73),INDEX(Model_Inputs_Ref_Units,,AO$52)),0)","v":0},{"$f":"IFERROR(SUMPRODUCT(--(INDEX(Model_Inputs_Ref_Units,,AP$51)=$E73),INDEX(Model_Inputs_Ref_Units,,AP$52)),0)","v":0},{"$f":"IFERROR(SUMPRODUCT(--(INDEX(Model_Inputs_Ref_Units,,AQ$51)=$E73),INDEX(Model_Inputs_Ref_Units,,AQ$52)),0)","v":0},{"$f":"IFERROR(SUMPRODUCT(--(INDEX(Model_Inputs_Ref_Units,,AR$51)=$E73),INDEX(Model_Inputs_Ref_Units,,AR$52)),0)","v":0},{"$f":"IFERROR(SUMPRODUCT(--(INDEX(Model_Inputs_Ref_Units,,AS$51)=$E73),INDEX(Model_Inputs_Ref_Units,,AS$52)),0)","v":0},{"$f":"IFERROR(SUMPRODUCT(--(INDEX(Model_Inputs_Ref_Units,,AT$51)=$E73),INDEX(Model_Inputs_Ref_Units,,AT$52)),0)","v":0},{"$f":"IFERROR(SUMPRODUCT(--(INDEX(Model_Inputs_Ref_Units,,AU$51)=$E73),INDEX(Model_Inputs_Ref_Units,,AU$52)),0)","v":0},{"$f":"IFERROR(SUMPRODUCT(--(INDEX(Model_Inputs_Ref_Units,,AV$51)=$E73),INDEX(Model_Inputs_Ref_Units,,AV$52)),0)","v":0},{"$f":"IFERROR(SUMPRODUCT(--(INDEX(Model_Inputs_Ref_Units,,AW$51)=$E73),INDEX(Model_Inputs_Ref_Units,,AW$52)),0)","v":0},{"$f":"IFERROR(SUMPRODUCT(--(INDEX(Model_Inputs_Ref_Units,,AX$51)=$E73),INDEX(Model_Inputs_Ref_Units,,AX$52)),0)","v":0},{"$f":"IFERROR(SUMPRODUCT(--(INDEX(Model_Inputs_Ref_Units,,AY$51)=$E73),INDEX(Model_Inputs_Ref_Units,,AY$52)),0)","v":0},{"$f":"IFERROR(SUMPRODUCT(--(INDEX(Model_Inputs_Ref_Units,,AZ$51)=$E73),INDEX(Model_Inputs_Ref_Units,,AZ$52)),0)","v":0},{"$f":"IFERROR(SUMPRODUCT(--(INDEX(Model_Inputs_Ref_Units,,BA$51)=$E73),INDEX(Model_Inputs_Ref_Units,,BA$52)),0)","v":0},{"$f":"IFERROR(SUMPRODUCT(--(INDEX(Model_Inputs_Ref_Units,,BB$51)=$E73),INDEX(Model_Inputs_Ref_Units,,BB$52)),0)","v":0},{"$f":"IFERROR(SUMPRODUCT(--(INDEX(Model_Inputs_Ref_Units,,BC$51)=$E73),INDEX(Model_Inputs_Ref_Units,,BC$52)),0)","v":0},{"$f":"IFERROR(SUMPRODUCT(--(INDEX(Model_Inputs_Ref_Units,,BD$51)=$E73),INDEX(Model_Inputs_Ref_Units,,BD$52)),0)","v":0},{"$f":"IFERROR(SUMPRODUCT(--(INDEX(Model_Inputs_Ref_Units,,BE$51)=$E73),INDEX(Model_Inputs_Ref_Units,,BE$52)),0)","v":0},{"$f":"IFERROR(SUMPRODUCT(--(INDEX(Model_Inputs_Ref_Units,,BF$51)=$E73),INDEX(Model_Inputs_Ref_Units,,BF$52)),0)","v":0},{"$f":"IFERROR(SUMPRODUCT(--(INDEX(Model_Inputs_Ref_Units,,BG$51)=$E73),INDEX(Model_Inputs_Ref_Units,,BG$52)),0)","v":0},{"$f":"IFERROR(SUMPRODUCT(--(INDEX(Model_Inputs_Ref_Units,,BH$51)=$E73),INDEX(Model_Inputs_Ref_Units,,BH$52)),0)","v":0},{"$f":"IFERROR(SUMPRODUCT(--(INDEX(Model_Inputs_Ref_Units,,BI$51)=$E73),INDEX(Model_Inputs_Ref_Units,,BI$52)),0)","v":0},{"$f":"IFERROR(SUMPRODUCT(--(INDEX(Model_Inputs_Ref_Units,,BJ$51)=$E73),INDEX(Model_Inputs_Ref_Units,,BJ$52)),0)","v":0},{"$f":"IFERROR(SUMPRODUCT(--(INDEX(Model_Inputs_Ref_Units,,BK$51)=$E73),INDEX(Model_Inputs_Ref_Units,,BK$52)),0)","v":0},{"$f":"IFERROR(SUMPRODUCT(--(INDEX(Model_Inputs_Ref_Units,,BL$51)=$E73),INDEX(Model_Inputs_Ref_Units,,BL$52)),0)","v":0},{"$f":"IFERROR(SUMPRODUCT(--(INDEX(Model_Inputs_Ref_Units,,BM$51)=$E73),INDEX(Model_Inputs_Ref_Units,,BM$52)),0)","v":0},{"$f":"IFERROR(SUMPRODUCT(--(INDEX(Model_Inputs_Ref_Units,,BN$51)=$E73),INDEX(Model_Inputs_Ref_Units,,BN$52)),0)","v":0},{"$f":"IFERROR(SUMPRODUCT(--(INDEX(Model_Inputs_Ref_Units,,BO$51)=$E73),INDEX(Model_Inputs_Ref_Units,,BO$52)),0)","v":0},{"$f":"IFERROR(SUMPRODUCT(--(INDEX(Model_Inputs_Ref_Units,,BP$51)=$E73),INDEX(Model_Inputs_Ref_Units,,BP$52)),0)","v":0},{"$f":"IFERROR(SUMPRODUCT(--(INDEX(Model_Inputs_Ref_Units,,BQ$51)=$E73),INDEX(Model_Inputs_Ref_Units,,BQ$52)),0)","v":0},{"$f":"IFERROR(SUMPRODUCT(--(INDEX(Model_Inputs_Ref_Units,,BR$51)=$E73),INDEX(Model_Inputs_Ref_Units,,BR$52)),0)","v":0},{"$f":"IFERROR(SUMPRODUCT(--(INDEX(Model_Inputs_Ref_Units,,BS$51)=$E73),INDEX(Model_Inputs_Ref_Units,,BS$52)),0)","v":0},{"$f":"IFERROR(SUMPRODUCT(--(INDEX(Model_Inputs_Ref_Units,,BT$51)=$E73),INDEX(Model_Inputs_Ref_Units,,BT$52)),0)","v":0},{"$f":"IFERROR(SUMPRODUCT(--(INDEX(Model_Inputs_Ref_Units,,BU$51)=$E73),INDEX(Model_Inputs_Ref_Units,,BU$52)),0)","v":0},{"$f":"IFERROR(SUMPRODUCT(--(INDEX(Model_Inputs_Ref_Units,,BV$51)=$E73),INDEX(Model_Inputs_Ref_Units,,BV$52)),0)","v":0},{"$f":"IFERROR(SUMPRODUCT(--(INDEX(Model_Inputs_Ref_Units,,BW$51)=$E73),INDEX(Model_Inputs_Ref_Units,,BW$52)),0)","v":0},{"$f":"IFERROR(SUMPRODUCT(--(INDEX(Model_Inputs_Ref_Units,,BX$51)=$E73),INDEX(Model_Inputs_Ref_Units,,BX$52)),0)","v":0},{"$f":"IFERROR(SUMPRODUCT(--(INDEX(Model_Inputs_Ref_Units,,BY$51)=$E73),INDEX(Model_Inputs_Ref_Units,,BY$52)),0)","v":0},{"$f":"IFERROR(SUMPRODUCT(--(INDEX(Model_Inputs_Ref_Units,,BZ$51)=$E73),INDEX(Model_Inputs_Ref_Units,,BZ$52)),0)","v":0},{"$f":"IFERROR(SUMPRODUCT(--(INDEX(Model_Inputs_Ref_Units,,CA$51)=$E73),INDEX(Model_Inputs_Ref_Units,,CA$52)),0)","v":0},{"$f":"IFERROR(SUMPRODUCT(--(INDEX(Model_Inputs_Ref_Units,,CB$51)=$E73),INDEX(Model_Inputs_Ref_Units,,CB$52)),0)","v":0},{"$f":"IFERROR(SUMPRODUCT(--(INDEX(Model_Inputs_Ref_Units,,CC$51)=$E73),INDEX(Model_Inputs_Ref_Units,,CC$52)),0)","v":0},{"$f":"IFERROR(SUMPRODUCT(--(INDEX(Model_Inputs_Ref_Units,,CD$51)=$E73),INDEX(Model_Inputs_Ref_Units,,CD$52)),0)","v":0},{"$f":"IFERROR(SUMPRODUCT(--(INDEX(Model_Inputs_Ref_Units,,CE$51)=$E73),INDEX(Model_Inputs_Ref_Units,,CE$52)),0)","v":0},{"$f":"IFERROR(SUMPRODUCT(--(INDEX(Model_Inputs_Ref_Units,,CF$51)=$E73),INDEX(Model_Inputs_Ref_Units,,CF$52)),0)","v":0},{"$f":"IFERROR(SUMPRODUCT(--(INDEX(Model_Inputs_Ref_Units,,CG$51)=$E73),INDEX(Model_Inputs_Ref_Units,,CG$52)),0)","v":0},{"$f":"IFERROR(SUMPRODUCT(--(INDEX(Model_Inputs_Ref_Units,,CH$51)=$E73),INDEX(Model_Inputs_Ref_Units,,CH$52)),0)","v":0},{"$f":"IFERROR(SUMPRODUCT(--(INDEX(Model_Inputs_Ref_Units,,CI$51)=$E73),INDEX(Model_Inputs_Ref_Units,,CI$52)),0)","v":0},{"$f":"IFERROR(SUMPRODUCT(--(INDEX(Model_Inputs_Ref_Units,,CJ$51)=$E73),INDEX(Model_Inputs_Ref_Units,,CJ$52)),0)","v":0},{"$f":"IFERROR(SUMPRODUCT(--(INDEX(Model_Inputs_Ref_Units,,CK$51)=$E73),INDEX(Model_Inputs_Ref_Units,,CK$52)),0)","v":0},{"$f":"IFERROR(SUMPRODUCT(--(INDEX(Model_Inputs_Ref_Units,,CL$51)=$E73),INDEX(Model_Inputs_Ref_Units,,CL$52)),0)","v":0},{"$f":"IFERROR(SUMPRODUCT(--(INDEX(Model_Inputs_Ref_Units,,CM$51)=$E73),INDEX(Model_Inputs_Ref_Units,,CM$52)),0)","v":0},{"$f":"IFERROR(SUMPRODUCT(--(INDEX(Model_Inputs_Ref_Units,,CN$51)=$E73),INDEX(Model_Inputs_Ref_Units,,CN$52)),0)","v":0},{"$f":"IFERROR(SUMPRODUCT(--(INDEX(Model_Inputs_Ref_Units,,CO$51)=$E73),INDEX(Model_Inputs_Ref_Units,,CO$52)),0)","v":0},{"$f":"IFERROR(SUMPRODUCT(--(INDEX(Model_Inputs_Ref_Units,,CP$51)=$E73),INDEX(Model_Inputs_Ref_Units,,CP$52)),0)","v":0},{"$f":"IFERROR(SUMPRODUCT(--(INDEX(Model_Inputs_Ref_Units,,CQ$51)=$E73),INDEX(Model_Inputs_Ref_Units,,CQ$52)),0)","v":0},{"$f":"IFERROR(SUMPRODUCT(--(INDEX(Model_Inputs_Ref_Units,,CR$51)=$E73),INDEX(Model_Inputs_Ref_Units,,CR$52)),0)","v":0},{"$f":"IFERROR(SUMPRODUCT(--(INDEX(Model_Inputs_Ref_Units,,CS$51)=$E73),INDEX(Model_Inputs_Ref_Units,,CS$52)),0)","v":0},{"$f":"IFERROR(SUMPRODUCT(--(INDEX(Model_Inputs_Ref_Units,,CT$51)=$E73),INDEX(Model_Inputs_Ref_Units,,CT$52)),0)","v":0},{"$f":"IFERROR(SUMPRODUCT(--(INDEX(Model_Inputs_Ref_Units,,CU$51)=$E73),INDEX(Model_Inputs_Ref_Units,,CU$52)),0)","v":0},{"$f":"IFERROR(SUMPRODUCT(--(INDEX(Model_Inputs_Ref_Units,,CV$51)=$E73),INDEX(Model_Inputs_Ref_Units,,CV$52)),0)","v":0},{"$f":"IFERROR(SUMPRODUCT(--(INDEX(Model_Inputs_Ref_Units,,CW$51)=$E73),INDEX(Model_Inputs_Ref_Units,,CW$52)),0)","v":0},{"$f":"IFERROR(SUMPRODUCT(--(INDEX(Model_Inputs_Ref_Units,,CX$51)=$E73),INDEX(Model_Inputs_Ref_Units,,CX$52)),0)","v":0},{"$f":"IFERROR(SUMPRODUCT(--(INDEX(Model_Inputs_Ref_Units,,CY$51)=$E73),INDEX(Model_Inputs_Ref_Units,,CY$52)),0)","v":0},{"$f":"IFERROR(SUMPRODUCT(--(INDEX(Model_Inputs_Ref_Units,,CZ$51)=$E73),INDEX(Model_Inputs_Ref_Units,,CZ$52)),0)","v":0},{"$f":"IFERROR(SUMPRODUCT(--(INDEX(Model_Inputs_Ref_Units,,DA$51)=$E73),INDEX(Model_Inputs_Ref_Units,,DA$52)),0)","v":0},{"$f":"IFERROR(SUMPRODUCT(--(INDEX(Model_Inputs_Ref_Units,,DB$51)=$E73),INDEX(Model_Inputs_Ref_Units,,DB$52)),0)","v":0},{"$f":"IFERROR(SUMPRODUCT(--(INDEX(Model_Inputs_Ref_Units,,DC$51)=$E73),INDEX(Model_Inputs_Ref_Units,,DC$52)),0)","v":0},{"$f":"IFERROR(SUMPRODUCT(--(INDEX(Model_Inputs_Ref_Units,,DD$51)=$E73),INDEX(Model_Inputs_Ref_Units,,DD$52)),0)","v":0},{"$f":"IFERROR(SUMPRODUCT(--(INDEX(Model_Inputs_Ref_Units,,DE$51)=$E73),INDEX(Model_Inputs_Ref_Units,,DE$52)),0)","v":0},{"$f":"IFERROR(SUMPRODUCT(--(INDEX(Model_Inputs_Ref_Units,,DF$51)=$E73),INDEX(Model_Inputs_Ref_Units,,DF$52)),0)","v":0}]
[null,null,{"$error":"#DIV/0!"},null,{"$f":"IFERROR(INDEX(Ref_Data,1,F74),\"\")","v":""},21,0,0,0,0,{"$f":"IFERROR(SUMPRODUCT(--(INDEX(Model_Inputs_Ref_Units,,K$51)=$E74),INDEX(Model_Inputs_Ref_Units,,K$52)),0)","v":0},{"$f":"IFERROR(SUMPRODUCT(--(INDEX(Model_Inputs_Ref_Units,,L$51)=$E74),INDEX(Model_Inputs_Ref_Units,,L$52)),0)","v":0},{"$f":"IFERROR(SUMPRODUCT(--(INDEX(Model_Inputs_Ref_Units,,M$51)=$E74),INDEX(Model_Inputs_Ref_Units,,M$52)),0)","v":0},{"$f":"IFERROR(SUMPRODUCT(--(INDEX(Model_Inputs_Ref_Units,,N$51)=$E74),INDEX(Model_Inputs_Ref_Units,,N$52)),0)","v":0},{"$f":"IFERROR(SUMPRODUCT(--(INDEX(Model_Inputs_Ref_Units,,O$51)=$E74),INDEX(Model_Inputs_Ref_Units,,O$52)),0)","v":0},{"$f":"IFERROR(SUMPRODUCT(--(INDEX(Model_Inputs_Ref_Units,,P$51)=$E74),INDEX(Model_Inputs_Ref_Units,,P$52)),0)","v":0},{"$f":"IFERROR(SUMPRODUCT(--(INDEX(Model_Inputs_Ref_Units,,Q$51)=$E74),INDEX(Model_Inputs_Ref_Units,,Q$52)),0)","v":0},{"$f":"IFERROR(SUMPRODUCT(--(INDEX(Model_Inputs_Ref_Units,,R$51)=$E74),INDEX(Model_Inputs_Ref_Units,,R$52)),0)","v":0},{"$f":"IFERROR(SUMPRODUCT(--(INDEX(Model_Inputs_Ref_Units,,S$51)=$E74),INDEX(Model_Inputs_Ref_Units,,S$52)),0)","v":0},{"$f":"IFERROR(SUMPRODUCT(--(INDEX(Model_Inputs_Ref_Units,,T$51)=$E74),INDEX(Model_Inputs_Ref_Units,,T$52)),0)","v":0},{"$f":"IFERROR(SUMPRODUCT(--(INDEX(Model_Inputs_Ref_Units,,U$51)=$E74),INDEX(Model_Inputs_Ref_Units,,U$52)),0)","v":0},{"$f":"IFERROR(SUMPRODUCT(--(INDEX(Model_Inputs_Ref_Units,,V$51)=$E74),INDEX(Model_Inputs_Ref_Units,,V$52)),0)","v":0},{"$f":"IFERROR(SUMPRODUCT(--(INDEX(Model_Inputs_Ref_Units,,W$51)=$E74),INDEX(Model_Inputs_Ref_Units,,W$52)),0)","v":0},{"$f":"IFERROR(SUMPRODUCT(--(INDEX(Model_Inputs_Ref_Units,,X$51)=$E74),INDEX(Model_Inputs_Ref_Units,,X$52)),0)","v":0},{"$f":"IFERROR(SUMPRODUCT(--(INDEX(Model_Inputs_Ref_Units,,Y$51)=$E74),INDEX(Model_Inputs_Ref_Units,,Y$52)),0)","v":0},{"$f":"IFERROR(SUMPRODUCT(--(INDEX(Model_Inputs_Ref_Units,,Z$51)=$E74),INDEX(Model_Inputs_Ref_Units,,Z$52)),0)","v":0},{"$f":"IFERROR(SUMPRODUCT(--(INDEX(Model_Inputs_Ref_Units,,AA$51)=$E74),INDEX(Model_Inputs_Ref_Units,,AA$52)),0)","v":0},{"$f":"IFERROR(SUMPRODUCT(--(INDEX(Model_Inputs_Ref_Units,,AB$51)=$E74),INDEX(Model_Inputs_Ref_Units,,AB$52)),0)","v":0},{"$f":"IFERROR(SUMPRODUCT(--(INDEX(Model_Inputs_Ref_Units,,AC$51)=$E74),INDEX(Model_Inputs_Ref_Units,,AC$52)),0)","v":0},{"$f":"IFERROR(SUMPRODUCT(--(INDEX(Model_Inputs_Ref_Units,,AD$51)=$E74),INDEX(Model_Inputs_Ref_Units,,AD$52)),0)","v":0},{"$f":"IFERROR(SUMPRODUCT(--(INDEX(Model_Inputs_Ref_Units,,AE$51)=$E74),INDEX(Model_Inputs_Ref_Units,,AE$52)),0)","v":0},{"$f":"IFERROR(SUMPRODUCT(--(INDEX(Model_Inputs_Ref_Units,,AF$51)=$E74),INDEX(Model_Inputs_Ref_Units,,AF$52)),0)","v":0},{"$f":"IFERROR(SUMPRODUCT(--(INDEX(Model_Inputs_Ref_Units,,AG$51)=$E74),INDEX(Model_Inputs_Ref_Units,,AG$52)),0)","v":0},{"$f":"IFERROR(SUMPRODUCT(--(INDEX(Model_Inputs_Ref_Units,,AH$51)=$E74),INDEX(Model_Inputs_Ref_Units,,AH$52)),0)","v":0},{"$f":"IFERROR(SUMPRODUCT(--(INDEX(Model_Inputs_Ref_Units,,AI$51)=$E74),INDEX(Model_Inputs_Ref_Units,,AI$52)),0)","v":0},{"$f":"IFERROR(SUMPRODUCT(--(INDEX(Model_Inputs_Ref_Units,,AJ$51)=$E74),INDEX(Model_Inputs_Ref_Units,,AJ$52)),0)","v":0},{"$f":"IFERROR(SUMPRODUCT(--(INDEX(Model_Inputs_Ref_Units,,AK$51)=$E74),INDEX(Model_Inputs_Ref_Units,,AK$52)),0)","v":0},{"$f":"IFERROR(SUMPRODUCT(--(INDEX(Model_Inputs_Ref_Units,,AL$51)=$E74),INDEX(Model_Inputs_Ref_Units,,AL$52)),0)","v":0},{"$f":"IFERROR(SUMPRODUCT(--(INDEX(Model_Inputs_Ref_Units,,AM$51)=$E74),INDEX(Model_Inputs_Ref_Units,,AM$52)),0)","v":0},{"$f":"IFERROR(SUMPRODUCT(--(INDEX(Model_Inputs_Ref_Units,,AN$51)=$E74),INDEX(Model_Inputs_Ref_Units,,AN$52)),0)","v":0},{"$f":"IFERROR(SUMPRODUCT(--(INDEX(Model_Inputs_Ref_Units,,AO$51)=$E74),INDEX(Model_Inputs_Ref_Units,,AO$52)),0)","v":0},{"$f":"IFERROR(SUMPRODUCT(--(INDEX(Model_Inputs_Ref_Units,,AP$51)=$E74),INDEX(Model_Inputs_Ref_Units,,AP$52)),0)","v":0},{"$f":"IFERROR(SUMPRODUCT(--(INDEX(Model_Inputs_Ref_Units,,AQ$51)=$E74),INDEX(Model_Inputs_Ref_Units,,AQ$52)),0)","v":0},{"$f":"IFERROR(SUMPRODUCT(--(INDEX(Model_Inputs_Ref_Units,,AR$51)=$E74),INDEX(Model_Inputs_Ref_Units,,AR$52)),0)","v":0},{"$f":"IFERROR(SUMPRODUCT(--(INDEX(Model_Inputs_Ref_Units,,AS$51)=$E74),INDEX(Model_Inputs_Ref_Units,,AS$52)),0)","v":0},{"$f":"IFERROR(SUMPRODUCT(--(INDEX(Model_Inputs_Ref_Units,,AT$51)=$E74),INDEX(Model_Inputs_Ref_Units,,AT$52)),0)","v":0},{"$f":"IFERROR(SUMPRODUCT(--(INDEX(Model_Inputs_Ref_Units,,AU$51)=$E74),INDEX(Model_Inputs_Ref_Units,,AU$52)),0)","v":0},{"$f":"IFERROR(SUMPRODUCT(--(INDEX(Model_Inputs_Ref_Units,,AV$51)=$E74),INDEX(Model_Inputs_Ref_Units,,AV$52)),0)","v":0},{"$f":"IFERROR(SUMPRODUCT(--(INDEX(Model_Inputs_Ref_Units,,AW$51)=$E74),INDEX(Model_Inputs_Ref_Units,,AW$52)),0)","v":0},{"$f":"IFERROR(SUMPRODUCT(--(INDEX(Model_Inputs_Ref_Units,,AX$51)=$E74),INDEX(Model_Inputs_Ref_Units,,AX$52)),0)","v":0},{"$f":"IFERROR(SUMPRODUCT(--(INDEX(Model_Inputs_Ref_Units,,AY$51)=$E74),INDEX(Model_Inputs_Ref_Units,,AY$52)),0)","v":0},{"$f":"IFERROR(SUMPRODUCT(--(INDEX(Model_Inputs_Ref_Units,,AZ$51)=$E74),INDEX(Model_Inputs_Ref_Units,,AZ$52)),0)","v":0},{"$f":"IFERROR(SUMPRODUCT(--(INDEX(Model_Inputs_Ref_Units,,BA$51)=$E74),INDEX(Model_Inputs_Ref_Units,,BA$52)),0)","v":0},{"$f":"IFERROR(SUMPRODUCT(--(INDEX(Model_Inputs_Ref_Units,,BB$51)=$E74),INDEX(Model_Inputs_Ref_Units,,BB$52)),0)","v":0},{"$f":"IFERROR(SUMPRODUCT(--(INDEX(Model_Inputs_Ref_Units,,BC$51)=$E74),INDEX(Model_Inputs_Ref_Units,,BC$52)),0)","v":0},{"$f":"IFERROR(SUMPRODUCT(--(INDEX(Model_Inputs_Ref_Units,,BD$51)=$E74),INDEX(Model_Inputs_Ref_Units,,BD$52)),0)","v":0},{"$f":"IFERROR(SUMPRODUCT(--(INDEX(Model_Inputs_Ref_Units,,BE$51)=$E74),INDEX(Model_Inputs_Ref_Units,,BE$52)),0)","v":0},{"$f":"IFERROR(SUMPRODUCT(--(INDEX(Model_Inputs_Ref_Units,,BF$51)=$E74),INDEX(Model_Inputs_Ref_Units,,BF$52)),0)","v":0},{"$f":"IFERROR(SUMPRODUCT(--(INDEX(Model_Inputs_Ref_Units,,BG$51)=$E74),INDEX(Model_Inputs_Ref_Units,,BG$52)),0)","v":0},{"$f":"IFERROR(SUMPRODUCT(--(INDEX(Model_Inputs_Ref_Units,,BH$51)=$E74),INDEX(Model_Inputs_Ref_Units,,BH$52)),0)","v":0},{"$f":"IFERROR(SUMPRODUCT(--(INDEX(Model_Inputs_Ref_Units,,BI$51)=$E74),INDEX(Model_Inputs_Ref_Units,,BI$52)),0)","v":0},{"$f":"IFERROR(SUMPRODUCT(--(INDEX(Model_Inputs_Ref_Units,,BJ$51)=$E74),INDEX(Model_Inputs_Ref_Units,,BJ$52)),0)","v":0},{"$f":"IFERROR(SUMPRODUCT(--(INDEX(Model_Inputs_Ref_Units,,BK$51)=$E74),INDEX(Model_Inputs_Ref_Units,,BK$52)),0)","v":0},{"$f":"IFERROR(SUMPRODUCT(--(INDEX(Model_Inputs_Ref_Units,,BL$51)=$E74),INDEX(Model_Inputs_Ref_Units,,BL$52)),0)","v":0},{"$f":"IFERROR(SUMPRODUCT(--(INDEX(Model_Inputs_Ref_Units,,BM$51)=$E74),INDEX(Model_Inputs_Ref_Units,,BM$52)),0)","v":0},{"$f":"IFERROR(SUMPRODUCT(--(INDEX(Model_Inputs_Ref_Units,,BN$51)=$E74),INDEX(Model_Inputs_Ref_Units,,BN$52)),0)","v":0},{"$f":"IFERROR(SUMPRODUCT(--(INDEX(Model_Inputs_Ref_Units,,BO$51)=$E74),INDEX(Model_Inputs_Ref_Units,,BO$52)),0)","v":0},{"$f":"IFERROR(SUMPRODUCT(--(INDEX(Model_Inputs_Ref_Units,,BP$51)=$E74),INDEX(Model_Inputs_Ref_Units,,BP$52)),0)","v":0},{"$f":"IFERROR(SUMPRODUCT(--(INDEX(Model_Inputs_Ref_Units,,BQ$51)=$E74),INDEX(Model_Inputs_Ref_Units,,BQ$52)),0)","v":0},{"$f":"IFERROR(SUMPRODUCT(--(INDEX(Model_Inputs_Ref_Units,,BR$51)=$E74),INDEX(Model_Inputs_Ref_Units,,BR$52)),0)","v":0},{"$f":"IFERROR(SUMPRODUCT(--(INDEX(Model_Inputs_Ref_Units,,BS$51)=$E74),INDEX(Model_Inputs_Ref_Units,,BS$52)),0)","v":0},{"$f":"IFERROR(SUMPRODUCT(--(INDEX(Model_Inputs_Ref_Units,,BT$51)=$E74),INDEX(Model_Inputs_Ref_Units,,BT$52)),0)","v":0},{"$f":"IFERROR(SUMPRODUCT(--(INDEX(Model_Inputs_Ref_Units,,BU$51)=$E74),INDEX(Model_Inputs_Ref_Units,,BU$52)),0)","v":0},{"$f":"IFERROR(SUMPRODUCT(--(INDEX(Model_Inputs_Ref_Units,,BV$51)=$E74),INDEX(Model_Inputs_Ref_Units,,BV$52)),0)","v":0},{"$f":"IFERROR(SUMPRODUCT(--(INDEX(Model_Inputs_Ref_Units,,BW$51)=$E74),INDEX(Model_Inputs_Ref_Units,,BW$52)),0)","v":0},{"$f":"IFERROR(SUMPRODUCT(--(INDEX(Model_Inputs_Ref_Units,,BX$51)=$E74),INDEX(Model_Inputs_Ref_Units,,BX$52)),0)","v":0},{"$f":"IFERROR(SUMPRODUCT(--(INDEX(Model_Inputs_Ref_Units,,BY$51)=$E74),INDEX(Model_Inputs_Ref_Units,,BY$52)),0)","v":0},{"$f":"IFERROR(SUMPRODUCT(--(INDEX(Model_Inputs_Ref_Units,,BZ$51)=$E74),INDEX(Model_Inputs_Ref_Units,,BZ$52)),0)","v":0},{"$f":"IFERROR(SUMPRODUCT(--(INDEX(Model_Inputs_Ref_Units,,CA$51)=$E74),INDEX(Model_Inputs_Ref_Units,,CA$52)),0)","v":0},{"$f":"IFERROR(SUMPRODUCT(--(INDEX(Model_Inputs_Ref_Units,,CB$51)=$E74),INDEX(Model_Inputs_Ref_Units,,CB$52)),0)","v":0},{"$f":"IFERROR(SUMPRODUCT(--(INDEX(Model_Inputs_Ref_Units,,CC$51)=$E74),INDEX(Model_Inputs_Ref_Units,,CC$52)),0)","v":0},{"$f":"IFERROR(SUMPRODUCT(--(INDEX(Model_Inputs_Ref_Units,,CD$51)=$E74),INDEX(Model_Inputs_Ref_Units,,CD$52)),0)","v":0},{"$f":"IFERROR(SUMPRODUCT(--(INDEX(Model_Inputs_Ref_Units,,CE$51)=$E74),INDEX(Model_Inputs_Ref_Units,,CE$52)),0)","v":0},{"$f":"IFERROR(SUMPRODUCT(--(INDEX(Model_Inputs_Ref_Units,,CF$51)=$E74),INDEX(Model_Inputs_Ref_Units,,CF$52)),0)","v":0},{"$f":"IFERROR(SUMPRODUCT(--(INDEX(Model_Inputs_Ref_Units,,CG$51)=$E74),INDEX(Model_Inputs_Ref_Units,,CG$52)),0)","v":0},{"$f":"IFERROR(SUMPRODUCT(--(INDEX(Model_Inputs_Ref_Units,,CH$51)=$E74),INDEX(Model_Inputs_Ref_Units,,CH$52)),0)","v":0},{"$f":"IFERROR(SUMPRODUCT(--(INDEX(Model_Inputs_Ref_Units,,CI$51)=$E74),INDEX(Model_Inputs_Ref_Units,,CI$52)),0)","v":0},{"$f":"IFERROR(SUMPRODUCT(--(INDEX(Model_Inputs_Ref_Units,,CJ$51)=$E74),INDEX(Model_Inputs_Ref_Units,,CJ$52)),0)","v":0},{"$f":"IFERROR(SUMPRODUCT(--(INDEX(Model_Inputs_Ref_Units,,CK$51)=$E74),INDEX(Model_Inputs_Ref_Units,,CK$52)),0)","v":0},{"$f":"IFERROR(SUMPRODUCT(--(INDEX(Model_Inputs_Ref_Units,,CL$51)=$E74),INDEX(Model_Inputs_Ref_Units,,CL$52)),0)","v":0},{"$f":"IFERROR(SUMPRODUCT(--(INDEX(Model_Inputs_Ref_Units,,CM$51)=$E74),INDEX(Model_Inputs_Ref_Units,,CM$52)),0)","v":0},{"$f":"IFERROR(SUMPRODUCT(--(INDEX(Model_Inputs_Ref_Units,,CN$51)=$E74),INDEX(Model_Inputs_Ref_Units,,CN$52)),0)","v":0},{"$f":"IFERROR(SUMPRODUCT(--(INDEX(Model_Inputs_Ref_Units,,CO$51)=$E74),INDEX(Model_Inputs_Ref_Units,,CO$52)),0)","v":0},{"$f":"IFERROR(SUMPRODUCT(--(INDEX(Model_Inputs_Ref_Units,,CP$51)=$E74),INDEX(Model_Inputs_Ref_Units,,CP$52)),0)","v":0},{"$f":"IFERROR(SUMPRODUCT(--(INDEX(Model_Inputs_Ref_Units,,CQ$51)=$E74),INDEX(Model_Inputs_Ref_Units,,CQ$52)),0)","v":0},{"$f":"IFERROR(SUMPRODUCT(--(INDEX(Model_Inputs_Ref_Units,,CR$51)=$E74),INDEX(Model_Inputs_Ref_Units,,CR$52)),0)","v":0},{"$f":"IFERROR(SUMPRODUCT(--(INDEX(Model_Inputs_Ref_Units,,CS$51)=$E74),INDEX(Model_Inputs_Ref_Units,,CS$52)),0)","v":0},{"$f":"IFERROR(SUMPRODUCT(--(INDEX(Model_Inputs_Ref_Units,,CT$51)=$E74),INDEX(Model_Inputs_Ref_Units,,CT$52)),0)","v":0},{"$f":"IFERROR(SUMPRODUCT(--(INDEX(Model_Inputs_Ref_Units,,CU$51)=$E74),INDEX(Model_Inputs_Ref_Units,,CU$52)),0)","v":0},{"$f":"IFERROR(SUMPRODUCT(--(INDEX(Model_Inputs_Ref_Units,,CV$51)=$E74),INDEX(Model_Inputs_Ref_Units,,CV$52)),0)","v":0},{"$f":"IFERROR(SUMPRODUCT(--(INDEX(Model_Inputs_Ref_Units,,CW$51)=$E74),INDEX(Model_Inputs_Ref_Units,,CW$52)),0)","v":0},{"$f":"IFERROR(SUMPRODUCT(--(INDEX(Model_Inputs_Ref_Units,,CX$51)=$E74),INDEX(Model_Inputs_Ref_Units,,CX$52)),0)","v":0},{"$f":"IFERROR(SUMPRODUCT(--(INDEX(Model_Inputs_Ref_Units,,CY$51)=$E74),INDEX(Model_Inputs_Ref_Units,,CY$52)),0)","v":0},{"$f":"IFERROR(SUMPRODUCT(--(INDEX(Model_Inputs_Ref_Units,,CZ$51)=$E74),INDEX(Model_Inputs_Ref_Units,,CZ$52)),0)","v":0},{"$f":"IFERROR(SUMPRODUCT(--(INDEX(Model_Inputs_Ref_Units,,DA$51)=$E74),INDEX(Model_Inputs_Ref_Units,,DA$52)),0)","v":0},{"$f":"IFERROR(SUMPRODUCT(--(INDEX(Model_Inputs_Ref_Units,,DB$51)=$E74),INDEX(Model_Inputs_Ref_Units,,DB$52)),0)","v":0},{"$f":"IFERROR(SUMPRODUCT(--(INDEX(Model_Inputs_Ref_Units,,DC$51)=$E74),INDEX(Model_Inputs_Ref_Units,,DC$52)),0)","v":0},{"$f":"IFERROR(SUMPRODUCT(--(INDEX(Model_Inputs_Ref_Units,,DD$51)=$E74),INDEX(Model_Inputs_Ref_Units,,DD$52)),0)","v":0},{"$f":"IFERROR(SUMPRODUCT(--(INDEX(Model_Inputs_Ref_Units,,DE$51)=$E74),INDEX(Model_Inputs_Ref_Units,,DE$52)),0)","v":0},{"$f":"IFERROR(SUMPRODUCT(--(INDEX(Model_Inputs_Ref_Units,,DF$51)=$E74),INDEX(Model_Inputs_Ref_Units,,DF$52)),0)","v":0}]
[null,null,{"$error":"#DIV/0!"},null,{"$f":"IFERROR(INDEX(Ref_Data,1,F75),\"\")","v":""},22,0,0,0,0,{"$f":"IFERROR(SUMPRODUCT(--(INDEX(Model_Inputs_Ref_Units,,K$51)=$E75),INDEX(Model_Inputs_Ref_Units,,K$52)),0)","v":0},{"$f":"IFERROR(SUMPRODUCT(--(INDEX(Model_Inputs_Ref_Units,,L$51)=$E75),INDEX(Model_Inputs_Ref_Units,,L$52)),0)","v":0},{"$f":"IFERROR(SUMPRODUCT(--(INDEX(Model_Inputs_Ref_Units,,M$51)=$E75),INDEX(Model_Inputs_Ref_Units,,M$52)),0)","v":0},{"$f":"IFERROR(SUMPRODUCT(--(INDEX(Model_Inputs_Ref_Units,,N$51)=$E75),INDEX(Model_Inputs_Ref_Units,,N$52)),0)","v":0},{"$f":"IFERROR(SUMPRODUCT(--(INDEX(Model_Inputs_Ref_Units,,O$51)=$E75),INDEX(Model_Inputs_Ref_Units,,O$52)),0)","v":0},{"$f":"IFERROR(SUMPRODUCT(--(INDEX(Model_Inputs_Ref_Units,,P$51)=$E75),INDEX(Model_Inputs_Ref_Units,,P$52)),0)","v":0},{"$f":"IFERROR(SUMPRODUCT(--(INDEX(Model_Inputs_Ref_Units,,Q$51)=$E75),INDEX(Model_Inputs_Ref_Units,,Q$52)),0)","v":0},{"$f":"IFERROR(SUMPRODUCT(--(INDEX(Model_Inputs_Ref_Units,,R$51)=$E75),INDEX(Model_Inputs_Ref_Units,,R$52)),0)","v":0},{"$f":"IFERROR(SUMPRODUCT(--(INDEX(Model_Inputs_Ref_Units,,S$51)=$E75),INDEX(Model_Inputs_Ref_Units,,S$52)),0)","v":0},{"$f":"IFERROR(SUMPRODUCT(--(INDEX(Model_Inputs_Ref_Units,,T$51)=$E75),INDEX(Model_Inputs_Ref_Units,,T$52)),0)","v":0},{"$f":"IFERROR(SUMPRODUCT(--(INDEX(Model_Inputs_Ref_Units,,U$51)=$E75),INDEX(Model_Inputs_Ref_Units,,U$52)),0)","v":0},{"$f":"IFERROR(SUMPRODUCT(--(INDEX(Model_Inputs_Ref_Units,,V$51)=$E75),INDEX(Model_Inputs_Ref_Units,,V$52)),0)","v":0},{"$f":"IFERROR(SUMPRODUCT(--(INDEX(Model_Inputs_Ref_Units,,W$51)=$E75),INDEX(Model_Inputs_Ref_Units,,W$52)),0)","v":0},{"$f":"IFERROR(SUMPRODUCT(--(INDEX(Model_Inputs_Ref_Units,,X$51)=$E75),INDEX(Model_Inputs_Ref_Units,,X$52)),0)","v":0},{"$f":"IFERROR(SUMPRODUCT(--(INDEX(Model_Inputs_Ref_Units,,Y$51)=$E75),INDEX(Model_Inputs_Ref_Units,,Y$52)),0)","v":0},{"$f":"IFERROR(SUMPRODUCT(--(INDEX(Model_Inputs_Ref_Units,,Z$51)=$E75),INDEX(Model_Inputs_Ref_Units,,Z$52)),0)","v":0},{"$f":"IFERROR(SUMPRODUCT(--(INDEX(Model_Inputs_Ref_Units,,AA$51)=$E75),INDEX(Model_Inputs_Ref_Units,,AA$52)),0)","v":0},{"$f":"IFERROR(SUMPRODUCT(--(INDEX(Model_Inputs_Ref_Units,,AB$51)=$E75),INDEX(Model_Inputs_Ref_Units,,AB$52)),0)","v":0},{"$f":"IFERROR(SUMPRODUCT(--(INDEX(Model_Inputs_Ref_Units,,AC$51)=$E75),INDEX(Model_Inputs_Ref_Units,,AC$52)),0)","v":0},{"$f":"IFERROR(SUMPRODUCT(--(INDEX(Model_Inputs_Ref_Units,,AD$51)=$E75),INDEX(Model_Inputs_Ref_Units,,AD$52)),0)","v":0},{"$f":"IFERROR(SUMPRODUCT(--(INDEX(Model_Inputs_Ref_Units,,AE$51)=$E75),INDEX(Model_Inputs_Ref_Units,,AE$52)),0)","v":0},{"$f":"IFERROR(SUMPRODUCT(--(INDEX(Model_Inputs_Ref_Units,,AF$51)=$E75),INDEX(Model_Inputs_Ref_Units,,AF$52)),0)","v":0},{"$f":"IFERROR(SUMPRODUCT(--(INDEX(Model_Inputs_Ref_Units,,AG$51)=$E75),INDEX(Model_Inputs_Ref_Units,,AG$52)),0)","v":0},{"$f":"IFERROR(SUMPRODUCT(--(INDEX(Model_Inputs_Ref_Units,,AH$51)=$E75),INDEX(Model_Inputs_Ref_Units,,AH$52)),0)","v":0},{"$f":"IFERROR(SUMPRODUCT(--(INDEX(Model_Inputs_Ref_Units,,AI$51)=$E75),INDEX(Model_Inputs_Ref_Units,,AI$52)),0)","v":0},{"$f":"IFERROR(SUMPRODUCT(--(INDEX(Model_Inputs_Ref_Units,,AJ$51)=$E75),INDEX(Model_Inputs_Ref_Units,,AJ$52)),0)","v":0},{"$f":"IFERROR(SUMPRODUCT(--(INDEX(Model_Inputs_Ref_Units,,AK$51)=$E75),INDEX(Model_Inputs_Ref_Units,,AK$52)),0)","v":0},{"$f":"IFERROR(SUMPRODUCT(--(INDEX(Model_Inputs_Ref_Units,,AL$51)=$E75),INDEX(Model_Inputs_Ref_Units,,AL$52)),0)","v":0},{"$f":"IFERROR(SUMPRODUCT(--(INDEX(Model_Inputs_Ref_Units,,AM$51)=$E75),INDEX(Model_Inputs_Ref_Units,,AM$52)),0)","v":0},{"$f":"IFERROR(SUMPRODUCT(--(INDEX(Model_Inputs_Ref_Units,,AN$51)=$E75),INDEX(Model_Inputs_Ref_Units,,AN$52)),0)","v":0},{"$f":"IFERROR(SUMPRODUCT(--(INDEX(Model_Inputs_Ref_Units,,AO$51)=$E75),INDEX(Model_Inputs_Ref_Units,,AO$52)),0)","v":0},{"$f":"IFERROR(SUMPRODUCT(--(INDEX(Model_Inputs_Ref_Units,,AP$51)=$E75),INDEX(Model_Inputs_Ref_Units,,AP$52)),0)","v":0},{"$f":"IFERROR(SUMPRODUCT(--(INDEX(Model_Inputs_Ref_Units,,AQ$51)=$E75),INDEX(Model_Inputs_Ref_Units,,AQ$52)),0)","v":0},{"$f":"IFERROR(SUMPRODUCT(--(INDEX(Model_Inputs_Ref_Units,,AR$51)=$E75),INDEX(Model_Inputs_Ref_Units,,AR$52)),0)","v":0},{"$f":"IFERROR(SUMPRODUCT(--(INDEX(Model_Inputs_Ref_Units,,AS$51)=$E75),INDEX(Model_Inputs_Ref_Units,,AS$52)),0)","v":0},{"$f":"IFERROR(SUMPRODUCT(--(INDEX(Model_Inputs_Ref_Units,,AT$51)=$E75),INDEX(Model_Inputs_Ref_Units,,AT$52)),0)","v":0},{"$f":"IFERROR(SUMPRODUCT(--(INDEX(Model_Inputs_Ref_Units,,AU$51)=$E75),INDEX(Model_Inputs_Ref_Units,,AU$52)),0)","v":0},{"$f":"IFERROR(SUMPRODUCT(--(INDEX(Model_Inputs_Ref_Units,,AV$51)=$E75),INDEX(Model_Inputs_Ref_Units,,AV$52)),0)","v":0},{"$f":"IFERROR(SUMPRODUCT(--(INDEX(Model_Inputs_Ref_Units,,AW$51)=$E75),INDEX(Model_Inputs_Ref_Units,,AW$52)),0)","v":0},{"$f":"IFERROR(SUMPRODUCT(--(INDEX(Model_Inputs_Ref_Units,,AX$51)=$E75),INDEX(Model_Inputs_Ref_Units,,AX$52)),0)","v":0},{"$f":"IFERROR(SUMPRODUCT(--(INDEX(Model_Inputs_Ref_Units,,AY$51)=$E75),INDEX(Model_Inputs_Ref_Units,,AY$52)),0)","v":0},{"$f":"IFERROR(SUMPRODUCT(--(INDEX(Model_Inputs_Ref_Units,,AZ$51)=$E75),INDEX(Model_Inputs_Ref_Units,,AZ$52)),0)","v":0},{"$f":"IFERROR(SUMPRODUCT(--(INDEX(Model_Inputs_Ref_Units,,BA$51)=$E75),INDEX(Model_Inputs_Ref_Units,,BA$52)),0)","v":0},{"$f":"IFERROR(SUMPRODUCT(--(INDEX(Model_Inputs_Ref_Units,,BB$51)=$E75),INDEX(Model_Inputs_Ref_Units,,BB$52)),0)","v":0},{"$f":"IFERROR(SUMPRODUCT(--(INDEX(Model_Inputs_Ref_Units,,BC$51)=$E75),INDEX(Model_Inputs_Ref_Units,,BC$52)),0)","v":0},{"$f":"IFERROR(SUMPRODUCT(--(INDEX(Model_Inputs_Ref_Units,,BD$51)=$E75),INDEX(Model_Inputs_Ref_Units,,BD$52)),0)","v":0},{"$f":"IFERROR(SUMPRODUCT(--(INDEX(Model_Inputs_Ref_Units,,BE$51)=$E75),INDEX(Model_Inputs_Ref_Units,,BE$52)),0)","v":0},{"$f":"IFERROR(SUMPRODUCT(--(INDEX(Model_Inputs_Ref_Units,,BF$51)=$E75),INDEX(Model_Inputs_Ref_Units,,BF$52)),0)","v":0},{"$f":"IFERROR(SUMPRODUCT(--(INDEX(Model_Inputs_Ref_Units,,BG$51)=$E75),INDEX(Model_Inputs_Ref_Units,,BG$52)),0)","v":0},{"$f":"IFERROR(SUMPRODUCT(--(INDEX(Model_Inputs_Ref_Units,,BH$51)=$E75),INDEX(Model_Inputs_Ref_Units,,BH$52)),0)","v":0},{"$f":"IFERROR(SUMPRODUCT(--(INDEX(Model_Inputs_Ref_Units,,BI$51)=$E75),INDEX(Model_Inputs_Ref_Units,,BI$52)),0)","v":0},{"$f":"IFERROR(SUMPRODUCT(--(INDEX(Model_Inputs_Ref_Units,,BJ$51)=$E75),INDEX(Model_Inputs_Ref_Units,,BJ$52)),0)","v":0},{"$f":"IFERROR(SUMPRODUCT(--(INDEX(Model_Inputs_Ref_Units,,BK$51)=$E75),INDEX(Model_Inputs_Ref_Units,,BK$52)),0)","v":0},{"$f":"IFERROR(SUMPRODUCT(--(INDEX(Model_Inputs_Ref_Units,,BL$51)=$E75),INDEX(Model_Inputs_Ref_Units,,BL$52)),0)","v":0},{"$f":"IFERROR(SUMPRODUCT(--(INDEX(Model_Inputs_Ref_Units,,BM$51)=$E75),INDEX(Model_Inputs_Ref_Units,,BM$52)),0)","v":0},{"$f":"IFERROR(SUMPRODUCT(--(INDEX(Model_Inputs_Ref_Units,,BN$51)=$E75),INDEX(Model_Inputs_Ref_Units,,BN$52)),0)","v":0},{"$f":"IFERROR(SUMPRODUCT(--(INDEX(Model_Inputs_Ref_Units,,BO$51)=$E75),INDEX(Model_Inputs_Ref_Units,,BO$52)),0)","v":0},{"$f":"IFERROR(SUMPRODUCT(--(INDEX(Model_Inputs_Ref_Units,,BP$51)=$E75),INDEX(Model_Inputs_Ref_Units,,BP$52)),0)","v":0},{"$f":"IFERROR(SUMPRODUCT(--(INDEX(Model_Inputs_Ref_Units,,BQ$51)=$E75),INDEX(Model_Inputs_Ref_Units,,BQ$52)),0)","v":0},{"$f":"IFERROR(SUMPRODUCT(--(INDEX(Model_Inputs_Ref_Units,,BR$51)=$E75),INDEX(Model_Inputs_Ref_Units,,BR$52)),0)","v":0},{"$f":"IFERROR(SUMPRODUCT(--(INDEX(Model_Inputs_Ref_Units,,BS$51)=$E75),INDEX(Model_Inputs_Ref_Units,,BS$52)),0)","v":0},{"$f":"IFERROR(SUMPRODUCT(--(INDEX(Model_Inputs_Ref_Units,,BT$51)=$E75),INDEX(Model_Inputs_Ref_Units,,BT$52)),0)","v":0},{"$f":"IFERROR(SUMPRODUCT(--(INDEX(Model_Inputs_Ref_Units,,BU$51)=$E75),INDEX(Model_Inputs_Ref_Units,,BU$52)),0)","v":0},{"$f":"IFERROR(SUMPRODUCT(--(INDEX(Model_Inputs_Ref_Units,,BV$51)=$E75),INDEX(Model_Inputs_Ref_Units,,BV$52)),0)","v":0},{"$f":"IFERROR(SUMPRODUCT(--(INDEX(Model_Inputs_Ref_Units,,BW$51)=$E75),INDEX(Model_Inputs_Ref_Units,,BW$52)),0)","v":0},{"$f":"IFERROR(SUMPRODUCT(--(INDEX(Model_Inputs_Ref_Units,,BX$51)=$E75),INDEX(Model_Inputs_Ref_Units,,BX$52)),0)","v":0},{"$f":"IFERROR(SUMPRODUCT(--(INDEX(Model_Inputs_Ref_Units,,BY$51)=$E75),INDEX(Model_Inputs_Ref_Units,,BY$52)),0)","v":0},{"$f":"IFERROR(SUMPRODUCT(--(INDEX(Model_Inputs_Ref_Units,,BZ$51)=$E75),INDEX(Model_Inputs_Ref_Units,,BZ$52)),0)","v":0},{"$f":"IFERROR(SUMPRODUCT(--(INDEX(Model_Inputs_Ref_Units,,CA$51)=$E75),INDEX(Model_Inputs_Ref_Units,,CA$52)),0)","v":0},{"$f":"IFERROR(SUMPRODUCT(--(INDEX(Model_Inputs_Ref_Units,,CB$51)=$E75),INDEX(Model_Inputs_Ref_Units,,CB$52)),0)","v":0},{"$f":"IFERROR(SUMPRODUCT(--(INDEX(Model_Inputs_Ref_Units,,CC$51)=$E75),INDEX(Model_Inputs_Ref_Units,,CC$52)),0)","v":0},{"$f":"IFERROR(SUMPRODUCT(--(INDEX(Model_Inputs_Ref_Units,,CD$51)=$E75),INDEX(Model_Inputs_Ref_Units,,CD$52)),0)","v":0},{"$f":"IFERROR(SUMPRODUCT(--(INDEX(Model_Inputs_Ref_Units,,CE$51)=$E75),INDEX(Model_Inputs_Ref_Units,,CE$52)),0)","v":0},{"$f":"IFERROR(SUMPRODUCT(--(INDEX(Model_Inputs_Ref_Units,,CF$51)=$E75),INDEX(Model_Inputs_Ref_Units,,CF$52)),0)","v":0},{"$f":"IFERROR(SUMPRODUCT(--(INDEX(Model_Inputs_Ref_Units,,CG$51)=$E75),INDEX(Model_Inputs_Ref_Units,,CG$52)),0)","v":0},{"$f":"IFERROR(SUMPRODUCT(--(INDEX(Model_Inputs_Ref_Units,,CH$51)=$E75),INDEX(Model_Inputs_Ref_Units,,CH$52)),0)","v":0},{"$f":"IFERROR(SUMPRODUCT(--(INDEX(Model_Inputs_Ref_Units,,CI$51)=$E75),INDEX(Model_Inputs_Ref_Units,,CI$52)),0)","v":0},{"$f":"IFERROR(SUMPRODUCT(--(INDEX(Model_Inputs_Ref_Units,,CJ$51)=$E75),INDEX(Model_Inputs_Ref_Units,,CJ$52)),0)","v":0},{"$f":"IFERROR(SUMPRODUCT(--(INDEX(Model_Inputs_Ref_Units,,CK$51)=$E75),INDEX(Model_Inputs_Ref_Units,,CK$52)),0)","v":0},{"$f":"IFERROR(SUMPRODUCT(--(INDEX(Model_Inputs_Ref_Units,,CL$51)=$E75),INDEX(Model_Inputs_Ref_Units,,CL$52)),0)","v":0},{"$f":"IFERROR(SUMPRODUCT(--(INDEX(Model_Inputs_Ref_Units,,CM$51)=$E75),INDEX(Model_Inputs_Ref_Units,,CM$52)),0)","v":0},{"$f":"IFERROR(SUMPRODUCT(--(INDEX(Model_Inputs_Ref_Units,,CN$51)=$E75),INDEX(Model_Inputs_Ref_Units,,CN$52)),0)","v":0},{"$f":"IFERROR(SUMPRODUCT(--(INDEX(Model_Inputs_Ref_Units,,CO$51)=$E75),INDEX(Model_Inputs_Ref_Units,,CO$52)),0)","v":0},{"$f":"IFERROR(SUMPRODUCT(--(INDEX(Model_Inputs_Ref_Units,,CP$51)=$E75),INDEX(Model_Inputs_Ref_Units,,CP$52)),0)","v":0},{"$f":"IFERROR(SUMPRODUCT(--(INDEX(Model_Inputs_Ref_Units,,CQ$51)=$E75),INDEX(Model_Inputs_Ref_Units,,CQ$52)),0)","v":0},{"$f":"IFERROR(SUMPRODUCT(--(INDEX(Model_Inputs_Ref_Units,,CR$51)=$E75),INDEX(Model_Inputs_Ref_Units,,CR$52)),0)","v":0},{"$f":"IFERROR(SUMPRODUCT(--(INDEX(Model_Inputs_Ref_Units,,CS$51)=$E75),INDEX(Model_Inputs_Ref_Units,,CS$52)),0)","v":0},{"$f":"IFERROR(SUMPRODUCT(--(INDEX(Model_Inputs_Ref_Units,,CT$51)=$E75),INDEX(Model_Inputs_Ref_Units,,CT$52)),0)","v":0},{"$f":"IFERROR(SUMPRODUCT(--(INDEX(Model_Inputs_Ref_Units,,CU$51)=$E75),INDEX(Model_Inputs_Ref_Units,,CU$52)),0)","v":0},{"$f":"IFERROR(SUMPRODUCT(--(INDEX(Model_Inputs_Ref_Units,,CV$51)=$E75),INDEX(Model_Inputs_Ref_Units,,CV$52)),0)","v":0},{"$f":"IFERROR(SUMPRODUCT(--(INDEX(Model_Inputs_Ref_Units,,CW$51)=$E75),INDEX(Model_Inputs_Ref_Units,,CW$52)),0)","v":0},{"$f":"IFERROR(SUMPRODUCT(--(INDEX(Model_Inputs_Ref_Units,,CX$51)=$E75),INDEX(Model_Inputs_Ref_Units,,CX$52)),0)","v":0},{"$f":"IFERROR(SUMPRODUCT(--(INDEX(Model_Inputs_Ref_Units,,CY$51)=$E75),INDEX(Model_Inputs_Ref_Units,,CY$52)),0)","v":0},{"$f":"IFERROR(SUMPRODUCT(--(INDEX(Model_Inputs_Ref_Units,,CZ$51)=$E75),INDEX(Model_Inputs_Ref_Units,,CZ$52)),0)","v":0},{"$f":"IFERROR(SUMPRODUCT(--(INDEX(Model_Inputs_Ref_Units,,DA$51)=$E75),INDEX(Model_Inputs_Ref_Units,,DA$52)),0)","v":0},{"$f":"IFERROR(SUMPRODUCT(--(INDEX(Model_Inputs_Ref_Units,,DB$51)=$E75),INDEX(Model_Inputs_Ref_Units,,DB$52)),0)","v":0},{"$f":"IFERROR(SUMPRODUCT(--(INDEX(Model_Inputs_Ref_Units,,DC$51)=$E75),INDEX(Model_Inputs_Ref_Units,,DC$52)),0)","v":0},{"$f":"IFERROR(SUMPRODUCT(--(INDEX(Model_Inputs_Ref_Units,,DD$51)=$E75),INDEX(Model_Inputs_Ref_Units,,DD$52)),0)","v":0},{"$f":"IFERROR(SUMPRODUCT(--(INDEX(Model_Inputs_Ref_Units,,DE$51)=$E75),INDEX(Model_Inputs_Ref_Units,,DE$52)),0)","v":0},{"$f":"IFERROR(SUMPRODUCT(--(INDEX(Model_Inputs_Ref_Units,,DF$51)=$E75),INDEX(Model_Inputs_Ref_Units,,DF$52)),0)","v":0}]
[null,null,{"$error":"#DIV/0!"},null,{"$f":"IFERROR(INDEX(Ref_Data,1,F76),\"\")","v":""},23,0,0,0,0,{"$f":"IFERROR(SUMPRODUCT(--(INDEX(Model_Inputs_Ref_Units,,K$51)=$E76),INDEX(Model_Inputs_Ref_Units,,K$52)),0)","v":0},{"$f":"IFERROR(SUMPRODUCT(--(INDEX(Model_Inputs_Ref_Units,,L$51)=$E76),INDEX(Model_Inputs_Ref_Units,,L$52)),0)","v":0},{"$f":"IFERROR(SUMPRODUCT(--(INDEX(Model_Inputs_Ref_Units,,M$51)=$E76),INDEX(Model_Inputs_Ref_Units,,M$52)),0)","v":0},{"$f":"IFERROR(SUMPRODUCT(--(INDEX(Model_Inputs_Ref_Units,,N$51)=$E76),INDEX(Model_Inputs_Ref_Units,,N$52)),0)","v":0},{"$f":"IFERROR(SUMPRODUCT(--(INDEX(Model_Inputs_Ref_Units,,O$51)=$E76),INDEX(Model_Inputs_Ref_Units,,O$52)),0)","v":0},{"$f":"IFERROR(SUMPRODUCT(--(INDEX(Model_Inputs_Ref_Units,,P$51)=$E76),INDEX(Model_Inputs_Ref_Units,,P$52)),0)","v":0},{"$f":"IFERROR(SUMPRODUCT(--(INDEX(Model_Inputs_Ref_Units,,Q$51)=$E76),INDEX(Model_Inputs_Ref_Units,,Q$52)),0)","v":0},{"$f":"IFERROR(SUMPRODUCT(--(INDEX(Model_Inputs_Ref_Units,,R$51)=$E76),INDEX(Model_Inputs_Ref_Units,,R$52)),0)","v":0},{"$f":"IFERROR(SUMPRODUCT(--(INDEX(Model_Inputs_Ref_Units,,S$51)=$E76),INDEX(Model_Inputs_Ref_Units,,S$52)),0)","v":0},{"$f":"IFERROR(SUMPRODUCT(--(INDEX(Model_Inputs_Ref_Units,,T$51)=$E76),INDEX(Model_Inputs_Ref_Units,,T$52)),0)","v":0},{"$f":"IFERROR(SUMPRODUCT(--(INDEX(Model_Inputs_Ref_Units,,U$51)=$E76),INDEX(Model_Inputs_Ref_Units,,U$52)),0)","v":0},{"$f":"IFERROR(SUMPRODUCT(--(INDEX(Model_Inputs_Ref_Units,,V$51)=$E76),INDEX(Model_Inputs_Ref_Units,,V$52)),0)","v":0},{"$f":"IFERROR(SUMPRODUCT(--(INDEX(Model_Inputs_Ref_Units,,W$51)=$E76),INDEX(Model_Inputs_Ref_Units,,W$52)),0)","v":0},{"$f":"IFERROR(SUMPRODUCT(--(INDEX(Model_Inputs_Ref_Units,,X$51)=$E76),INDEX(Model_Inputs_Ref_Units,,X$52)),0)","v":0},{"$f":"IFERROR(SUMPRODUCT(--(INDEX(Model_Inputs_Ref_Units,,Y$51)=$E76),INDEX(Model_Inputs_Ref_Units,,Y$52)),0)","v":0},{"$f":"IFERROR(SUMPRODUCT(--(INDEX(Model_Inputs_Ref_Units,,Z$51)=$E76),INDEX(Model_Inputs_Ref_Units,,Z$52)),0)","v":0},{"$f":"IFERROR(SUMPRODUCT(--(INDEX(Model_Inputs_Ref_Units,,AA$51)=$E76),INDEX(Model_Inputs_Ref_Units,,AA$52)),0)","v":0},{"$f":"IFERROR(SUMPRODUCT(--(INDEX(Model_Inputs_Ref_Units,,AB$51)=$E76),INDEX(Model_Inputs_Ref_Units,,AB$52)),0)","v":0},{"$f":"IFERROR(SUMPRODUCT(--(INDEX(Model_Inputs_Ref_Units,,AC$51)=$E76),INDEX(Model_Inputs_Ref_Units,,AC$52)),0)","v":0},{"$f":"IFERROR(SUMPRODUCT(--(INDEX(Model_Inputs_Ref_Units,,AD$51)=$E76),INDEX(Model_Inputs_Ref_Units,,AD$52)),0)","v":0},{"$f":"IFERROR(SUMPRODUCT(--(INDEX(Model_Inputs_Ref_Units,,AE$51)=$E76),INDEX(Model_Inputs_Ref_Units,,AE$52)),0)","v":0},{"$f":"IFERROR(SUMPRODUCT(--(INDEX(Model_Inputs_Ref_Units,,AF$51)=$E76),INDEX(Model_Inputs_Ref_Units,,AF$52)),0)","v":0},{"$f":"IFERROR(SUMPRODUCT(--(INDEX(Model_Inputs_Ref_Units,,AG$51)=$E76),INDEX(Model_Inputs_Ref_Units,,AG$52)),0)","v":0},{"$f":"IFERROR(SUMPRODUCT(--(INDEX(Model_Inputs_Ref_Units,,AH$51)=$E76),INDEX(Model_Inputs_Ref_Units,,AH$52)),0)","v":0},{"$f":"IFERROR(SUMPRODUCT(--(INDEX(Model_Inputs_Ref_Units,,AI$51)=$E76),INDEX(Model_Inputs_Ref_Units,,AI$52)),0)","v":0},{"$f":"IFERROR(SUMPRODUCT(--(INDEX(Model_Inputs_Ref_Units,,AJ$51)=$E76),INDEX(Model_Inputs_Ref_Units,,AJ$52)),0)","v":0},{"$f":"IFERROR(SUMPRODUCT(--(INDEX(Model_Inputs_Ref_Units,,AK$51)=$E76),INDEX(Model_Inputs_Ref_Units,,AK$52)),0)","v":0},{"$f":"IFERROR(SUMPRODUCT(--(INDEX(Model_Inputs_Ref_Units,,AL$51)=$E76),INDEX(Model_Inputs_Ref_Units,,AL$52)),0)","v":0},{"$f":"IFERROR(SUMPRODUCT(--(INDEX(Model_Inputs_Ref_Units,,AM$51)=$E76),INDEX(Model_Inputs_Ref_Units,,AM$52)),0)","v":0},{"$f":"IFERROR(SUMPRODUCT(--(INDEX(Model_Inputs_Ref_Units,,AN$51)=$E76),INDEX(Model_Inputs_Ref_Units,,AN$52)),0)","v":0},{"$f":"IFERROR(SUMPRODUCT(--(INDEX(Model_Inputs_Ref_Units,,AO$51)=$E76),INDEX(Model_Inputs_Ref_Units,,AO$52)),0)","v":0},{"$f":"IFERROR(SUMPRODUCT(--(INDEX(Model_Inputs_Ref_Units,,AP$51)=$E76),INDEX(Model_Inputs_Ref_Units,,AP$52)),0)","v":0},{"$f":"IFERROR(SUMPRODUCT(--(INDEX(Model_Inputs_Ref_Units,,AQ$51)=$E76),INDEX(Model_Inputs_Ref_Units,,AQ$52)),0)","v":0},{"$f":"IFERROR(SUMPRODUCT(--(INDEX(Model_Inputs_Ref_Units,,AR$51)=$E76),INDEX(Model_Inputs_Ref_Units,,AR$52)),0)","v":0},{"$f":"IFERROR(SUMPRODUCT(--(INDEX(Model_Inputs_Ref_Units,,AS$51)=$E76),INDEX(Model_Inputs_Ref_Units,,AS$52)),0)","v":0},{"$f":"IFERROR(SUMPRODUCT(--(INDEX(Model_Inputs_Ref_Units,,AT$51)=$E76),INDEX(Model_Inputs_Ref_Units,,AT$52)),0)","v":0},{"$f":"IFERROR(SUMPRODUCT(--(INDEX(Model_Inputs_Ref_Units,,AU$51)=$E76),INDEX(Model_Inputs_Ref_Units,,AU$52)),0)","v":0},{"$f":"IFERROR(SUMPRODUCT(--(INDEX(Model_Inputs_Ref_Units,,AV$51)=$E76),INDEX(Model_Inputs_Ref_Units,,AV$52)),0)","v":0},{"$f":"IFERROR(SUMPRODUCT(--(INDEX(Model_Inputs_Ref_Units,,AW$51)=$E76),INDEX(Model_Inputs_Ref_Units,,AW$52)),0)","v":0},{"$f":"IFERROR(SUMPRODUCT(--(INDEX(Model_Inputs_Ref_Units,,AX$51)=$E76),INDEX(Model_Inputs_Ref_Units,,AX$52)),0)","v":0},{"$f":"IFERROR(SUMPRODUCT(--(INDEX(Model_Inputs_Ref_Units,,AY$51)=$E76),INDEX(Model_Inputs_Ref_Units,,AY$52)),0)","v":0},{"$f":"IFERROR(SUMPRODUCT(--(INDEX(Model_Inputs_Ref_Units,,AZ$51)=$E76),INDEX(Model_Inputs_Ref_Units,,AZ$52)),0)","v":0},{"$f":"IFERROR(SUMPRODUCT(--(INDEX(Model_Inputs_Ref_Units,,BA$51)=$E76),INDEX(Model_Inputs_Ref_Units,,BA$52)),0)","v":0},{"$f":"IFERROR(SUMPRODUCT(--(INDEX(Model_Inputs_Ref_Units,,BB$51)=$E76),INDEX(Model_Inputs_Ref_Units,,BB$52)),0)","v":0},{"$f":"IFERROR(SUMPRODUCT(--(INDEX(Model_Inputs_Ref_Units,,BC$51)=$E76),INDEX(Model_Inputs_Ref_Units,,BC$52)),0)","v":0},{"$f":"IFERROR(SUMPRODUCT(--(INDEX(Model_Inputs_Ref_Units,,BD$51)=$E76),INDEX(Model_Inputs_Ref_Units,,BD$52)),0)","v":0},{"$f":"IFERROR(SUMPRODUCT(--(INDEX(Model_Inputs_Ref_Units,,BE$51)=$E76),INDEX(Model_Inputs_Ref_Units,,BE$52)),0)","v":0},{"$f":"IFERROR(SUMPRODUCT(--(INDEX(Model_Inputs_Ref_Units,,BF$51)=$E76),INDEX(Model_Inputs_Ref_Units,,BF$52)),0)","v":0},{"$f":"IFERROR(SUMPRODUCT(--(INDEX(Model_Inputs_Ref_Units,,BG$51)=$E76),INDEX(Model_Inputs_Ref_Units,,BG$52)),0)","v":0},{"$f":"IFERROR(SUMPRODUCT(--(INDEX(Model_Inputs_Ref_Units,,BH$51)=$E76),INDEX(Model_Inputs_Ref_Units,,BH$52)),0)","v":0},{"$f":"IFERROR(SUMPRODUCT(--(INDEX(Model_Inputs_Ref_Units,,BI$51)=$E76),INDEX(Model_Inputs_Ref_Units,,BI$52)),0)","v":0},{"$f":"IFERROR(SUMPRODUCT(--(INDEX(Model_Inputs_Ref_Units,,BJ$51)=$E76),INDEX(Model_Inputs_Ref_Units,,BJ$52)),0)","v":0},{"$f":"IFERROR(SUMPRODUCT(--(INDEX(Model_Inputs_Ref_Units,,BK$51)=$E76),INDEX(Model_Inputs_Ref_Units,,BK$52)),0)","v":0},{"$f":"IFERROR(SUMPRODUCT(--(INDEX(Model_Inputs_Ref_Units,,BL$51)=$E76),INDEX(Model_Inputs_Ref_Units,,BL$52)),0)","v":0},{"$f":"IFERROR(SUMPRODUCT(--(INDEX(Model_Inputs_Ref_Units,,BM$51)=$E76),INDEX(Model_Inputs_Ref_Units,,BM$52)),0)","v":0},{"$f":"IFERROR(SUMPRODUCT(--(INDEX(Model_Inputs_Ref_Units,,BN$51)=$E76),INDEX(Model_Inputs_Ref_Units,,BN$52)),0)","v":0},{"$f":"IFERROR(SUMPRODUCT(--(INDEX(Model_Inputs_Ref_Units,,BO$51)=$E76),INDEX(Model_Inputs_Ref_Units,,BO$52)),0)","v":0},{"$f":"IFERROR(SUMPRODUCT(--(INDEX(Model_Inputs_Ref_Units,,BP$51)=$E76),INDEX(Model_Inputs_Ref_Units,,BP$52)),0)","v":0},{"$f":"IFERROR(SUMPRODUCT(--(INDEX(Model_Inputs_Ref_Units,,BQ$51)=$E76),INDEX(Model_Inputs_Ref_Units,,BQ$52)),0)","v":0},{"$f":"IFERROR(SUMPRODUCT(--(INDEX(Model_Inputs_Ref_Units,,BR$51)=$E76),INDEX(Model_Inputs_Ref_Units,,BR$52)),0)","v":0},{"$f":"IFERROR(SUMPRODUCT(--(INDEX(Model_Inputs_Ref_Units,,BS$51)=$E76),INDEX(Model_Inputs_Ref_Units,,BS$52)),0)","v":0},{"$f":"IFERROR(SUMPRODUCT(--(INDEX(Model_Inputs_Ref_Units,,BT$51)=$E76),INDEX(Model_Inputs_Ref_Units,,BT$52)),0)","v":0},{"$f":"IFERROR(SUMPRODUCT(--(INDEX(Model_Inputs_Ref_Units,,BU$51)=$E76),INDEX(Model_Inputs_Ref_Units,,BU$52)),0)","v":0},{"$f":"IFERROR(SUMPRODUCT(--(INDEX(Model_Inputs_Ref_Units,,BV$51)=$E76),INDEX(Model_Inputs_Ref_Units,,BV$52)),0)","v":0},{"$f":"IFERROR(SUMPRODUCT(--(INDEX(Model_Inputs_Ref_Units,,BW$51)=$E76),INDEX(Model_Inputs_Ref_Units,,BW$52)),0)","v":0},{"$f":"IFERROR(SUMPRODUCT(--(INDEX(Model_Inputs_Ref_Units,,BX$51)=$E76),INDEX(Model_Inputs_Ref_Units,,BX$52)),0)","v":0},{"$f":"IFERROR(SUMPRODUCT(--(INDEX(Model_Inputs_Ref_Units,,BY$51)=$E76),INDEX(Model_Inputs_Ref_Units,,BY$52)),0)","v":0},{"$f":"IFERROR(SUMPRODUCT(--(INDEX(Model_Inputs_Ref_Units,,BZ$51)=$E76),INDEX(Model_Inputs_Ref_Units,,BZ$52)),0)","v":0},{"$f":"IFERROR(SUMPRODUCT(--(INDEX(Model_Inputs_Ref_Units,,CA$51)=$E76),INDEX(Model_Inputs_Ref_Units,,CA$52)),0)","v":0},{"$f":"IFERROR(SUMPRODUCT(--(INDEX(Model_Inputs_Ref_Units,,CB$51)=$E76),INDEX(Model_Inputs_Ref_Units,,CB$52)),0)","v":0},{"$f":"IFERROR(SUMPRODUCT(--(INDEX(Model_Inputs_Ref_Units,,CC$51)=$E76),INDEX(Model_Inputs_Ref_Units,,CC$52)),0)","v":0},{"$f":"IFERROR(SUMPRODUCT(--(INDEX(Model_Inputs_Ref_Units,,CD$51)=$E76),INDEX(Model_Inputs_Ref_Units,,CD$52)),0)","v":0},{"$f":"IFERROR(SUMPRODUCT(--(INDEX(Model_Inputs_Ref_Units,,CE$51)=$E76),INDEX(Model_Inputs_Ref_Units,,CE$52)),0)","v":0},{"$f":"IFERROR(SUMPRODUCT(--(INDEX(Model_Inputs_Ref_Units,,CF$51)=$E76),INDEX(Model_Inputs_Ref_Units,,CF$52)),0)","v":0},{"$f":"IFERROR(SUMPRODUCT(--(INDEX(Model_Inputs_Ref_Units,,CG$51)=$E76),INDEX(Model_Inputs_Ref_Units,,CG$52)),0)","v":0},{"$f":"IFERROR(SUMPRODUCT(--(INDEX(Model_Inputs_Ref_Units,,CH$51)=$E76),INDEX(Model_Inputs_Ref_Units,,CH$52)),0)","v":0},{"$f":"IFERROR(SUMPRODUCT(--(INDEX(Model_Inputs_Ref_Units,,CI$51)=$E76),INDEX(Model_Inputs_Ref_Units,,CI$52)),0)","v":0},{"$f":"IFERROR(SUMPRODUCT(--(INDEX(Model_Inputs_Ref_Units,,CJ$51)=$E76),INDEX(Model_Inputs_Ref_Units,,CJ$52)),0)","v":0},{"$f":"IFERROR(SUMPRODUCT(--(INDEX(Model_Inputs_Ref_Units,,CK$51)=$E76),INDEX(Model_Inputs_Ref_Units,,CK$52)),0)","v":0},{"$f":"IFERROR(SUMPRODUCT(--(INDEX(Model_Inputs_Ref_Units,,CL$51)=$E76),INDEX(Model_Inputs_Ref_Units,,CL$52)),0)","v":0},{"$f":"IFERROR(SUMPRODUCT(--(INDEX(Model_Inputs_Ref_Units,,CM$51)=$E76),INDEX(Model_Inputs_Ref_Units,,CM$52)),0)","v":0},{"$f":"IFERROR(SUMPRODUCT(--(INDEX(Model_Inputs_Ref_Units,,CN$51)=$E76),INDEX(Model_Inputs_Ref_Units,,CN$52)),0)","v":0},{"$f":"IFERROR(SUMPRODUCT(--(INDEX(Model_Inputs_Ref_Units,,CO$51)=$E76),INDEX(Model_Inputs_Ref_Units,,CO$52)),0)","v":0},{"$f":"IFERROR(SUMPRODUCT(--(INDEX(Model_Inputs_Ref_Units,,CP$51)=$E76),INDEX(Model_Inputs_Ref_Units,,CP$52)),0)","v":0},{"$f":"IFERROR(SUMPRODUCT(--(INDEX(Model_Inputs_Ref_Units,,CQ$51)=$E76),INDEX(Model_Inputs_Ref_Units,,CQ$52)),0)","v":0},{"$f":"IFERROR(SUMPRODUCT(--(INDEX(Model_Inputs_Ref_Units,,CR$51)=$E76),INDEX(Model_Inputs_Ref_Units,,CR$52)),0)","v":0},{"$f":"IFERROR(SUMPRODUCT(--(INDEX(Model_Inputs_Ref_Units,,CS$51)=$E76),INDEX(Model_Inputs_Ref_Units,,CS$52)),0)","v":0},{"$f":"IFERROR(SUMPRODUCT(--(INDEX(Model_Inputs_Ref_Units,,CT$51)=$E76),INDEX(Model_Inputs_Ref_Units,,CT$52)),0)","v":0},{"$f":"IFERROR(SUMPRODUCT(--(INDEX(Model_Inputs_Ref_Units,,CU$51)=$E76),INDEX(Model_Inputs_Ref_Units,,CU$52)),0)","v":0},{"$f":"IFERROR(SUMPRODUCT(--(INDEX(Model_Inputs_Ref_Units,,CV$51)=$E76),INDEX(Model_Inputs_Ref_Units,,CV$52)),0)","v":0},{"$f":"IFERROR(SUMPRODUCT(--(INDEX(Model_Inputs_Ref_Units,,CW$51)=$E76),INDEX(Model_Inputs_Ref_Units,,CW$52)),0)","v":0},{"$f":"IFERROR(SUMPRODUCT(--(INDEX(Model_Inputs_Ref_Units,,CX$51)=$E76),INDEX(Model_Inputs_Ref_Units,,CX$52)),0)","v":0},{"$f":"IFERROR(SUMPRODUCT(--(INDEX(Model_Inputs_Ref_Units,,CY$51)=$E76),INDEX(Model_Inputs_Ref_Units,,CY$52)),0)","v":0},{"$f":"IFERROR(SUMPRODUCT(--(INDEX(Model_Inputs_Ref_Units,,CZ$51)=$E76),INDEX(Model_Inputs_Ref_Units,,CZ$52)),0)","v":0},{"$f":"IFERROR(SUMPRODUCT(--(INDEX(Model_Inputs_Ref_Units,,DA$51)=$E76),INDEX(Model_Inputs_Ref_Units,,DA$52)),0)","v":0},{"$f":"IFERROR(SUMPRODUCT(--(INDEX(Model_Inputs_Ref_Units,,DB$51)=$E76),INDEX(Model_Inputs_Ref_Units,,DB$52)),0)","v":0},{"$f":"IFERROR(SUMPRODUCT(--(INDEX(Model_Inputs_Ref_Units,,DC$51)=$E76),INDEX(Model_Inputs_Ref_Units,,DC$52)),0)","v":0},{"$f":"IFERROR(SUMPRODUCT(--(INDEX(Model_Inputs_Ref_Units,,DD$51)=$E76),INDEX(Model_Inputs_Ref_Units,,DD$52)),0)","v":0},{"$f":"IFERROR(SUMPRODUCT(--(INDEX(Model_Inputs_Ref_Units,,DE$51)=$E76),INDEX(Model_Inputs_Ref_Units,,DE$52)),0)","v":0},{"$f":"IFERROR(SUMPRODUCT(--(INDEX(Model_Inputs_Ref_Units,,DF$51)=$E76),INDEX(Model_Inputs_Ref_Units,,DF$52)),0)","v":0}]
[null,null,{"$error":"#DIV/0!"},null,{"$f":"IFERROR(INDEX(Ref_Data,1,F77),\"\")","v":""},24,0,0,0,0,{"$f":"IFERROR(SUMPRODUCT(--(INDEX(Model_Inputs_Ref_Units,,K$51)=$E77),INDEX(Model_Inputs_Ref_Units,,K$52)),0)","v":0},{"$f":"IFERROR(SUMPRODUCT(--(INDEX(Model_Inputs_Ref_Units,,L$51)=$E77),INDEX(Model_Inputs_Ref_Units,,L$52)),0)","v":0},{"$f":"IFERROR(SUMPRODUCT(--(INDEX(Model_Inputs_Ref_Units,,M$51)=$E77),INDEX(Model_Inputs_Ref_Units,,M$52)),0)","v":0},{"$f":"IFERROR(SUMPRODUCT(--(INDEX(Model_Inputs_Ref_Units,,N$51)=$E77),INDEX(Model_Inputs_Ref_Units,,N$52)),0)","v":0},{"$f":"IFERROR(SUMPRODUCT(--(INDEX(Model_Inputs_Ref_Units,,O$51)=$E77),INDEX(Model_Inputs_Ref_Units,,O$52)),0)","v":0},{"$f":"IFERROR(SUMPRODUCT(--(INDEX(Model_Inputs_Ref_Units,,P$51)=$E77),INDEX(Model_Inputs_Ref_Units,,P$52)),0)","v":0},{"$f":"IFERROR(SUMPRODUCT(--(INDEX(Model_Inputs_Ref_Units,,Q$51)=$E77),INDEX(Model_Inputs_Ref_Units,,Q$52)),0)","v":0},{"$f":"IFERROR(SUMPRODUCT(--(INDEX(Model_Inputs_Ref_Units,,R$51)=$E77),INDEX(Model_Inputs_Ref_Units,,R$52)),0)","v":0},{"$f":"IFERROR(SUMPRODUCT(--(INDEX(Model_Inputs_Ref_Units,,S$51)=$E77),INDEX(Model_Inputs_Ref_Units,,S$52)),0)","v":0},{"$f":"IFERROR(SUMPRODUCT(--(INDEX(Model_Inputs_Ref_Units,,T$51)=$E77),INDEX(Model_Inputs_Ref_Units,,T$52)),0)","v":0},{"$f":"IFERROR(SUMPRODUCT(--(INDEX(Model_Inputs_Ref_Units,,U$51)=$E77),INDEX(Model_Inputs_Ref_Units,,U$52)),0)","v":0},{"$f":"IFERROR(SUMPRODUCT(--(INDEX(Model_Inputs_Ref_Units,,V$51)=$E77),INDEX(Model_Inputs_Ref_Units,,V$52)),0)","v":0},{"$f":"IFERROR(SUMPRODUCT(--(INDEX(Model_Inputs_Ref_Units,,W$51)=$E77),INDEX(Model_Inputs_Ref_Units,,W$52)),0)","v":0},{"$f":"IFERROR(SUMPRODUCT(--(INDEX(Model_Inputs_Ref_Units,,X$51)=$E77),INDEX(Model_Inputs_Ref_Units,,X$52)),0)","v":0},{"$f":"IFERROR(SUMPRODUCT(--(INDEX(Model_Inputs_Ref_Units,,Y$51)=$E77),INDEX(Model_Inputs_Ref_Units,,Y$52)),0)","v":0},{"$f":"IFERROR(SUMPRODUCT(--(INDEX(Model_Inputs_Ref_Units,,Z$51)=$E77),INDEX(Model_Inputs_Ref_Units,,Z$52)),0)","v":0},{"$f":"IFERROR(SUMPRODUCT(--(INDEX(Model_Inputs_Ref_Units,,AA$51)=$E77),INDEX(Model_Inputs_Ref_Units,,AA$52)),0)","v":0},{"$f":"IFERROR(SUMPRODUCT(--(INDEX(Model_Inputs_Ref_Units,,AB$51)=$E77),INDEX(Model_Inputs_Ref_Units,,AB$52)),0)","v":0},{"$f":"IFERROR(SUMPRODUCT(--(INDEX(Model_Inputs_Ref_Units,,AC$51)=$E77),INDEX(Model_Inputs_Ref_Units,,AC$52)),0)","v":0},{"$f":"IFERROR(SUMPRODUCT(--(INDEX(Model_Inputs_Ref_Units,,AD$51)=$E77),INDEX(Model_Inputs_Ref_Units,,AD$52)),0)","v":0},{"$f":"IFERROR(SUMPRODUCT(--(INDEX(Model_Inputs_Ref_Units,,AE$51)=$E77),INDEX(Model_Inputs_Ref_Units,,AE$52)),0)","v":0},{"$f":"IFERROR(SUMPRODUCT(--(INDEX(Model_Inputs_Ref_Units,,AF$51)=$E77),INDEX(Model_Inputs_Ref_Units,,AF$52)),0)","v":0},{"$f":"IFERROR(SUMPRODUCT(--(INDEX(Model_Inputs_Ref_Units,,AG$51)=$E77),INDEX(Model_Inputs_Ref_Units,,AG$52)),0)","v":0},{"$f":"IFERROR(SUMPRODUCT(--(INDEX(Model_Inputs_Ref_Units,,AH$51)=$E77),INDEX(Model_Inputs_Ref_Units,,AH$52)),0)","v":0},{"$f":"IFERROR(SUMPRODUCT(--(INDEX(Model_Inputs_Ref_Units,,AI$51)=$E77),INDEX(Model_Inputs_Ref_Units,,AI$52)),0)","v":0},{"$f":"IFERROR(SUMPRODUCT(--(INDEX(Model_Inputs_Ref_Units,,AJ$51)=$E77),INDEX(Model_Inputs_Ref_Units,,AJ$52)),0)","v":0},{"$f":"IFERROR(SUMPRODUCT(--(INDEX(Model_Inputs_Ref_Units,,AK$51)=$E77),INDEX(Model_Inputs_Ref_Units,,AK$52)),0)","v":0},{"$f":"IFERROR(SUMPRODUCT(--(INDEX(Model_Inputs_Ref_Units,,AL$51)=$E77),INDEX(Model_Inputs_Ref_Units,,AL$52)),0)","v":0},{"$f":"IFERROR(SUMPRODUCT(--(INDEX(Model_Inputs_Ref_Units,,AM$51)=$E77),INDEX(Model_Inputs_Ref_Units,,AM$52)),0)","v":0},{"$f":"IFERROR(SUMPRODUCT(--(INDEX(Model_Inputs_Ref_Units,,AN$51)=$E77),INDEX(Model_Inputs_Ref_Units,,AN$52)),0)","v":0},{"$f":"IFERROR(SUMPRODUCT(--(INDEX(Model_Inputs_Ref_Units,,AO$51)=$E77),INDEX(Model_Inputs_Ref_Units,,AO$52)),0)","v":0},{"$f":"IFERROR(SUMPRODUCT(--(INDEX(Model_Inputs_Ref_Units,,AP$51)=$E77),INDEX(Model_Inputs_Ref_Units,,AP$52)),0)","v":0},{"$f":"IFERROR(SUMPRODUCT(--(INDEX(Model_Inputs_Ref_Units,,AQ$51)=$E77),INDEX(Model_Inputs_Ref_Units,,AQ$52)),0)","v":0},{"$f":"IFERROR(SUMPRODUCT(--(INDEX(Model_Inputs_Ref_Units,,AR$51)=$E77),INDEX(Model_Inputs_Ref_Units,,AR$52)),0)","v":0},{"$f":"IFERROR(SUMPRODUCT(--(INDEX(Model_Inputs_Ref_Units,,AS$51)=$E77),INDEX(Model_Inputs_Ref_Units,,AS$52)),0)","v":0},{"$f":"IFERROR(SUMPRODUCT(--(INDEX(Model_Inputs_Ref_Units,,AT$51)=$E77),INDEX(Model_Inputs_Ref_Units,,AT$52)),0)","v":0},{"$f":"IFERROR(SUMPRODUCT(--(INDEX(Model_Inputs_Ref_Units,,AU$51)=$E77),INDEX(Model_Inputs_Ref_Units,,AU$52)),0)","v":0},{"$f":"IFERROR(SUMPRODUCT(--(INDEX(Model_Inputs_Ref_Units,,AV$51)=$E77),INDEX(Model_Inputs_Ref_Units,,AV$52)),0)","v":0},{"$f":"IFERROR(SUMPRODUCT(--(INDEX(Model_Inputs_Ref_Units,,AW$51)=$E77),INDEX(Model_Inputs_Ref_Units,,AW$52)),0)","v":0},{"$f":"IFERROR(SUMPRODUCT(--(INDEX(Model_Inputs_Ref_Units,,AX$51)=$E77),INDEX(Model_Inputs_Ref_Units,,AX$52)),0)","v":0},{"$f":"IFERROR(SUMPRODUCT(--(INDEX(Model_Inputs_Ref_Units,,AY$51)=$E77),INDEX(Model_Inputs_Ref_Units,,AY$52)),0)","v":0},{"$f":"IFERROR(SUMPRODUCT(--(INDEX(Model_Inputs_Ref_Units,,AZ$51)=$E77),INDEX(Model_Inputs_Ref_Units,,AZ$52)),0)","v":0},{"$f":"IFERROR(SUMPRODUCT(--(INDEX(Model_Inputs_Ref_Units,,BA$51)=$E77),INDEX(Model_Inputs_Ref_Units,,BA$52)),0)","v":0},{"$f":"IFERROR(SUMPRODUCT(--(INDEX(Model_Inputs_Ref_Units,,BB$51)=$E77),INDEX(Model_Inputs_Ref_Units,,BB$52)),0)","v":0},{"$f":"IFERROR(SUMPRODUCT(--(INDEX(Model_Inputs_Ref_Units,,BC$51)=$E77),INDEX(Model_Inputs_Ref_Units,,BC$52)),0)","v":0},{"$f":"IFERROR(SUMPRODUCT(--(INDEX(Model_Inputs_Ref_Units,,BD$51)=$E77),INDEX(Model_Inputs_Ref_Units,,BD$52)),0)","v":0},{"$f":"IFERROR(SUMPRODUCT(--(INDEX(Model_Inputs_Ref_Units,,BE$51)=$E77),INDEX(Model_Inputs_Ref_Units,,BE$52)),0)","v":0},{"$f":"IFERROR(SUMPRODUCT(--(INDEX(Model_Inputs_Ref_Units,,BF$51)=$E77),INDEX(Model_Inputs_Ref_Units,,BF$52)),0)","v":0},{"$f":"IFERROR(SUMPRODUCT(--(INDEX(Model_Inputs_Ref_Units,,BG$51)=$E77),INDEX(Model_Inputs_Ref_Units,,BG$52)),0)","v":0},{"$f":"IFERROR(SUMPRODUCT(--(INDEX(Model_Inputs_Ref_Units,,BH$51)=$E77),INDEX(Model_Inputs_Ref_Units,,BH$52)),0)","v":0},{"$f":"IFERROR(SUMPRODUCT(--(INDEX(Model_Inputs_Ref_Units,,BI$51)=$E77),INDEX(Model_Inputs_Ref_Units,,BI$52)),0)","v":0},{"$f":"IFERROR(SUMPRODUCT(--(INDEX(Model_Inputs_Ref_Units,,BJ$51)=$E77),INDEX(Model_Inputs_Ref_Units,,BJ$52)),0)","v":0},{"$f":"IFERROR(SUMPRODUCT(--(INDEX(Model_Inputs_Ref_Units,,BK$51)=$E77),INDEX(Model_Inputs_Ref_Units,,BK$52)),0)","v":0},{"$f":"IFERROR(SUMPRODUCT(--(INDEX(Model_Inputs_Ref_Units,,BL$51)=$E77),INDEX(Model_Inputs_Ref_Units,,BL$52)),0)","v":0},{"$f":"IFERROR(SUMPRODUCT(--(INDEX(Model_Inputs_Ref_Units,,BM$51)=$E77),INDEX(Model_Inputs_Ref_Units,,BM$52)),0)","v":0},{"$f":"IFERROR(SUMPRODUCT(--(INDEX(Model_Inputs_Ref_Units,,BN$51)=$E77),INDEX(Model_Inputs_Ref_Units,,BN$52)),0)","v":0},{"$f":"IFERROR(SUMPRODUCT(--(INDEX(Model_Inputs_Ref_Units,,BO$51)=$E77),INDEX(Model_Inputs_Ref_Units,,BO$52)),0)","v":0},{"$f":"IFERROR(SUMPRODUCT(--(INDEX(Model_Inputs_Ref_Units,,BP$51)=$E77),INDEX(Model_Inputs_Ref_Units,,BP$52)),0)","v":0},{"$f":"IFERROR(SUMPRODUCT(--(INDEX(Model_Inputs_Ref_Units,,BQ$51)=$E77),INDEX(Model_Inputs_Ref_Units,,BQ$52)),0)","v":0},{"$f":"IFERROR(SUMPRODUCT(--(INDEX(Model_Inputs_Ref_Units,,BR$51)=$E77),INDEX(Model_Inputs_Ref_Units,,BR$52)),0)","v":0},{"$f":"IFERROR(SUMPRODUCT(--(INDEX(Model_Inputs_Ref_Units,,BS$51)=$E77),INDEX(Model_Inputs_Ref_Units,,BS$52)),0)","v":0},{"$f":"IFERROR(SUMPRODUCT(--(INDEX(Model_Inputs_Ref_Units,,BT$51)=$E77),INDEX(Model_Inputs_Ref_Units,,BT$52)),0)","v":0},{"$f":"IFERROR(SUMPRODUCT(--(INDEX(Model_Inputs_Ref_Units,,BU$51)=$E77),INDEX(Model_Inputs_Ref_Units,,BU$52)),0)","v":0},{"$f":"IFERROR(SUMPRODUCT(--(INDEX(Model_Inputs_Ref_Units,,BV$51)=$E77),INDEX(Model_Inputs_Ref_Units,,BV$52)),0)","v":0},{"$f":"IFERROR(SUMPRODUCT(--(INDEX(Model_Inputs_Ref_Units,,BW$51)=$E77),INDEX(Model_Inputs_Ref_Units,,BW$52)),0)","v":0},{"$f":"IFERROR(SUMPRODUCT(--(INDEX(Model_Inputs_Ref_Units,,BX$51)=$E77),INDEX(Model_Inputs_Ref_Units,,BX$52)),0)","v":0},{"$f":"IFERROR(SUMPRODUCT(--(INDEX(Model_Inputs_Ref_Units,,BY$51)=$E77),INDEX(Model_Inputs_Ref_Units,,BY$52)),0)","v":0},{"$f":"IFERROR(SUMPRODUCT(--(INDEX(Model_Inputs_Ref_Units,,BZ$51)=$E77),INDEX(Model_Inputs_Ref_Units,,BZ$52)),0)","v":0},{"$f":"IFERROR(SUMPRODUCT(--(INDEX(Model_Inputs_Ref_Units,,CA$51)=$E77),INDEX(Model_Inputs_Ref_Units,,CA$52)),0)","v":0},{"$f":"IFERROR(SUMPRODUCT(--(INDEX(Model_Inputs_Ref_Units,,CB$51)=$E77),INDEX(Model_Inputs_Ref_Units,,CB$52)),0)","v":0},{"$f":"IFERROR(SUMPRODUCT(--(INDEX(Model_Inputs_Ref_Units,,CC$51)=$E77),INDEX(Model_Inputs_Ref_Units,,CC$52)),0)","v":0},{"$f":"IFERROR(SUMPRODUCT(--(INDEX(Model_Inputs_Ref_Units,,CD$51)=$E77),INDEX(Model_Inputs_Ref_Units,,CD$52)),0)","v":0},{"$f":"IFERROR(SUMPRODUCT(--(INDEX(Model_Inputs_Ref_Units,,CE$51)=$E77),INDEX(Model_Inputs_Ref_Units,,CE$52)),0)","v":0},{"$f":"IFERROR(SUMPRODUCT(--(INDEX(Model_Inputs_Ref_Units,,CF$51)=$E77),INDEX(Model_Inputs_Ref_Units,,CF$52)),0)","v":0},{"$f":"IFERROR(SUMPRODUCT(--(INDEX(Model_Inputs_Ref_Units,,CG$51)=$E77),INDEX(Model_Inputs_Ref_Units,,CG$52)),0)","v":0},{"$f":"IFERROR(SUMPRODUCT(--(INDEX(Model_Inputs_Ref_Units,,CH$51)=$E77),INDEX(Model_Inputs_Ref_Units,,CH$52)),0)","v":0},{"$f":"IFERROR(SUMPRODUCT(--(INDEX(Model_Inputs_Ref_Units,,CI$51)=$E77),INDEX(Model_Inputs_Ref_Units,,CI$52)),0)","v":0},{"$f":"IFERROR(SUMPRODUCT(--(INDEX(Model_Inputs_Ref_Units,,CJ$51)=$E77),INDEX(Model_Inputs_Ref_Units,,CJ$52)),0)","v":0},{"$f":"IFERROR(SUMPRODUCT(--(INDEX(Model_Inputs_Ref_Units,,CK$51)=$E77),INDEX(Model_Inputs_Ref_Units,,CK$52)),0)","v":0},{"$f":"IFERROR(SUMPRODUCT(--(INDEX(Model_Inputs_Ref_Units,,CL$51)=$E77),INDEX(Model_Inputs_Ref_Units,,CL$52)),0)","v":0},{"$f":"IFERROR(SUMPRODUCT(--(INDEX(Model_Inputs_Ref_Units,,CM$51)=$E77),INDEX(Model_Inputs_Ref_Units,,CM$52)),0)","v":0},{"$f":"IFERROR(SUMPRODUCT(--(INDEX(Model_Inputs_Ref_Units,,CN$51)=$E77),INDEX(Model_Inputs_Ref_Units,,CN$52)),0)","v":0},{"$f":"IFERROR(SUMPRODUCT(--(INDEX(Model_Inputs_Ref_Units,,CO$51)=$E77),INDEX(Model_Inputs_Ref_Units,,CO$52)),0)","v":0},{"$f":"IFERROR(SUMPRODUCT(--(INDEX(Model_Inputs_Ref_Units,,CP$51)=$E77),INDEX(Model_Inputs_Ref_Units,,CP$52)),0)","v":0},{"$f":"IFERROR(SUMPRODUCT(--(INDEX(Model_Inputs_Ref_Units,,CQ$51)=$E77),INDEX(Model_Inputs_Ref_Units,,CQ$52)),0)","v":0},{"$f":"IFERROR(SUMPRODUCT(--(INDEX(Model_Inputs_Ref_Units,,CR$51)=$E77),INDEX(Model_Inputs_Ref_Units,,CR$52)),0)","v":0},{"$f":"IFERROR(SUMPRODUCT(--(INDEX(Model_Inputs_Ref_Units,,CS$51)=$E77),INDEX(Model_Inputs_Ref_Units,,CS$52)),0)","v":0},{"$f":"IFERROR(SUMPRODUCT(--(INDEX(Model_Inputs_Ref_Units,,CT$51)=$E77),INDEX(Model_Inputs_Ref_Units,,CT$52)),0)","v":0},{"$f":"IFERROR(SUMPRODUCT(--(INDEX(Model_Inputs_Ref_Units,,CU$51)=$E77),INDEX(Model_Inputs_Ref_Units,,CU$52)),0)","v":0},{"$f":"IFERROR(SUMPRODUCT(--(INDEX(Model_Inputs_Ref_Units,,CV$51)=$E77),INDEX(Model_Inputs_Ref_Units,,CV$52)),0)","v":0},{"$f":"IFERROR(SUMPRODUCT(--(INDEX(Model_Inputs_Ref_Units,,CW$51)=$E77),INDEX(Model_Inputs_Ref_Units,,CW$52)),0)","v":0},{"$f":"IFERROR(SUMPRODUCT(--(INDEX(Model_Inputs_Ref_Units,,CX$51)=$E77),INDEX(Model_Inputs_Ref_Units,,CX$52)),0)","v":0},{"$f":"IFERROR(SUMPRODUCT(--(INDEX(Model_Inputs_Ref_Units,,CY$51)=$E77),INDEX(Model_Inputs_Ref_Units,,CY$52)),0)","v":0},{"$f":"IFERROR(SUMPRODUCT(--(INDEX(Model_Inputs_Ref_Units,,CZ$51)=$E77),INDEX(Model_Inputs_Ref_Units,,CZ$52)),0)","v":0},{"$f":"IFERROR(SUMPRODUCT(--(INDEX(Model_Inputs_Ref_Units,,DA$51)=$E77),INDEX(Model_Inputs_Ref_Units,,DA$52)),0)","v":0},{"$f":"IFERROR(SUMPRODUCT(--(INDEX(Model_Inputs_Ref_Units,,DB$51)=$E77),INDEX(Model_Inputs_Ref_Units,,DB$52)),0)","v":0},{"$f":"IFERROR(SUMPRODUCT(--(INDEX(Model_Inputs_Ref_Units,,DC$51)=$E77),INDEX(Model_Inputs_Ref_Units,,DC$52)),0)","v":0},{"$f":"IFERROR(SUMPRODUCT(--(INDEX(Model_Inputs_Ref_Units,,DD$51)=$E77),INDEX(Model_Inputs_Ref_Units,,DD$52)),0)","v":0},{"$f":"IFERROR(SUMPRODUCT(--(INDEX(Model_Inputs_Ref_Units,,DE$51)=$E77),INDEX(Model_Inputs_Ref_Units,,DE$52)),0)","v":0},{"$f":"IFERROR(SUMPRODUCT(--(INDEX(Model_Inputs_Ref_Units,,DF$51)=$E77),INDEX(Model_Inputs_Ref_Units,,DF$52)),0)","v":0}]
[null,null,{"$error":"#DIV/0!"},null,{"$f":"IFERROR(INDEX(Ref_Data,1,F78),\"\")","v":""},25,0,0,0,0,{"$f":"IFERROR(SUMPRODUCT(--(INDEX(Model_Inputs_Ref_Units,,K$51)=$E78),INDEX(Model_Inputs_Ref_Units,,K$52)),0)","v":0},{"$f":"IFERROR(SUMPRODUCT(--(INDEX(Model_Inputs_Ref_Units,,L$51)=$E78),INDEX(Model_Inputs_Ref_Units,,L$52)),0)","v":0},{"$f":"IFERROR(SUMPRODUCT(--(INDEX(Model_Inputs_Ref_Units,,M$51)=$E78),INDEX(Model_Inputs_Ref_Units,,M$52)),0)","v":0},{"$f":"IFERROR(SUMPRODUCT(--(INDEX(Model_Inputs_Ref_Units,,N$51)=$E78),INDEX(Model_Inputs_Ref_Units,,N$52)),0)","v":0},{"$f":"IFERROR(SUMPRODUCT(--(INDEX(Model_Inputs_Ref_Units,,O$51)=$E78),INDEX(Model_Inputs_Ref_Units,,O$52)),0)","v":0},{"$f":"IFERROR(SUMPRODUCT(--(INDEX(Model_Inputs_Ref_Units,,P$51)=$E78),INDEX(Model_Inputs_Ref_Units,,P$52)),0)","v":0},{"$f":"IFERROR(SUMPRODUCT(--(INDEX(Model_Inputs_Ref_Units,,Q$51)=$E78),INDEX(Model_Inputs_Ref_Units,,Q$52)),0)","v":0},{"$f":"IFERROR(SUMPRODUCT(--(INDEX(Model_Inputs_Ref_Units,,R$51)=$E78),INDEX(Model_Inputs_Ref_Units,,R$52)),0)","v":0},{"$f":"IFERROR(SUMPRODUCT(--(INDEX(Model_Inputs_Ref_Units,,S$51)=$E78),INDEX(Model_Inputs_Ref_Units,,S$52)),0)","v":0},{"$f":"IFERROR(SUMPRODUCT(--(INDEX(Model_Inputs_Ref_Units,,T$51)=$E78),INDEX(Model_Inputs_Ref_Units,,T$52)),0)","v":0},{"$f":"IFERROR(SUMPRODUCT(--(INDEX(Model_Inputs_Ref_Units,,U$51)=$E78),INDEX(Model_Inputs_Ref_Units,,U$52)),0)","v":0},{"$f":"IFERROR(SUMPRODUCT(--(INDEX(Model_Inputs_Ref_Units,,V$51)=$E78),INDEX(Model_Inputs_Ref_Units,,V$52)),0)","v":0},{"$f":"IFERROR(SUMPRODUCT(--(INDEX(Model_Inputs_Ref_Units,,W$51)=$E78),INDEX(Model_Inputs_Ref_Units,,W$52)),0)","v":0},{"$f":"IFERROR(SUMPRODUCT(--(INDEX(Model_Inputs_Ref_Units,,X$51)=$E78),INDEX(Model_Inputs_Ref_Units,,X$52)),0)","v":0},{"$f":"IFERROR(SUMPRODUCT(--(INDEX(Model_Inputs_Ref_Units,,Y$51)=$E78),INDEX(Model_Inputs_Ref_Units,,Y$52)),0)","v":0},{"$f":"IFERROR(SUMPRODUCT(--(INDEX(Model_Inputs_Ref_Units,,Z$51)=$E78),INDEX(Model_Inputs_Ref_Units,,Z$52)),0)","v":0},{"$f":"IFERROR(SUMPRODUCT(--(INDEX(Model_Inputs_Ref_Units,,AA$51)=$E78),INDEX(Model_Inputs_Ref_Units,,AA$52)),0)","v":0},{"$f":"IFERROR(SUMPRODUCT(--(INDEX(Model_Inputs_Ref_Units,,AB$51)=$E78),INDEX(Model_Inputs_Ref_Units,,AB$52)),0)","v":0},{"$f":"IFERROR(SUMPRODUCT(--(INDEX(Model_Inputs_Ref_Units,,AC$51)=$E78),INDEX(Model_Inputs_Ref_Units,,AC$52)),0)","v":0},{"$f":"IFERROR(SUMPRODUCT(--(INDEX(Model_Inputs_Ref_Units,,AD$51)=$E78),INDEX(Model_Inputs_Ref_Units,,AD$52)),0)","v":0},{"$f":"IFERROR(SUMPRODUCT(--(INDEX(Model_Inputs_Ref_Units,,AE$51)=$E78),INDEX(Model_Inputs_Ref_Units,,AE$52)),0)","v":0},{"$f":"IFERROR(SUMPRODUCT(--(INDEX(Model_Inputs_Ref_Units,,AF$51)=$E78),INDEX(Model_Inputs_Ref_Units,,AF$52)),0)","v":0},{"$f":"IFERROR(SUMPRODUCT(--(INDEX(Model_Inputs_Ref_Units,,AG$51)=$E78),INDEX(Model_Inputs_Ref_Units,,AG$52)),0)","v":0},{"$f":"IFERROR(SUMPRODUCT(--(INDEX(Model_Inputs_Ref_Units,,AH$51)=$E78),INDEX(Model_Inputs_Ref_Units,,AH$52)),0)","v":0},{"$f":"IFERROR(SUMPRODUCT(--(INDEX(Model_Inputs_Ref_Units,,AI$51)=$E78),INDEX(Model_Inputs_Ref_Units,,AI$52)),0)","v":0},{"$f":"IFERROR(SUMPRODUCT(--(INDEX(Model_Inputs_Ref_Units,,AJ$51)=$E78),INDEX(Model_Inputs_Ref_Units,,AJ$52)),0)","v":0},{"$f":"IFERROR(SUMPRODUCT(--(INDEX(Model_Inputs_Ref_Units,,AK$51)=$E78),INDEX(Model_Inputs_Ref_Units,,AK$52)),0)","v":0},{"$f":"IFERROR(SUMPRODUCT(--(INDEX(Model_Inputs_Ref_Units,,AL$51)=$E78),INDEX(Model_Inputs_Ref_Units,,AL$52)),0)","v":0},{"$f":"IFERROR(SUMPRODUCT(--(INDEX(Model_Inputs_Ref_Units,,AM$51)=$E78),INDEX(Model_Inputs_Ref_Units,,AM$52)),0)","v":0},{"$f":"IFERROR(SUMPRODUCT(--(INDEX(Model_Inputs_Ref_Units,,AN$51)=$E78),INDEX(Model_Inputs_Ref_Units,,AN$52)),0)","v":0},{"$f":"IFERROR(SUMPRODUCT(--(INDEX(Model_Inputs_Ref_Units,,AO$51)=$E78),INDEX(Model_Inputs_Ref_Units,,AO$52)),0)","v":0},{"$f":"IFERROR(SUMPRODUCT(--(INDEX(Model_Inputs_Ref_Units,,AP$51)=$E78),INDEX(Model_Inputs_Ref_Units,,AP$52)),0)","v":0},{"$f":"IFERROR(SUMPRODUCT(--(INDEX(Model_Inputs_Ref_Units,,AQ$51)=$E78),INDEX(Model_Inputs_Ref_Units,,AQ$52)),0)","v":0},{"$f":"IFERROR(SUMPRODUCT(--(INDEX(Model_Inputs_Ref_Units,,AR$51)=$E78),INDEX(Model_Inputs_Ref_Units,,AR$52)),0)","v":0},{"$f":"IFERROR(SUMPRODUCT(--(INDEX(Model_Inputs_Ref_Units,,AS$51)=$E78),INDEX(Model_Inputs_Ref_Units,,AS$52)),0)","v":0},{"$f":"IFERROR(SUMPRODUCT(--(INDEX(Model_Inputs_Ref_Units,,AT$51)=$E78),INDEX(Model_Inputs_Ref_Units,,AT$52)),0)","v":0},{"$f":"IFERROR(SUMPRODUCT(--(INDEX(Model_Inputs_Ref_Units,,AU$51)=$E78),INDEX(Model_Inputs_Ref_Units,,AU$52)),0)","v":0},{"$f":"IFERROR(SUMPRODUCT(--(INDEX(Model_Inputs_Ref_Units,,AV$51)=$E78),INDEX(Model_Inputs_Ref_Units,,AV$52)),0)","v":0},{"$f":"IFERROR(SUMPRODUCT(--(INDEX(Model_Inputs_Ref_Units,,AW$51)=$E78),INDEX(Model_Inputs_Ref_Units,,AW$52)),0)","v":0},{"$f":"IFERROR(SUMPRODUCT(--(INDEX(Model_Inputs_Ref_Units,,AX$51)=$E78),INDEX(Model_Inputs_Ref_Units,,AX$52)),0)","v":0},{"$f":"IFERROR(SUMPRODUCT(--(INDEX(Model_Inputs_Ref_Units,,AY$51)=$E78),INDEX(Model_Inputs_Ref_Units,,AY$52)),0)","v":0},{"$f":"IFERROR(SUMPRODUCT(--(INDEX(Model_Inputs_Ref_Units,,AZ$51)=$E78),INDEX(Model_Inputs_Ref_Units,,AZ$52)),0)","v":0},{"$f":"IFERROR(SUMPRODUCT(--(INDEX(Model_Inputs_Ref_Units,,BA$51)=$E78),INDEX(Model_Inputs_Ref_Units,,BA$52)),0)","v":0},{"$f":"IFERROR(SUMPRODUCT(--(INDEX(Model_Inputs_Ref_Units,,BB$51)=$E78),INDEX(Model_Inputs_Ref_Units,,BB$52)),0)","v":0},{"$f":"IFERROR(SUMPRODUCT(--(INDEX(Model_Inputs_Ref_Units,,BC$51)=$E78),INDEX(Model_Inputs_Ref_Units,,BC$52)),0)","v":0},{"$f":"IFERROR(SUMPRODUCT(--(INDEX(Model_Inputs_Ref_Units,,BD$51)=$E78),INDEX(Model_Inputs_Ref_Units,,BD$52)),0)","v":0},{"$f":"IFERROR(SUMPRODUCT(--(INDEX(Model_Inputs_Ref_Units,,BE$51)=$E78),INDEX(Model_Inputs_Ref_Units,,BE$52)),0)","v":0},{"$f":"IFERROR(SUMPRODUCT(--(INDEX(Model_Inputs_Ref_Units,,BF$51)=$E78),INDEX(Model_Inputs_Ref_Units,,BF$52)),0)","v":0},{"$f":"IFERROR(SUMPRODUCT(--(INDEX(Model_Inputs_Ref_Units,,BG$51)=$E78),INDEX(Model_Inputs_Ref_Units,,BG$52)),0)","v":0},{"$f":"IFERROR(SUMPRODUCT(--(INDEX(Model_Inputs_Ref_Units,,BH$51)=$E78),INDEX(Model_Inputs_Ref_Units,,BH$52)),0)","v":0},{"$f":"IFERROR(SUMPRODUCT(--(INDEX(Model_Inputs_Ref_Units,,BI$51)=$E78),INDEX(Model_Inputs_Ref_Units,,BI$52)),0)","v":0},{"$f":"IFERROR(SUMPRODUCT(--(INDEX(Model_Inputs_Ref_Units,,BJ$51)=$E78),INDEX(Model_Inputs_Ref_Units,,BJ$52)),0)","v":0},{"$f":"IFERROR(SUMPRODUCT(--(INDEX(Model_Inputs_Ref_Units,,BK$51)=$E78),INDEX(Model_Inputs_Ref_Units,,BK$52)),0)","v":0},{"$f":"IFERROR(SUMPRODUCT(--(INDEX(Model_Inputs_Ref_Units,,BL$51)=$E78),INDEX(Model_Inputs_Ref_Units,,BL$52)),0)","v":0},{"$f":"IFERROR(SUMPRODUCT(--(INDEX(Model_Inputs_Ref_Units,,BM$51)=$E78),INDEX(Model_Inputs_Ref_Units,,BM$52)),0)","v":0},{"$f":"IFERROR(SUMPRODUCT(--(INDEX(Model_Inputs_Ref_Units,,BN$51)=$E78),INDEX(Model_Inputs_Ref_Units,,BN$52)),0)","v":0},{"$f":"IFERROR(SUMPRODUCT(--(INDEX(Model_Inputs_Ref_Units,,BO$51)=$E78),INDEX(Model_Inputs_Ref_Units,,BO$52)),0)","v":0},{"$f":"IFERROR(SUMPRODUCT(--(INDEX(Model_Inputs_Ref_Units,,BP$51)=$E78),INDEX(Model_Inputs_Ref_Units,,BP$52)),0)","v":0},{"$f":"IFERROR(SUMPRODUCT(--(INDEX(Model_Inputs_Ref_Units,,BQ$51)=$E78),INDEX(Model_Inputs_Ref_Units,,BQ$52)),0)","v":0},{"$f":"IFERROR(SUMPRODUCT(--(INDEX(Model_Inputs_Ref_Units,,BR$51)=$E78),INDEX(Model_Inputs_Ref_Units,,BR$52)),0)","v":0},{"$f":"IFERROR(SUMPRODUCT(--(INDEX(Model_Inputs_Ref_Units,,BS$51)=$E78),INDEX(Model_Inputs_Ref_Units,,BS$52)),0)","v":0},{"$f":"IFERROR(SUMPRODUCT(--(INDEX(Model_Inputs_Ref_Units,,BT$51)=$E78),INDEX(Model_Inputs_Ref_Units,,BT$52)),0)","v":0},{"$f":"IFERROR(SUMPRODUCT(--(INDEX(Model_Inputs_Ref_Units,,BU$51)=$E78),INDEX(Model_Inputs_Ref_Units,,BU$52)),0)","v":0},{"$f":"IFERROR(SUMPRODUCT(--(INDEX(Model_Inputs_Ref_Units,,BV$51)=$E78),INDEX(Model_Inputs_Ref_Units,,BV$52)),0)","v":0},{"$f":"IFERROR(SUMPRODUCT(--(INDEX(Model_Inputs_Ref_Units,,BW$51)=$E78),INDEX(Model_Inputs_Ref_Units,,BW$52)),0)","v":0},{"$f":"IFERROR(SUMPRODUCT(--(INDEX(Model_Inputs_Ref_Units,,BX$51)=$E78),INDEX(Model_Inputs_Ref_Units,,BX$52)),0)","v":0},{"$f":"IFERROR(SUMPRODUCT(--(INDEX(Model_Inputs_Ref_Units,,BY$51)=$E78),INDEX(Model_Inputs_Ref_Units,,BY$52)),0)","v":0},{"$f":"IFERROR(SUMPRODUCT(--(INDEX(Model_Inputs_Ref_Units,,BZ$51)=$E78),INDEX(Model_Inputs_Ref_Units,,BZ$52)),0)","v":0},{"$f":"IFERROR(SUMPRODUCT(--(INDEX(Model_Inputs_Ref_Units,,CA$51)=$E78),INDEX(Model_Inputs_Ref_Units,,CA$52)),0)","v":0},{"$f":"IFERROR(SUMPRODUCT(--(INDEX(Model_Inputs_Ref_Units,,CB$51)=$E78),INDEX(Model_Inputs_Ref_Units,,CB$52)),0)","v":0},{"$f":"IFERROR(SUMPRODUCT(--(INDEX(Model_Inputs_Ref_Units,,CC$51)=$E78),INDEX(Model_Inputs_Ref_Units,,CC$52)),0)","v":0},{"$f":"IFERROR(SUMPRODUCT(--(INDEX(Model_Inputs_Ref_Units,,CD$51)=$E78),INDEX(Model_Inputs_Ref_Units,,CD$52)),0)","v":0},{"$f":"IFERROR(SUMPRODUCT(--(INDEX(Model_Inputs_Ref_Units,,CE$51)=$E78),INDEX(Model_Inputs_Ref_Units,,CE$52)),0)","v":0},{"$f":"IFERROR(SUMPRODUCT(--(INDEX(Model_Inputs_Ref_Units,,CF$51)=$E78),INDEX(Model_Inputs_Ref_Units,,CF$52)),0)","v":0},{"$f":"IFERROR(SUMPRODUCT(--(INDEX(Model_Inputs_Ref_Units,,CG$51)=$E78),INDEX(Model_Inputs_Ref_Units,,CG$52)),0)","v":0},{"$f":"IFERROR(SUMPRODUCT(--(INDEX(Model_Inputs_Ref_Units,,CH$51)=$E78),INDEX(Model_Inputs_Ref_Units,,CH$52)),0)","v":0},{"$f":"IFERROR(SUMPRODUCT(--(INDEX(Model_Inputs_Ref_Units,,CI$51)=$E78),INDEX(Model_Inputs_Ref_Units,,CI$52)),0)","v":0},{"$f":"IFERROR(SUMPRODUCT(--(INDEX(Model_Inputs_Ref_Units,,CJ$51)=$E78),INDEX(Model_Inputs_Ref_Units,,CJ$52)),0)","v":0},{"$f":"IFERROR(SUMPRODUCT(--(INDEX(Model_Inputs_Ref_Units,,CK$51)=$E78),INDEX(Model_Inputs_Ref_Units,,CK$52)),0)","v":0},{"$f":"IFERROR(SUMPRODUCT(--(INDEX(Model_Inputs_Ref_Units,,CL$51)=$E78),INDEX(Model_Inputs_Ref_Units,,CL$52)),0)","v":0},{"$f":"IFERROR(SUMPRODUCT(--(INDEX(Model_Inputs_Ref_Units,,CM$51)=$E78),INDEX(Model_Inputs_Ref_Units,,CM$52)),0)","v":0},{"$f":"IFERROR(SUMPRODUCT(--(INDEX(Model_Inputs_Ref_Units,,CN$51)=$E78),INDEX(Model_Inputs_Ref_Units,,CN$52)),0)","v":0},{"$f":"IFERROR(SUMPRODUCT(--(INDEX(Model_Inputs_Ref_Units,,CO$51)=$E78),INDEX(Model_Inputs_Ref_Units,,CO$52)),0)","v":0},{"$f":"IFERROR(SUMPRODUCT(--(INDEX(Model_Inputs_Ref_Units,,CP$51)=$E78),INDEX(Model_Inputs_Ref_Units,,CP$52)),0)","v":0},{"$f":"IFERROR(SUMPRODUCT(--(INDEX(Model_Inputs_Ref_Units,,CQ$51)=$E78),INDEX(Model_Inputs_Ref_Units,,CQ$52)),0)","v":0},{"$f":"IFERROR(SUMPRODUCT(--(INDEX(Model_Inputs_Ref_Units,,CR$51)=$E78),INDEX(Model_Inputs_Ref_Units,,CR$52)),0)","v":0},{"$f":"IFERROR(SUMPRODUCT(--(INDEX(Model_Inputs_Ref_Units,,CS$51)=$E78),INDEX(Model_Inputs_Ref_Units,,CS$52)),0)","v":0},{"$f":"IFERROR(SUMPRODUCT(--(INDEX(Model_Inputs_Ref_Units,,CT$51)=$E78),INDEX(Model_Inputs_Ref_Units,,CT$52)),0)","v":0},{"$f":"IFERROR(SUMPRODUCT(--(INDEX(Model_Inputs_Ref_Units,,CU$51)=$E78),INDEX(Model_Inputs_Ref_Units,,CU$52)),0)","v":0},{"$f":"IFERROR(SUMPRODUCT(--(INDEX(Model_Inputs_Ref_Units,,CV$51)=$E78),INDEX(Model_Inputs_Ref_Units,,CV$52)),0)","v":0},{"$f":"IFERROR(SUMPRODUCT(--(INDEX(Model_Inputs_Ref_Units,,CW$51)=$E78),INDEX(Model_Inputs_Ref_Units,,CW$52)),0)","v":0},{"$f":"IFERROR(SUMPRODUCT(--(INDEX(Model_Inputs_Ref_Units,,CX$51)=$E78),INDEX(Model_Inputs_Ref_Units,,CX$52)),0)","v":0},{"$f":"IFERROR(SUMPRODUCT(--(INDEX(Model_Inputs_Ref_Units,,CY$51)=$E78),INDEX(Model_Inputs_Ref_Units,,CY$52)),0)","v":0},{"$f":"IFERROR(SUMPRODUCT(--(INDEX(Model_Inputs_Ref_Units,,CZ$51)=$E78),INDEX(Model_Inputs_Ref_Units,,CZ$52)),0)","v":0},{"$f":"IFERROR(SUMPRODUCT(--(INDEX(Model_Inputs_Ref_Units,,DA$51)=$E78),INDEX(Model_Inputs_Ref_Units,,DA$52)),0)","v":0},{"$f":"IFERROR(SUMPRODUCT(--(INDEX(Model_Inputs_Ref_Units,,DB$51)=$E78),INDEX(Model_Inputs_Ref_Units,,DB$52)),0)","v":0},{"$f":"IFERROR(SUMPRODUCT(--(INDEX(Model_Inputs_Ref_Units,,DC$51)=$E78),INDEX(Model_Inputs_Ref_Units,,DC$52)),0)","v":0},{"$f":"IFERROR(SUMPRODUCT(--(INDEX(Model_Inputs_Ref_Units,,DD$51)=$E78),INDEX(Model_Inputs_Ref_Units,,DD$52)),0)","v":0},{"$f":"IFERROR(SUMPRODUCT(--(INDEX(Model_Inputs_Ref_Units,,DE$51)=$E78),INDEX(Model_Inputs_Ref_Units,,DE$52)),0)","v":0},{"$f":"IFERROR(SUMPRODUCT(--(INDEX(Model_Inputs_Ref_Units,,DF$51)=$E78),INDEX(Model_Inputs_Ref_Units,,DF$52)),0)","v":0}]
[null,null,{"$error":"#DIV/0!"},null,{"$f":"IFERROR(INDEX(Ref_Data,1,F79),\"\")","v":""},26,0,0,0,0,{"$f":"IFERROR(SUMPRODUCT(--(INDEX(Model_Inputs_Ref_Units,,K$51)=$E79),INDEX(Model_Inputs_Ref_Units,,K$52)),0)","v":0},{"$f":"IFERROR(SUMPRODUCT(--(INDEX(Model_Inputs_Ref_Units,,L$51)=$E79),INDEX(Model_Inputs_Ref_Units,,L$52)),0)","v":0},{"$f":"IFERROR(SUMPRODUCT(--(INDEX(Model_Inputs_Ref_Units,,M$51)=$E79),INDEX(Model_Inputs_Ref_Units,,M$52)),0)","v":0},{"$f":"IFERROR(SUMPRODUCT(--(INDEX(Model_Inputs_Ref_Units,,N$51)=$E79),INDEX(Model_Inputs_Ref_Units,,N$52)),0)","v":0},{"$f":"IFERROR(SUMPRODUCT(--(INDEX(Model_Inputs_Ref_Units,,O$51)=$E79),INDEX(Model_Inputs_Ref_Units,,O$52)),0)","v":0},{"$f":"IFERROR(SUMPRODUCT(--(INDEX(Model_Inputs_Ref_Units,,P$51)=$E79),INDEX(Model_Inputs_Ref_Units,,P$52)),0)","v":0},{"$f":"IFERROR(SUMPRODUCT(--(INDEX(Model_Inputs_Ref_Units,,Q$51)=$E79),INDEX(Model_Inputs_Ref_Units,,Q$52)),0)","v":0},{"$f":"IFERROR(SUMPRODUCT(--(INDEX(Model_Inputs_Ref_Units,,R$51)=$E79),INDEX(Model_Inputs_Ref_Units,,R$52)),0)","v":0},{"$f":"IFERROR(SUMPRODUCT(--(INDEX(Model_Inputs_Ref_Units,,S$51)=$E79),INDEX(Model_Inputs_Ref_Units,,S$52)),0)","v":0},{"$f":"IFERROR(SUMPRODUCT(--(INDEX(Model_Inputs_Ref_Units,,T$51)=$E79),INDEX(Model_Inputs_Ref_Units,,T$52)),0)","v":0},{"$f":"IFERROR(SUMPRODUCT(--(INDEX(Model_Inputs_Ref_Units,,U$51)=$E79),INDEX(Model_Inputs_Ref_Units,,U$52)),0)","v":0},{"$f":"IFERROR(SUMPRODUCT(--(INDEX(Model_Inputs_Ref_Units,,V$51)=$E79),INDEX(Model_Inputs_Ref_Units,,V$52)),0)","v":0},{"$f":"IFERROR(SUMPRODUCT(--(INDEX(Model_Inputs_Ref_Units,,W$51)=$E79),INDEX(Model_Inputs_Ref_Units,,W$52)),0)","v":0},{"$f":"IFERROR(SUMPRODUCT(--(INDEX(Model_Inputs_Ref_Units,,X$51)=$E79),INDEX(Model_Inputs_Ref_Units,,X$52)),0)","v":0},{"$f":"IFERROR(SUMPRODUCT(--(INDEX(Model_Inputs_Ref_Units,,Y$51)=$E79),INDEX(Model_Inputs_Ref_Units,,Y$52)),0)","v":0},{"$f":"IFERROR(SUMPRODUCT(--(INDEX(Model_Inputs_Ref_Units,,Z$51)=$E79),INDEX(Model_Inputs_Ref_Units,,Z$52)),0)","v":0},{"$f":"IFERROR(SUMPRODUCT(--(INDEX(Model_Inputs_Ref_Units,,AA$51)=$E79),INDEX(Model_Inputs_Ref_Units,,AA$52)),0)","v":0},{"$f":"IFERROR(SUMPRODUCT(--(INDEX(Model_Inputs_Ref_Units,,AB$51)=$E79),INDEX(Model_Inputs_Ref_Units,,AB$52)),0)","v":0},{"$f":"IFERROR(SUMPRODUCT(--(INDEX(Model_Inputs_Ref_Units,,AC$51)=$E79),INDEX(Model_Inputs_Ref_Units,,AC$52)),0)","v":0},{"$f":"IFERROR(SUMPRODUCT(--(INDEX(Model_Inputs_Ref_Units,,AD$51)=$E79),INDEX(Model_Inputs_Ref_Units,,AD$52)),0)","v":0},{"$f":"IFERROR(SUMPRODUCT(--(INDEX(Model_Inputs_Ref_Units,,AE$51)=$E79),INDEX(Model_Inputs_Ref_Units,,AE$52)),0)","v":0},{"$f":"IFERROR(SUMPRODUCT(--(INDEX(Model_Inputs_Ref_Units,,AF$51)=$E79),INDEX(Model_Inputs_Ref_Units,,AF$52)),0)","v":0},{"$f":"IFERROR(SUMPRODUCT(--(INDEX(Model_Inputs_Ref_Units,,AG$51)=$E79),INDEX(Model_Inputs_Ref_Units,,AG$52)),0)","v":0},{"$f":"IFERROR(SUMPRODUCT(--(INDEX(Model_Inputs_Ref_Units,,AH$51)=$E79),INDEX(Model_Inputs_Ref_Units,,AH$52)),0)","v":0},{"$f":"IFERROR(SUMPRODUCT(--(INDEX(Model_Inputs_Ref_Units,,AI$51)=$E79),INDEX(Model_Inputs_Ref_Units,,AI$52)),0)","v":0},{"$f":"IFERROR(SUMPRODUCT(--(INDEX(Model_Inputs_Ref_Units,,AJ$51)=$E79),INDEX(Model_Inputs_Ref_Units,,AJ$52)),0)","v":0},{"$f":"IFERROR(SUMPRODUCT(--(INDEX(Model_Inputs_Ref_Units,,AK$51)=$E79),INDEX(Model_Inputs_Ref_Units,,AK$52)),0)","v":0},{"$f":"IFERROR(SUMPRODUCT(--(INDEX(Model_Inputs_Ref_Units,,AL$51)=$E79),INDEX(Model_Inputs_Ref_Units,,AL$52)),0)","v":0},{"$f":"IFERROR(SUMPRODUCT(--(INDEX(Model_Inputs_Ref_Units,,AM$51)=$E79),INDEX(Model_Inputs_Ref_Units,,AM$52)),0)","v":0},{"$f":"IFERROR(SUMPRODUCT(--(INDEX(Model_Inputs_Ref_Units,,AN$51)=$E79),INDEX(Model_Inputs_Ref_Units,,AN$52)),0)","v":0},{"$f":"IFERROR(SUMPRODUCT(--(INDEX(Model_Inputs_Ref_Units,,AO$51)=$E79),INDEX(Model_Inputs_Ref_Units,,AO$52)),0)","v":0},{"$f":"IFERROR(SUMPRODUCT(--(INDEX(Model_Inputs_Ref_Units,,AP$51)=$E79),INDEX(Model_Inputs_Ref_Units,,AP$52)),0)","v":0},{"$f":"IFERROR(SUMPRODUCT(--(INDEX(Model_Inputs_Ref_Units,,AQ$51)=$E79),INDEX(Model_Inputs_Ref_Units,,AQ$52)),0)","v":0},{"$f":"IFERROR(SUMPRODUCT(--(INDEX(Model_Inputs_Ref_Units,,AR$51)=$E79),INDEX(Model_Inputs_Ref_Units,,AR$52)),0)","v":0},{"$f":"IFERROR(SUMPRODUCT(--(INDEX(Model_Inputs_Ref_Units,,AS$51)=$E79),INDEX(Model_Inputs_Ref_Units,,AS$52)),0)","v":0},{"$f":"IFERROR(SUMPRODUCT(--(INDEX(Model_Inputs_Ref_Units,,AT$51)=$E79),INDEX(Model_Inputs_Ref_Units,,AT$52)),0)","v":0},{"$f":"IFERROR(SUMPRODUCT(--(INDEX(Model_Inputs_Ref_Units,,AU$51)=$E79),INDEX(Model_Inputs_Ref_Units,,AU$52)),0)","v":0},{"$f":"IFERROR(SUMPRODUCT(--(INDEX(Model_Inputs_Ref_Units,,AV$51)=$E79),INDEX(Model_Inputs_Ref_Units,,AV$52)),0)","v":0},{"$f":"IFERROR(SUMPRODUCT(--(INDEX(Model_Inputs_Ref_Units,,AW$51)=$E79),INDEX(Model_Inputs_Ref_Units,,AW$52)),0)","v":0},{"$f":"IFERROR(SUMPRODUCT(--(INDEX(Model_Inputs_Ref_Units,,AX$51)=$E79),INDEX(Model_Inputs_Ref_Units,,AX$52)),0)","v":0},{"$f":"IFERROR(SUMPRODUCT(--(INDEX(Model_Inputs_Ref_Units,,AY$51)=$E79),INDEX(Model_Inputs_Ref_Units,,AY$52)),0)","v":0},{"$f":"IFERROR(SUMPRODUCT(--(INDEX(Model_Inputs_Ref_Units,,AZ$51)=$E79),INDEX(Model_Inputs_Ref_Units,,AZ$52)),0)","v":0},{"$f":"IFERROR(SUMPRODUCT(--(INDEX(Model_Inputs_Ref_Units,,BA$51)=$E79),INDEX(Model_Inputs_Ref_Units,,BA$52)),0)","v":0},{"$f":"IFERROR(SUMPRODUCT(--(INDEX(Model_Inputs_Ref_Units,,BB$51)=$E79),INDEX(Model_Inputs_Ref_Units,,BB$52)),0)","v":0},{"$f":"IFERROR(SUMPRODUCT(--(INDEX(Model_Inputs_Ref_Units,,BC$51)=$E79),INDEX(Model_Inputs_Ref_Units,,BC$52)),0)","v":0},{"$f":"IFERROR(SUMPRODUCT(--(INDEX(Model_Inputs_Ref_Units,,BD$51)=$E79),INDEX(Model_Inputs_Ref_Units,,BD$52)),0)","v":0},{"$f":"IFERROR(SUMPRODUCT(--(INDEX(Model_Inputs_Ref_Units,,BE$51)=$E79),INDEX(Model_Inputs_Ref_Units,,BE$52)),0)","v":0},{"$f":"IFERROR(SUMPRODUCT(--(INDEX(Model_Inputs_Ref_Units,,BF$51)=$E79),INDEX(Model_Inputs_Ref_Units,,BF$52)),0)","v":0},{"$f":"IFERROR(SUMPRODUCT(--(INDEX(Model_Inputs_Ref_Units,,BG$51)=$E79),INDEX(Model_Inputs_Ref_Units,,BG$52)),0)","v":0},{"$f":"IFERROR(SUMPRODUCT(--(INDEX(Model_Inputs_Ref_Units,,BH$51)=$E79),INDEX(Model_Inputs_Ref_Units,,BH$52)),0)","v":0},{"$f":"IFERROR(SUMPRODUCT(--(INDEX(Model_Inputs_Ref_Units,,BI$51)=$E79),INDEX(Model_Inputs_Ref_Units,,BI$52)),0)","v":0},{"$f":"IFERROR(SUMPRODUCT(--(INDEX(Model_Inputs_Ref_Units,,BJ$51)=$E79),INDEX(Model_Inputs_Ref_Units,,BJ$52)),0)","v":0},{"$f":"IFERROR(SUMPRODUCT(--(INDEX(Model_Inputs_Ref_Units,,BK$51)=$E79),INDEX(Model_Inputs_Ref_Units,,BK$52)),0)","v":0},{"$f":"IFERROR(SUMPRODUCT(--(INDEX(Model_Inputs_Ref_Units,,BL$51)=$E79),INDEX(Model_Inputs_Ref_Units,,BL$52)),0)","v":0},{"$f":"IFERROR(SUMPRODUCT(--(INDEX(Model_Inputs_Ref_Units,,BM$51)=$E79),INDEX(Model_Inputs_Ref_Units,,BM$52)),0)","v":0},{"$f":"IFERROR(SUMPRODUCT(--(INDEX(Model_Inputs_Ref_Units,,BN$51)=$E79),INDEX(Model_Inputs_Ref_Units,,BN$52)),0)","v":0},{"$f":"IFERROR(SUMPRODUCT(--(INDEX(Model_Inputs_Ref_Units,,BO$51)=$E79),INDEX(Model_Inputs_Ref_Units,,BO$52)),0)","v":0},{"$f":"IFERROR(SUMPRODUCT(--(INDEX(Model_Inputs_Ref_Units,,BP$51)=$E79),INDEX(Model_Inputs_Ref_Units,,BP$52)),0)","v":0},{"$f":"IFERROR(SUMPRODUCT(--(INDEX(Model_Inputs_Ref_Units,,BQ$51)=$E79),INDEX(Model_Inputs_Ref_Units,,BQ$52)),0)","v":0},{"$f":"IFERROR(SUMPRODUCT(--(INDEX(Model_Inputs_Ref_Units,,BR$51)=$E79),INDEX(Model_Inputs_Ref_Units,,BR$52)),0)","v":0},{"$f":"IFERROR(SUMPRODUCT(--(INDEX(Model_Inputs_Ref_Units,,BS$51)=$E79),INDEX(Model_Inputs_Ref_Units,,BS$52)),0)","v":0},{"$f":"IFERROR(SUMPRODUCT(--(INDEX(Model_Inputs_Ref_Units,,BT$51)=$E79),INDEX(Model_Inputs_Ref_Units,,BT$52)),0)","v":0},{"$f":"IFERROR(SUMPRODUCT(--(INDEX(Model_Inputs_Ref_Units,,BU$51)=$E79),INDEX(Model_Inputs_Ref_Units,,BU$52)),0)","v":0},{"$f":"IFERROR(SUMPRODUCT(--(INDEX(Model_Inputs_Ref_Units,,BV$51)=$E79),INDEX(Model_Inputs_Ref_Units,,BV$52)),0)","v":0},{"$f":"IFERROR(SUMPRODUCT(--(INDEX(Model_Inputs_Ref_Units,,BW$51)=$E79),INDEX(Model_Inputs_Ref_Units,,BW$52)),0)","v":0},{"$f":"IFERROR(SUMPRODUCT(--(INDEX(Model_Inputs_Ref_Units,,BX$51)=$E79),INDEX(Model_Inputs_Ref_Units,,BX$52)),0)","v":0},{"$f":"IFERROR(SUMPRODUCT(--(INDEX(Model_Inputs_Ref_Units,,BY$51)=$E79),INDEX(Model_Inputs_Ref_Units,,BY$52)),0)","v":0},{"$f":"IFERROR(SUMPRODUCT(--(INDEX(Model_Inputs_Ref_Units,,BZ$51)=$E79),INDEX(Model_Inputs_Ref_Units,,BZ$52)),0)","v":0},{"$f":"IFERROR(SUMPRODUCT(--(INDEX(Model_Inputs_Ref_Units,,CA$51)=$E79),INDEX(Model_Inputs_Ref_Units,,CA$52)),0)","v":0},{"$f":"IFERROR(SUMPRODUCT(--(INDEX(Model_Inputs_Ref_Units,,CB$51)=$E79),INDEX(Model_Inputs_Ref_Units,,CB$52)),0)","v":0},{"$f":"IFERROR(SUMPRODUCT(--(INDEX(Model_Inputs_Ref_Units,,CC$51)=$E79),INDEX(Model_Inputs_Ref_Units,,CC$52)),0)","v":0},{"$f":"IFERROR(SUMPRODUCT(--(INDEX(Model_Inputs_Ref_Units,,CD$51)=$E79),INDEX(Model_Inputs_Ref_Units,,CD$52)),0)","v":0},{"$f":"IFERROR(SUMPRODUCT(--(INDEX(Model_Inputs_Ref_Units,,CE$51)=$E79),INDEX(Model_Inputs_Ref_Units,,CE$52)),0)","v":0},{"$f":"IFERROR(SUMPRODUCT(--(INDEX(Model_Inputs_Ref_Units,,CF$51)=$E79),INDEX(Model_Inputs_Ref_Units,,CF$52)),0)","v":0},{"$f":"IFERROR(SUMPRODUCT(--(INDEX(Model_Inputs_Ref_Units,,CG$51)=$E79),INDEX(Model_Inputs_Ref_Units,,CG$52)),0)","v":0},{"$f":"IFERROR(SUMPRODUCT(--(INDEX(Model_Inputs_Ref_Units,,CH$51)=$E79),INDEX(Model_Inputs_Ref_Units,,CH$52)),0)","v":0},{"$f":"IFERROR(SUMPRODUCT(--(INDEX(Model_Inputs_Ref_Units,,CI$51)=$E79),INDEX(Model_Inputs_Ref_Units,,CI$52)),0)","v":0},{"$f":"IFERROR(SUMPRODUCT(--(INDEX(Model_Inputs_Ref_Units,,CJ$51)=$E79),INDEX(Model_Inputs_Ref_Units,,CJ$52)),0)","v":0},{"$f":"IFERROR(SUMPRODUCT(--(INDEX(Model_Inputs_Ref_Units,,CK$51)=$E79),INDEX(Model_Inputs_Ref_Units,,CK$52)),0)","v":0},{"$f":"IFERROR(SUMPRODUCT(--(INDEX(Model_Inputs_Ref_Units,,CL$51)=$E79),INDEX(Model_Inputs_Ref_Units,,CL$52)),0)","v":0},{"$f":"IFERROR(SUMPRODUCT(--(INDEX(Model_Inputs_Ref_Units,,CM$51)=$E79),INDEX(Model_Inputs_Ref_Units,,CM$52)),0)","v":0},{"$f":"IFERROR(SUMPRODUCT(--(INDEX(Model_Inputs_Ref_Units,,CN$51)=$E79),INDEX(Model_Inputs_Ref_Units,,CN$52)),0)","v":0},{"$f":"IFERROR(SUMPRODUCT(--(INDEX(Model_Inputs_Ref_Units,,CO$51)=$E79),INDEX(Model_Inputs_Ref_Units,,CO$52)),0)","v":0},{"$f":"IFERROR(SUMPRODUCT(--(INDEX(Model_Inputs_Ref_Units,,CP$51)=$E79),INDEX(Model_Inputs_Ref_Units,,CP$52)),0)","v":0},{"$f":"IFERROR(SUMPRODUCT(--(INDEX(Model_Inputs_Ref_Units,,CQ$51)=$E79),INDEX(Model_Inputs_Ref_Units,,CQ$52)),0)","v":0},{"$f":"IFERROR(SUMPRODUCT(--(INDEX(Model_Inputs_Ref_Units,,CR$51)=$E79),INDEX(Model_Inputs_Ref_Units,,CR$52)),0)","v":0},{"$f":"IFERROR(SUMPRODUCT(--(INDEX(Model_Inputs_Ref_Units,,CS$51)=$E79),INDEX(Model_Inputs_Ref_Units,,CS$52)),0)","v":0},{"$f":"IFERROR(SUMPRODUCT(--(INDEX(Model_Inputs_Ref_Units,,CT$51)=$E79),INDEX(Model_Inputs_Ref_Units,,CT$52)),0)","v":0},{"$f":"IFERROR(SUMPRODUCT(--(INDEX(Model_Inputs_Ref_Units,,CU$51)=$E79),INDEX(Model_Inputs_Ref_Units,,CU$52)),0)","v":0},{"$f":"IFERROR(SUMPRODUCT(--(INDEX(Model_Inputs_Ref_Units,,CV$51)=$E79),INDEX(Model_Inputs_Ref_Units,,CV$52)),0)","v":0},{"$f":"IFERROR(SUMPRODUCT(--(INDEX(Model_Inputs_Ref_Units,,CW$51)=$E79),INDEX(Model_Inputs_Ref_Units,,CW$52)),0)","v":0},{"$f":"IFERROR(SUMPRODUCT(--(INDEX(Model_Inputs_Ref_Units,,CX$51)=$E79),INDEX(Model_Inputs_Ref_Units,,CX$52)),0)","v":0},{"$f":"IFERROR(SUMPRODUCT(--(INDEX(Model_Inputs_Ref_Units,,CY$51)=$E79),INDEX(Model_Inputs_Ref_Units,,CY$52)),0)","v":0},{"$f":"IFERROR(SUMPRODUCT(--(INDEX(Model_Inputs_Ref_Units,,CZ$51)=$E79),INDEX(Model_Inputs_Ref_Units,,CZ$52)),0)","v":0},{"$f":"IFERROR(SUMPRODUCT(--(INDEX(Model_Inputs_Ref_Units,,DA$51)=$E79),INDEX(Model_Inputs_Ref_Units,,DA$52)),0)","v":0},{"$f":"IFERROR(SUMPRODUCT(--(INDEX(Model_Inputs_Ref_Units,,DB$51)=$E79),INDEX(Model_Inputs_Ref_Units,,DB$52)),0)","v":0},{"$f":"IFERROR(SUMPRODUCT(--(INDEX(Model_Inputs_Ref_Units,,DC$51)=$E79),INDEX(Model_Inputs_Ref_Units,,DC$52)),0)","v":0},{"$f":"IFERROR(SUMPRODUCT(--(INDEX(Model_Inputs_Ref_Units,,DD$51)=$E79),INDEX(Model_Inputs_Ref_Units,,DD$52)),0)","v":0},{"$f":"IFERROR(SUMPRODUCT(--(INDEX(Model_Inputs_Ref_Units,,DE$51)=$E79),INDEX(Model_Inputs_Ref_Units,,DE$52)),0)","v":0},{"$f":"IFERROR(SUMPRODUCT(--(INDEX(Model_Inputs_Ref_Units,,DF$51)=$E79),INDEX(Model_Inputs_Ref_Units,,DF$52)),0)","v":0}]
[null,null,{"$error":"#DIV/0!"},null,{"$f":"IFERROR(INDEX(Ref_Data,1,F80),\"\")","v":""},27,0,0,0,0,{"$f":"IFERROR(SUMPRODUCT(--(INDEX(Model_Inputs_Ref_Units,,K$51)=$E80),INDEX(Model_Inputs_Ref_Units,,K$52)),0)","v":0},{"$f":"IFERROR(SUMPRODUCT(--(INDEX(Model_Inputs_Ref_Units,,L$51)=$E80),INDEX(Model_Inputs_Ref_Units,,L$52)),0)","v":0},{"$f":"IFERROR(SUMPRODUCT(--(INDEX(Model_Inputs_Ref_Units,,M$51)=$E80),INDEX(Model_Inputs_Ref_Units,,M$52)),0)","v":0},{"$f":"IFERROR(SUMPRODUCT(--(INDEX(Model_Inputs_Ref_Units,,N$51)=$E80),INDEX(Model_Inputs_Ref_Units,,N$52)),0)","v":0},{"$f":"IFERROR(SUMPRODUCT(--(INDEX(Model_Inputs_Ref_Units,,O$51)=$E80),INDEX(Model_Inputs_Ref_Units,,O$52)),0)","v":0},{"$f":"IFERROR(SUMPRODUCT(--(INDEX(Model_Inputs_Ref_Units,,P$51)=$E80),INDEX(Model_Inputs_Ref_Units,,P$52)),0)","v":0},{"$f":"IFERROR(SUMPRODUCT(--(INDEX(Model_Inputs_Ref_Units,,Q$51)=$E80),INDEX(Model_Inputs_Ref_Units,,Q$52)),0)","v":0},{"$f":"IFERROR(SUMPRODUCT(--(INDEX(Model_Inputs_Ref_Units,,R$51)=$E80),INDEX(Model_Inputs_Ref_Units,,R$52)),0)","v":0},{"$f":"IFERROR(SUMPRODUCT(--(INDEX(Model_Inputs_Ref_Units,,S$51)=$E80),INDEX(Model_Inputs_Ref_Units,,S$52)),0)","v":0},{"$f":"IFERROR(SUMPRODUCT(--(INDEX(Model_Inputs_Ref_Units,,T$51)=$E80),INDEX(Model_Inputs_Ref_Units,,T$52)),0)","v":0},{"$f":"IFERROR(SUMPRODUCT(--(INDEX(Model_Inputs_Ref_Units,,U$51)=$E80),INDEX(Model_Inputs_Ref_Units,,U$52)),0)","v":0},{"$f":"IFERROR(SUMPRODUCT(--(INDEX(Model_Inputs_Ref_Units,,V$51)=$E80),INDEX(Model_Inputs_Ref_Units,,V$52)),0)","v":0},{"$f":"IFERROR(SUMPRODUCT(--(INDEX(Model_Inputs_Ref_Units,,W$51)=$E80),INDEX(Model_Inputs_Ref_Units,,W$52)),0)","v":0},{"$f":"IFERROR(SUMPRODUCT(--(INDEX(Model_Inputs_Ref_Units,,X$51)=$E80),INDEX(Model_Inputs_Ref_Units,,X$52)),0)","v":0},{"$f":"IFERROR(SUMPRODUCT(--(INDEX(Model_Inputs_Ref_Units,,Y$51)=$E80),INDEX(Model_Inputs_Ref_Units,,Y$52)),0)","v":0},{"$f":"IFERROR(SUMPRODUCT(--(INDEX(Model_Inputs_Ref_Units,,Z$51)=$E80),INDEX(Model_Inputs_Ref_Units,,Z$52)),0)","v":0},{"$f":"IFERROR(SUMPRODUCT(--(INDEX(Model_Inputs_Ref_Units,,AA$51)=$E80),INDEX(Model_Inputs_Ref_Units,,AA$52)),0)","v":0},{"$f":"IFERROR(SUMPRODUCT(--(INDEX(Model_Inputs_Ref_Units,,AB$51)=$E80),INDEX(Model_Inputs_Ref_Units,,AB$52)),0)","v":0},{"$f":"IFERROR(SUMPRODUCT(--(INDEX(Model_Inputs_Ref_Units,,AC$51)=$E80),INDEX(Model_Inputs_Ref_Units,,AC$52)),0)","v":0},{"$f":"IFERROR(SUMPRODUCT(--(INDEX(Model_Inputs_Ref_Units,,AD$51)=$E80),INDEX(Model_Inputs_Ref_Units,,AD$52)),0)","v":0},{"$f":"IFERROR(SUMPRODUCT(--(INDEX(Model_Inputs_Ref_Units,,AE$51)=$E80),INDEX(Model_Inputs_Ref_Units,,AE$52)),0)","v":0},{"$f":"IFERROR(SUMPRODUCT(--(INDEX(Model_Inputs_Ref_Units,,AF$51)=$E80),INDEX(Model_Inputs_Ref_Units,,AF$52)),0)","v":0},{"$f":"IFERROR(SUMPRODUCT(--(INDEX(Model_Inputs_Ref_Units,,AG$51)=$E80),INDEX(Model_Inputs_Ref_Units,,AG$52)),0)","v":0},{"$f":"IFERROR(SUMPRODUCT(--(INDEX(Model_Inputs_Ref_Units,,AH$51)=$E80),INDEX(Model_Inputs_Ref_Units,,AH$52)),0)","v":0},{"$f":"IFERROR(SUMPRODUCT(--(INDEX(Model_Inputs_Ref_Units,,AI$51)=$E80),INDEX(Model_Inputs_Ref_Units,,AI$52)),0)","v":0},{"$f":"IFERROR(SUMPRODUCT(--(INDEX(Model_Inputs_Ref_Units,,AJ$51)=$E80),INDEX(Model_Inputs_Ref_Units,,AJ$52)),0)","v":0},{"$f":"IFERROR(SUMPRODUCT(--(INDEX(Model_Inputs_Ref_Units,,AK$51)=$E80),INDEX(Model_Inputs_Ref_Units,,AK$52)),0)","v":0},{"$f":"IFERROR(SUMPRODUCT(--(INDEX(Model_Inputs_Ref_Units,,AL$51)=$E80),INDEX(Model_Inputs_Ref_Units,,AL$52)),0)","v":0},{"$f":"IFERROR(SUMPRODUCT(--(INDEX(Model_Inputs_Ref_Units,,AM$51)=$E80),INDEX(Model_Inputs_Ref_Units,,AM$52)),0)","v":0},{"$f":"IFERROR(SUMPRODUCT(--(INDEX(Model_Inputs_Ref_Units,,AN$51)=$E80),INDEX(Model_Inputs_Ref_Units,,AN$52)),0)","v":0},{"$f":"IFERROR(SUMPRODUCT(--(INDEX(Model_Inputs_Ref_Units,,AO$51)=$E80),INDEX(Model_Inputs_Ref_Units,,AO$52)),0)","v":0},{"$f":"IFERROR(SUMPRODUCT(--(INDEX(Model_Inputs_Ref_Units,,AP$51)=$E80),INDEX(Model_Inputs_Ref_Units,,AP$52)),0)","v":0},{"$f":"IFERROR(SUMPRODUCT(--(INDEX(Model_Inputs_Ref_Units,,AQ$51)=$E80),INDEX(Model_Inputs_Ref_Units,,AQ$52)),0)","v":0},{"$f":"IFERROR(SUMPRODUCT(--(INDEX(Model_Inputs_Ref_Units,,AR$51)=$E80),INDEX(Model_Inputs_Ref_Units,,AR$52)),0)","v":0},{"$f":"IFERROR(SUMPRODUCT(--(INDEX(Model_Inputs_Ref_Units,,AS$51)=$E80),INDEX(Model_Inputs_Ref_Units,,AS$52)),0)","v":0},{"$f":"IFERROR(SUMPRODUCT(--(INDEX(Model_Inputs_Ref_Units,,AT$51)=$E80),INDEX(Model_Inputs_Ref_Units,,AT$52)),0)","v":0},{"$f":"IFERROR(SUMPRODUCT(--(INDEX(Model_Inputs_Ref_Units,,AU$51)=$E80),INDEX(Model_Inputs_Ref_Units,,AU$52)),0)","v":0},{"$f":"IFERROR(SUMPRODUCT(--(INDEX(Model_Inputs_Ref_Units,,AV$51)=$E80),INDEX(Model_Inputs_Ref_Units,,AV$52)),0)","v":0},{"$f":"IFERROR(SUMPRODUCT(--(INDEX(Model_Inputs_Ref_Units,,AW$51)=$E80),INDEX(Model_Inputs_Ref_Units,,AW$52)),0)","v":0},{"$f":"IFERROR(SUMPRODUCT(--(INDEX(Model_Inputs_Ref_Units,,AX$51)=$E80),INDEX(Model_Inputs_Ref_Units,,AX$52)),0)","v":0},{"$f":"IFERROR(SUMPRODUCT(--(INDEX(Model_Inputs_Ref_Units,,AY$51)=$E80),INDEX(Model_Inputs_Ref_Units,,AY$52)),0)","v":0},{"$f":"IFERROR(SUMPRODUCT(--(INDEX(Model_Inputs_Ref_Units,,AZ$51)=$E80),INDEX(Model_Inputs_Ref_Units,,AZ$52)),0)","v":0},{"$f":"IFERROR(SUMPRODUCT(--(INDEX(Model_Inputs_Ref_Units,,BA$51)=$E80),INDEX(Model_Inputs_Ref_Units,,BA$52)),0)","v":0},{"$f":"IFERROR(SUMPRODUCT(--(INDEX(Model_Inputs_Ref_Units,,BB$51)=$E80),INDEX(Model_Inputs_Ref_Units,,BB$52)),0)","v":0},{"$f":"IFERROR(SUMPRODUCT(--(INDEX(Model_Inputs_Ref_Units,,BC$51)=$E80),INDEX(Model_Inputs_Ref_Units,,BC$52)),0)","v":0},{"$f":"IFERROR(SUMPRODUCT(--(INDEX(Model_Inputs_Ref_Units,,BD$51)=$E80),INDEX(Model_Inputs_Ref_Units,,BD$52)),0)","v":0},{"$f":"IFERROR(SUMPRODUCT(--(INDEX(Model_Inputs_Ref_Units,,BE$51)=$E80),INDEX(Model_Inputs_Ref_Units,,BE$52)),0)","v":0},{"$f":"IFERROR(SUMPRODUCT(--(INDEX(Model_Inputs_Ref_Units,,BF$51)=$E80),INDEX(Model_Inputs_Ref_Units,,BF$52)),0)","v":0},{"$f":"IFERROR(SUMPRODUCT(--(INDEX(Model_Inputs_Ref_Units,,BG$51)=$E80),INDEX(Model_Inputs_Ref_Units,,BG$52)),0)","v":0},{"$f":"IFERROR(SUMPRODUCT(--(INDEX(Model_Inputs_Ref_Units,,BH$51)=$E80),INDEX(Model_Inputs_Ref_Units,,BH$52)),0)","v":0},{"$f":"IFERROR(SUMPRODUCT(--(INDEX(Model_Inputs_Ref_Units,,BI$51)=$E80),INDEX(Model_Inputs_Ref_Units,,BI$52)),0)","v":0},{"$f":"IFERROR(SUMPRODUCT(--(INDEX(Model_Inputs_Ref_Units,,BJ$51)=$E80),INDEX(Model_Inputs_Ref_Units,,BJ$52)),0)","v":0},{"$f":"IFERROR(SUMPRODUCT(--(INDEX(Model_Inputs_Ref_Units,,BK$51)=$E80),INDEX(Model_Inputs_Ref_Units,,BK$52)),0)","v":0},{"$f":"IFERROR(SUMPRODUCT(--(INDEX(Model_Inputs_Ref_Units,,BL$51)=$E80),INDEX(Model_Inputs_Ref_Units,,BL$52)),0)","v":0},{"$f":"IFERROR(SUMPRODUCT(--(INDEX(Model_Inputs_Ref_Units,,BM$51)=$E80),INDEX(Model_Inputs_Ref_Units,,BM$52)),0)","v":0},{"$f":"IFERROR(SUMPRODUCT(--(INDEX(Model_Inputs_Ref_Units,,BN$51)=$E80),INDEX(Model_Inputs_Ref_Units,,BN$52)),0)","v":0},{"$f":"IFERROR(SUMPRODUCT(--(INDEX(Model_Inputs_Ref_Units,,BO$51)=$E80),INDEX(Model_Inputs_Ref_Units,,BO$52)),0)","v":0},{"$f":"IFERROR(SUMPRODUCT(--(INDEX(Model_Inputs_Ref_Units,,BP$51)=$E80),INDEX(Model_Inputs_Ref_Units,,BP$52)),0)","v":0},{"$f":"IFERROR(SUMPRODUCT(--(INDEX(Model_Inputs_Ref_Units,,BQ$51)=$E80),INDEX(Model_Inputs_Ref_Units,,BQ$52)),0)","v":0},{"$f":"IFERROR(SUMPRODUCT(--(INDEX(Model_Inputs_Ref_Units,,BR$51)=$E80),INDEX(Model_Inputs_Ref_Units,,BR$52)),0)","v":0},{"$f":"IFERROR(SUMPRODUCT(--(INDEX(Model_Inputs_Ref_Units,,BS$51)=$E80),INDEX(Model_Inputs_Ref_Units,,BS$52)),0)","v":0},{"$f":"IFERROR(SUMPRODUCT(--(INDEX(Model_Inputs_Ref_Units,,BT$51)=$E80),INDEX(Model_Inputs_Ref_Units,,BT$52)),0)","v":0},{"$f":"IFERROR(SUMPRODUCT(--(INDEX(Model_Inputs_Ref_Units,,BU$51)=$E80),INDEX(Model_Inputs_Ref_Units,,BU$52)),0)","v":0},{"$f":"IFERROR(SUMPRODUCT(--(INDEX(Model_Inputs_Ref_Units,,BV$51)=$E80),INDEX(Model_Inputs_Ref_Units,,BV$52)),0)","v":0},{"$f":"IFERROR(SUMPRODUCT(--(INDEX(Model_Inputs_Ref_Units,,BW$51)=$E80),INDEX(Model_Inputs_Ref_Units,,BW$52)),0)","v":0},{"$f":"IFERROR(SUMPRODUCT(--(INDEX(Model_Inputs_Ref_Units,,BX$51)=$E80),INDEX(Model_Inputs_Ref_Units,,BX$52)),0)","v":0},{"$f":"IFERROR(SUMPRODUCT(--(INDEX(Model_Inputs_Ref_Units,,BY$51)=$E80),INDEX(Model_Inputs_Ref_Units,,BY$52)),0)","v":0},{"$f":"IFERROR(SUMPRODUCT(--(INDEX(Model_Inputs_Ref_Units,,BZ$51)=$E80),INDEX(Model_Inputs_Ref_Units,,BZ$52)),0)","v":0},{"$f":"IFERROR(SUMPRODUCT(--(INDEX(Model_Inputs_Ref_Units,,CA$51)=$E80),INDEX(Model_Inputs_Ref_Units,,CA$52)),0)","v":0},{"$f":"IFERROR(SUMPRODUCT(--(INDEX(Model_Inputs_Ref_Units,,CB$51)=$E80),INDEX(Model_Inputs_Ref_Units,,CB$52)),0)","v":0},{"$f":"IFERROR(SUMPRODUCT(--(INDEX(Model_Inputs_Ref_Units,,CC$51)=$E80),INDEX(Model_Inputs_Ref_Units,,CC$52)),0)","v":0},{"$f":"IFERROR(SUMPRODUCT(--(INDEX(Model_Inputs_Ref_Units,,CD$51)=$E80),INDEX(Model_Inputs_Ref_Units,,CD$52)),0)","v":0},{"$f":"IFERROR(SUMPRODUCT(--(INDEX(Model_Inputs_Ref_Units,,CE$51)=$E80),INDEX(Model_Inputs_Ref_Units,,CE$52)),0)","v":0},{"$f":"IFERROR(SUMPRODUCT(--(INDEX(Model_Inputs_Ref_Units,,CF$51)=$E80),INDEX(Model_Inputs_Ref_Units,,CF$52)),0)","v":0},{"$f":"IFERROR(SUMPRODUCT(--(INDEX(Model_Inputs_Ref_Units,,CG$51)=$E80),INDEX(Model_Inputs_Ref_Units,,CG$52)),0)","v":0},{"$f":"IFERROR(SUMPRODUCT(--(INDEX(Model_Inputs_Ref_Units,,CH$51)=$E80),INDEX(Model_Inputs_Ref_Units,,CH$52)),0)","v":0},{"$f":"IFERROR(SUMPRODUCT(--(INDEX(Model_Inputs_Ref_Units,,CI$51)=$E80),INDEX(Model_Inputs_Ref_Units,,CI$52)),0)","v":0},{"$f":"IFERROR(SUMPRODUCT(--(INDEX(Model_Inputs_Ref_Units,,CJ$51)=$E80),INDEX(Model_Inputs_Ref_Units,,CJ$52)),0)","v":0},{"$f":"IFERROR(SUMPRODUCT(--(INDEX(Model_Inputs_Ref_Units,,CK$51)=$E80),INDEX(Model_Inputs_Ref_Units,,CK$52)),0)","v":0},{"$f":"IFERROR(SUMPRODUCT(--(INDEX(Model_Inputs_Ref_Units,,CL$51)=$E80),INDEX(Model_Inputs_Ref_Units,,CL$52)),0)","v":0},{"$f":"IFERROR(SUMPRODUCT(--(INDEX(Model_Inputs_Ref_Units,,CM$51)=$E80),INDEX(Model_Inputs_Ref_Units,,CM$52)),0)","v":0},{"$f":"IFERROR(SUMPRODUCT(--(INDEX(Model_Inputs_Ref_Units,,CN$51)=$E80),INDEX(Model_Inputs_Ref_Units,,CN$52)),0)","v":0},{"$f":"IFERROR(SUMPRODUCT(--(INDEX(Model_Inputs_Ref_Units,,CO$51)=$E80),INDEX(Model_Inputs_Ref_Units,,CO$52)),0)","v":0},{"$f":"IFERROR(SUMPRODUCT(--(INDEX(Model_Inputs_Ref_Units,,CP$51)=$E80),INDEX(Model_Inputs_Ref_Units,,CP$52)),0)","v":0},{"$f":"IFERROR(SUMPRODUCT(--(INDEX(Model_Inputs_Ref_Units,,CQ$51)=$E80),INDEX(Model_Inputs_Ref_Units,,CQ$52)),0)","v":0},{"$f":"IFERROR(SUMPRODUCT(--(INDEX(Model_Inputs_Ref_Units,,CR$51)=$E80),INDEX(Model_Inputs_Ref_Units,,CR$52)),0)","v":0},{"$f":"IFERROR(SUMPRODUCT(--(INDEX(Model_Inputs_Ref_Units,,CS$51)=$E80),INDEX(Model_Inputs_Ref_Units,,CS$52)),0)","v":0},{"$f":"IFERROR(SUMPRODUCT(--(INDEX(Model_Inputs_Ref_Units,,CT$51)=$E80),INDEX(Model_Inputs_Ref_Units,,CT$52)),0)","v":0},{"$f":"IFERROR(SUMPRODUCT(--(INDEX(Model_Inputs_Ref_Units,,CU$51)=$E80),INDEX(Model_Inputs_Ref_Units,,CU$52)),0)","v":0},{"$f":"IFERROR(SUMPRODUCT(--(INDEX(Model_Inputs_Ref_Units,,CV$51)=$E80),INDEX(Model_Inputs_Ref_Units,,CV$52)),0)","v":0},{"$f":"IFERROR(SUMPRODUCT(--(INDEX(Model_Inputs_Ref_Units,,CW$51)=$E80),INDEX(Model_Inputs_Ref_Units,,CW$52)),0)","v":0},{"$f":"IFERROR(SUMPRODUCT(--(INDEX(Model_Inputs_Ref_Units,,CX$51)=$E80),INDEX(Model_Inputs_Ref_Units,,CX$52)),0)","v":0},{"$f":"IFERROR(SUMPRODUCT(--(INDEX(Model_Inputs_Ref_Units,,CY$51)=$E80),INDEX(Model_Inputs_Ref_Units,,CY$52)),0)","v":0},{"$f":"IFERROR(SUMPRODUCT(--(INDEX(Model_Inputs_Ref_Units,,CZ$51)=$E80),INDEX(Model_Inputs_Ref_Units,,CZ$52)),0)","v":0},{"$f":"IFERROR(SUMPRODUCT(--(INDEX(Model_Inputs_Ref_Units,,DA$51)=$E80),INDEX(Model_Inputs_Ref_Units,,DA$52)),0)","v":0},{"$f":"IFERROR(SUMPRODUCT(--(INDEX(Model_Inputs_Ref_Units,,DB$51)=$E80),INDEX(Model_Inputs_Ref_Units,,DB$52)),0)","v":0},{"$f":"IFERROR(SUMPRODUCT(--(INDEX(Model_Inputs_Ref_Units,,DC$51)=$E80),INDEX(Model_Inputs_Ref_Units,,DC$52)),0)","v":0},{"$f":"IFERROR(SUMPRODUCT(--(INDEX(Model_Inputs_Ref_Units,,DD$51)=$E80),INDEX(Model_Inputs_Ref_Units,,DD$52)),0)","v":0},{"$f":"IFERROR(SUMPRODUCT(--(INDEX(Model_Inputs_Ref_Units,,DE$51)=$E80),INDEX(Model_Inputs_Ref_Units,,DE$52)),0)","v":0},{"$f":"IFERROR(SUMPRODUCT(--(INDEX(Model_Inputs_Ref_Units,,DF$51)=$E80),INDEX(Model_Inputs_Ref_Units,,DF$52)),0)","v":0}]
[null,null,{"$error":"#DIV/0!"},null,{"$f":"IFERROR(INDEX(Ref_Data,1,F81),\"\")","v":""},28,0,0,0,0,{"$f":"IFERROR(SUMPRODUCT(--(INDEX(Model_Inputs_Ref_Units,,K$51)=$E81),INDEX(Model_Inputs_Ref_Units,,K$52)),0)","v":0},{"$f":"IFERROR(SUMPRODUCT(--(INDEX(Model_Inputs_Ref_Units,,L$51)=$E81),INDEX(Model_Inputs_Ref_Units,,L$52)),0)","v":0},{"$f":"IFERROR(SUMPRODUCT(--(INDEX(Model_Inputs_Ref_Units,,M$51)=$E81),INDEX(Model_Inputs_Ref_Units,,M$52)),0)","v":0},{"$f":"IFERROR(SUMPRODUCT(--(INDEX(Model_Inputs_Ref_Units,,N$51)=$E81),INDEX(Model_Inputs_Ref_Units,,N$52)),0)","v":0},{"$f":"IFERROR(SUMPRODUCT(--(INDEX(Model_Inputs_Ref_Units,,O$51)=$E81),INDEX(Model_Inputs_Ref_Units,,O$52)),0)","v":0},{"$f":"IFERROR(SUMPRODUCT(--(INDEX(Model_Inputs_Ref_Units,,P$51)=$E81),INDEX(Model_Inputs_Ref_Units,,P$52)),0)","v":0},{"$f":"IFERROR(SUMPRODUCT(--(INDEX(Model_Inputs_Ref_Units,,Q$51)=$E81),INDEX(Model_Inputs_Ref_Units,,Q$52)),0)","v":0},{"$f":"IFERROR(SUMPRODUCT(--(INDEX(Model_Inputs_Ref_Units,,R$51)=$E81),INDEX(Model_Inputs_Ref_Units,,R$52)),0)","v":0},{"$f":"IFERROR(SUMPRODUCT(--(INDEX(Model_Inputs_Ref_Units,,S$51)=$E81),INDEX(Model_Inputs_Ref_Units,,S$52)),0)","v":0},{"$f":"IFERROR(SUMPRODUCT(--(INDEX(Model_Inputs_Ref_Units,,T$51)=$E81),INDEX(Model_Inputs_Ref_Units,,T$52)),0)","v":0},{"$f":"IFERROR(SUMPRODUCT(--(INDEX(Model_Inputs_Ref_Units,,U$51)=$E81),INDEX(Model_Inputs_Ref_Units,,U$52)),0)","v":0},{"$f":"IFERROR(SUMPRODUCT(--(INDEX(Model_Inputs_Ref_Units,,V$51)=$E81),INDEX(Model_Inputs_Ref_Units,,V$52)),0)","v":0},{"$f":"IFERROR(SUMPRODUCT(--(INDEX(Model_Inputs_Ref_Units,,W$51)=$E81),INDEX(Model_Inputs_Ref_Units,,W$52)),0)","v":0},{"$f":"IFERROR(SUMPRODUCT(--(INDEX(Model_Inputs_Ref_Units,,X$51)=$E81),INDEX(Model_Inputs_Ref_Units,,X$52)),0)","v":0},{"$f":"IFERROR(SUMPRODUCT(--(INDEX(Model_Inputs_Ref_Units,,Y$51)=$E81),INDEX(Model_Inputs_Ref_Units,,Y$52)),0)","v":0},{"$f":"IFERROR(SUMPRODUCT(--(INDEX(Model_Inputs_Ref_Units,,Z$51)=$E81),INDEX(Model_Inputs_Ref_Units,,Z$52)),0)","v":0},{"$f":"IFERROR(SUMPRODUCT(--(INDEX(Model_Inputs_Ref_Units,,AA$51)=$E81),INDEX(Model_Inputs_Ref_Units,,AA$52)),0)","v":0},{"$f":"IFERROR(SUMPRODUCT(--(INDEX(Model_Inputs_Ref_Units,,AB$51)=$E81),INDEX(Model_Inputs_Ref_Units,,AB$52)),0)","v":0},{"$f":"IFERROR(SUMPRODUCT(--(INDEX(Model_Inputs_Ref_Units,,AC$51)=$E81),INDEX(Model_Inputs_Ref_Units,,AC$52)),0)","v":0},{"$f":"IFERROR(SUMPRODUCT(--(INDEX(Model_Inputs_Ref_Units,,AD$51)=$E81),INDEX(Model_Inputs_Ref_Units,,AD$52)),0)","v":0},{"$f":"IFERROR(SUMPRODUCT(--(INDEX(Model_Inputs_Ref_Units,,AE$51)=$E81),INDEX(Model_Inputs_Ref_Units,,AE$52)),0)","v":0},{"$f":"IFERROR(SUMPRODUCT(--(INDEX(Model_Inputs_Ref_Units,,AF$51)=$E81),INDEX(Model_Inputs_Ref_Units,,AF$52)),0)","v":0},{"$f":"IFERROR(SUMPRODUCT(--(INDEX(Model_Inputs_Ref_Units,,AG$51)=$E81),INDEX(Model_Inputs_Ref_Units,,AG$52)),0)","v":0},{"$f":"IFERROR(SUMPRODUCT(--(INDEX(Model_Inputs_Ref_Units,,AH$51)=$E81),INDEX(Model_Inputs_Ref_Units,,AH$52)),0)","v":0},{"$f":"IFERROR(SUMPRODUCT(--(INDEX(Model_Inputs_Ref_Units,,AI$51)=$E81),INDEX(Model_Inputs_Ref_Units,,AI$52)),0)","v":0},{"$f":"IFERROR(SUMPRODUCT(--(INDEX(Model_Inputs_Ref_Units,,AJ$51)=$E81),INDEX(Model_Inputs_Ref_Units,,AJ$52)),0)","v":0},{"$f":"IFERROR(SUMPRODUCT(--(INDEX(Model_Inputs_Ref_Units,,AK$51)=$E81),INDEX(Model_Inputs_Ref_Units,,AK$52)),0)","v":0},{"$f":"IFERROR(SUMPRODUCT(--(INDEX(Model_Inputs_Ref_Units,,AL$51)=$E81),INDEX(Model_Inputs_Ref_Units,,AL$52)),0)","v":0},{"$f":"IFERROR(SUMPRODUCT(--(INDEX(Model_Inputs_Ref_Units,,AM$51)=$E81),INDEX(Model_Inputs_Ref_Units,,AM$52)),0)","v":0},{"$f":"IFERROR(SUMPRODUCT(--(INDEX(Model_Inputs_Ref_Units,,AN$51)=$E81),INDEX(Model_Inputs_Ref_Units,,AN$52)),0)","v":0},{"$f":"IFERROR(SUMPRODUCT(--(INDEX(Model_Inputs_Ref_Units,,AO$51)=$E81),INDEX(Model_Inputs_Ref_Units,,AO$52)),0)","v":0},{"$f":"IFERROR(SUMPRODUCT(--(INDEX(Model_Inputs_Ref_Units,,AP$51)=$E81),INDEX(Model_Inputs_Ref_Units,,AP$52)),0)","v":0},{"$f":"IFERROR(SUMPRODUCT(--(INDEX(Model_Inputs_Ref_Units,,AQ$51)=$E81),INDEX(Model_Inputs_Ref_Units,,AQ$52)),0)","v":0},{"$f":"IFERROR(SUMPRODUCT(--(INDEX(Model_Inputs_Ref_Units,,AR$51)=$E81),INDEX(Model_Inputs_Ref_Units,,AR$52)),0)","v":0},{"$f":"IFERROR(SUMPRODUCT(--(INDEX(Model_Inputs_Ref_Units,,AS$51)=$E81),INDEX(Model_Inputs_Ref_Units,,AS$52)),0)","v":0},{"$f":"IFERROR(SUMPRODUCT(--(INDEX(Model_Inputs_Ref_Units,,AT$51)=$E81),INDEX(Model_Inputs_Ref_Units,,AT$52)),0)","v":0},{"$f":"IFERROR(SUMPRODUCT(--(INDEX(Model_Inputs_Ref_Units,,AU$51)=$E81),INDEX(Model_Inputs_Ref_Units,,AU$52)),0)","v":0},{"$f":"IFERROR(SUMPRODUCT(--(INDEX(Model_Inputs_Ref_Units,,AV$51)=$E81),INDEX(Model_Inputs_Ref_Units,,AV$52)),0)","v":0},{"$f":"IFERROR(SUMPRODUCT(--(INDEX(Model_Inputs_Ref_Units,,AW$51)=$E81),INDEX(Model_Inputs_Ref_Units,,AW$52)),0)","v":0},{"$f":"IFERROR(SUMPRODUCT(--(INDEX(Model_Inputs_Ref_Units,,AX$51)=$E81),INDEX(Model_Inputs_Ref_Units,,AX$52)),0)","v":0},{"$f":"IFERROR(SUMPRODUCT(--(INDEX(Model_Inputs_Ref_Units,,AY$51)=$E81),INDEX(Model_Inputs_Ref_Units,,AY$52)),0)","v":0},{"$f":"IFERROR(SUMPRODUCT(--(INDEX(Model_Inputs_Ref_Units,,AZ$51)=$E81),INDEX(Model_Inputs_Ref_Units,,AZ$52)),0)","v":0},{"$f":"IFERROR(SUMPRODUCT(--(INDEX(Model_Inputs_Ref_Units,,BA$51)=$E81),INDEX(Model_Inputs_Ref_Units,,BA$52)),0)","v":0},{"$f":"IFERROR(SUMPRODUCT(--(INDEX(Model_Inputs_Ref_Units,,BB$51)=$E81),INDEX(Model_Inputs_Ref_Units,,BB$52)),0)","v":0},{"$f":"IFERROR(SUMPRODUCT(--(INDEX(Model_Inputs_Ref_Units,,BC$51)=$E81),INDEX(Model_Inputs_Ref_Units,,BC$52)),0)","v":0},{"$f":"IFERROR(SUMPRODUCT(--(INDEX(Model_Inputs_Ref_Units,,BD$51)=$E81),INDEX(Model_Inputs_Ref_Units,,BD$52)),0)","v":0},{"$f":"IFERROR(SUMPRODUCT(--(INDEX(Model_Inputs_Ref_Units,,BE$51)=$E81),INDEX(Model_Inputs_Ref_Units,,BE$52)),0)","v":0},{"$f":"IFERROR(SUMPRODUCT(--(INDEX(Model_Inputs_Ref_Units,,BF$51)=$E81),INDEX(Model_Inputs_Ref_Units,,BF$52)),0)","v":0},{"$f":"IFERROR(SUMPRODUCT(--(INDEX(Model_Inputs_Ref_Units,,BG$51)=$E81),INDEX(Model_Inputs_Ref_Units,,BG$52)),0)","v":0},{"$f":"IFERROR(SUMPRODUCT(--(INDEX(Model_Inputs_Ref_Units,,BH$51)=$E81),INDEX(Model_Inputs_Ref_Units,,BH$52)),0)","v":0},{"$f":"IFERROR(SUMPRODUCT(--(INDEX(Model_Inputs_Ref_Units,,BI$51)=$E81),INDEX(Model_Inputs_Ref_Units,,BI$52)),0)","v":0},{"$f":"IFERROR(SUMPRODUCT(--(INDEX(Model_Inputs_Ref_Units,,BJ$51)=$E81),INDEX(Model_Inputs_Ref_Units,,BJ$52)),0)","v":0},{"$f":"IFERROR(SUMPRODUCT(--(INDEX(Model_Inputs_Ref_Units,,BK$51)=$E81),INDEX(Model_Inputs_Ref_Units,,BK$52)),0)","v":0},{"$f":"IFERROR(SUMPRODUCT(--(INDEX(Model_Inputs_Ref_Units,,BL$51)=$E81),INDEX(Model_Inputs_Ref_Units,,BL$52)),0)","v":0},{"$f":"IFERROR(SUMPRODUCT(--(INDEX(Model_Inputs_Ref_Units,,BM$51)=$E81),INDEX(Model_Inputs_Ref_Units,,BM$52)),0)","v":0},{"$f":"IFERROR(SUMPRODUCT(--(INDEX(Model_Inputs_Ref_Units,,BN$51)=$E81),INDEX(Model_Inputs_Ref_Units,,BN$52)),0)","v":0},{"$f":"IFERROR(SUMPRODUCT(--(INDEX(Model_Inputs_Ref_Units,,BO$51)=$E81),INDEX(Model_Inputs_Ref_Units,,BO$52)),0)","v":0},{"$f":"IFERROR(SUMPRODUCT(--(INDEX(Model_Inputs_Ref_Units,,BP$51)=$E81),INDEX(Model_Inputs_Ref_Units,,BP$52)),0)","v":0},{"$f":"IFERROR(SUMPRODUCT(--(INDEX(Model_Inputs_Ref_Units,,BQ$51)=$E81),INDEX(Model_Inputs_Ref_Units,,BQ$52)),0)","v":0},{"$f":"IFERROR(SUMPRODUCT(--(INDEX(Model_Inputs_Ref_Units,,BR$51)=$E81),INDEX(Model_Inputs_Ref_Units,,BR$52)),0)","v":0},{"$f":"IFERROR(SUMPRODUCT(--(INDEX(Model_Inputs_Ref_Units,,BS$51)=$E81),INDEX(Model_Inputs_Ref_Units,,BS$52)),0)","v":0},{"$f":"IFERROR(SUMPRODUCT(--(INDEX(Model_Inputs_Ref_Units,,BT$51)=$E81),INDEX(Model_Inputs_Ref_Units,,BT$52)),0)","v":0},{"$f":"IFERROR(SUMPRODUCT(--(INDEX(Model_Inputs_Ref_Units,,BU$51)=$E81),INDEX(Model_Inputs_Ref_Units,,BU$52)),0)","v":0},{"$f":"IFERROR(SUMPRODUCT(--(INDEX(Model_Inputs_Ref_Units,,BV$51)=$E81),INDEX(Model_Inputs_Ref_Units,,BV$52)),0)","v":0},{"$f":"IFERROR(SUMPRODUCT(--(INDEX(Model_Inputs_Ref_Units,,BW$51)=$E81),INDEX(Model_Inputs_Ref_Units,,BW$52)),0)","v":0},{"$f":"IFERROR(SUMPRODUCT(--(INDEX(Model_Inputs_Ref_Units,,BX$51)=$E81),INDEX(Model_Inputs_Ref_Units,,BX$52)),0)","v":0},{"$f":"IFERROR(SUMPRODUCT(--(INDEX(Model_Inputs_Ref_Units,,BY$51)=$E81),INDEX(Model_Inputs_Ref_Units,,BY$52)),0)","v":0},{"$f":"IFERROR(SUMPRODUCT(--(INDEX(Model_Inputs_Ref_Units,,BZ$51)=$E81),INDEX(Model_Inputs_Ref_Units,,BZ$52)),0)","v":0},{"$f":"IFERROR(SUMPRODUCT(--(INDEX(Model_Inputs_Ref_Units,,CA$51)=$E81),INDEX(Model_Inputs_Ref_Units,,CA$52)),0)","v":0},{"$f":"IFERROR(SUMPRODUCT(--(INDEX(Model_Inputs_Ref_Units,,CB$51)=$E81),INDEX(Model_Inputs_Ref_Units,,CB$52)),0)","v":0},{"$f":"IFERROR(SUMPRODUCT(--(INDEX(Model_Inputs_Ref_Units,,CC$51)=$E81),INDEX(Model_Inputs_Ref_Units,,CC$52)),0)","v":0},{"$f":"IFERROR(SUMPRODUCT(--(INDEX(Model_Inputs_Ref_Units,,CD$51)=$E81),INDEX(Model_Inputs_Ref_Units,,CD$52)),0)","v":0},{"$f":"IFERROR(SUMPRODUCT(--(INDEX(Model_Inputs_Ref_Units,,CE$51)=$E81),INDEX(Model_Inputs_Ref_Units,,CE$52)),0)","v":0},{"$f":"IFERROR(SUMPRODUCT(--(INDEX(Model_Inputs_Ref_Units,,CF$51)=$E81),INDEX(Model_Inputs_Ref_Units,,CF$52)),0)","v":0},{"$f":"IFERROR(SUMPRODUCT(--(INDEX(Model_Inputs_Ref_Units,,CG$51)=$E81),INDEX(Model_Inputs_Ref_Units,,CG$52)),0)","v":0},{"$f":"IFERROR(SUMPRODUCT(--(INDEX(Model_Inputs_Ref_Units,,CH$51)=$E81),INDEX(Model_Inputs_Ref_Units,,CH$52)),0)","v":0},{"$f":"IFERROR(SUMPRODUCT(--(INDEX(Model_Inputs_Ref_Units,,CI$51)=$E81),INDEX(Model_Inputs_Ref_Units,,CI$52)),0)","v":0},{"$f":"IFERROR(SUMPRODUCT(--(INDEX(Model_Inputs_Ref_Units,,CJ$51)=$E81),INDEX(Model_Inputs_Ref_Units,,CJ$52)),0)","v":0},{"$f":"IFERROR(SUMPRODUCT(--(INDEX(Model_Inputs_Ref_Units,,CK$51)=$E81),INDEX(Model_Inputs_Ref_Units,,CK$52)),0)","v":0},{"$f":"IFERROR(SUMPRODUCT(--(INDEX(Model_Inputs_Ref_Units,,CL$51)=$E81),INDEX(Model_Inputs_Ref_Units,,CL$52)),0)","v":0},{"$f":"IFERROR(SUMPRODUCT(--(INDEX(Model_Inputs_Ref_Units,,CM$51)=$E81),INDEX(Model_Inputs_Ref_Units,,CM$52)),0)","v":0},{"$f":"IFERROR(SUMPRODUCT(--(INDEX(Model_Inputs_Ref_Units,,CN$51)=$E81),INDEX(Model_Inputs_Ref_Units,,CN$52)),0)","v":0},{"$f":"IFERROR(SUMPRODUCT(--(INDEX(Model_Inputs_Ref_Units,,CO$51)=$E81),INDEX(Model_Inputs_Ref_Units,,CO$52)),0)","v":0},{"$f":"IFERROR(SUMPRODUCT(--(INDEX(Model_Inputs_Ref_Units,,CP$51)=$E81),INDEX(Model_Inputs_Ref_Units,,CP$52)),0)","v":0},{"$f":"IFERROR(SUMPRODUCT(--(INDEX(Model_Inputs_Ref_Units,,CQ$51)=$E81),INDEX(Model_Inputs_Ref_Units,,CQ$52)),0)","v":0},{"$f":"IFERROR(SUMPRODUCT(--(INDEX(Model_Inputs_Ref_Units,,CR$51)=$E81),INDEX(Model_Inputs_Ref_Units,,CR$52)),0)","v":0},{"$f":"IFERROR(SUMPRODUCT(--(INDEX(Model_Inputs_Ref_Units,,CS$51)=$E81),INDEX(Model_Inputs_Ref_Units,,CS$52)),0)","v":0},{"$f":"IFERROR(SUMPRODUCT(--(INDEX(Model_Inputs_Ref_Units,,CT$51)=$E81),INDEX(Model_Inputs_Ref_Units,,CT$52)),0)","v":0},{"$f":"IFERROR(SUMPRODUCT(--(INDEX(Model_Inputs_Ref_Units,,CU$51)=$E81),INDEX(Model_Inputs_Ref_Units,,CU$52)),0)","v":0},{"$f":"IFERROR(SUMPRODUCT(--(INDEX(Model_Inputs_Ref_Units,,CV$51)=$E81),INDEX(Model_Inputs_Ref_Units,,CV$52)),0)","v":0},{"$f":"IFERROR(SUMPRODUCT(--(INDEX(Model_Inputs_Ref_Units,,CW$51)=$E81),INDEX(Model_Inputs_Ref_Units,,CW$52)),0)","v":0},{"$f":"IFERROR(SUMPRODUCT(--(INDEX(Model_Inputs_Ref_Units,,CX$51)=$E81),INDEX(Model_Inputs_Ref_Units,,CX$52)),0)","v":0},{"$f":"IFERROR(SUMPRODUCT(--(INDEX(Model_Inputs_Ref_Units,,CY$51)=$E81),INDEX(Model_Inputs_Ref_Units,,CY$52)),0)","v":0},{"$f":"IFERROR(SUMPRODUCT(--(INDEX(Model_Inputs_Ref_Units,,CZ$51)=$E81),INDEX(Model_Inputs_Ref_Units,,CZ$52)),0)","v":0},{"$f":"IFERROR(SUMPRODUCT(--(INDEX(Model_Inputs_Ref_Units,,DA$51)=$E81),INDEX(Model_Inputs_Ref_Units,,DA$52)),0)","v":0},{"$f":"IFERROR(SUMPRODUCT(--(INDEX(Model_Inputs_Ref_Units,,DB$51)=$E81),INDEX(Model_Inputs_Ref_Units,,DB$52)),0)","v":0},{"$f":"IFERROR(SUMPRODUCT(--(INDEX(Model_Inputs_Ref_Units,,DC$51)=$E81),INDEX(Model_Inputs_Ref_Units,,DC$52)),0)","v":0},{"$f":"IFERROR(SUMPRODUCT(--(INDEX(Model_Inputs_Ref_Units,,DD$51)=$E81),INDEX(Model_Inputs_Ref_Units,,DD$52)),0)","v":0},{"$f":"IFERROR(SUMPRODUCT(--(INDEX(Model_Inputs_Ref_Units,,DE$51)=$E81),INDEX(Model_Inputs_Ref_Units,,DE$52)),0)","v":0},{"$f":"IFERROR(SUMPRODUCT(--(INDEX(Model_Inputs_Ref_Units,,DF$51)=$E81),INDEX(Model_Inputs_Ref_Units,,DF$52)),0)","v":0}]
[null,null,{"$error":"#DIV/0!"},null,{"$f":"IFERROR(INDEX(Ref_Data,1,F82),\"\")","v":""},29,0,0,0,0,{"$f":"IFERROR(SUMPRODUCT(--(INDEX(Model_Inputs_Ref_Units,,K$51)=$E82),INDEX(Model_Inputs_Ref_Units,,K$52)),0)","v":0},{"$f":"IFERROR(SUMPRODUCT(--(INDEX(Model_Inputs_Ref_Units,,L$51)=$E82),INDEX(Model_Inputs_Ref_Units,,L$52)),0)","v":0},{"$f":"IFERROR(SUMPRODUCT(--(INDEX(Model_Inputs_Ref_Units,,M$51)=$E82),INDEX(Model_Inputs_Ref_Units,,M$52)),0)","v":0},{"$f":"IFERROR(SUMPRODUCT(--(INDEX(Model_Inputs_Ref_Units,,N$51)=$E82),INDEX(Model_Inputs_Ref_Units,,N$52)),0)","v":0},{"$f":"IFERROR(SUMPRODUCT(--(INDEX(Model_Inputs_Ref_Units,,O$51)=$E82),INDEX(Model_Inputs_Ref_Units,,O$52)),0)","v":0},{"$f":"IFERROR(SUMPRODUCT(--(INDEX(Model_Inputs_Ref_Units,,P$51)=$E82),INDEX(Model_Inputs_Ref_Units,,P$52)),0)","v":0},{"$f":"IFERROR(SUMPRODUCT(--(INDEX(Model_Inputs_Ref_Units,,Q$51)=$E82),INDEX(Model_Inputs_Ref_Units,,Q$52)),0)","v":0},{"$f":"IFERROR(SUMPRODUCT(--(INDEX(Model_Inputs_Ref_Units,,R$51)=$E82),INDEX(Model_Inputs_Ref_Units,,R$52)),0)","v":0},{"$f":"IFERROR(SUMPRODUCT(--(INDEX(Model_Inputs_Ref_Units,,S$51)=$E82),INDEX(Model_Inputs_Ref_Units,,S$52)),0)","v":0},{"$f":"IFERROR(SUMPRODUCT(--(INDEX(Model_Inputs_Ref_Units,,T$51)=$E82),INDEX(Model_Inputs_Ref_Units,,T$52)),0)","v":0},{"$f":"IFERROR(SUMPRODUCT(--(INDEX(Model_Inputs_Ref_Units,,U$51)=$E82),INDEX(Model_Inputs_Ref_Units,,U$52)),0)","v":0},{"$f":"IFERROR(SUMPRODUCT(--(INDEX(Model_Inputs_Ref_Units,,V$51)=$E82),INDEX(Model_Inputs_Ref_Units,,V$52)),0)","v":0},{"$f":"IFERROR(SUMPRODUCT(--(INDEX(Model_Inputs_Ref_Units,,W$51)=$E82),INDEX(Model_Inputs_Ref_Units,,W$52)),0)","v":0},{"$f":"IFERROR(SUMPRODUCT(--(INDEX(Model_Inputs_Ref_Units,,X$51)=$E82),INDEX(Model_Inputs_Ref_Units,,X$52)),0)","v":0},{"$f":"IFERROR(SUMPRODUCT(--(INDEX(Model_Inputs_Ref_Units,,Y$51)=$E82),INDEX(Model_Inputs_Ref_Units,,Y$52)),0)","v":0},{"$f":"IFERROR(SUMPRODUCT(--(INDEX(Model_Inputs_Ref_Units,,Z$51)=$E82),INDEX(Model_Inputs_Ref_Units,,Z$52)),0)","v":0},{"$f":"IFERROR(SUMPRODUCT(--(INDEX(Model_Inputs_Ref_Units,,AA$51)=$E82),INDEX(Model_Inputs_Ref_Units,,AA$52)),0)","v":0},{"$f":"IFERROR(SUMPRODUCT(--(INDEX(Model_Inputs_Ref_Units,,AB$51)=$E82),INDEX(Model_Inputs_Ref_Units,,AB$52)),0)","v":0},{"$f":"IFERROR(SUMPRODUCT(--(INDEX(Model_Inputs_Ref_Units,,AC$51)=$E82),INDEX(Model_Inputs_Ref_Units,,AC$52)),0)","v":0},{"$f":"IFERROR(SUMPRODUCT(--(INDEX(Model_Inputs_Ref_Units,,AD$51)=$E82),INDEX(Model_Inputs_Ref_Units,,AD$52)),0)","v":0},{"$f":"IFERROR(SUMPRODUCT(--(INDEX(Model_Inputs_Ref_Units,,AE$51)=$E82),INDEX(Model_Inputs_Ref_Units,,AE$52)),0)","v":0},{"$f":"IFERROR(SUMPRODUCT(--(INDEX(Model_Inputs_Ref_Units,,AF$51)=$E82),INDEX(Model_Inputs_Ref_Units,,AF$52)),0)","v":0},{"$f":"IFERROR(SUMPRODUCT(--(INDEX(Model_Inputs_Ref_Units,,AG$51)=$E82),INDEX(Model_Inputs_Ref_Units,,AG$52)),0)","v":0},{"$f":"IFERROR(SUMPRODUCT(--(INDEX(Model_Inputs_Ref_Units,,AH$51)=$E82),INDEX(Model_Inputs_Ref_Units,,AH$52)),0)","v":0},{"$f":"IFERROR(SUMPRODUCT(--(INDEX(Model_Inputs_Ref_Units,,AI$51)=$E82),INDEX(Model_Inputs_Ref_Units,,AI$52)),0)","v":0},{"$f":"IFERROR(SUMPRODUCT(--(INDEX(Model_Inputs_Ref_Units,,AJ$51)=$E82),INDEX(Model_Inputs_Ref_Units,,AJ$52)),0)","v":0},{"$f":"IFERROR(SUMPRODUCT(--(INDEX(Model_Inputs_Ref_Units,,AK$51)=$E82),INDEX(Model_Inputs_Ref_Units,,AK$52)),0)","v":0},{"$f":"IFERROR(SUMPRODUCT(--(INDEX(Model_Inputs_Ref_Units,,AL$51)=$E82),INDEX(Model_Inputs_Ref_Units,,AL$52)),0)","v":0},{"$f":"IFERROR(SUMPRODUCT(--(INDEX(Model_Inputs_Ref_Units,,AM$51)=$E82),INDEX(Model_Inputs_Ref_Units,,AM$52)),0)","v":0},{"$f":"IFERROR(SUMPRODUCT(--(INDEX(Model_Inputs_Ref_Units,,AN$51)=$E82),INDEX(Model_Inputs_Ref_Units,,AN$52)),0)","v":0},{"$f":"IFERROR(SUMPRODUCT(--(INDEX(Model_Inputs_Ref_Units,,AO$51)=$E82),INDEX(Model_Inputs_Ref_Units,,AO$52)),0)","v":0},{"$f":"IFERROR(SUMPRODUCT(--(INDEX(Model_Inputs_Ref_Units,,AP$51)=$E82),INDEX(Model_Inputs_Ref_Units,,AP$52)),0)","v":0},{"$f":"IFERROR(SUMPRODUCT(--(INDEX(Model_Inputs_Ref_Units,,AQ$51)=$E82),INDEX(Model_Inputs_Ref_Units,,AQ$52)),0)","v":0},{"$f":"IFERROR(SUMPRODUCT(--(INDEX(Model_Inputs_Ref_Units,,AR$51)=$E82),INDEX(Model_Inputs_Ref_Units,,AR$52)),0)","v":0},{"$f":"IFERROR(SUMPRODUCT(--(INDEX(Model_Inputs_Ref_Units,,AS$51)=$E82),INDEX(Model_Inputs_Ref_Units,,AS$52)),0)","v":0},{"$f":"IFERROR(SUMPRODUCT(--(INDEX(Model_Inputs_Ref_Units,,AT$51)=$E82),INDEX(Model_Inputs_Ref_Units,,AT$52)),0)","v":0},{"$f":"IFERROR(SUMPRODUCT(--(INDEX(Model_Inputs_Ref_Units,,AU$51)=$E82),INDEX(Model_Inputs_Ref_Units,,AU$52)),0)","v":0},{"$f":"IFERROR(SUMPRODUCT(--(INDEX(Model_Inputs_Ref_Units,,AV$51)=$E82),INDEX(Model_Inputs_Ref_Units,,AV$52)),0)","v":0},{"$f":"IFERROR(SUMPRODUCT(--(INDEX(Model_Inputs_Ref_Units,,AW$51)=$E82),INDEX(Model_Inputs_Ref_Units,,AW$52)),0)","v":0},{"$f":"IFERROR(SUMPRODUCT(--(INDEX(Model_Inputs_Ref_Units,,AX$51)=$E82),INDEX(Model_Inputs_Ref_Units,,AX$52)),0)","v":0},{"$f":"IFERROR(SUMPRODUCT(--(INDEX(Model_Inputs_Ref_Units,,AY$51)=$E82),INDEX(Model_Inputs_Ref_Units,,AY$52)),0)","v":0},{"$f":"IFERROR(SUMPRODUCT(--(INDEX(Model_Inputs_Ref_Units,,AZ$51)=$E82),INDEX(Model_Inputs_Ref_Units,,AZ$52)),0)","v":0},{"$f":"IFERROR(SUMPRODUCT(--(INDEX(Model_Inputs_Ref_Units,,BA$51)=$E82),INDEX(Model_Inputs_Ref_Units,,BA$52)),0)","v":0},{"$f":"IFERROR(SUMPRODUCT(--(INDEX(Model_Inputs_Ref_Units,,BB$51)=$E82),INDEX(Model_Inputs_Ref_Units,,BB$52)),0)","v":0},{"$f":"IFERROR(SUMPRODUCT(--(INDEX(Model_Inputs_Ref_Units,,BC$51)=$E82),INDEX(Model_Inputs_Ref_Units,,BC$52)),0)","v":0},{"$f":"IFERROR(SUMPRODUCT(--(INDEX(Model_Inputs_Ref_Units,,BD$51)=$E82),INDEX(Model_Inputs_Ref_Units,,BD$52)),0)","v":0},{"$f":"IFERROR(SUMPRODUCT(--(INDEX(Model_Inputs_Ref_Units,,BE$51)=$E82),INDEX(Model_Inputs_Ref_Units,,BE$52)),0)","v":0},{"$f":"IFERROR(SUMPRODUCT(--(INDEX(Model_Inputs_Ref_Units,,BF$51)=$E82),INDEX(Model_Inputs_Ref_Units,,BF$52)),0)","v":0},{"$f":"IFERROR(SUMPRODUCT(--(INDEX(Model_Inputs_Ref_Units,,BG$51)=$E82),INDEX(Model_Inputs_Ref_Units,,BG$52)),0)","v":0},{"$f":"IFERROR(SUMPRODUCT(--(INDEX(Model_Inputs_Ref_Units,,BH$51)=$E82),INDEX(Model_Inputs_Ref_Units,,BH$52)),0)","v":0},{"$f":"IFERROR(SUMPRODUCT(--(INDEX(Model_Inputs_Ref_Units,,BI$51)=$E82),INDEX(Model_Inputs_Ref_Units,,BI$52)),0)","v":0},{"$f":"IFERROR(SUMPRODUCT(--(INDEX(Model_Inputs_Ref_Units,,BJ$51)=$E82),INDEX(Model_Inputs_Ref_Units,,BJ$52)),0)","v":0},{"$f":"IFERROR(SUMPRODUCT(--(INDEX(Model_Inputs_Ref_Units,,BK$51)=$E82),INDEX(Model_Inputs_Ref_Units,,BK$52)),0)","v":0},{"$f":"IFERROR(SUMPRODUCT(--(INDEX(Model_Inputs_Ref_Units,,BL$51)=$E82),INDEX(Model_Inputs_Ref_Units,,BL$52)),0)","v":0},{"$f":"IFERROR(SUMPRODUCT(--(INDEX(Model_Inputs_Ref_Units,,BM$51)=$E82),INDEX(Model_Inputs_Ref_Units,,BM$52)),0)","v":0},{"$f":"IFERROR(SUMPRODUCT(--(INDEX(Model_Inputs_Ref_Units,,BN$51)=$E82),INDEX(Model_Inputs_Ref_Units,,BN$52)),0)","v":0},{"$f":"IFERROR(SUMPRODUCT(--(INDEX(Model_Inputs_Ref_Units,,BO$51)=$E82),INDEX(Model_Inputs_Ref_Units,,BO$52)),0)","v":0},{"$f":"IFERROR(SUMPRODUCT(--(INDEX(Model_Inputs_Ref_Units,,BP$51)=$E82),INDEX(Model_Inputs_Ref_Units,,BP$52)),0)","v":0},{"$f":"IFERROR(SUMPRODUCT(--(INDEX(Model_Inputs_Ref_Units,,BQ$51)=$E82),INDEX(Model_Inputs_Ref_Units,,BQ$52)),0)","v":0},{"$f":"IFERROR(SUMPRODUCT(--(INDEX(Model_Inputs_Ref_Units,,BR$51)=$E82),INDEX(Model_Inputs_Ref_Units,,BR$52)),0)","v":0},{"$f":"IFERROR(SUMPRODUCT(--(INDEX(Model_Inputs_Ref_Units,,BS$51)=$E82),INDEX(Model_Inputs_Ref_Units,,BS$52)),0)","v":0},{"$f":"IFERROR(SUMPRODUCT(--(INDEX(Model_Inputs_Ref_Units,,BT$51)=$E82),INDEX(Model_Inputs_Ref_Units,,BT$52)),0)","v":0},{"$f":"IFERROR(SUMPRODUCT(--(INDEX(Model_Inputs_Ref_Units,,BU$51)=$E82),INDEX(Model_Inputs_Ref_Units,,BU$52)),0)","v":0},{"$f":"IFERROR(SUMPRODUCT(--(INDEX(Model_Inputs_Ref_Units,,BV$51)=$E82),INDEX(Model_Inputs_Ref_Units,,BV$52)),0)","v":0},{"$f":"IFERROR(SUMPRODUCT(--(INDEX(Model_Inputs_Ref_Units,,BW$51)=$E82),INDEX(Model_Inputs_Ref_Units,,BW$52)),0)","v":0},{"$f":"IFERROR(SUMPRODUCT(--(INDEX(Model_Inputs_Ref_Units,,BX$51)=$E82),INDEX(Model_Inputs_Ref_Units,,BX$52)),0)","v":0},{"$f":"IFERROR(SUMPRODUCT(--(INDEX(Model_Inputs_Ref_Units,,BY$51)=$E82),INDEX(Model_Inputs_Ref_Units,,BY$52)),0)","v":0},{"$f":"IFERROR(SUMPRODUCT(--(INDEX(Model_Inputs_Ref_Units,,BZ$51)=$E82),INDEX(Model_Inputs_Ref_Units,,BZ$52)),0)","v":0},{"$f":"IFERROR(SUMPRODUCT(--(INDEX(Model_Inputs_Ref_Units,,CA$51)=$E82),INDEX(Model_Inputs_Ref_Units,,CA$52)),0)","v":0},{"$f":"IFERROR(SUMPRODUCT(--(INDEX(Model_Inputs_Ref_Units,,CB$51)=$E82),INDEX(Model_Inputs_Ref_Units,,CB$52)),0)","v":0},{"$f":"IFERROR(SUMPRODUCT(--(INDEX(Model_Inputs_Ref_Units,,CC$51)=$E82),INDEX(Model_Inputs_Ref_Units,,CC$52)),0)","v":0},{"$f":"IFERROR(SUMPRODUCT(--(INDEX(Model_Inputs_Ref_Units,,CD$51)=$E82),INDEX(Model_Inputs_Ref_Units,,CD$52)),0)","v":0},{"$f":"IFERROR(SUMPRODUCT(--(INDEX(Model_Inputs_Ref_Units,,CE$51)=$E82),INDEX(Model_Inputs_Ref_Units,,CE$52)),0)","v":0},{"$f":"IFERROR(SUMPRODUCT(--(INDEX(Model_Inputs_Ref_Units,,CF$51)=$E82),INDEX(Model_Inputs_Ref_Units,,CF$52)),0)","v":0},{"$f":"IFERROR(SUMPRODUCT(--(INDEX(Model_Inputs_Ref_Units,,CG$51)=$E82),INDEX(Model_Inputs_Ref_Units,,CG$52)),0)","v":0},{"$f":"IFERROR(SUMPRODUCT(--(INDEX(Model_Inputs_Ref_Units,,CH$51)=$E82),INDEX(Model_Inputs_Ref_Units,,CH$52)),0)","v":0},{"$f":"IFERROR(SUMPRODUCT(--(INDEX(Model_Inputs_Ref_Units,,CI$51)=$E82),INDEX(Model_Inputs_Ref_Units,,CI$52)),0)","v":0},{"$f":"IFERROR(SUMPRODUCT(--(INDEX(Model_Inputs_Ref_Units,,CJ$51)=$E82),INDEX(Model_Inputs_Ref_Units,,CJ$52)),0)","v":0},{"$f":"IFERROR(SUMPRODUCT(--(INDEX(Model_Inputs_Ref_Units,,CK$51)=$E82),INDEX(Model_Inputs_Ref_Units,,CK$52)),0)","v":0},{"$f":"IFERROR(SUMPRODUCT(--(INDEX(Model_Inputs_Ref_Units,,CL$51)=$E82),INDEX(Model_Inputs_Ref_Units,,CL$52)),0)","v":0},{"$f":"IFERROR(SUMPRODUCT(--(INDEX(Model_Inputs_Ref_Units,,CM$51)=$E82),INDEX(Model_Inputs_Ref_Units,,CM$52)),0)","v":0},{"$f":"IFERROR(SUMPRODUCT(--(INDEX(Model_Inputs_Ref_Units,,CN$51)=$E82),INDEX(Model_Inputs_Ref_Units,,CN$52)),0)","v":0},{"$f":"IFERROR(SUMPRODUCT(--(INDEX(Model_Inputs_Ref_Units,,CO$51)=$E82),INDEX(Model_Inputs_Ref_Units,,CO$52)),0)","v":0},{"$f":"IFERROR(SUMPRODUCT(--(INDEX(Model_Inputs_Ref_Units,,CP$51)=$E82),INDEX(Model_Inputs_Ref_Units,,CP$52)),0)","v":0},{"$f":"IFERROR(SUMPRODUCT(--(INDEX(Model_Inputs_Ref_Units,,CQ$51)=$E82),INDEX(Model_Inputs_Ref_Units,,CQ$52)),0)","v":0},{"$f":"IFERROR(SUMPRODUCT(--(INDEX(Model_Inputs_Ref_Units,,CR$51)=$E82),INDEX(Model_Inputs_Ref_Units,,CR$52)),0)","v":0},{"$f":"IFERROR(SUMPRODUCT(--(INDEX(Model_Inputs_Ref_Units,,CS$51)=$E82),INDEX(Model_Inputs_Ref_Units,,CS$52)),0)","v":0},{"$f":"IFERROR(SUMPRODUCT(--(INDEX(Model_Inputs_Ref_Units,,CT$51)=$E82),INDEX(Model_Inputs_Ref_Units,,CT$52)),0)","v":0},{"$f":"IFERROR(SUMPRODUCT(--(INDEX(Model_Inputs_Ref_Units,,CU$51)=$E82),INDEX(Model_Inputs_Ref_Units,,CU$52)),0)","v":0},{"$f":"IFERROR(SUMPRODUCT(--(INDEX(Model_Inputs_Ref_Units,,CV$51)=$E82),INDEX(Model_Inputs_Ref_Units,,CV$52)),0)","v":0},{"$f":"IFERROR(SUMPRODUCT(--(INDEX(Model_Inputs_Ref_Units,,CW$51)=$E82),INDEX(Model_Inputs_Ref_Units,,CW$52)),0)","v":0},{"$f":"IFERROR(SUMPRODUCT(--(INDEX(Model_Inputs_Ref_Units,,CX$51)=$E82),INDEX(Model_Inputs_Ref_Units,,CX$52)),0)","v":0},{"$f":"IFERROR(SUMPRODUCT(--(INDEX(Model_Inputs_Ref_Units,,CY$51)=$E82),INDEX(Model_Inputs_Ref_Units,,CY$52)),0)","v":0},{"$f":"IFERROR(SUMPRODUCT(--(INDEX(Model_Inputs_Ref_Units,,CZ$51)=$E82),INDEX(Model_Inputs_Ref_Units,,CZ$52)),0)","v":0},{"$f":"IFERROR(SUMPRODUCT(--(INDEX(Model_Inputs_Ref_Units,,DA$51)=$E82),INDEX(Model_Inputs_Ref_Units,,DA$52)),0)","v":0},{"$f":"IFERROR(SUMPRODUCT(--(INDEX(Model_Inputs_Ref_Units,,DB$51)=$E82),INDEX(Model_Inputs_Ref_Units,,DB$52)),0)","v":0},{"$f":"IFERROR(SUMPRODUCT(--(INDEX(Model_Inputs_Ref_Units,,DC$51)=$E82),INDEX(Model_Inputs_Ref_Units,,DC$52)),0)","v":0},{"$f":"IFERROR(SUMPRODUCT(--(INDEX(Model_Inputs_Ref_Units,,DD$51)=$E82),INDEX(Model_Inputs_Ref_Units,,DD$52)),0)","v":0},{"$f":"IFERROR(SUMPRODUCT(--(INDEX(Model_Inputs_Ref_Units,,DE$51)=$E82),INDEX(Model_Inputs_Ref_Units,,DE$52)),0)","v":0},{"$f":"IFERROR(SUMPRODUCT(--(INDEX(Model_Inputs_Ref_Units,,DF$51)=$E82),INDEX(Model_Inputs_Ref_Units,,DF$52)),0)","v":0}]
[null,null,{"$error":"#DIV/0!"},null,{"$f":"IFERROR(INDEX(Ref_Data,1,F83),\"\")","v":""},30,0,0,0,0,{"$f":"IFERROR(SUMPRODUCT(--(INDEX(Model_Inputs_Ref_Units,,K$51)=$E83),INDEX(Model_Inputs_Ref_Units,,K$52)),0)","v":0},{"$f":"IFERROR(SUMPRODUCT(--(INDEX(Model_Inputs_Ref_Units,,L$51)=$E83),INDEX(Model_Inputs_Ref_Units,,L$52)),0)","v":0},{"$f":"IFERROR(SUMPRODUCT(--(INDEX(Model_Inputs_Ref_Units,,M$51)=$E83),INDEX(Model_Inputs_Ref_Units,,M$52)),0)","v":0},{"$f":"IFERROR(SUMPRODUCT(--(INDEX(Model_Inputs_Ref_Units,,N$51)=$E83),INDEX(Model_Inputs_Ref_Units,,N$52)),0)","v":0},{"$f":"IFERROR(SUMPRODUCT(--(INDEX(Model_Inputs_Ref_Units,,O$51)=$E83),INDEX(Model_Inputs_Ref_Units,,O$52)),0)","v":0},{"$f":"IFERROR(SUMPRODUCT(--(INDEX(Model_Inputs_Ref_Units,,P$51)=$E83),INDEX(Model_Inputs_Ref_Units,,P$52)),0)","v":0},{"$f":"IFERROR(SUMPRODUCT(--(INDEX(Model_Inputs_Ref_Units,,Q$51)=$E83),INDEX(Model_Inputs_Ref_Units,,Q$52)),0)","v":0},{"$f":"IFERROR(SUMPRODUCT(--(INDEX(Model_Inputs_Ref_Units,,R$51)=$E83),INDEX(Model_Inputs_Ref_Units,,R$52)),0)","v":0},{"$f":"IFERROR(SUMPRODUCT(--(INDEX(Model_Inputs_Ref_Units,,S$51)=$E83),INDEX(Model_Inputs_Ref_Units,,S$52)),0)","v":0},{"$f":"IFERROR(SUMPRODUCT(--(INDEX(Model_Inputs_Ref_Units,,T$51)=$E83),INDEX(Model_Inputs_Ref_Units,,T$52)),0)","v":0},{"$f":"IFERROR(SUMPRODUCT(--(INDEX(Model_Inputs_Ref_Units,,U$51)=$E83),INDEX(Model_Inputs_Ref_Units,,U$52)),0)","v":0},{"$f":"IFERROR(SUMPRODUCT(--(INDEX(Model_Inputs_Ref_Units,,V$51)=$E83),INDEX(Model_Inputs_Ref_Units,,V$52)),0)","v":0},{"$f":"IFERROR(SUMPRODUCT(--(INDEX(Model_Inputs_Ref_Units,,W$51)=$E83),INDEX(Model_Inputs_Ref_Units,,W$52)),0)","v":0},{"$f":"IFERROR(SUMPRODUCT(--(INDEX(Model_Inputs_Ref_Units,,X$51)=$E83),INDEX(Model_Inputs_Ref_Units,,X$52)),0)","v":0},{"$f":"IFERROR(SUMPRODUCT(--(INDEX(Model_Inputs_Ref_Units,,Y$51)=$E83),INDEX(Model_Inputs_Ref_Units,,Y$52)),0)","v":0},{"$f":"IFERROR(SUMPRODUCT(--(INDEX(Model_Inputs_Ref_Units,,Z$51)=$E83),INDEX(Model_Inputs_Ref_Units,,Z$52)),0)","v":0},{"$f":"IFERROR(SUMPRODUCT(--(INDEX(Model_Inputs_Ref_Units,,AA$51)=$E83),INDEX(Model_Inputs_Ref_Units,,AA$52)),0)","v":0},{"$f":"IFERROR(SUMPRODUCT(--(INDEX(Model_Inputs_Ref_Units,,AB$51)=$E83),INDEX(Model_Inputs_Ref_Units,,AB$52)),0)","v":0},{"$f":"IFERROR(SUMPRODUCT(--(INDEX(Model_Inputs_Ref_Units,,AC$51)=$E83),INDEX(Model_Inputs_Ref_Units,,AC$52)),0)","v":0},{"$f":"IFERROR(SUMPRODUCT(--(INDEX(Model_Inputs_Ref_Units,,AD$51)=$E83),INDEX(Model_Inputs_Ref_Units,,AD$52)),0)","v":0},{"$f":"IFERROR(SUMPRODUCT(--(INDEX(Model_Inputs_Ref_Units,,AE$51)=$E83),INDEX(Model_Inputs_Ref_Units,,AE$52)),0)","v":0},{"$f":"IFERROR(SUMPRODUCT(--(INDEX(Model_Inputs_Ref_Units,,AF$51)=$E83),INDEX(Model_Inputs_Ref_Units,,AF$52)),0)","v":0},{"$f":"IFERROR(SUMPRODUCT(--(INDEX(Model_Inputs_Ref_Units,,AG$51)=$E83),INDEX(Model_Inputs_Ref_Units,,AG$52)),0)","v":0},{"$f":"IFERROR(SUMPRODUCT(--(INDEX(Model_Inputs_Ref_Units,,AH$51)=$E83),INDEX(Model_Inputs_Ref_Units,,AH$52)),0)","v":0},{"$f":"IFERROR(SUMPRODUCT(--(INDEX(Model_Inputs_Ref_Units,,AI$51)=$E83),INDEX(Model_Inputs_Ref_Units,,AI$52)),0)","v":0},{"$f":"IFERROR(SUMPRODUCT(--(INDEX(Model_Inputs_Ref_Units,,AJ$51)=$E83),INDEX(Model_Inputs_Ref_Units,,AJ$52)),0)","v":0},{"$f":"IFERROR(SUMPRODUCT(--(INDEX(Model_Inputs_Ref_Units,,AK$51)=$E83),INDEX(Model_Inputs_Ref_Units,,AK$52)),0)","v":0},{"$f":"IFERROR(SUMPRODUCT(--(INDEX(Model_Inputs_Ref_Units,,AL$51)=$E83),INDEX(Model_Inputs_Ref_Units,,AL$52)),0)","v":0},{"$f":"IFERROR(SUMPRODUCT(--(INDEX(Model_Inputs_Ref_Units,,AM$51)=$E83),INDEX(Model_Inputs_Ref_Units,,AM$52)),0)","v":0},{"$f":"IFERROR(SUMPRODUCT(--(INDEX(Model_Inputs_Ref_Units,,AN$51)=$E83),INDEX(Model_Inputs_Ref_Units,,AN$52)),0)","v":0},{"$f":"IFERROR(SUMPRODUCT(--(INDEX(Model_Inputs_Ref_Units,,AO$51)=$E83),INDEX(Model_Inputs_Ref_Units,,AO$52)),0)","v":0},{"$f":"IFERROR(SUMPRODUCT(--(INDEX(Model_Inputs_Ref_Units,,AP$51)=$E83),INDEX(Model_Inputs_Ref_Units,,AP$52)),0)","v":0},{"$f":"IFERROR(SUMPRODUCT(--(INDEX(Model_Inputs_Ref_Units,,AQ$51)=$E83),INDEX(Model_Inputs_Ref_Units,,AQ$52)),0)","v":0},{"$f":"IFERROR(SUMPRODUCT(--(INDEX(Model_Inputs_Ref_Units,,AR$51)=$E83),INDEX(Model_Inputs_Ref_Units,,AR$52)),0)","v":0},{"$f":"IFERROR(SUMPRODUCT(--(INDEX(Model_Inputs_Ref_Units,,AS$51)=$E83),INDEX(Model_Inputs_Ref_Units,,AS$52)),0)","v":0},{"$f":"IFERROR(SUMPRODUCT(--(INDEX(Model_Inputs_Ref_Units,,AT$51)=$E83),INDEX(Model_Inputs_Ref_Units,,AT$52)),0)","v":0},{"$f":"IFERROR(SUMPRODUCT(--(INDEX(Model_Inputs_Ref_Units,,AU$51)=$E83),INDEX(Model_Inputs_Ref_Units,,AU$52)),0)","v":0},{"$f":"IFERROR(SUMPRODUCT(--(INDEX(Model_Inputs_Ref_Units,,AV$51)=$E83),INDEX(Model_Inputs_Ref_Units,,AV$52)),0)","v":0},{"$f":"IFERROR(SUMPRODUCT(--(INDEX(Model_Inputs_Ref_Units,,AW$51)=$E83),INDEX(Model_Inputs_Ref_Units,,AW$52)),0)","v":0},{"$f":"IFERROR(SUMPRODUCT(--(INDEX(Model_Inputs_Ref_Units,,AX$51)=$E83),INDEX(Model_Inputs_Ref_Units,,AX$52)),0)","v":0},{"$f":"IFERROR(SUMPRODUCT(--(INDEX(Model_Inputs_Ref_Units,,AY$51)=$E83),INDEX(Model_Inputs_Ref_Units,,AY$52)),0)","v":0},{"$f":"IFERROR(SUMPRODUCT(--(INDEX(Model_Inputs_Ref_Units,,AZ$51)=$E83),INDEX(Model_Inputs_Ref_Units,,AZ$52)),0)","v":0},{"$f":"IFERROR(SUMPRODUCT(--(INDEX(Model_Inputs_Ref_Units,,BA$51)=$E83),INDEX(Model_Inputs_Ref_Units,,BA$52)),0)","v":0},{"$f":"IFERROR(SUMPRODUCT(--(INDEX(Model_Inputs_Ref_Units,,BB$51)=$E83),INDEX(Model_Inputs_Ref_Units,,BB$52)),0)","v":0},{"$f":"IFERROR(SUMPRODUCT(--(INDEX(Model_Inputs_Ref_Units,,BC$51)=$E83),INDEX(Model_Inputs_Ref_Units,,BC$52)),0)","v":0},{"$f":"IFERROR(SUMPRODUCT(--(INDEX(Model_Inputs_Ref_Units,,BD$51)=$E83),INDEX(Model_Inputs_Ref_Units,,BD$52)),0)","v":0},{"$f":"IFERROR(SUMPRODUCT(--(INDEX(Model_Inputs_Ref_Units,,BE$51)=$E83),INDEX(Model_Inputs_Ref_Units,,BE$52)),0)","v":0},{"$f":"IFERROR(SUMPRODUCT(--(INDEX(Model_Inputs_Ref_Units,,BF$51)=$E83),INDEX(Model_Inputs_Ref_Units,,BF$52)),0)","v":0},{"$f":"IFERROR(SUMPRODUCT(--(INDEX(Model_Inputs_Ref_Units,,BG$51)=$E83),INDEX(Model_Inputs_Ref_Units,,BG$52)),0)","v":0},{"$f":"IFERROR(SUMPRODUCT(--(INDEX(Model_Inputs_Ref_Units,,BH$51)=$E83),INDEX(Model_Inputs_Ref_Units,,BH$52)),0)","v":0},{"$f":"IFERROR(SUMPRODUCT(--(INDEX(Model_Inputs_Ref_Units,,BI$51)=$E83),INDEX(Model_Inputs_Ref_Units,,BI$52)),0)","v":0},{"$f":"IFERROR(SUMPRODUCT(--(INDEX(Model_Inputs_Ref_Units,,BJ$51)=$E83),INDEX(Model_Inputs_Ref_Units,,BJ$52)),0)","v":0},{"$f":"IFERROR(SUMPRODUCT(--(INDEX(Model_Inputs_Ref_Units,,BK$51)=$E83),INDEX(Model_Inputs_Ref_Units,,BK$52)),0)","v":0},{"$f":"IFERROR(SUMPRODUCT(--(INDEX(Model_Inputs_Ref_Units,,BL$51)=$E83),INDEX(Model_Inputs_Ref_Units,,BL$52)),0)","v":0},{"$f":"IFERROR(SUMPRODUCT(--(INDEX(Model_Inputs_Ref_Units,,BM$51)=$E83),INDEX(Model_Inputs_Ref_Units,,BM$52)),0)","v":0},{"$f":"IFERROR(SUMPRODUCT(--(INDEX(Model_Inputs_Ref_Units,,BN$51)=$E83),INDEX(Model_Inputs_Ref_Units,,BN$52)),0)","v":0},{"$f":"IFERROR(SUMPRODUCT(--(INDEX(Model_Inputs_Ref_Units,,BO$51)=$E83),INDEX(Model_Inputs_Ref_Units,,BO$52)),0)","v":0},{"$f":"IFERROR(SUMPRODUCT(--(INDEX(Model_Inputs_Ref_Units,,BP$51)=$E83),INDEX(Model_Inputs_Ref_Units,,BP$52)),0)","v":0},{"$f":"IFERROR(SUMPRODUCT(--(INDEX(Model_Inputs_Ref_Units,,BQ$51)=$E83),INDEX(Model_Inputs_Ref_Units,,BQ$52)),0)","v":0},{"$f":"IFERROR(SUMPRODUCT(--(INDEX(Model_Inputs_Ref_Units,,BR$51)=$E83),INDEX(Model_Inputs_Ref_Units,,BR$52)),0)","v":0},{"$f":"IFERROR(SUMPRODUCT(--(INDEX(Model_Inputs_Ref_Units,,BS$51)=$E83),INDEX(Model_Inputs_Ref_Units,,BS$52)),0)","v":0},{"$f":"IFERROR(SUMPRODUCT(--(INDEX(Model_Inputs_Ref_Units,,BT$51)=$E83),INDEX(Model_Inputs_Ref_Units,,BT$52)),0)","v":0},{"$f":"IFERROR(SUMPRODUCT(--(INDEX(Model_Inputs_Ref_Units,,BU$51)=$E83),INDEX(Model_Inputs_Ref_Units,,BU$52)),0)","v":0},{"$f":"IFERROR(SUMPRODUCT(--(INDEX(Model_Inputs_Ref_Units,,BV$51)=$E83),INDEX(Model_Inputs_Ref_Units,,BV$52)),0)","v":0},{"$f":"IFERROR(SUMPRODUCT(--(INDEX(Model_Inputs_Ref_Units,,BW$51)=$E83),INDEX(Model_Inputs_Ref_Units,,BW$52)),0)","v":0},{"$f":"IFERROR(SUMPRODUCT(--(INDEX(Model_Inputs_Ref_Units,,BX$51)=$E83),INDEX(Model_Inputs_Ref_Units,,BX$52)),0)","v":0},{"$f":"IFERROR(SUMPRODUCT(--(INDEX(Model_Inputs_Ref_Units,,BY$51)=$E83),INDEX(Model_Inputs_Ref_Units,,BY$52)),0)","v":0},{"$f":"IFERROR(SUMPRODUCT(--(INDEX(Model_Inputs_Ref_Units,,BZ$51)=$E83),INDEX(Model_Inputs_Ref_Units,,BZ$52)),0)","v":0},{"$f":"IFERROR(SUMPRODUCT(--(INDEX(Model_Inputs_Ref_Units,,CA$51)=$E83),INDEX(Model_Inputs_Ref_Units,,CA$52)),0)","v":0},{"$f":"IFERROR(SUMPRODUCT(--(INDEX(Model_Inputs_Ref_Units,,CB$51)=$E83),INDEX(Model_Inputs_Ref_Units,,CB$52)),0)","v":0},{"$f":"IFERROR(SUMPRODUCT(--(INDEX(Model_Inputs_Ref_Units,,CC$51)=$E83),INDEX(Model_Inputs_Ref_Units,,CC$52)),0)","v":0},{"$f":"IFERROR(SUMPRODUCT(--(INDEX(Model_Inputs_Ref_Units,,CD$51)=$E83),INDEX(Model_Inputs_Ref_Units,,CD$52)),0)","v":0},{"$f":"IFERROR(SUMPRODUCT(--(INDEX(Model_Inputs_Ref_Units,,CE$51)=$E83),INDEX(Model_Inputs_Ref_Units,,CE$52)),0)","v":0},{"$f":"IFERROR(SUMPRODUCT(--(INDEX(Model_Inputs_Ref_Units,,CF$51)=$E83),INDEX(Model_Inputs_Ref_Units,,CF$52)),0)","v":0},{"$f":"IFERROR(SUMPRODUCT(--(INDEX(Model_Inputs_Ref_Units,,CG$51)=$E83),INDEX(Model_Inputs_Ref_Units,,CG$52)),0)","v":0},{"$f":"IFERROR(SUMPRODUCT(--(INDEX(Model_Inputs_Ref_Units,,CH$51)=$E83),INDEX(Model_Inputs_Ref_Units,,CH$52)),0)","v":0},{"$f":"IFERROR(SUMPRODUCT(--(INDEX(Model_Inputs_Ref_Units,,CI$51)=$E83),INDEX(Model_Inputs_Ref_Units,,CI$52)),0)","v":0},{"$f":"IFERROR(SUMPRODUCT(--(INDEX(Model_Inputs_Ref_Units,,CJ$51)=$E83),INDEX(Model_Inputs_Ref_Units,,CJ$52)),0)","v":0},{"$f":"IFERROR(SUMPRODUCT(--(INDEX(Model_Inputs_Ref_Units,,CK$51)=$E83),INDEX(Model_Inputs_Ref_Units,,CK$52)),0)","v":0},{"$f":"IFERROR(SUMPRODUCT(--(INDEX(Model_Inputs_Ref_Units,,CL$51)=$E83),INDEX(Model_Inputs_Ref_Units,,CL$52)),0)","v":0},{"$f":"IFERROR(SUMPRODUCT(--(INDEX(Model_Inputs_Ref_Units,,CM$51)=$E83),INDEX(Model_Inputs_Ref_Units,,CM$52)),0)","v":0},{"$f":"IFERROR(SUMPRODUCT(--(INDEX(Model_Inputs_Ref_Units,,CN$51)=$E83),INDEX(Model_Inputs_Ref_Units,,CN$52)),0)","v":0},{"$f":"IFERROR(SUMPRODUCT(--(INDEX(Model_Inputs_Ref_Units,,CO$51)=$E83),INDEX(Model_Inputs_Ref_Units,,CO$52)),0)","v":0},{"$f":"IFERROR(SUMPRODUCT(--(INDEX(Model_Inputs_Ref_Units,,CP$51)=$E83),INDEX(Model_Inputs_Ref_Units,,CP$52)),0)","v":0},{"$f":"IFERROR(SUMPRODUCT(--(INDEX(Model_Inputs_Ref_Units,,CQ$51)=$E83),INDEX(Model_Inputs_Ref_Units,,CQ$52)),0)","v":0},{"$f":"IFERROR(SUMPRODUCT(--(INDEX(Model_Inputs_Ref_Units,,CR$51)=$E83),INDEX(Model_Inputs_Ref_Units,,CR$52)),0)","v":0},{"$f":"IFERROR(SUMPRODUCT(--(INDEX(Model_Inputs_Ref_Units,,CS$51)=$E83),INDEX(Model_Inputs_Ref_Units,,CS$52)),0)","v":0},{"$f":"IFERROR(SUMPRODUCT(--(INDEX(Model_Inputs_Ref_Units,,CT$51)=$E83),INDEX(Model_Inputs_Ref_Units,,CT$52)),0)","v":0},{"$f":"IFERROR(SUMPRODUCT(--(INDEX(Model_Inputs_Ref_Units,,CU$51)=$E83),INDEX(Model_Inputs_Ref_Units,,CU$52)),0)","v":0},{"$f":"IFERROR(SUMPRODUCT(--(INDEX(Model_Inputs_Ref_Units,,CV$51)=$E83),INDEX(Model_Inputs_Ref_Units,,CV$52)),0)","v":0},{"$f":"IFERROR(SUMPRODUCT(--(INDEX(Model_Inputs_Ref_Units,,CW$51)=$E83),INDEX(Model_Inputs_Ref_Units,,CW$52)),0)","v":0},{"$f":"IFERROR(SUMPRODUCT(--(INDEX(Model_Inputs_Ref_Units,,CX$51)=$E83),INDEX(Model_Inputs_Ref_Units,,CX$52)),0)","v":0},{"$f":"IFERROR(SUMPRODUCT(--(INDEX(Model_Inputs_Ref_Units,,CY$51)=$E83),INDEX(Model_Inputs_Ref_Units,,CY$52)),0)","v":0},{"$f":"IFERROR(SUMPRODUCT(--(INDEX(Model_Inputs_Ref_Units,,CZ$51)=$E83),INDEX(Model_Inputs_Ref_Units,,CZ$52)),0)","v":0},{"$f":"IFERROR(SUMPRODUCT(--(INDEX(Model_Inputs_Ref_Units,,DA$51)=$E83),INDEX(Model_Inputs_Ref_Units,,DA$52)),0)","v":0},{"$f":"IFERROR(SUMPRODUCT(--(INDEX(Model_Inputs_Ref_Units,,DB$51)=$E83),INDEX(Model_Inputs_Ref_Units,,DB$52)),0)","v":0},{"$f":"IFERROR(SUMPRODUCT(--(INDEX(Model_Inputs_Ref_Units,,DC$51)=$E83),INDEX(Model_Inputs_Ref_Units,,DC$52)),0)","v":0},{"$f":"IFERROR(SUMPRODUCT(--(INDEX(Model_Inputs_Ref_Units,,DD$51)=$E83),INDEX(Model_Inputs_Ref_Units,,DD$52)),0)","v":0},{"$f":"IFERROR(SUMPRODUCT(--(INDEX(Model_Inputs_Ref_Units,,DE$51)=$E83),INDEX(Model_Inputs_Ref_Units,,DE$52)),0)","v":0},{"$f":"IFERROR(SUMPRODUCT(--(INDEX(Model_Inputs_Ref_Units,,DF$51)=$E83),INDEX(Model_Inputs_Ref_Units,,DF$52)),0)","v":0}]
[null,null,{"$error":"#DIV/0!"},null,{"$f":"IFERROR(INDEX(Ref_Data,1,F84),\"\")","v":""},31,0,0,0,0,{"$f":"IFERROR(SUMPRODUCT(--(INDEX(Model_Inputs_Ref_Units,,K$51)=$E84),INDEX(Model_Inputs_Ref_Units,,K$52)),0)","v":0},{"$f":"IFERROR(SUMPRODUCT(--(INDEX(Model_Inputs_Ref_Units,,L$51)=$E84),INDEX(Model_Inputs_Ref_Units,,L$52)),0)","v":0},{"$f":"IFERROR(SUMPRODUCT(--(INDEX(Model_Inputs_Ref_Units,,M$51)=$E84),INDEX(Model_Inputs_Ref_Units,,M$52)),0)","v":0},{"$f":"IFERROR(SUMPRODUCT(--(INDEX(Model_Inputs_Ref_Units,,N$51)=$E84),INDEX(Model_Inputs_Ref_Units,,N$52)),0)","v":0},{"$f":"IFERROR(SUMPRODUCT(--(INDEX(Model_Inputs_Ref_Units,,O$51)=$E84),INDEX(Model_Inputs_Ref_Units,,O$52)),0)","v":0},{"$f":"IFERROR(SUMPRODUCT(--(INDEX(Model_Inputs_Ref_Units,,P$51)=$E84),INDEX(Model_Inputs_Ref_Units,,P$52)),0)","v":0},{"$f":"IFERROR(SUMPRODUCT(--(INDEX(Model_Inputs_Ref_Units,,Q$51)=$E84),INDEX(Model_Inputs_Ref_Units,,Q$52)),0)","v":0},{"$f":"IFERROR(SUMPRODUCT(--(INDEX(Model_Inputs_Ref_Units,,R$51)=$E84),INDEX(Model_Inputs_Ref_Units,,R$52)),0)","v":0},{"$f":"IFERROR(SUMPRODUCT(--(INDEX(Model_Inputs_Ref_Units,,S$51)=$E84),INDEX(Model_Inputs_Ref_Units,,S$52)),0)","v":0},{"$f":"IFERROR(SUMPRODUCT(--(INDEX(Model_Inputs_Ref_Units,,T$51)=$E84),INDEX(Model_Inputs_Ref_Units,,T$52)),0)","v":0},{"$f":"IFERROR(SUMPRODUCT(--(INDEX(Model_Inputs_Ref_Units,,U$51)=$E84),INDEX(Model_Inputs_Ref_Units,,U$52)),0)","v":0},{"$f":"IFERROR(SUMPRODUCT(--(INDEX(Model_Inputs_Ref_Units,,V$51)=$E84),INDEX(Model_Inputs_Ref_Units,,V$52)),0)","v":0},{"$f":"IFERROR(SUMPRODUCT(--(INDEX(Model_Inputs_Ref_Units,,W$51)=$E84),INDEX(Model_Inputs_Ref_Units,,W$52)),0)","v":0},{"$f":"IFERROR(SUMPRODUCT(--(INDEX(Model_Inputs_Ref_Units,,X$51)=$E84),INDEX(Model_Inputs_Ref_Units,,X$52)),0)","v":0},{"$f":"IFERROR(SUMPRODUCT(--(INDEX(Model_Inputs_Ref_Units,,Y$51)=$E84),INDEX(Model_Inputs_Ref_Units,,Y$52)),0)","v":0},{"$f":"IFERROR(SUMPRODUCT(--(INDEX(Model_Inputs_Ref_Units,,Z$51)=$E84),INDEX(Model_Inputs_Ref_Units,,Z$52)),0)","v":0},{"$f":"IFERROR(SUMPRODUCT(--(INDEX(Model_Inputs_Ref_Units,,AA$51)=$E84),INDEX(Model_Inputs_Ref_Units,,AA$52)),0)","v":0},{"$f":"IFERROR(SUMPRODUCT(--(INDEX(Model_Inputs_Ref_Units,,AB$51)=$E84),INDEX(Model_Inputs_Ref_Units,,AB$52)),0)","v":0},{"$f":"IFERROR(SUMPRODUCT(--(INDEX(Model_Inputs_Ref_Units,,AC$51)=$E84),INDEX(Model_Inputs_Ref_Units,,AC$52)),0)","v":0},{"$f":"IFERROR(SUMPRODUCT(--(INDEX(Model_Inputs_Ref_Units,,AD$51)=$E84),INDEX(Model_Inputs_Ref_Units,,AD$52)),0)","v":0},{"$f":"IFERROR(SUMPRODUCT(--(INDEX(Model_Inputs_Ref_Units,,AE$51)=$E84),INDEX(Model_Inputs_Ref_Units,,AE$52)),0)","v":0},{"$f":"IFERROR(SUMPRODUCT(--(INDEX(Model_Inputs_Ref_Units,,AF$51)=$E84),INDEX(Model_Inputs_Ref_Units,,AF$52)),0)","v":0},{"$f":"IFERROR(SUMPRODUCT(--(INDEX(Model_Inputs_Ref_Units,,AG$51)=$E84),INDEX(Model_Inputs_Ref_Units,,AG$52)),0)","v":0},{"$f":"IFERROR(SUMPRODUCT(--(INDEX(Model_Inputs_Ref_Units,,AH$51)=$E84),INDEX(Model_Inputs_Ref_Units,,AH$52)),0)","v":0},{"$f":"IFERROR(SUMPRODUCT(--(INDEX(Model_Inputs_Ref_Units,,AI$51)=$E84),INDEX(Model_Inputs_Ref_Units,,AI$52)),0)","v":0},{"$f":"IFERROR(SUMPRODUCT(--(INDEX(Model_Inputs_Ref_Units,,AJ$51)=$E84),INDEX(Model_Inputs_Ref_Units,,AJ$52)),0)","v":0},{"$f":"IFERROR(SUMPRODUCT(--(INDEX(Model_Inputs_Ref_Units,,AK$51)=$E84),INDEX(Model_Inputs_Ref_Units,,AK$52)),0)","v":0},{"$f":"IFERROR(SUMPRODUCT(--(INDEX(Model_Inputs_Ref_Units,,AL$51)=$E84),INDEX(Model_Inputs_Ref_Units,,AL$52)),0)","v":0},{"$f":"IFERROR(SUMPRODUCT(--(INDEX(Model_Inputs_Ref_Units,,AM$51)=$E84),INDEX(Model_Inputs_Ref_Units,,AM$52)),0)","v":0},{"$f":"IFERROR(SUMPRODUCT(--(INDEX(Model_Inputs_Ref_Units,,AN$51)=$E84),INDEX(Model_Inputs_Ref_Units,,AN$52)),0)","v":0},{"$f":"IFERROR(SUMPRODUCT(--(INDEX(Model_Inputs_Ref_Units,,AO$51)=$E84),INDEX(Model_Inputs_Ref_Units,,AO$52)),0)","v":0},{"$f":"IFERROR(SUMPRODUCT(--(INDEX(Model_Inputs_Ref_Units,,AP$51)=$E84),INDEX(Model_Inputs_Ref_Units,,AP$52)),0)","v":0},{"$f":"IFERROR(SUMPRODUCT(--(INDEX(Model_Inputs_Ref_Units,,AQ$51)=$E84),INDEX(Model_Inputs_Ref_Units,,AQ$52)),0)","v":0},{"$f":"IFERROR(SUMPRODUCT(--(INDEX(Model_Inputs_Ref_Units,,AR$51)=$E84),INDEX(Model_Inputs_Ref_Units,,AR$52)),0)","v":0},{"$f":"IFERROR(SUMPRODUCT(--(INDEX(Model_Inputs_Ref_Units,,AS$51)=$E84),INDEX(Model_Inputs_Ref_Units,,AS$52)),0)","v":0},{"$f":"IFERROR(SUMPRODUCT(--(INDEX(Model_Inputs_Ref_Units,,AT$51)=$E84),INDEX(Model_Inputs_Ref_Units,,AT$52)),0)","v":0},{"$f":"IFERROR(SUMPRODUCT(--(INDEX(Model_Inputs_Ref_Units,,AU$51)=$E84),INDEX(Model_Inputs_Ref_Units,,AU$52)),0)","v":0},{"$f":"IFERROR(SUMPRODUCT(--(INDEX(Model_Inputs_Ref_Units,,AV$51)=$E84),INDEX(Model_Inputs_Ref_Units,,AV$52)),0)","v":0},{"$f":"IFERROR(SUMPRODUCT(--(INDEX(Model_Inputs_Ref_Units,,AW$51)=$E84),INDEX(Model_Inputs_Ref_Units,,AW$52)),0)","v":0},{"$f":"IFERROR(SUMPRODUCT(--(INDEX(Model_Inputs_Ref_Units,,AX$51)=$E84),INDEX(Model_Inputs_Ref_Units,,AX$52)),0)","v":0},{"$f":"IFERROR(SUMPRODUCT(--(INDEX(Model_Inputs_Ref_Units,,AY$51)=$E84),INDEX(Model_Inputs_Ref_Units,,AY$52)),0)","v":0},{"$f":"IFERROR(SUMPRODUCT(--(INDEX(Model_Inputs_Ref_Units,,AZ$51)=$E84),INDEX(Model_Inputs_Ref_Units,,AZ$52)),0)","v":0},{"$f":"IFERROR(SUMPRODUCT(--(INDEX(Model_Inputs_Ref_Units,,BA$51)=$E84),INDEX(Model_Inputs_Ref_Units,,BA$52)),0)","v":0},{"$f":"IFERROR(SUMPRODUCT(--(INDEX(Model_Inputs_Ref_Units,,BB$51)=$E84),INDEX(Model_Inputs_Ref_Units,,BB$52)),0)","v":0},{"$f":"IFERROR(SUMPRODUCT(--(INDEX(Model_Inputs_Ref_Units,,BC$51)=$E84),INDEX(Model_Inputs_Ref_Units,,BC$52)),0)","v":0},{"$f":"IFERROR(SUMPRODUCT(--(INDEX(Model_Inputs_Ref_Units,,BD$51)=$E84),INDEX(Model_Inputs_Ref_Units,,BD$52)),0)","v":0},{"$f":"IFERROR(SUMPRODUCT(--(INDEX(Model_Inputs_Ref_Units,,BE$51)=$E84),INDEX(Model_Inputs_Ref_Units,,BE$52)),0)","v":0},{"$f":"IFERROR(SUMPRODUCT(--(INDEX(Model_Inputs_Ref_Units,,BF$51)=$E84),INDEX(Model_Inputs_Ref_Units,,BF$52)),0)","v":0},{"$f":"IFERROR(SUMPRODUCT(--(INDEX(Model_Inputs_Ref_Units,,BG$51)=$E84),INDEX(Model_Inputs_Ref_Units,,BG$52)),0)","v":0},{"$f":"IFERROR(SUMPRODUCT(--(INDEX(Model_Inputs_Ref_Units,,BH$51)=$E84),INDEX(Model_Inputs_Ref_Units,,BH$52)),0)","v":0},{"$f":"IFERROR(SUMPRODUCT(--(INDEX(Model_Inputs_Ref_Units,,BI$51)=$E84),INDEX(Model_Inputs_Ref_Units,,BI$52)),0)","v":0},{"$f":"IFERROR(SUMPRODUCT(--(INDEX(Model_Inputs_Ref_Units,,BJ$51)=$E84),INDEX(Model_Inputs_Ref_Units,,BJ$52)),0)","v":0},{"$f":"IFERROR(SUMPRODUCT(--(INDEX(Model_Inputs_Ref_Units,,BK$51)=$E84),INDEX(Model_Inputs_Ref_Units,,BK$52)),0)","v":0},{"$f":"IFERROR(SUMPRODUCT(--(INDEX(Model_Inputs_Ref_Units,,BL$51)=$E84),INDEX(Model_Inputs_Ref_Units,,BL$52)),0)","v":0},{"$f":"IFERROR(SUMPRODUCT(--(INDEX(Model_Inputs_Ref_Units,,BM$51)=$E84),INDEX(Model_Inputs_Ref_Units,,BM$52)),0)","v":0},{"$f":"IFERROR(SUMPRODUCT(--(INDEX(Model_Inputs_Ref_Units,,BN$51)=$E84),INDEX(Model_Inputs_Ref_Units,,BN$52)),0)","v":0},{"$f":"IFERROR(SUMPRODUCT(--(INDEX(Model_Inputs_Ref_Units,,BO$51)=$E84),INDEX(Model_Inputs_Ref_Units,,BO$52)),0)","v":0},{"$f":"IFERROR(SUMPRODUCT(--(INDEX(Model_Inputs_Ref_Units,,BP$51)=$E84),INDEX(Model_Inputs_Ref_Units,,BP$52)),0)","v":0},{"$f":"IFERROR(SUMPRODUCT(--(INDEX(Model_Inputs_Ref_Units,,BQ$51)=$E84),INDEX(Model_Inputs_Ref_Units,,BQ$52)),0)","v":0},{"$f":"IFERROR(SUMPRODUCT(--(INDEX(Model_Inputs_Ref_Units,,BR$51)=$E84),INDEX(Model_Inputs_Ref_Units,,BR$52)),0)","v":0},{"$f":"IFERROR(SUMPRODUCT(--(INDEX(Model_Inputs_Ref_Units,,BS$51)=$E84),INDEX(Model_Inputs_Ref_Units,,BS$52)),0)","v":0},{"$f":"IFERROR(SUMPRODUCT(--(INDEX(Model_Inputs_Ref_Units,,BT$51)=$E84),INDEX(Model_Inputs_Ref_Units,,BT$52)),0)","v":0},{"$f":"IFERROR(SUMPRODUCT(--(INDEX(Model_Inputs_Ref_Units,,BU$51)=$E84),INDEX(Model_Inputs_Ref_Units,,BU$52)),0)","v":0},{"$f":"IFERROR(SUMPRODUCT(--(INDEX(Model_Inputs_Ref_Units,,BV$51)=$E84),INDEX(Model_Inputs_Ref_Units,,BV$52)),0)","v":0},{"$f":"IFERROR(SUMPRODUCT(--(INDEX(Model_Inputs_Ref_Units,,BW$51)=$E84),INDEX(Model_Inputs_Ref_Units,,BW$52)),0)","v":0},{"$f":"IFERROR(SUMPRODUCT(--(INDEX(Model_Inputs_Ref_Units,,BX$51)=$E84),INDEX(Model_Inputs_Ref_Units,,BX$52)),0)","v":0},{"$f":"IFERROR(SUMPRODUCT(--(INDEX(Model_Inputs_Ref_Units,,BY$51)=$E84),INDEX(Model_Inputs_Ref_Units,,BY$52)),0)","v":0},{"$f":"IFERROR(SUMPRODUCT(--(INDEX(Model_Inputs_Ref_Units,,BZ$51)=$E84),INDEX(Model_Inputs_Ref_Units,,BZ$52)),0)","v":0},{"$f":"IFERROR(SUMPRODUCT(--(INDEX(Model_Inputs_Ref_Units,,CA$51)=$E84),INDEX(Model_Inputs_Ref_Units,,CA$52)),0)","v":0},{"$f":"IFERROR(SUMPRODUCT(--(INDEX(Model_Inputs_Ref_Units,,CB$51)=$E84),INDEX(Model_Inputs_Ref_Units,,CB$52)),0)","v":0},{"$f":"IFERROR(SUMPRODUCT(--(INDEX(Model_Inputs_Ref_Units,,CC$51)=$E84),INDEX(Model_Inputs_Ref_Units,,CC$52)),0)","v":0},{"$f":"IFERROR(SUMPRODUCT(--(INDEX(Model_Inputs_Ref_Units,,CD$51)=$E84),INDEX(Model_Inputs_Ref_Units,,CD$52)),0)","v":0},{"$f":"IFERROR(SUMPRODUCT(--(INDEX(Model_Inputs_Ref_Units,,CE$51)=$E84),INDEX(Model_Inputs_Ref_Units,,CE$52)),0)","v":0},{"$f":"IFERROR(SUMPRODUCT(--(INDEX(Model_Inputs_Ref_Units,,CF$51)=$E84),INDEX(Model_Inputs_Ref_Units,,CF$52)),0)","v":0},{"$f":"IFERROR(SUMPRODUCT(--(INDEX(Model_Inputs_Ref_Units,,CG$51)=$E84),INDEX(Model_Inputs_Ref_Units,,CG$52)),0)","v":0},{"$f":"IFERROR(SUMPRODUCT(--(INDEX(Model_Inputs_Ref_Units,,CH$51)=$E84),INDEX(Model_Inputs_Ref_Units,,CH$52)),0)","v":0},{"$f":"IFERROR(SUMPRODUCT(--(INDEX(Model_Inputs_Ref_Units,,CI$51)=$E84),INDEX(Model_Inputs_Ref_Units,,CI$52)),0)","v":0},{"$f":"IFERROR(SUMPRODUCT(--(INDEX(Model_Inputs_Ref_Units,,CJ$51)=$E84),INDEX(Model_Inputs_Ref_Units,,CJ$52)),0)","v":0},{"$f":"IFERROR(SUMPRODUCT(--(INDEX(Model_Inputs_Ref_Units,,CK$51)=$E84),INDEX(Model_Inputs_Ref_Units,,CK$52)),0)","v":0},{"$f":"IFERROR(SUMPRODUCT(--(INDEX(Model_Inputs_Ref_Units,,CL$51)=$E84),INDEX(Model_Inputs_Ref_Units,,CL$52)),0)","v":0},{"$f":"IFERROR(SUMPRODUCT(--(INDEX(Model_Inputs_Ref_Units,,CM$51)=$E84),INDEX(Model_Inputs_Ref_Units,,CM$52)),0)","v":0},{"$f":"IFERROR(SUMPRODUCT(--(INDEX(Model_Inputs_Ref_Units,,CN$51)=$E84),INDEX(Model_Inputs_Ref_Units,,CN$52)),0)","v":0},{"$f":"IFERROR(SUMPRODUCT(--(INDEX(Model_Inputs_Ref_Units,,CO$51)=$E84),INDEX(Model_Inputs_Ref_Units,,CO$52)),0)","v":0},{"$f":"IFERROR(SUMPRODUCT(--(INDEX(Model_Inputs_Ref_Units,,CP$51)=$E84),INDEX(Model_Inputs_Ref_Units,,CP$52)),0)","v":0},{"$f":"IFERROR(SUMPRODUCT(--(INDEX(Model_Inputs_Ref_Units,,CQ$51)=$E84),INDEX(Model_Inputs_Ref_Units,,CQ$52)),0)","v":0},{"$f":"IFERROR(SUMPRODUCT(--(INDEX(Model_Inputs_Ref_Units,,CR$51)=$E84),INDEX(Model_Inputs_Ref_Units,,CR$52)),0)","v":0},{"$f":"IFERROR(SUMPRODUCT(--(INDEX(Model_Inputs_Ref_Units,,CS$51)=$E84),INDEX(Model_Inputs_Ref_Units,,CS$52)),0)","v":0},{"$f":"IFERROR(SUMPRODUCT(--(INDEX(Model_Inputs_Ref_Units,,CT$51)=$E84),INDEX(Model_Inputs_Ref_Units,,CT$52)),0)","v":0},{"$f":"IFERROR(SUMPRODUCT(--(INDEX(Model_Inputs_Ref_Units,,CU$51)=$E84),INDEX(Model_Inputs_Ref_Units,,CU$52)),0)","v":0},{"$f":"IFERROR(SUMPRODUCT(--(INDEX(Model_Inputs_Ref_Units,,CV$51)=$E84),INDEX(Model_Inputs_Ref_Units,,CV$52)),0)","v":0},{"$f":"IFERROR(SUMPRODUCT(--(INDEX(Model_Inputs_Ref_Units,,CW$51)=$E84),INDEX(Model_Inputs_Ref_Units,,CW$52)),0)","v":0},{"$f":"IFERROR(SUMPRODUCT(--(INDEX(Model_Inputs_Ref_Units,,CX$51)=$E84),INDEX(Model_Inputs_Ref_Units,,CX$52)),0)","v":0},{"$f":"IFERROR(SUMPRODUCT(--(INDEX(Model_Inputs_Ref_Units,,CY$51)=$E84),INDEX(Model_Inputs_Ref_Units,,CY$52)),0)","v":0},{"$f":"IFERROR(SUMPRODUCT(--(INDEX(Model_Inputs_Ref_Units,,CZ$51)=$E84),INDEX(Model_Inputs_Ref_Units,,CZ$52)),0)","v":0},{"$f":"IFERROR(SUMPRODUCT(--(INDEX(Model_Inputs_Ref_Units,,DA$51)=$E84),INDEX(Model_Inputs_Ref_Units,,DA$52)),0)","v":0},{"$f":"IFERROR(SUMPRODUCT(--(INDEX(Model_Inputs_Ref_Units,,DB$51)=$E84),INDEX(Model_Inputs_Ref_Units,,DB$52)),0)","v":0},{"$f":"IFERROR(SUMPRODUCT(--(INDEX(Model_Inputs_Ref_Units,,DC$51)=$E84),INDEX(Model_Inputs_Ref_Units,,DC$52)),0)","v":0},{"$f":"IFERROR(SUMPRODUCT(--(INDEX(Model_Inputs_Ref_Units,,DD$51)=$E84),INDEX(Model_Inputs_Ref_Units,,DD$52)),0)","v":0},{"$f":"IFERROR(SUMPRODUCT(--(INDEX(Model_Inputs_Ref_Units,,DE$51)=$E84),INDEX(Model_Inputs_Ref_Units,,DE$52)),0)","v":0},{"$f":"IFERROR(SUMPRODUCT(--(INDEX(Model_Inputs_Ref_Units,,DF$51)=$E84),INDEX(Model_Inputs_Ref_Units,,DF$52)),0)","v":0}]
[null,null,{"$error":"#DIV/0!"},null,{"$f":"IFERROR(INDEX(Ref_Data,1,F85),\"\")","v":""},32,0,0,0,0,{"$f":"IFERROR(SUMPRODUCT(--(INDEX(Model_Inputs_Ref_Units,,K$51)=$E85),INDEX(Model_Inputs_Ref_Units,,K$52)),0)","v":0},{"$f":"IFERROR(SUMPRODUCT(--(INDEX(Model_Inputs_Ref_Units,,L$51)=$E85),INDEX(Model_Inputs_Ref_Units,,L$52)),0)","v":0},{"$f":"IFERROR(SUMPRODUCT(--(INDEX(Model_Inputs_Ref_Units,,M$51)=$E85),INDEX(Model_Inputs_Ref_Units,,M$52)),0)","v":0},{"$f":"IFERROR(SUMPRODUCT(--(INDEX(Model_Inputs_Ref_Units,,N$51)=$E85),INDEX(Model_Inputs_Ref_Units,,N$52)),0)","v":0},{"$f":"IFERROR(SUMPRODUCT(--(INDEX(Model_Inputs_Ref_Units,,O$51)=$E85),INDEX(Model_Inputs_Ref_Units,,O$52)),0)","v":0},{"$f":"IFERROR(SUMPRODUCT(--(INDEX(Model_Inputs_Ref_Units,,P$51)=$E85),INDEX(Model_Inputs_Ref_Units,,P$52)),0)","v":0},{"$f":"IFERROR(SUMPRODUCT(--(INDEX(Model_Inputs_Ref_Units,,Q$51)=$E85),INDEX(Model_Inputs_Ref_Units,,Q$52)),0)","v":0},{"$f":"IFERROR(SUMPRODUCT(--(INDEX(Model_Inputs_Ref_Units,,R$51)=$E85),INDEX(Model_Inputs_Ref_Units,,R$52)),0)","v":0},{"$f":"IFERROR(SUMPRODUCT(--(INDEX(Model_Inputs_Ref_Units,,S$51)=$E85),INDEX(Model_Inputs_Ref_Units,,S$52)),0)","v":0},{"$f":"IFERROR(SUMPRODUCT(--(INDEX(Model_Inputs_Ref_Units,,T$51)=$E85),INDEX(Model_Inputs_Ref_Units,,T$52)),0)","v":0},{"$f":"IFERROR(SUMPRODUCT(--(INDEX(Model_Inputs_Ref_Units,,U$51)=$E85),INDEX(Model_Inputs_Ref_Units,,U$52)),0)","v":0},{"$f":"IFERROR(SUMPRODUCT(--(INDEX(Model_Inputs_Ref_Units,,V$51)=$E85),INDEX(Model_Inputs_Ref_Units,,V$52)),0)","v":0},{"$f":"IFERROR(SUMPRODUCT(--(INDEX(Model_Inputs_Ref_Units,,W$51)=$E85),INDEX(Model_Inputs_Ref_Units,,W$52)),0)","v":0},{"$f":"IFERROR(SUMPRODUCT(--(INDEX(Model_Inputs_Ref_Units,,X$51)=$E85),INDEX(Model_Inputs_Ref_Units,,X$52)),0)","v":0},{"$f":"IFERROR(SUMPRODUCT(--(INDEX(Model_Inputs_Ref_Units,,Y$51)=$E85),INDEX(Model_Inputs_Ref_Units,,Y$52)),0)","v":0},{"$f":"IFERROR(SUMPRODUCT(--(INDEX(Model_Inputs_Ref_Units,,Z$51)=$E85),INDEX(Model_Inputs_Ref_Units,,Z$52)),0)","v":0},{"$f":"IFERROR(SUMPRODUCT(--(INDEX(Model_Inputs_Ref_Units,,AA$51)=$E85),INDEX(Model_Inputs_Ref_Units,,AA$52)),0)","v":0},{"$f":"IFERROR(SUMPRODUCT(--(INDEX(Model_Inputs_Ref_Units,,AB$51)=$E85),INDEX(Model_Inputs_Ref_Units,,AB$52)),0)","v":0},{"$f":"IFERROR(SUMPRODUCT(--(INDEX(Model_Inputs_Ref_Units,,AC$51)=$E85),INDEX(Model_Inputs_Ref_Units,,AC$52)),0)","v":0},{"$f":"IFERROR(SUMPRODUCT(--(INDEX(Model_Inputs_Ref_Units,,AD$51)=$E85),INDEX(Model_Inputs_Ref_Units,,AD$52)),0)","v":0},{"$f":"IFERROR(SUMPRODUCT(--(INDEX(Model_Inputs_Ref_Units,,AE$51)=$E85),INDEX(Model_Inputs_Ref_Units,,AE$52)),0)","v":0},{"$f":"IFERROR(SUMPRODUCT(--(INDEX(Model_Inputs_Ref_Units,,AF$51)=$E85),INDEX(Model_Inputs_Ref_Units,,AF$52)),0)","v":0},{"$f":"IFERROR(SUMPRODUCT(--(INDEX(Model_Inputs_Ref_Units,,AG$51)=$E85),INDEX(Model_Inputs_Ref_Units,,AG$52)),0)","v":0},{"$f":"IFERROR(SUMPRODUCT(--(INDEX(Model_Inputs_Ref_Units,,AH$51)=$E85),INDEX(Model_Inputs_Ref_Units,,AH$52)),0)","v":0},{"$f":"IFERROR(SUMPRODUCT(--(INDEX(Model_Inputs_Ref_Units,,AI$51)=$E85),INDEX(Model_Inputs_Ref_Units,,AI$52)),0)","v":0},{"$f":"IFERROR(SUMPRODUCT(--(INDEX(Model_Inputs_Ref_Units,,AJ$51)=$E85),INDEX(Model_Inputs_Ref_Units,,AJ$52)),0)","v":0},{"$f":"IFERROR(SUMPRODUCT(--(INDEX(Model_Inputs_Ref_Units,,AK$51)=$E85),INDEX(Model_Inputs_Ref_Units,,AK$52)),0)","v":0},{"$f":"IFERROR(SUMPRODUCT(--(INDEX(Model_Inputs_Ref_Units,,AL$51)=$E85),INDEX(Model_Inputs_Ref_Units,,AL$52)),0)","v":0},{"$f":"IFERROR(SUMPRODUCT(--(INDEX(Model_Inputs_Ref_Units,,AM$51)=$E85),INDEX(Model_Inputs_Ref_Units,,AM$52)),0)","v":0},{"$f":"IFERROR(SUMPRODUCT(--(INDEX(Model_Inputs_Ref_Units,,AN$51)=$E85),INDEX(Model_Inputs_Ref_Units,,AN$52)),0)","v":0},{"$f":"IFERROR(SUMPRODUCT(--(INDEX(Model_Inputs_Ref_Units,,AO$51)=$E85),INDEX(Model_Inputs_Ref_Units,,AO$52)),0)","v":0},{"$f":"IFERROR(SUMPRODUCT(--(INDEX(Model_Inputs_Ref_Units,,AP$51)=$E85),INDEX(Model_Inputs_Ref_Units,,AP$52)),0)","v":0},{"$f":"IFERROR(SUMPRODUCT(--(INDEX(Model_Inputs_Ref_Units,,AQ$51)=$E85),INDEX(Model_Inputs_Ref_Units,,AQ$52)),0)","v":0},{"$f":"IFERROR(SUMPRODUCT(--(INDEX(Model_Inputs_Ref_Units,,AR$51)=$E85),INDEX(Model_Inputs_Ref_Units,,AR$52)),0)","v":0},{"$f":"IFERROR(SUMPRODUCT(--(INDEX(Model_Inputs_Ref_Units,,AS$51)=$E85),INDEX(Model_Inputs_Ref_Units,,AS$52)),0)","v":0},{"$f":"IFERROR(SUMPRODUCT(--(INDEX(Model_Inputs_Ref_Units,,AT$51)=$E85),INDEX(Model_Inputs_Ref_Units,,AT$52)),0)","v":0},{"$f":"IFERROR(SUMPRODUCT(--(INDEX(Model_Inputs_Ref_Units,,AU$51)=$E85),INDEX(Model_Inputs_Ref_Units,,AU$52)),0)","v":0},{"$f":"IFERROR(SUMPRODUCT(--(INDEX(Model_Inputs_Ref_Units,,AV$51)=$E85),INDEX(Model_Inputs_Ref_Units,,AV$52)),0)","v":0},{"$f":"IFERROR(SUMPRODUCT(--(INDEX(Model_Inputs_Ref_Units,,AW$51)=$E85),INDEX(Model_Inputs_Ref_Units,,AW$52)),0)","v":0},{"$f":"IFERROR(SUMPRODUCT(--(INDEX(Model_Inputs_Ref_Units,,AX$51)=$E85),INDEX(Model_Inputs_Ref_Units,,AX$52)),0)","v":0},{"$f":"IFERROR(SUMPRODUCT(--(INDEX(Model_Inputs_Ref_Units,,AY$51)=$E85),INDEX(Model_Inputs_Ref_Units,,AY$52)),0)","v":0},{"$f":"IFERROR(SUMPRODUCT(--(INDEX(Model_Inputs_Ref_Units,,AZ$51)=$E85),INDEX(Model_Inputs_Ref_Units,,AZ$52)),0)","v":0},{"$f":"IFERROR(SUMPRODUCT(--(INDEX(Model_Inputs_Ref_Units,,BA$51)=$E85),INDEX(Model_Inputs_Ref_Units,,BA$52)),0)","v":0},{"$f":"IFERROR(SUMPRODUCT(--(INDEX(Model_Inputs_Ref_Units,,BB$51)=$E85),INDEX(Model_Inputs_Ref_Units,,BB$52)),0)","v":0},{"$f":"IFERROR(SUMPRODUCT(--(INDEX(Model_Inputs_Ref_Units,,BC$51)=$E85),INDEX(Model_Inputs_Ref_Units,,BC$52)),0)","v":0},{"$f":"IFERROR(SUMPRODUCT(--(INDEX(Model_Inputs_Ref_Units,,BD$51)=$E85),INDEX(Model_Inputs_Ref_Units,,BD$52)),0)","v":0},{"$f":"IFERROR(SUMPRODUCT(--(INDEX(Model_Inputs_Ref_Units,,BE$51)=$E85),INDEX(Model_Inputs_Ref_Units,,BE$52)),0)","v":0},{"$f":"IFERROR(SUMPRODUCT(--(INDEX(Model_Inputs_Ref_Units,,BF$51)=$E85),INDEX(Model_Inputs_Ref_Units,,BF$52)),0)","v":0},{"$f":"IFERROR(SUMPRODUCT(--(INDEX(Model_Inputs_Ref_Units,,BG$51)=$E85),INDEX(Model_Inputs_Ref_Units,,BG$52)),0)","v":0},{"$f":"IFERROR(SUMPRODUCT(--(INDEX(Model_Inputs_Ref_Units,,BH$51)=$E85),INDEX(Model_Inputs_Ref_Units,,BH$52)),0)","v":0},{"$f":"IFERROR(SUMPRODUCT(--(INDEX(Model_Inputs_Ref_Units,,BI$51)=$E85),INDEX(Model_Inputs_Ref_Units,,BI$52)),0)","v":0},{"$f":"IFERROR(SUMPRODUCT(--(INDEX(Model_Inputs_Ref_Units,,BJ$51)=$E85),INDEX(Model_Inputs_Ref_Units,,BJ$52)),0)","v":0},{"$f":"IFERROR(SUMPRODUCT(--(INDEX(Model_Inputs_Ref_Units,,BK$51)=$E85),INDEX(Model_Inputs_Ref_Units,,BK$52)),0)","v":0},{"$f":"IFERROR(SUMPRODUCT(--(INDEX(Model_Inputs_Ref_Units,,BL$51)=$E85),INDEX(Model_Inputs_Ref_Units,,BL$52)),0)","v":0},{"$f":"IFERROR(SUMPRODUCT(--(INDEX(Model_Inputs_Ref_Units,,BM$51)=$E85),INDEX(Model_Inputs_Ref_Units,,BM$52)),0)","v":0},{"$f":"IFERROR(SUMPRODUCT(--(INDEX(Model_Inputs_Ref_Units,,BN$51)=$E85),INDEX(Model_Inputs_Ref_Units,,BN$52)),0)","v":0},{"$f":"IFERROR(SUMPRODUCT(--(INDEX(Model_Inputs_Ref_Units,,BO$51)=$E85),INDEX(Model_Inputs_Ref_Units,,BO$52)),0)","v":0},{"$f":"IFERROR(SUMPRODUCT(--(INDEX(Model_Inputs_Ref_Units,,BP$51)=$E85),INDEX(Model_Inputs_Ref_Units,,BP$52)),0)","v":0},{"$f":"IFERROR(SUMPRODUCT(--(INDEX(Model_Inputs_Ref_Units,,BQ$51)=$E85),INDEX(Model_Inputs_Ref_Units,,BQ$52)),0)","v":0},{"$f":"IFERROR(SUMPRODUCT(--(INDEX(Model_Inputs_Ref_Units,,BR$51)=$E85),INDEX(Model_Inputs_Ref_Units,,BR$52)),0)","v":0},{"$f":"IFERROR(SUMPRODUCT(--(INDEX(Model_Inputs_Ref_Units,,BS$51)=$E85),INDEX(Model_Inputs_Ref_Units,,BS$52)),0)","v":0},{"$f":"IFERROR(SUMPRODUCT(--(INDEX(Model_Inputs_Ref_Units,,BT$51)=$E85),INDEX(Model_Inputs_Ref_Units,,BT$52)),0)","v":0},{"$f":"IFERROR(SUMPRODUCT(--(INDEX(Model_Inputs_Ref_Units,,BU$51)=$E85),INDEX(Model_Inputs_Ref_Units,,BU$52)),0)","v":0},{"$f":"IFERROR(SUMPRODUCT(--(INDEX(Model_Inputs_Ref_Units,,BV$51)=$E85),INDEX(Model_Inputs_Ref_Units,,BV$52)),0)","v":0},{"$f":"IFERROR(SUMPRODUCT(--(INDEX(Model_Inputs_Ref_Units,,BW$51)=$E85),INDEX(Model_Inputs_Ref_Units,,BW$52)),0)","v":0},{"$f":"IFERROR(SUMPRODUCT(--(INDEX(Model_Inputs_Ref_Units,,BX$51)=$E85),INDEX(Model_Inputs_Ref_Units,,BX$52)),0)","v":0},{"$f":"IFERROR(SUMPRODUCT(--(INDEX(Model_Inputs_Ref_Units,,BY$51)=$E85),INDEX(Model_Inputs_Ref_Units,,BY$52)),0)","v":0},{"$f":"IFERROR(SUMPRODUCT(--(INDEX(Model_Inputs_Ref_Units,,BZ$51)=$E85),INDEX(Model_Inputs_Ref_Units,,BZ$52)),0)","v":0},{"$f":"IFERROR(SUMPRODUCT(--(INDEX(Model_Inputs_Ref_Units,,CA$51)=$E85),INDEX(Model_Inputs_Ref_Units,,CA$52)),0)","v":0},{"$f":"IFERROR(SUMPRODUCT(--(INDEX(Model_Inputs_Ref_Units,,CB$51)=$E85),INDEX(Model_Inputs_Ref_Units,,CB$52)),0)","v":0},{"$f":"IFERROR(SUMPRODUCT(--(INDEX(Model_Inputs_Ref_Units,,CC$51)=$E85),INDEX(Model_Inputs_Ref_Units,,CC$52)),0)","v":0},{"$f":"IFERROR(SUMPRODUCT(--(INDEX(Model_Inputs_Ref_Units,,CD$51)=$E85),INDEX(Model_Inputs_Ref_Units,,CD$52)),0)","v":0},{"$f":"IFERROR(SUMPRODUCT(--(INDEX(Model_Inputs_Ref_Units,,CE$51)=$E85),INDEX(Model_Inputs_Ref_Units,,CE$52)),0)","v":0},{"$f":"IFERROR(SUMPRODUCT(--(INDEX(Model_Inputs_Ref_Units,,CF$51)=$E85),INDEX(Model_Inputs_Ref_Units,,CF$52)),0)","v":0},{"$f":"IFERROR(SUMPRODUCT(--(INDEX(Model_Inputs_Ref_Units,,CG$51)=$E85),INDEX(Model_Inputs_Ref_Units,,CG$52)),0)","v":0},{"$f":"IFERROR(SUMPRODUCT(--(INDEX(Model_Inputs_Ref_Units,,CH$51)=$E85),INDEX(Model_Inputs_Ref_Units,,CH$52)),0)","v":0},{"$f":"IFERROR(SUMPRODUCT(--(INDEX(Model_Inputs_Ref_Units,,CI$51)=$E85),INDEX(Model_Inputs_Ref_Units,,CI$52)),0)","v":0},{"$f":"IFERROR(SUMPRODUCT(--(INDEX(Model_Inputs_Ref_Units,,CJ$51)=$E85),INDEX(Model_Inputs_Ref_Units,,CJ$52)),0)","v":0},{"$f":"IFERROR(SUMPRODUCT(--(INDEX(Model_Inputs_Ref_Units,,CK$51)=$E85),INDEX(Model_Inputs_Ref_Units,,CK$52)),0)","v":0},{"$f":"IFERROR(SUMPRODUCT(--(INDEX(Model_Inputs_Ref_Units,,CL$51)=$E85),INDEX(Model_Inputs_Ref_Units,,CL$52)),0)","v":0},{"$f":"IFERROR(SUMPRODUCT(--(INDEX(Model_Inputs_Ref_Units,,CM$51)=$E85),INDEX(Model_Inputs_Ref_Units,,CM$52)),0)","v":0},{"$f":"IFERROR(SUMPRODUCT(--(INDEX(Model_Inputs_Ref_Units,,CN$51)=$E85),INDEX(Model_Inputs_Ref_Units,,CN$52)),0)","v":0},{"$f":"IFERROR(SUMPRODUCT(--(INDEX(Model_Inputs_Ref_Units,,CO$51)=$E85),INDEX(Model_Inputs_Ref_Units,,CO$52)),0)","v":0},{"$f":"IFERROR(SUMPRODUCT(--(INDEX(Model_Inputs_Ref_Units,,CP$51)=$E85),INDEX(Model_Inputs_Ref_Units,,CP$52)),0)","v":0},{"$f":"IFERROR(SUMPRODUCT(--(INDEX(Model_Inputs_Ref_Units,,CQ$51)=$E85),INDEX(Model_Inputs_Ref_Units,,CQ$52)),0)","v":0},{"$f":"IFERROR(SUMPRODUCT(--(INDEX(Model_Inputs_Ref_Units,,CR$51)=$E85),INDEX(Model_Inputs_Ref_Units,,CR$52)),0)","v":0},{"$f":"IFERROR(SUMPRODUCT(--(INDEX(Model_Inputs_Ref_Units,,CS$51)=$E85),INDEX(Model_Inputs_Ref_Units,,CS$52)),0)","v":0},{"$f":"IFERROR(SUMPRODUCT(--(INDEX(Model_Inputs_Ref_Units,,CT$51)=$E85),INDEX(Model_Inputs_Ref_Units,,CT$52)),0)","v":0},{"$f":"IFERROR(SUMPRODUCT(--(INDEX(Model_Inputs_Ref_Units,,CU$51)=$E85),INDEX(Model_Inputs_Ref_Units,,CU$52)),0)","v":0},{"$f":"IFERROR(SUMPRODUCT(--(INDEX(Model_Inputs_Ref_Units,,CV$51)=$E85),INDEX(Model_Inputs_Ref_Units,,CV$52)),0)","v":0},{"$f":"IFERROR(SUMPRODUCT(--(INDEX(Model_Inputs_Ref_Units,,CW$51)=$E85),INDEX(Model_Inputs_Ref_Units,,CW$52)),0)","v":0},{"$f":"IFERROR(SUMPRODUCT(--(INDEX(Model_Inputs_Ref_Units,,CX$51)=$E85),INDEX(Model_Inputs_Ref_Units,,CX$52)),0)","v":0},{"$f":"IFERROR(SUMPRODUCT(--(INDEX(Model_Inputs_Ref_Units,,CY$51)=$E85),INDEX(Model_Inputs_Ref_Units,,CY$52)),0)","v":0},{"$f":"IFERROR(SUMPRODUCT(--(INDEX(Model_Inputs_Ref_Units,,CZ$51)=$E85),INDEX(Model_Inputs_Ref_Units,,CZ$52)),0)","v":0},{"$f":"IFERROR(SUMPRODUCT(--(INDEX(Model_Inputs_Ref_Units,,DA$51)=$E85),INDEX(Model_Inputs_Ref_Units,,DA$52)),0)","v":0},{"$f":"IFERROR(SUMPRODUCT(--(INDEX(Model_Inputs_Ref_Units,,DB$51)=$E85),INDEX(Model_Inputs_Ref_Units,,DB$52)),0)","v":0},{"$f":"IFERROR(SUMPRODUCT(--(INDEX(Model_Inputs_Ref_Units,,DC$51)=$E85),INDEX(Model_Inputs_Ref_Units,,DC$52)),0)","v":0},{"$f":"IFERROR(SUMPRODUCT(--(INDEX(Model_Inputs_Ref_Units,,DD$51)=$E85),INDEX(Model_Inputs_Ref_Units,,DD$52)),0)","v":0},{"$f":"IFERROR(SUMPRODUCT(--(INDEX(Model_Inputs_Ref_Units,,DE$51)=$E85),INDEX(Model_Inputs_Ref_Units,,DE$52)),0)","v":0},{"$f":"IFERROR(SUMPRODUCT(--(INDEX(Model_Inputs_Ref_Units,,DF$51)=$E85),INDEX(Model_Inputs_Ref_Units,,DF$52)),0)","v":0}]
[null,null,{"$error":"#DIV/0!"},null,{"$f":"IFERROR(INDEX(Ref_Data,1,F86),\"\")","v":""},33,{"$f":"IFERROR(INDEX(Ref_Data,6,MATCH(E86,INDEX(Ref_Data,1,0),0)),0)","v":0},{"$f":"SUM(K86:DF86)","v":0},0,0,{"$f":"IFERROR(SUMPRODUCT(--(INDEX(Model_Inputs_Ref_Units,,K$51)=$E86),INDEX(Model_Inputs_Ref_Units,,K$52)),0)","v":0},{"$f":"IFERROR(SUMPRODUCT(--(INDEX(Model_Inputs_Ref_Units,,L$51)=$E86),INDEX(Model_Inputs_Ref_Units,,L$52)),0)","v":0},{"$f":"IFERROR(SUMPRODUCT(--(INDEX(Model_Inputs_Ref_Units,,M$51)=$E86),INDEX(Model_Inputs_Ref_Units,,M$52)),0)","v":0},{"$f":"IFERROR(SUMPRODUCT(--(INDEX(Model_Inputs_Ref_Units,,N$51)=$E86),INDEX(Model_Inputs_Ref_Units,,N$52)),0)","v":0},{"$f":"IFERROR(SUMPRODUCT(--(INDEX(Model_Inputs_Ref_Units,,O$51)=$E86),INDEX(Model_Inputs_Ref_Units,,O$52)),0)","v":0},{"$f":"IFERROR(SUMPRODUCT(--(INDEX(Model_Inputs_Ref_Units,,P$51)=$E86),INDEX(Model_Inputs_Ref_Units,,P$52)),0)","v":0},{"$f":"IFERROR(SUMPRODUCT(--(INDEX(Model_Inputs_Ref_Units,,Q$51)=$E86),INDEX(Model_Inputs_Ref_Units,,Q$52)),0)","v":0},{"$f":"IFERROR(SUMPRODUCT(--(INDEX(Model_Inputs_Ref_Units,,R$51)=$E86),INDEX(Model_Inputs_Ref_Units,,R$52)),0)","v":0},{"$f":"IFERROR(SUMPRODUCT(--(INDEX(Model_Inputs_Ref_Units,,S$51)=$E86),INDEX(Model_Inputs_Ref_Units,,S$52)),0)","v":0},{"$f":"IFERROR(SUMPRODUCT(--(INDEX(Model_Inputs_Ref_Units,,T$51)=$E86),INDEX(Model_Inputs_Ref_Units,,T$52)),0)","v":0},{"$f":"IFERROR(SUMPRODUCT(--(INDEX(Model_Inputs_Ref_Units,,U$51)=$E86),INDEX(Model_Inputs_Ref_Units,,U$52)),0)","v":0},{"$f":"IFERROR(SUMPRODUCT(--(INDEX(Model_Inputs_Ref_Units,,V$51)=$E86),INDEX(Model_Inputs_Ref_Units,,V$52)),0)","v":0},{"$f":"IFERROR(SUMPRODUCT(--(INDEX(Model_Inputs_Ref_Units,,W$51)=$E86),INDEX(Model_Inputs_Ref_Units,,W$52)),0)","v":0},{"$f":"IFERROR(SUMPRODUCT(--(INDEX(Model_Inputs_Ref_Units,,X$51)=$E86),INDEX(Model_Inputs_Ref_Units,,X$52)),0)","v":0},{"$f":"IFERROR(SUMPRODUCT(--(INDEX(Model_Inputs_Ref_Units,,Y$51)=$E86),INDEX(Model_Inputs_Ref_Units,,Y$52)),0)","v":0},{"$f":"IFERROR(SUMPRODUCT(--(INDEX(Model_Inputs_Ref_Units,,Z$51)=$E86),INDEX(Model_Inputs_Ref_Units,,Z$52)),0)","v":0},{"$f":"IFERROR(SUMPRODUCT(--(INDEX(Model_Inputs_Ref_Units,,AA$51)=$E86),INDEX(Model_Inputs_Ref_Units,,AA$52)),0)","v":0},{"$f":"IFERROR(SUMPRODUCT(--(INDEX(Model_Inputs_Ref_Units,,AB$51)=$E86),INDEX(Model_Inputs_Ref_Units,,AB$52)),0)","v":0},{"$f":"IFERROR(SUMPRODUCT(--(INDEX(Model_Inputs_Ref_Units,,AC$51)=$E86),INDEX(Model_Inputs_Ref_Units,,AC$52)),0)","v":0},{"$f":"IFERROR(SUMPRODUCT(--(INDEX(Model_Inputs_Ref_Units,,AD$51)=$E86),INDEX(Model_Inputs_Ref_Units,,AD$52)),0)","v":0},{"$f":"IFERROR(SUMPRODUCT(--(INDEX(Model_Inputs_Ref_Units,,AE$51)=$E86),INDEX(Model_Inputs_Ref_Units,,AE$52)),0)","v":0},{"$f":"IFERROR(SUMPRODUCT(--(INDEX(Model_Inputs_Ref_Units,,AF$51)=$E86),INDEX(Model_Inputs_Ref_Units,,AF$52)),0)","v":0},{"$f":"IFERROR(SUMPRODUCT(--(INDEX(Model_Inputs_Ref_Units,,AG$51)=$E86),INDEX(Model_Inputs_Ref_Units,,AG$52)),0)","v":0},{"$f":"IFERROR(SUMPRODUCT(--(INDEX(Model_Inputs_Ref_Units,,AH$51)=$E86),INDEX(Model_Inputs_Ref_Units,,AH$52)),0)","v":0},{"$f":"IFERROR(SUMPRODUCT(--(INDEX(Model_Inputs_Ref_Units,,AI$51)=$E86),INDEX(Model_Inputs_Ref_Units,,AI$52)),0)","v":0},{"$f":"IFERROR(SUMPRODUCT(--(INDEX(Model_Inputs_Ref_Units,,AJ$51)=$E86),INDEX(Model_Inputs_Ref_Units,,AJ$52)),0)","v":0},{"$f":"IFERROR(SUMPRODUCT(--(INDEX(Model_Inputs_Ref_Units,,AK$51)=$E86),INDEX(Model_Inputs_Ref_Units,,AK$52)),0)","v":0},{"$f":"IFERROR(SUMPRODUCT(--(INDEX(Model_Inputs_Ref_Units,,AL$51)=$E86),INDEX(Model_Inputs_Ref_Units,,AL$52)),0)","v":0},{"$f":"IFERROR(SUMPRODUCT(--(INDEX(Model_Inputs_Ref_Units,,AM$51)=$E86),INDEX(Model_Inputs_Ref_Units,,AM$52)),0)","v":0},{"$f":"IFERROR(SUMPRODUCT(--(INDEX(Model_Inputs_Ref_Units,,AN$51)=$E86),INDEX(Model_Inputs_Ref_Units,,AN$52)),0)","v":0},{"$f":"IFERROR(SUMPRODUCT(--(INDEX(Model_Inputs_Ref_Units,,AO$51)=$E86),INDEX(Model_Inputs_Ref_Units,,AO$52)),0)","v":0},{"$f":"IFERROR(SUMPRODUCT(--(INDEX(Model_Inputs_Ref_Units,,AP$51)=$E86),INDEX(Model_Inputs_Ref_Units,,AP$52)),0)","v":0},{"$f":"IFERROR(SUMPRODUCT(--(INDEX(Model_Inputs_Ref_Units,,AQ$51)=$E86),INDEX(Model_Inputs_Ref_Units,,AQ$52)),0)","v":0},{"$f":"IFERROR(SUMPRODUCT(--(INDEX(Model_Inputs_Ref_Units,,AR$51)=$E86),INDEX(Model_Inputs_Ref_Units,,AR$52)),0)","v":0},{"$f":"IFERROR(SUMPRODUCT(--(INDEX(Model_Inputs_Ref_Units,,AS$51)=$E86),INDEX(Model_Inputs_Ref_Units,,AS$52)),0)","v":0},{"$f":"IFERROR(SUMPRODUCT(--(INDEX(Model_Inputs_Ref_Units,,AT$51)=$E86),INDEX(Model_Inputs_Ref_Units,,AT$52)),0)","v":0},{"$f":"IFERROR(SUMPRODUCT(--(INDEX(Model_Inputs_Ref_Units,,AU$51)=$E86),INDEX(Model_Inputs_Ref_Units,,AU$52)),0)","v":0},{"$f":"IFERROR(SUMPRODUCT(--(INDEX(Model_Inputs_Ref_Units,,AV$51)=$E86),INDEX(Model_Inputs_Ref_Units,,AV$52)),0)","v":0},{"$f":"IFERROR(SUMPRODUCT(--(INDEX(Model_Inputs_Ref_Units,,AW$51)=$E86),INDEX(Model_Inputs_Ref_Units,,AW$52)),0)","v":0},{"$f":"IFERROR(SUMPRODUCT(--(INDEX(Model_Inputs_Ref_Units,,AX$51)=$E86),INDEX(Model_Inputs_Ref_Units,,AX$52)),0)","v":0},{"$f":"IFERROR(SUMPRODUCT(--(INDEX(Model_Inputs_Ref_Units,,AY$51)=$E86),INDEX(Model_Inputs_Ref_Units,,AY$52)),0)","v":0},{"$f":"IFERROR(SUMPRODUCT(--(INDEX(Model_Inputs_Ref_Units,,AZ$51)=$E86),INDEX(Model_Inputs_Ref_Units,,AZ$52)),0)","v":0},{"$f":"IFERROR(SUMPRODUCT(--(INDEX(Model_Inputs_Ref_Units,,BA$51)=$E86),INDEX(Model_Inputs_Ref_Units,,BA$52)),0)","v":0},{"$f":"IFERROR(SUMPRODUCT(--(INDEX(Model_Inputs_Ref_Units,,BB$51)=$E86),INDEX(Model_Inputs_Ref_Units,,BB$52)),0)","v":0},{"$f":"IFERROR(SUMPRODUCT(--(INDEX(Model_Inputs_Ref_Units,,BC$51)=$E86),INDEX(Model_Inputs_Ref_Units,,BC$52)),0)","v":0},{"$f":"IFERROR(SUMPRODUCT(--(INDEX(Model_Inputs_Ref_Units,,BD$51)=$E86),INDEX(Model_Inputs_Ref_Units,,BD$52)),0)","v":0},{"$f":"IFERROR(SUMPRODUCT(--(INDEX(Model_Inputs_Ref_Units,,BE$51)=$E86),INDEX(Model_Inputs_Ref_Units,,BE$52)),0)","v":0},{"$f":"IFERROR(SUMPRODUCT(--(INDEX(Model_Inputs_Ref_Units,,BF$51)=$E86),INDEX(Model_Inputs_Ref_Units,,BF$52)),0)","v":0},{"$f":"IFERROR(SUMPRODUCT(--(INDEX(Model_Inputs_Ref_Units,,BG$51)=$E86),INDEX(Model_Inputs_Ref_Units,,BG$52)),0)","v":0},{"$f":"IFERROR(SUMPRODUCT(--(INDEX(Model_Inputs_Ref_Units,,BH$51)=$E86),INDEX(Model_Inputs_Ref_Units,,BH$52)),0)","v":0},{"$f":"IFERROR(SUMPRODUCT(--(INDEX(Model_Inputs_Ref_Units,,BI$51)=$E86),INDEX(Model_Inputs_Ref_Units,,BI$52)),0)","v":0},{"$f":"IFERROR(SUMPRODUCT(--(INDEX(Model_Inputs_Ref_Units,,BJ$51)=$E86),INDEX(Model_Inputs_Ref_Units,,BJ$52)),0)","v":0},{"$f":"IFERROR(SUMPRODUCT(--(INDEX(Model_Inputs_Ref_Units,,BK$51)=$E86),INDEX(Model_Inputs_Ref_Units,,BK$52)),0)","v":0},{"$f":"IFERROR(SUMPRODUCT(--(INDEX(Model_Inputs_Ref_Units,,BL$51)=$E86),INDEX(Model_Inputs_Ref_Units,,BL$52)),0)","v":0},{"$f":"IFERROR(SUMPRODUCT(--(INDEX(Model_Inputs_Ref_Units,,BM$51)=$E86),INDEX(Model_Inputs_Ref_Units,,BM$52)),0)","v":0},{"$f":"IFERROR(SUMPRODUCT(--(INDEX(Model_Inputs_Ref_Units,,BN$51)=$E86),INDEX(Model_Inputs_Ref_Units,,BN$52)),0)","v":0},{"$f":"IFERROR(SUMPRODUCT(--(INDEX(Model_Inputs_Ref_Units,,BO$51)=$E86),INDEX(Model_Inputs_Ref_Units,,BO$52)),0)","v":0},{"$f":"IFERROR(SUMPRODUCT(--(INDEX(Model_Inputs_Ref_Units,,BP$51)=$E86),INDEX(Model_Inputs_Ref_Units,,BP$52)),0)","v":0},{"$f":"IFERROR(SUMPRODUCT(--(INDEX(Model_Inputs_Ref_Units,,BQ$51)=$E86),INDEX(Model_Inputs_Ref_Units,,BQ$52)),0)","v":0},{"$f":"IFERROR(SUMPRODUCT(--(INDEX(Model_Inputs_Ref_Units,,BR$51)=$E86),INDEX(Model_Inputs_Ref_Units,,BR$52)),0)","v":0},{"$f":"IFERROR(SUMPRODUCT(--(INDEX(Model_Inputs_Ref_Units,,BS$51)=$E86),INDEX(Model_Inputs_Ref_Units,,BS$52)),0)","v":0},{"$f":"IFERROR(SUMPRODUCT(--(INDEX(Model_Inputs_Ref_Units,,BT$51)=$E86),INDEX(Model_Inputs_Ref_Units,,BT$52)),0)","v":0},{"$f":"IFERROR(SUMPRODUCT(--(INDEX(Model_Inputs_Ref_Units,,BU$51)=$E86),INDEX(Model_Inputs_Ref_Units,,BU$52)),0)","v":0},{"$f":"IFERROR(SUMPRODUCT(--(INDEX(Model_Inputs_Ref_Units,,BV$51)=$E86),INDEX(Model_Inputs_Ref_Units,,BV$52)),0)","v":0},{"$f":"IFERROR(SUMPRODUCT(--(INDEX(Model_Inputs_Ref_Units,,BW$51)=$E86),INDEX(Model_Inputs_Ref_Units,,BW$52)),0)","v":0},{"$f":"IFERROR(SUMPRODUCT(--(INDEX(Model_Inputs_Ref_Units,,BX$51)=$E86),INDEX(Model_Inputs_Ref_Units,,BX$52)),0)","v":0},{"$f":"IFERROR(SUMPRODUCT(--(INDEX(Model_Inputs_Ref_Units,,BY$51)=$E86),INDEX(Model_Inputs_Ref_Units,,BY$52)),0)","v":0},{"$f":"IFERROR(SUMPRODUCT(--(INDEX(Model_Inputs_Ref_Units,,BZ$51)=$E86),INDEX(Model_Inputs_Ref_Units,,BZ$52)),0)","v":0},{"$f":"IFERROR(SUMPRODUCT(--(INDEX(Model_Inputs_Ref_Units,,CA$51)=$E86),INDEX(Model_Inputs_Ref_Units,,CA$52)),0)","v":0},{"$f":"IFERROR(SUMPRODUCT(--(INDEX(Model_Inputs_Ref_Units,,CB$51)=$E86),INDEX(Model_Inputs_Ref_Units,,CB$52)),0)","v":0},{"$f":"IFERROR(SUMPRODUCT(--(INDEX(Model_Inputs_Ref_Units,,CC$51)=$E86),INDEX(Model_Inputs_Ref_Units,,CC$52)),0)","v":0},{"$f":"IFERROR(SUMPRODUCT(--(INDEX(Model_Inputs_Ref_Units,,CD$51)=$E86),INDEX(Model_Inputs_Ref_Units,,CD$52)),0)","v":0},{"$f":"IFERROR(SUMPRODUCT(--(INDEX(Model_Inputs_Ref_Units,,CE$51)=$E86),INDEX(Model_Inputs_Ref_Units,,CE$52)),0)","v":0},{"$f":"IFERROR(SUMPRODUCT(--(INDEX(Model_Inputs_Ref_Units,,CF$51)=$E86),INDEX(Model_Inputs_Ref_Units,,CF$52)),0)","v":0},{"$f":"IFERROR(SUMPRODUCT(--(INDEX(Model_Inputs_Ref_Units,,CG$51)=$E86),INDEX(Model_Inputs_Ref_Units,,CG$52)),0)","v":0},{"$f":"IFERROR(SUMPRODUCT(--(INDEX(Model_Inputs_Ref_Units,,CH$51)=$E86),INDEX(Model_Inputs_Ref_Units,,CH$52)),0)","v":0},{"$f":"IFERROR(SUMPRODUCT(--(INDEX(Model_Inputs_Ref_Units,,CI$51)=$E86),INDEX(Model_Inputs_Ref_Units,,CI$52)),0)","v":0},{"$f":"IFERROR(SUMPRODUCT(--(INDEX(Model_Inputs_Ref_Units,,CJ$51)=$E86),INDEX(Model_Inputs_Ref_Units,,CJ$52)),0)","v":0},{"$f":"IFERROR(SUMPRODUCT(--(INDEX(Model_Inputs_Ref_Units,,CK$51)=$E86),INDEX(Model_Inputs_Ref_Units,,CK$52)),0)","v":0},{"$f":"IFERROR(SUMPRODUCT(--(INDEX(Model_Inputs_Ref_Units,,CL$51)=$E86),INDEX(Model_Inputs_Ref_Units,,CL$52)),0)","v":0},{"$f":"IFERROR(SUMPRODUCT(--(INDEX(Model_Inputs_Ref_Units,,CM$51)=$E86),INDEX(Model_Inputs_Ref_Units,,CM$52)),0)","v":0},{"$f":"IFERROR(SUMPRODUCT(--(INDEX(Model_Inputs_Ref_Units,,CN$51)=$E86),INDEX(Model_Inputs_Ref_Units,,CN$52)),0)","v":0},{"$f":"IFERROR(SUMPRODUCT(--(INDEX(Model_Inputs_Ref_Units,,CO$51)=$E86),INDEX(Model_Inputs_Ref_Units,,CO$52)),0)","v":0},{"$f":"IFERROR(SUMPRODUCT(--(INDEX(Model_Inputs_Ref_Units,,CP$51)=$E86),INDEX(Model_Inputs_Ref_Units,,CP$52)),0)","v":0},{"$f":"IFERROR(SUMPRODUCT(--(INDEX(Model_Inputs_Ref_Units,,CQ$51)=$E86),INDEX(Model_Inputs_Ref_Units,,CQ$52)),0)","v":0},{"$f":"IFERROR(SUMPRODUCT(--(INDEX(Model_Inputs_Ref_Units,,CR$51)=$E86),INDEX(Model_Inputs_Ref_Units,,CR$52)),0)","v":0},{"$f":"IFERROR(SUMPRODUCT(--(INDEX(Model_Inputs_Ref_Units,,CS$51)=$E86),INDEX(Model_Inputs_Ref_Units,,CS$52)),0)","v":0},{"$f":"IFERROR(SUMPRODUCT(--(INDEX(Model_Inputs_Ref_Units,,CT$51)=$E86),INDEX(Model_Inputs_Ref_Units,,CT$52)),0)","v":0},{"$f":"IFERROR(SUMPRODUCT(--(INDEX(Model_Inputs_Ref_Units,,CU$51)=$E86),INDEX(Model_Inputs_Ref_Units,,CU$52)),0)","v":0},{"$f":"IFERROR(SUMPRODUCT(--(INDEX(Model_Inputs_Ref_Units,,CV$51)=$E86),INDEX(Model_Inputs_Ref_Units,,CV$52)),0)","v":0},{"$f":"IFERROR(SUMPRODUCT(--(INDEX(Model_Inputs_Ref_Units,,CW$51)=$E86),INDEX(Model_Inputs_Ref_Units,,CW$52)),0)","v":0},{"$f":"IFERROR(SUMPRODUCT(--(INDEX(Model_Inputs_Ref_Units,,CX$51)=$E86),INDEX(Model_Inputs_Ref_Units,,CX$52)),0)","v":0},{"$f":"IFERROR(SUMPRODUCT(--(INDEX(Model_Inputs_Ref_Units,,CY$51)=$E86),INDEX(Model_Inputs_Ref_Units,,CY$52)),0)","v":0},{"$f":"IFERROR(SUMPRODUCT(--(INDEX(Model_Inputs_Ref_Units,,CZ$51)=$E86),INDEX(Model_Inputs_Ref_Units,,CZ$52)),0)","v":0},{"$f":"IFERROR(SUMPRODUCT(--(INDEX(Model_Inputs_Ref_Units,,DA$51)=$E86),INDEX(Model_Inputs_Ref_Units,,DA$52)),0)","v":0},{"$f":"IFERROR(SUMPRODUCT(--(INDEX(Model_Inputs_Ref_Units,,DB$51)=$E86),INDEX(Model_Inputs_Ref_Units,,DB$52)),0)","v":0},{"$f":"IFERROR(SUMPRODUCT(--(INDEX(Model_Inputs_Ref_Units,,DC$51)=$E86),INDEX(Model_Inputs_Ref_Units,,DC$52)),0)","v":0},{"$f":"IFERROR(SUMPRODUCT(--(INDEX(Model_Inputs_Ref_Units,,DD$51)=$E86),INDEX(Model_Inputs_Ref_Units,,DD$52)),0)","v":0},{"$f":"IFERROR(SUMPRODUCT(--(INDEX(Model_Inputs_Ref_Units,,DE$51)=$E86),INDEX(Model_Inputs_Ref_Units,,DE$52)),0)","v":0},{"$f":"IFERROR(SUMPRODUCT(--(INDEX(Model_Inputs_Ref_Units,,DF$51)=$E86),INDEX(Model_Inputs_Ref_Units,,DF$52)),0)","v":0}]
[null,null,{"$error":"#DIV/0!"},null,{"$f":"IFERROR(INDEX(Ref_Data,1,F87),\"\")","v":""},34,0,0,0,0,{"$f":"IFERROR(SUMPRODUCT(--(INDEX(Model_Inputs_Ref_Units,,K$51)=$E87),INDEX(Model_Inputs_Ref_Units,,K$52)),0)","v":0},{"$f":"IFERROR(SUMPRODUCT(--(INDEX(Model_Inputs_Ref_Units,,L$51)=$E87),INDEX(Model_Inputs_Ref_Units,,L$52)),0)","v":0},{"$f":"IFERROR(SUMPRODUCT(--(INDEX(Model_Inputs_Ref_Units,,M$51)=$E87),INDEX(Model_Inputs_Ref_Units,,M$52)),0)","v":0},{"$f":"IFERROR(SUMPRODUCT(--(INDEX(Model_Inputs_Ref_Units,,N$51)=$E87),INDEX(Model_Inputs_Ref_Units,,N$52)),0)","v":0},{"$f":"IFERROR(SUMPRODUCT(--(INDEX(Model_Inputs_Ref_Units,,O$51)=$E87),INDEX(Model_Inputs_Ref_Units,,O$52)),0)","v":0},{"$f":"IFERROR(SUMPRODUCT(--(INDEX(Model_Inputs_Ref_Units,,P$51)=$E87),INDEX(Model_Inputs_Ref_Units,,P$52)),0)","v":0},{"$f":"IFERROR(SUMPRODUCT(--(INDEX(Model_Inputs_Ref_Units,,Q$51)=$E87),INDEX(Model_Inputs_Ref_Units,,Q$52)),0)","v":0},{"$f":"IFERROR(SUMPRODUCT(--(INDEX(Model_Inputs_Ref_Units,,R$51)=$E87),INDEX(Model_Inputs_Ref_Units,,R$52)),0)","v":0},{"$f":"IFERROR(SUMPRODUCT(--(INDEX(Model_Inputs_Ref_Units,,S$51)=$E87),INDEX(Model_Inputs_Ref_Units,,S$52)),0)","v":0},{"$f":"IFERROR(SUMPRODUCT(--(INDEX(Model_Inputs_Ref_Units,,T$51)=$E87),INDEX(Model_Inputs_Ref_Units,,T$52)),0)","v":0},{"$f":"IFERROR(SUMPRODUCT(--(INDEX(Model_Inputs_Ref_Units,,U$51)=$E87),INDEX(Model_Inputs_Ref_Units,,U$52)),0)","v":0},{"$f":"IFERROR(SUMPRODUCT(--(INDEX(Model_Inputs_Ref_Units,,V$51)=$E87),INDEX(Model_Inputs_Ref_Units,,V$52)),0)","v":0},{"$f":"IFERROR(SUMPRODUCT(--(INDEX(Model_Inputs_Ref_Units,,W$51)=$E87),INDEX(Model_Inputs_Ref_Units,,W$52)),0)","v":0},{"$f":"IFERROR(SUMPRODUCT(--(INDEX(Model_Inputs_Ref_Units,,X$51)=$E87),INDEX(Model_Inputs_Ref_Units,,X$52)),0)","v":0},{"$f":"IFERROR(SUMPRODUCT(--(INDEX(Model_Inputs_Ref_Units,,Y$51)=$E87),INDEX(Model_Inputs_Ref_Units,,Y$52)),0)","v":0},{"$f":"IFERROR(SUMPRODUCT(--(INDEX(Model_Inputs_Ref_Units,,Z$51)=$E87),INDEX(Model_Inputs_Ref_Units,,Z$52)),0)","v":0},{"$f":"IFERROR(SUMPRODUCT(--(INDEX(Model_Inputs_Ref_Units,,AA$51)=$E87),INDEX(Model_Inputs_Ref_Units,,AA$52)),0)","v":0},{"$f":"IFERROR(SUMPRODUCT(--(INDEX(Model_Inputs_Ref_Units,,AB$51)=$E87),INDEX(Model_Inputs_Ref_Units,,AB$52)),0)","v":0},{"$f":"IFERROR(SUMPRODUCT(--(INDEX(Model_Inputs_Ref_Units,,AC$51)=$E87),INDEX(Model_Inputs_Ref_Units,,AC$52)),0)","v":0},{"$f":"IFERROR(SUMPRODUCT(--(INDEX(Model_Inputs_Ref_Units,,AD$51)=$E87),INDEX(Model_Inputs_Ref_Units,,AD$52)),0)","v":0},{"$f":"IFERROR(SUMPRODUCT(--(INDEX(Model_Inputs_Ref_Units,,AE$51)=$E87),INDEX(Model_Inputs_Ref_Units,,AE$52)),0)","v":0},{"$f":"IFERROR(SUMPRODUCT(--(INDEX(Model_Inputs_Ref_Units,,AF$51)=$E87),INDEX(Model_Inputs_Ref_Units,,AF$52)),0)","v":0},{"$f":"IFERROR(SUMPRODUCT(--(INDEX(Model_Inputs_Ref_Units,,AG$51)=$E87),INDEX(Model_Inputs_Ref_Units,,AG$52)),0)","v":0},{"$f":"IFERROR(SUMPRODUCT(--(INDEX(Model_Inputs_Ref_Units,,AH$51)=$E87),INDEX(Model_Inputs_Ref_Units,,AH$52)),0)","v":0},{"$f":"IFERROR(SUMPRODUCT(--(INDEX(Model_Inputs_Ref_Units,,AI$51)=$E87),INDEX(Model_Inputs_Ref_Units,,AI$52)),0)","v":0},{"$f":"IFERROR(SUMPRODUCT(--(INDEX(Model_Inputs_Ref_Units,,AJ$51)=$E87),INDEX(Model_Inputs_Ref_Units,,AJ$52)),0)","v":0},{"$f":"IFERROR(SUMPRODUCT(--(INDEX(Model_Inputs_Ref_Units,,AK$51)=$E87),INDEX(Model_Inputs_Ref_Units,,AK$52)),0)","v":0},{"$f":"IFERROR(SUMPRODUCT(--(INDEX(Model_Inputs_Ref_Units,,AL$51)=$E87),INDEX(Model_Inputs_Ref_Units,,AL$52)),0)","v":0},{"$f":"IFERROR(SUMPRODUCT(--(INDEX(Model_Inputs_Ref_Units,,AM$51)=$E87),INDEX(Model_Inputs_Ref_Units,,AM$52)),0)","v":0},{"$f":"IFERROR(SUMPRODUCT(--(INDEX(Model_Inputs_Ref_Units,,AN$51)=$E87),INDEX(Model_Inputs_Ref_Units,,AN$52)),0)","v":0},{"$f":"IFERROR(SUMPRODUCT(--(INDEX(Model_Inputs_Ref_Units,,AO$51)=$E87),INDEX(Model_Inputs_Ref_Units,,AO$52)),0)","v":0},{"$f":"IFERROR(SUMPRODUCT(--(INDEX(Model_Inputs_Ref_Units,,AP$51)=$E87),INDEX(Model_Inputs_Ref_Units,,AP$52)),0)","v":0},{"$f":"IFERROR(SUMPRODUCT(--(INDEX(Model_Inputs_Ref_Units,,AQ$51)=$E87),INDEX(Model_Inputs_Ref_Units,,AQ$52)),0)","v":0},{"$f":"IFERROR(SUMPRODUCT(--(INDEX(Model_Inputs_Ref_Units,,AR$51)=$E87),INDEX(Model_Inputs_Ref_Units,,AR$52)),0)","v":0},{"$f":"IFERROR(SUMPRODUCT(--(INDEX(Model_Inputs_Ref_Units,,AS$51)=$E87),INDEX(Model_Inputs_Ref_Units,,AS$52)),0)","v":0},{"$f":"IFERROR(SUMPRODUCT(--(INDEX(Model_Inputs_Ref_Units,,AT$51)=$E87),INDEX(Model_Inputs_Ref_Units,,AT$52)),0)","v":0},{"$f":"IFERROR(SUMPRODUCT(--(INDEX(Model_Inputs_Ref_Units,,AU$51)=$E87),INDEX(Model_Inputs_Ref_Units,,AU$52)),0)","v":0},{"$f":"IFERROR(SUMPRODUCT(--(INDEX(Model_Inputs_Ref_Units,,AV$51)=$E87),INDEX(Model_Inputs_Ref_Units,,AV$52)),0)","v":0},{"$f":"IFERROR(SUMPRODUCT(--(INDEX(Model_Inputs_Ref_Units,,AW$51)=$E87),INDEX(Model_Inputs_Ref_Units,,AW$52)),0)","v":0},{"$f":"IFERROR(SUMPRODUCT(--(INDEX(Model_Inputs_Ref_Units,,AX$51)=$E87),INDEX(Model_Inputs_Ref_Units,,AX$52)),0)","v":0},{"$f":"IFERROR(SUMPRODUCT(--(INDEX(Model_Inputs_Ref_Units,,AY$51)=$E87),INDEX(Model_Inputs_Ref_Units,,AY$52)),0)","v":0},{"$f":"IFERROR(SUMPRODUCT(--(INDEX(Model_Inputs_Ref_Units,,AZ$51)=$E87),INDEX(Model_Inputs_Ref_Units,,AZ$52)),0)","v":0},{"$f":"IFERROR(SUMPRODUCT(--(INDEX(Model_Inputs_Ref_Units,,BA$51)=$E87),INDEX(Model_Inputs_Ref_Units,,BA$52)),0)","v":0},{"$f":"IFERROR(SUMPRODUCT(--(INDEX(Model_Inputs_Ref_Units,,BB$51)=$E87),INDEX(Model_Inputs_Ref_Units,,BB$52)),0)","v":0},{"$f":"IFERROR(SUMPRODUCT(--(INDEX(Model_Inputs_Ref_Units,,BC$51)=$E87),INDEX(Model_Inputs_Ref_Units,,BC$52)),0)","v":0},{"$f":"IFERROR(SUMPRODUCT(--(INDEX(Model_Inputs_Ref_Units,,BD$51)=$E87),INDEX(Model_Inputs_Ref_Units,,BD$52)),0)","v":0},{"$f":"IFERROR(SUMPRODUCT(--(INDEX(Model_Inputs_Ref_Units,,BE$51)=$E87),INDEX(Model_Inputs_Ref_Units,,BE$52)),0)","v":0},{"$f":"IFERROR(SUMPRODUCT(--(INDEX(Model_Inputs_Ref_Units,,BF$51)=$E87),INDEX(Model_Inputs_Ref_Units,,BF$52)),0)","v":0},{"$f":"IFERROR(SUMPRODUCT(--(INDEX(Model_Inputs_Ref_Units,,BG$51)=$E87),INDEX(Model_Inputs_Ref_Units,,BG$52)),0)","v":0},{"$f":"IFERROR(SUMPRODUCT(--(INDEX(Model_Inputs_Ref_Units,,BH$51)=$E87),INDEX(Model_Inputs_Ref_Units,,BH$52)),0)","v":0},{"$f":"IFERROR(SUMPRODUCT(--(INDEX(Model_Inputs_Ref_Units,,BI$51)=$E87),INDEX(Model_Inputs_Ref_Units,,BI$52)),0)","v":0},{"$f":"IFERROR(SUMPRODUCT(--(INDEX(Model_Inputs_Ref_Units,,BJ$51)=$E87),INDEX(Model_Inputs_Ref_Units,,BJ$52)),0)","v":0},{"$f":"IFERROR(SUMPRODUCT(--(INDEX(Model_Inputs_Ref_Units,,BK$51)=$E87),INDEX(Model_Inputs_Ref_Units,,BK$52)),0)","v":0},{"$f":"IFERROR(SUMPRODUCT(--(INDEX(Model_Inputs_Ref_Units,,BL$51)=$E87),INDEX(Model_Inputs_Ref_Units,,BL$52)),0)","v":0},{"$f":"IFERROR(SUMPRODUCT(--(INDEX(Model_Inputs_Ref_Units,,BM$51)=$E87),INDEX(Model_Inputs_Ref_Units,,BM$52)),0)","v":0},{"$f":"IFERROR(SUMPRODUCT(--(INDEX(Model_Inputs_Ref_Units,,BN$51)=$E87),INDEX(Model_Inputs_Ref_Units,,BN$52)),0)","v":0},{"$f":"IFERROR(SUMPRODUCT(--(INDEX(Model_Inputs_Ref_Units,,BO$51)=$E87),INDEX(Model_Inputs_Ref_Units,,BO$52)),0)","v":0},{"$f":"IFERROR(SUMPRODUCT(--(INDEX(Model_Inputs_Ref_Units,,BP$51)=$E87),INDEX(Model_Inputs_Ref_Units,,BP$52)),0)","v":0},{"$f":"IFERROR(SUMPRODUCT(--(INDEX(Model_Inputs_Ref_Units,,BQ$51)=$E87),INDEX(Model_Inputs_Ref_Units,,BQ$52)),0)","v":0},{"$f":"IFERROR(SUMPRODUCT(--(INDEX(Model_Inputs_Ref_Units,,BR$51)=$E87),INDEX(Model_Inputs_Ref_Units,,BR$52)),0)","v":0},{"$f":"IFERROR(SUMPRODUCT(--(INDEX(Model_Inputs_Ref_Units,,BS$51)=$E87),INDEX(Model_Inputs_Ref_Units,,BS$52)),0)","v":0},{"$f":"IFERROR(SUMPRODUCT(--(INDEX(Model_Inputs_Ref_Units,,BT$51)=$E87),INDEX(Model_Inputs_Ref_Units,,BT$52)),0)","v":0},{"$f":"IFERROR(SUMPRODUCT(--(INDEX(Model_Inputs_Ref_Units,,BU$51)=$E87),INDEX(Model_Inputs_Ref_Units,,BU$52)),0)","v":0},{"$f":"IFERROR(SUMPRODUCT(--(INDEX(Model_Inputs_Ref_Units,,BV$51)=$E87),INDEX(Model_Inputs_Ref_Units,,BV$52)),0)","v":0},{"$f":"IFERROR(SUMPRODUCT(--(INDEX(Model_Inputs_Ref_Units,,BW$51)=$E87),INDEX(Model_Inputs_Ref_Units,,BW$52)),0)","v":0},{"$f":"IFERROR(SUMPRODUCT(--(INDEX(Model_Inputs_Ref_Units,,BX$51)=$E87),INDEX(Model_Inputs_Ref_Units,,BX$52)),0)","v":0},{"$f":"IFERROR(SUMPRODUCT(--(INDEX(Model_Inputs_Ref_Units,,BY$51)=$E87),INDEX(Model_Inputs_Ref_Units,,BY$52)),0)","v":0},{"$f":"IFERROR(SUMPRODUCT(--(INDEX(Model_Inputs_Ref_Units,,BZ$51)=$E87),INDEX(Model_Inputs_Ref_Units,,BZ$52)),0)","v":0},{"$f":"IFERROR(SUMPRODUCT(--(INDEX(Model_Inputs_Ref_Units,,CA$51)=$E87),INDEX(Model_Inputs_Ref_Units,,CA$52)),0)","v":0},{"$f":"IFERROR(SUMPRODUCT(--(INDEX(Model_Inputs_Ref_Units,,CB$51)=$E87),INDEX(Model_Inputs_Ref_Units,,CB$52)),0)","v":0},{"$f":"IFERROR(SUMPRODUCT(--(INDEX(Model_Inputs_Ref_Units,,CC$51)=$E87),INDEX(Model_Inputs_Ref_Units,,CC$52)),0)","v":0},{"$f":"IFERROR(SUMPRODUCT(--(INDEX(Model_Inputs_Ref_Units,,CD$51)=$E87),INDEX(Model_Inputs_Ref_Units,,CD$52)),0)","v":0},{"$f":"IFERROR(SUMPRODUCT(--(INDEX(Model_Inputs_Ref_Units,,CE$51)=$E87),INDEX(Model_Inputs_Ref_Units,,CE$52)),0)","v":0},{"$f":"IFERROR(SUMPRODUCT(--(INDEX(Model_Inputs_Ref_Units,,CF$51)=$E87),INDEX(Model_Inputs_Ref_Units,,CF$52)),0)","v":0},{"$f":"IFERROR(SUMPRODUCT(--(INDEX(Model_Inputs_Ref_Units,,CG$51)=$E87),INDEX(Model_Inputs_Ref_Units,,CG$52)),0)","v":0},{"$f":"IFERROR(SUMPRODUCT(--(INDEX(Model_Inputs_Ref_Units,,CH$51)=$E87),INDEX(Model_Inputs_Ref_Units,,CH$52)),0)","v":0},{"$f":"IFERROR(SUMPRODUCT(--(INDEX(Model_Inputs_Ref_Units,,CI$51)=$E87),INDEX(Model_Inputs_Ref_Units,,CI$52)),0)","v":0},{"$f":"IFERROR(SUMPRODUCT(--(INDEX(Model_Inputs_Ref_Units,,CJ$51)=$E87),INDEX(Model_Inputs_Ref_Units,,CJ$52)),0)","v":0},{"$f":"IFERROR(SUMPRODUCT(--(INDEX(Model_Inputs_Ref_Units,,CK$51)=$E87),INDEX(Model_Inputs_Ref_Units,,CK$52)),0)","v":0},{"$f":"IFERROR(SUMPRODUCT(--(INDEX(Model_Inputs_Ref_Units,,CL$51)=$E87),INDEX(Model_Inputs_Ref_Units,,CL$52)),0)","v":0},{"$f":"IFERROR(SUMPRODUCT(--(INDEX(Model_Inputs_Ref_Units,,CM$51)=$E87),INDEX(Model_Inputs_Ref_Units,,CM$52)),0)","v":0},{"$f":"IFERROR(SUMPRODUCT(--(INDEX(Model_Inputs_Ref_Units,,CN$51)=$E87),INDEX(Model_Inputs_Ref_Units,,CN$52)),0)","v":0},{"$f":"IFERROR(SUMPRODUCT(--(INDEX(Model_Inputs_Ref_Units,,CO$51)=$E87),INDEX(Model_Inputs_Ref_Units,,CO$52)),0)","v":0},{"$f":"IFERROR(SUMPRODUCT(--(INDEX(Model_Inputs_Ref_Units,,CP$51)=$E87),INDEX(Model_Inputs_Ref_Units,,CP$52)),0)","v":0},{"$f":"IFERROR(SUMPRODUCT(--(INDEX(Model_Inputs_Ref_Units,,CQ$51)=$E87),INDEX(Model_Inputs_Ref_Units,,CQ$52)),0)","v":0},{"$f":"IFERROR(SUMPRODUCT(--(INDEX(Model_Inputs_Ref_Units,,CR$51)=$E87),INDEX(Model_Inputs_Ref_Units,,CR$52)),0)","v":0},{"$f":"IFERROR(SUMPRODUCT(--(INDEX(Model_Inputs_Ref_Units,,CS$51)=$E87),INDEX(Model_Inputs_Ref_Units,,CS$52)),0)","v":0},{"$f":"IFERROR(SUMPRODUCT(--(INDEX(Model_Inputs_Ref_Units,,CT$51)=$E87),INDEX(Model_Inputs_Ref_Units,,CT$52)),0)","v":0},{"$f":"IFERROR(SUMPRODUCT(--(INDEX(Model_Inputs_Ref_Units,,CU$51)=$E87),INDEX(Model_Inputs_Ref_Units,,CU$52)),0)","v":0},{"$f":"IFERROR(SUMPRODUCT(--(INDEX(Model_Inputs_Ref_Units,,CV$51)=$E87),INDEX(Model_Inputs_Ref_Units,,CV$52)),0)","v":0},{"$f":"IFERROR(SUMPRODUCT(--(INDEX(Model_Inputs_Ref_Units,,CW$51)=$E87),INDEX(Model_Inputs_Ref_Units,,CW$52)),0)","v":0},{"$f":"IFERROR(SUMPRODUCT(--(INDEX(Model_Inputs_Ref_Units,,CX$51)=$E87),INDEX(Model_Inputs_Ref_Units,,CX$52)),0)","v":0},{"$f":"IFERROR(SUMPRODUCT(--(INDEX(Model_Inputs_Ref_Units,,CY$51)=$E87),INDEX(Model_Inputs_Ref_Units,,CY$52)),0)","v":0},{"$f":"IFERROR(SUMPRODUCT(--(INDEX(Model_Inputs_Ref_Units,,CZ$51)=$E87),INDEX(Model_Inputs_Ref_Units,,CZ$52)),0)","v":0},{"$f":"IFERROR(SUMPRODUCT(--(INDEX(Model_Inputs_Ref_Units,,DA$51)=$E87),INDEX(Model_Inputs_Ref_Units,,DA$52)),0)","v":0},{"$f":"IFERROR(SUMPRODUCT(--(INDEX(Model_Inputs_Ref_Units,,DB$51)=$E87),INDEX(Model_Inputs_Ref_Units,,DB$52)),0)","v":0},{"$f":"IFERROR(SUMPRODUCT(--(INDEX(Model_Inputs_Ref_Units,,DC$51)=$E87),INDEX(Model_Inputs_Ref_Units,,DC$52)),0)","v":0},{"$f":"IFERROR(SUMPRODUCT(--(INDEX(Model_Inputs_Ref_Units,,DD$51)=$E87),INDEX(Model_Inputs_Ref_Units,,DD$52)),0)","v":0},{"$f":"IFERROR(SUMPRODUCT(--(INDEX(Model_Inputs_Ref_Units,,DE$51)=$E87),INDEX(Model_Inputs_Ref_Units,,DE$52)),0)","v":0},{"$f":"IFERROR(SUMPRODUCT(--(INDEX(Model_Inputs_Ref_Units,,DF$51)=$E87),INDEX(Model_Inputs_Ref_Units,,DF$52)),0)","v":0}]
[null,null,{"$error":"#DIV/0!"},null,{"$f":"IFERROR(INDEX(Ref_Data,1,F88),\"\")","v":""},35,0,0,0,0,{"$f":"IFERROR(SUMPRODUCT(--(INDEX(Model_Inputs_Ref_Units,,K$51)=$E88),INDEX(Model_Inputs_Ref_Units,,K$52)),0)","v":0},{"$f":"IFERROR(SUMPRODUCT(--(INDEX(Model_Inputs_Ref_Units,,L$51)=$E88),INDEX(Model_Inputs_Ref_Units,,L$52)),0)","v":0},{"$f":"IFERROR(SUMPRODUCT(--(INDEX(Model_Inputs_Ref_Units,,M$51)=$E88),INDEX(Model_Inputs_Ref_Units,,M$52)),0)","v":0},{"$f":"IFERROR(SUMPRODUCT(--(INDEX(Model_Inputs_Ref_Units,,N$51)=$E88),INDEX(Model_Inputs_Ref_Units,,N$52)),0)","v":0},{"$f":"IFERROR(SUMPRODUCT(--(INDEX(Model_Inputs_Ref_Units,,O$51)=$E88),INDEX(Model_Inputs_Ref_Units,,O$52)),0)","v":0},{"$f":"IFERROR(SUMPRODUCT(--(INDEX(Model_Inputs_Ref_Units,,P$51)=$E88),INDEX(Model_Inputs_Ref_Units,,P$52)),0)","v":0},{"$f":"IFERROR(SUMPRODUCT(--(INDEX(Model_Inputs_Ref_Units,,Q$51)=$E88),INDEX(Model_Inputs_Ref_Units,,Q$52)),0)","v":0},{"$f":"IFERROR(SUMPRODUCT(--(INDEX(Model_Inputs_Ref_Units,,R$51)=$E88),INDEX(Model_Inputs_Ref_Units,,R$52)),0)","v":0},{"$f":"IFERROR(SUMPRODUCT(--(INDEX(Model_Inputs_Ref_Units,,S$51)=$E88),INDEX(Model_Inputs_Ref_Units,,S$52)),0)","v":0},{"$f":"IFERROR(SUMPRODUCT(--(INDEX(Model_Inputs_Ref_Units,,T$51)=$E88),INDEX(Model_Inputs_Ref_Units,,T$52)),0)","v":0},{"$f":"IFERROR(SUMPRODUCT(--(INDEX(Model_Inputs_Ref_Units,,U$51)=$E88),INDEX(Model_Inputs_Ref_Units,,U$52)),0)","v":0},{"$f":"IFERROR(SUMPRODUCT(--(INDEX(Model_Inputs_Ref_Units,,V$51)=$E88),INDEX(Model_Inputs_Ref_Units,,V$52)),0)","v":0},{"$f":"IFERROR(SUMPRODUCT(--(INDEX(Model_Inputs_Ref_Units,,W$51)=$E88),INDEX(Model_Inputs_Ref_Units,,W$52)),0)","v":0},{"$f":"IFERROR(SUMPRODUCT(--(INDEX(Model_Inputs_Ref_Units,,X$51)=$E88),INDEX(Model_Inputs_Ref_Units,,X$52)),0)","v":0},{"$f":"IFERROR(SUMPRODUCT(--(INDEX(Model_Inputs_Ref_Units,,Y$51)=$E88),INDEX(Model_Inputs_Ref_Units,,Y$52)),0)","v":0},{"$f":"IFERROR(SUMPRODUCT(--(INDEX(Model_Inputs_Ref_Units,,Z$51)=$E88),INDEX(Model_Inputs_Ref_Units,,Z$52)),0)","v":0},{"$f":"IFERROR(SUMPRODUCT(--(INDEX(Model_Inputs_Ref_Units,,AA$51)=$E88),INDEX(Model_Inputs_Ref_Units,,AA$52)),0)","v":0},{"$f":"IFERROR(SUMPRODUCT(--(INDEX(Model_Inputs_Ref_Units,,AB$51)=$E88),INDEX(Model_Inputs_Ref_Units,,AB$52)),0)","v":0},{"$f":"IFERROR(SUMPRODUCT(--(INDEX(Model_Inputs_Ref_Units,,AC$51)=$E88),INDEX(Model_Inputs_Ref_Units,,AC$52)),0)","v":0},{"$f":"IFERROR(SUMPRODUCT(--(INDEX(Model_Inputs_Ref_Units,,AD$51)=$E88),INDEX(Model_Inputs_Ref_Units,,AD$52)),0)","v":0},{"$f":"IFERROR(SUMPRODUCT(--(INDEX(Model_Inputs_Ref_Units,,AE$51)=$E88),INDEX(Model_Inputs_Ref_Units,,AE$52)),0)","v":0},{"$f":"IFERROR(SUMPRODUCT(--(INDEX(Model_Inputs_Ref_Units,,AF$51)=$E88),INDEX(Model_Inputs_Ref_Units,,AF$52)),0)","v":0},{"$f":"IFERROR(SUMPRODUCT(--(INDEX(Model_Inputs_Ref_Units,,AG$51)=$E88),INDEX(Model_Inputs_Ref_Units,,AG$52)),0)","v":0},{"$f":"IFERROR(SUMPRODUCT(--(INDEX(Model_Inputs_Ref_Units,,AH$51)=$E88),INDEX(Model_Inputs_Ref_Units,,AH$52)),0)","v":0},{"$f":"IFERROR(SUMPRODUCT(--(INDEX(Model_Inputs_Ref_Units,,AI$51)=$E88),INDEX(Model_Inputs_Ref_Units,,AI$52)),0)","v":0},{"$f":"IFERROR(SUMPRODUCT(--(INDEX(Model_Inputs_Ref_Units,,AJ$51)=$E88),INDEX(Model_Inputs_Ref_Units,,AJ$52)),0)","v":0},{"$f":"IFERROR(SUMPRODUCT(--(INDEX(Model_Inputs_Ref_Units,,AK$51)=$E88),INDEX(Model_Inputs_Ref_Units,,AK$52)),0)","v":0},{"$f":"IFERROR(SUMPRODUCT(--(INDEX(Model_Inputs_Ref_Units,,AL$51)=$E88),INDEX(Model_Inputs_Ref_Units,,AL$52)),0)","v":0},{"$f":"IFERROR(SUMPRODUCT(--(INDEX(Model_Inputs_Ref_Units,,AM$51)=$E88),INDEX(Model_Inputs_Ref_Units,,AM$52)),0)","v":0},{"$f":"IFERROR(SUMPRODUCT(--(INDEX(Model_Inputs_Ref_Units,,AN$51)=$E88),INDEX(Model_Inputs_Ref_Units,,AN$52)),0)","v":0},{"$f":"IFERROR(SUMPRODUCT(--(INDEX(Model_Inputs_Ref_Units,,AO$51)=$E88),INDEX(Model_Inputs_Ref_Units,,AO$52)),0)","v":0},{"$f":"IFERROR(SUMPRODUCT(--(INDEX(Model_Inputs_Ref_Units,,AP$51)=$E88),INDEX(Model_Inputs_Ref_Units,,AP$52)),0)","v":0},{"$f":"IFERROR(SUMPRODUCT(--(INDEX(Model_Inputs_Ref_Units,,AQ$51)=$E88),INDEX(Model_Inputs_Ref_Units,,AQ$52)),0)","v":0},{"$f":"IFERROR(SUMPRODUCT(--(INDEX(Model_Inputs_Ref_Units,,AR$51)=$E88),INDEX(Model_Inputs_Ref_Units,,AR$52)),0)","v":0},{"$f":"IFERROR(SUMPRODUCT(--(INDEX(Model_Inputs_Ref_Units,,AS$51)=$E88),INDEX(Model_Inputs_Ref_Units,,AS$52)),0)","v":0},{"$f":"IFERROR(SUMPRODUCT(--(INDEX(Model_Inputs_Ref_Units,,AT$51)=$E88),INDEX(Model_Inputs_Ref_Units,,AT$52)),0)","v":0},{"$f":"IFERROR(SUMPRODUCT(--(INDEX(Model_Inputs_Ref_Units,,AU$51)=$E88),INDEX(Model_Inputs_Ref_Units,,AU$52)),0)","v":0},{"$f":"IFERROR(SUMPRODUCT(--(INDEX(Model_Inputs_Ref_Units,,AV$51)=$E88),INDEX(Model_Inputs_Ref_Units,,AV$52)),0)","v":0},{"$f":"IFERROR(SUMPRODUCT(--(INDEX(Model_Inputs_Ref_Units,,AW$51)=$E88),INDEX(Model_Inputs_Ref_Units,,AW$52)),0)","v":0},{"$f":"IFERROR(SUMPRODUCT(--(INDEX(Model_Inputs_Ref_Units,,AX$51)=$E88),INDEX(Model_Inputs_Ref_Units,,AX$52)),0)","v":0},{"$f":"IFERROR(SUMPRODUCT(--(INDEX(Model_Inputs_Ref_Units,,AY$51)=$E88),INDEX(Model_Inputs_Ref_Units,,AY$52)),0)","v":0},{"$f":"IFERROR(SUMPRODUCT(--(INDEX(Model_Inputs_Ref_Units,,AZ$51)=$E88),INDEX(Model_Inputs_Ref_Units,,AZ$52)),0)","v":0},{"$f":"IFERROR(SUMPRODUCT(--(INDEX(Model_Inputs_Ref_Units,,BA$51)=$E88),INDEX(Model_Inputs_Ref_Units,,BA$52)),0)","v":0},{"$f":"IFERROR(SUMPRODUCT(--(INDEX(Model_Inputs_Ref_Units,,BB$51)=$E88),INDEX(Model_Inputs_Ref_Units,,BB$52)),0)","v":0},{"$f":"IFERROR(SUMPRODUCT(--(INDEX(Model_Inputs_Ref_Units,,BC$51)=$E88),INDEX(Model_Inputs_Ref_Units,,BC$52)),0)","v":0},{"$f":"IFERROR(SUMPRODUCT(--(INDEX(Model_Inputs_Ref_Units,,BD$51)=$E88),INDEX(Model_Inputs_Ref_Units,,BD$52)),0)","v":0},{"$f":"IFERROR(SUMPRODUCT(--(INDEX(Model_Inputs_Ref_Units,,BE$51)=$E88),INDEX(Model_Inputs_Ref_Units,,BE$52)),0)","v":0},{"$f":"IFERROR(SUMPRODUCT(--(INDEX(Model_Inputs_Ref_Units,,BF$51)=$E88),INDEX(Model_Inputs_Ref_Units,,BF$52)),0)","v":0},{"$f":"IFERROR(SUMPRODUCT(--(INDEX(Model_Inputs_Ref_Units,,BG$51)=$E88),INDEX(Model_Inputs_Ref_Units,,BG$52)),0)","v":0},{"$f":"IFERROR(SUMPRODUCT(--(INDEX(Model_Inputs_Ref_Units,,BH$51)=$E88),INDEX(Model_Inputs_Ref_Units,,BH$52)),0)","v":0},{"$f":"IFERROR(SUMPRODUCT(--(INDEX(Model_Inputs_Ref_Units,,BI$51)=$E88),INDEX(Model_Inputs_Ref_Units,,BI$52)),0)","v":0},{"$f":"IFERROR(SUMPRODUCT(--(INDEX(Model_Inputs_Ref_Units,,BJ$51)=$E88),INDEX(Model_Inputs_Ref_Units,,BJ$52)),0)","v":0},{"$f":"IFERROR(SUMPRODUCT(--(INDEX(Model_Inputs_Ref_Units,,BK$51)=$E88),INDEX(Model_Inputs_Ref_Units,,BK$52)),0)","v":0},{"$f":"IFERROR(SUMPRODUCT(--(INDEX(Model_Inputs_Ref_Units,,BL$51)=$E88),INDEX(Model_Inputs_Ref_Units,,BL$52)),0)","v":0},{"$f":"IFERROR(SUMPRODUCT(--(INDEX(Model_Inputs_Ref_Units,,BM$51)=$E88),INDEX(Model_Inputs_Ref_Units,,BM$52)),0)","v":0},{"$f":"IFERROR(SUMPRODUCT(--(INDEX(Model_Inputs_Ref_Units,,BN$51)=$E88),INDEX(Model_Inputs_Ref_Units,,BN$52)),0)","v":0},{"$f":"IFERROR(SUMPRODUCT(--(INDEX(Model_Inputs_Ref_Units,,BO$51)=$E88),INDEX(Model_Inputs_Ref_Units,,BO$52)),0)","v":0},{"$f":"IFERROR(SUMPRODUCT(--(INDEX(Model_Inputs_Ref_Units,,BP$51)=$E88),INDEX(Model_Inputs_Ref_Units,,BP$52)),0)","v":0},{"$f":"IFERROR(SUMPRODUCT(--(INDEX(Model_Inputs_Ref_Units,,BQ$51)=$E88),INDEX(Model_Inputs_Ref_Units,,BQ$52)),0)","v":0},{"$f":"IFERROR(SUMPRODUCT(--(INDEX(Model_Inputs_Ref_Units,,BR$51)=$E88),INDEX(Model_Inputs_Ref_Units,,BR$52)),0)","v":0},{"$f":"IFERROR(SUMPRODUCT(--(INDEX(Model_Inputs_Ref_Units,,BS$51)=$E88),INDEX(Model_Inputs_Ref_Units,,BS$52)),0)","v":0},{"$f":"IFERROR(SUMPRODUCT(--(INDEX(Model_Inputs_Ref_Units,,BT$51)=$E88),INDEX(Model_Inputs_Ref_Units,,BT$52)),0)","v":0},{"$f":"IFERROR(SUMPRODUCT(--(INDEX(Model_Inputs_Ref_Units,,BU$51)=$E88),INDEX(Model_Inputs_Ref_Units,,BU$52)),0)","v":0},{"$f":"IFERROR(SUMPRODUCT(--(INDEX(Model_Inputs_Ref_Units,,BV$51)=$E88),INDEX(Model_Inputs_Ref_Units,,BV$52)),0)","v":0},{"$f":"IFERROR(SUMPRODUCT(--(INDEX(Model_Inputs_Ref_Units,,BW$51)=$E88),INDEX(Model_Inputs_Ref_Units,,BW$52)),0)","v":0},{"$f":"IFERROR(SUMPRODUCT(--(INDEX(Model_Inputs_Ref_Units,,BX$51)=$E88),INDEX(Model_Inputs_Ref_Units,,BX$52)),0)","v":0},{"$f":"IFERROR(SUMPRODUCT(--(INDEX(Model_Inputs_Ref_Units,,BY$51)=$E88),INDEX(Model_Inputs_Ref_Units,,BY$52)),0)","v":0},{"$f":"IFERROR(SUMPRODUCT(--(INDEX(Model_Inputs_Ref_Units,,BZ$51)=$E88),INDEX(Model_Inputs_Ref_Units,,BZ$52)),0)","v":0},{"$f":"IFERROR(SUMPRODUCT(--(INDEX(Model_Inputs_Ref_Units,,CA$51)=$E88),INDEX(Model_Inputs_Ref_Units,,CA$52)),0)","v":0},{"$f":"IFERROR(SUMPRODUCT(--(INDEX(Model_Inputs_Ref_Units,,CB$51)=$E88),INDEX(Model_Inputs_Ref_Units,,CB$52)),0)","v":0},{"$f":"IFERROR(SUMPRODUCT(--(INDEX(Model_Inputs_Ref_Units,,CC$51)=$E88),INDEX(Model_Inputs_Ref_Units,,CC$52)),0)","v":0},{"$f":"IFERROR(SUMPRODUCT(--(INDEX(Model_Inputs_Ref_Units,,CD$51)=$E88),INDEX(Model_Inputs_Ref_Units,,CD$52)),0)","v":0},{"$f":"IFERROR(SUMPRODUCT(--(INDEX(Model_Inputs_Ref_Units,,CE$51)=$E88),INDEX(Model_Inputs_Ref_Units,,CE$52)),0)","v":0},{"$f":"IFERROR(SUMPRODUCT(--(INDEX(Model_Inputs_Ref_Units,,CF$51)=$E88),INDEX(Model_Inputs_Ref_Units,,CF$52)),0)","v":0},{"$f":"IFERROR(SUMPRODUCT(--(INDEX(Model_Inputs_Ref_Units,,CG$51)=$E88),INDEX(Model_Inputs_Ref_Units,,CG$52)),0)","v":0},{"$f":"IFERROR(SUMPRODUCT(--(INDEX(Model_Inputs_Ref_Units,,CH$51)=$E88),INDEX(Model_Inputs_Ref_Units,,CH$52)),0)","v":0},{"$f":"IFERROR(SUMPRODUCT(--(INDEX(Model_Inputs_Ref_Units,,CI$51)=$E88),INDEX(Model_Inputs_Ref_Units,,CI$52)),0)","v":0},{"$f":"IFERROR(SUMPRODUCT(--(INDEX(Model_Inputs_Ref_Units,,CJ$51)=$E88),INDEX(Model_Inputs_Ref_Units,,CJ$52)),0)","v":0},{"$f":"IFERROR(SUMPRODUCT(--(INDEX(Model_Inputs_Ref_Units,,CK$51)=$E88),INDEX(Model_Inputs_Ref_Units,,CK$52)),0)","v":0},{"$f":"IFERROR(SUMPRODUCT(--(INDEX(Model_Inputs_Ref_Units,,CL$51)=$E88),INDEX(Model_Inputs_Ref_Units,,CL$52)),0)","v":0},{"$f":"IFERROR(SUMPRODUCT(--(INDEX(Model_Inputs_Ref_Units,,CM$51)=$E88),INDEX(Model_Inputs_Ref_Units,,CM$52)),0)","v":0},{"$f":"IFERROR(SUMPRODUCT(--(INDEX(Model_Inputs_Ref_Units,,CN$51)=$E88),INDEX(Model_Inputs_Ref_Units,,CN$52)),0)","v":0},{"$f":"IFERROR(SUMPRODUCT(--(INDEX(Model_Inputs_Ref_Units,,CO$51)=$E88),INDEX(Model_Inputs_Ref_Units,,CO$52)),0)","v":0},{"$f":"IFERROR(SUMPRODUCT(--(INDEX(Model_Inputs_Ref_Units,,CP$51)=$E88),INDEX(Model_Inputs_Ref_Units,,CP$52)),0)","v":0},{"$f":"IFERROR(SUMPRODUCT(--(INDEX(Model_Inputs_Ref_Units,,CQ$51)=$E88),INDEX(Model_Inputs_Ref_Units,,CQ$52)),0)","v":0},{"$f":"IFERROR(SUMPRODUCT(--(INDEX(Model_Inputs_Ref_Units,,CR$51)=$E88),INDEX(Model_Inputs_Ref_Units,,CR$52)),0)","v":0},{"$f":"IFERROR(SUMPRODUCT(--(INDEX(Model_Inputs_Ref_Units,,CS$51)=$E88),INDEX(Model_Inputs_Ref_Units,,CS$52)),0)","v":0},{"$f":"IFERROR(SUMPRODUCT(--(INDEX(Model_Inputs_Ref_Units,,CT$51)=$E88),INDEX(Model_Inputs_Ref_Units,,CT$52)),0)","v":0},{"$f":"IFERROR(SUMPRODUCT(--(INDEX(Model_Inputs_Ref_Units,,CU$51)=$E88),INDEX(Model_Inputs_Ref_Units,,CU$52)),0)","v":0},{"$f":"IFERROR(SUMPRODUCT(--(INDEX(Model_Inputs_Ref_Units,,CV$51)=$E88),INDEX(Model_Inputs_Ref_Units,,CV$52)),0)","v":0},{"$f":"IFERROR(SUMPRODUCT(--(INDEX(Model_Inputs_Ref_Units,,CW$51)=$E88),INDEX(Model_Inputs_Ref_Units,,CW$52)),0)","v":0},{"$f":"IFERROR(SUMPRODUCT(--(INDEX(Model_Inputs_Ref_Units,,CX$51)=$E88),INDEX(Model_Inputs_Ref_Units,,CX$52)),0)","v":0},{"$f":"IFERROR(SUMPRODUCT(--(INDEX(Model_Inputs_Ref_Units,,CY$51)=$E88),INDEX(Model_Inputs_Ref_Units,,CY$52)),0)","v":0},{"$f":"IFERROR(SUMPRODUCT(--(INDEX(Model_Inputs_Ref_Units,,CZ$51)=$E88),INDEX(Model_Inputs_Ref_Units,,CZ$52)),0)","v":0},{"$f":"IFERROR(SUMPRODUCT(--(INDEX(Model_Inputs_Ref_Units,,DA$51)=$E88),INDEX(Model_Inputs_Ref_Units,,DA$52)),0)","v":0},{"$f":"IFERROR(SUMPRODUCT(--(INDEX(Model_Inputs_Ref_Units,,DB$51)=$E88),INDEX(Model_Inputs_Ref_Units,,DB$52)),0)","v":0},{"$f":"IFERROR(SUMPRODUCT(--(INDEX(Model_Inputs_Ref_Units,,DC$51)=$E88),INDEX(Model_Inputs_Ref_Units,,DC$52)),0)","v":0},{"$f":"IFERROR(SUMPRODUCT(--(INDEX(Model_Inputs_Ref_Units,,DD$51)=$E88),INDEX(Model_Inputs_Ref_Units,,DD$52)),0)","v":0},{"$f":"IFERROR(SUMPRODUCT(--(INDEX(Model_Inputs_Ref_Units,,DE$51)=$E88),INDEX(Model_Inputs_Ref_Units,,DE$52)),0)","v":0},{"$f":"IFERROR(SUMPRODUCT(--(INDEX(Model_Inputs_Ref_Units,,DF$51)=$E88),INDEX(Model_Inputs_Ref_Units,,DF$52)),0)","v":0}]
[null,null,{"$error":"#DIV/0!"},null,{"$f":"IFERROR(INDEX(Ref_Data,1,F89),\"\")","v":""},36,0,0,0,0,{"$f":"IFERROR(SUMPRODUCT(--(INDEX(Model_Inputs_Ref_Units,,K$51)=$E89),INDEX(Model_Inputs_Ref_Units,,K$52)),0)","v":0},{"$f":"IFERROR(SUMPRODUCT(--(INDEX(Model_Inputs_Ref_Units,,L$51)=$E89),INDEX(Model_Inputs_Ref_Units,,L$52)),0)","v":0},{"$f":"IFERROR(SUMPRODUCT(--(INDEX(Model_Inputs_Ref_Units,,M$51)=$E89),INDEX(Model_Inputs_Ref_Units,,M$52)),0)","v":0},{"$f":"IFERROR(SUMPRODUCT(--(INDEX(Model_Inputs_Ref_Units,,N$51)=$E89),INDEX(Model_Inputs_Ref_Units,,N$52)),0)","v":0},{"$f":"IFERROR(SUMPRODUCT(--(INDEX(Model_Inputs_Ref_Units,,O$51)=$E89),INDEX(Model_Inputs_Ref_Units,,O$52)),0)","v":0},{"$f":"IFERROR(SUMPRODUCT(--(INDEX(Model_Inputs_Ref_Units,,P$51)=$E89),INDEX(Model_Inputs_Ref_Units,,P$52)),0)","v":0},{"$f":"IFERROR(SUMPRODUCT(--(INDEX(Model_Inputs_Ref_Units,,Q$51)=$E89),INDEX(Model_Inputs_Ref_Units,,Q$52)),0)","v":0},{"$f":"IFERROR(SUMPRODUCT(--(INDEX(Model_Inputs_Ref_Units,,R$51)=$E89),INDEX(Model_Inputs_Ref_Units,,R$52)),0)","v":0},{"$f":"IFERROR(SUMPRODUCT(--(INDEX(Model_Inputs_Ref_Units,,S$51)=$E89),INDEX(Model_Inputs_Ref_Units,,S$52)),0)","v":0},{"$f":"IFERROR(SUMPRODUCT(--(INDEX(Model_Inputs_Ref_Units,,T$51)=$E89),INDEX(Model_Inputs_Ref_Units,,T$52)),0)","v":0},{"$f":"IFERROR(SUMPRODUCT(--(INDEX(Model_Inputs_Ref_Units,,U$51)=$E89),INDEX(Model_Inputs_Ref_Units,,U$52)),0)","v":0},{"$f":"IFERROR(SUMPRODUCT(--(INDEX(Model_Inputs_Ref_Units,,V$51)=$E89),INDEX(Model_Inputs_Ref_Units,,V$52)),0)","v":0},{"$f":"IFERROR(SUMPRODUCT(--(INDEX(Model_Inputs_Ref_Units,,W$51)=$E89),INDEX(Model_Inputs_Ref_Units,,W$52)),0)","v":0},{"$f":"IFERROR(SUMPRODUCT(--(INDEX(Model_Inputs_Ref_Units,,X$51)=$E89),INDEX(Model_Inputs_Ref_Units,,X$52)),0)","v":0},{"$f":"IFERROR(SUMPRODUCT(--(INDEX(Model_Inputs_Ref_Units,,Y$51)=$E89),INDEX(Model_Inputs_Ref_Units,,Y$52)),0)","v":0},{"$f":"IFERROR(SUMPRODUCT(--(INDEX(Model_Inputs_Ref_Units,,Z$51)=$E89),INDEX(Model_Inputs_Ref_Units,,Z$52)),0)","v":0},{"$f":"IFERROR(SUMPRODUCT(--(INDEX(Model_Inputs_Ref_Units,,AA$51)=$E89),INDEX(Model_Inputs_Ref_Units,,AA$52)),0)","v":0},{"$f":"IFERROR(SUMPRODUCT(--(INDEX(Model_Inputs_Ref_Units,,AB$51)=$E89),INDEX(Model_Inputs_Ref_Units,,AB$52)),0)","v":0},{"$f":"IFERROR(SUMPRODUCT(--(INDEX(Model_Inputs_Ref_Units,,AC$51)=$E89),INDEX(Model_Inputs_Ref_Units,,AC$52)),0)","v":0},{"$f":"IFERROR(SUMPRODUCT(--(INDEX(Model_Inputs_Ref_Units,,AD$51)=$E89),INDEX(Model_Inputs_Ref_Units,,AD$52)),0)","v":0},{"$f":"IFERROR(SUMPRODUCT(--(INDEX(Model_Inputs_Ref_Units,,AE$51)=$E89),INDEX(Model_Inputs_Ref_Units,,AE$52)),0)","v":0},{"$f":"IFERROR(SUMPRODUCT(--(INDEX(Model_Inputs_Ref_Units,,AF$51)=$E89),INDEX(Model_Inputs_Ref_Units,,AF$52)),0)","v":0},{"$f":"IFERROR(SUMPRODUCT(--(INDEX(Model_Inputs_Ref_Units,,AG$51)=$E89),INDEX(Model_Inputs_Ref_Units,,AG$52)),0)","v":0},{"$f":"IFERROR(SUMPRODUCT(--(INDEX(Model_Inputs_Ref_Units,,AH$51)=$E89),INDEX(Model_Inputs_Ref_Units,,AH$52)),0)","v":0},{"$f":"IFERROR(SUMPRODUCT(--(INDEX(Model_Inputs_Ref_Units,,AI$51)=$E89),INDEX(Model_Inputs_Ref_Units,,AI$52)),0)","v":0},{"$f":"IFERROR(SUMPRODUCT(--(INDEX(Model_Inputs_Ref_Units,,AJ$51)=$E89),INDEX(Model_Inputs_Ref_Units,,AJ$52)),0)","v":0},{"$f":"IFERROR(SUMPRODUCT(--(INDEX(Model_Inputs_Ref_Units,,AK$51)=$E89),INDEX(Model_Inputs_Ref_Units,,AK$52)),0)","v":0},{"$f":"IFERROR(SUMPRODUCT(--(INDEX(Model_Inputs_Ref_Units,,AL$51)=$E89),INDEX(Model_Inputs_Ref_Units,,AL$52)),0)","v":0},{"$f":"IFERROR(SUMPRODUCT(--(INDEX(Model_Inputs_Ref_Units,,AM$51)=$E89),INDEX(Model_Inputs_Ref_Units,,AM$52)),0)","v":0},{"$f":"IFERROR(SUMPRODUCT(--(INDEX(Model_Inputs_Ref_Units,,AN$51)=$E89),INDEX(Model_Inputs_Ref_Units,,AN$52)),0)","v":0},{"$f":"IFERROR(SUMPRODUCT(--(INDEX(Model_Inputs_Ref_Units,,AO$51)=$E89),INDEX(Model_Inputs_Ref_Units,,AO$52)),0)","v":0},{"$f":"IFERROR(SUMPRODUCT(--(INDEX(Model_Inputs_Ref_Units,,AP$51)=$E89),INDEX(Model_Inputs_Ref_Units,,AP$52)),0)","v":0},{"$f":"IFERROR(SUMPRODUCT(--(INDEX(Model_Inputs_Ref_Units,,AQ$51)=$E89),INDEX(Model_Inputs_Ref_Units,,AQ$52)),0)","v":0},{"$f":"IFERROR(SUMPRODUCT(--(INDEX(Model_Inputs_Ref_Units,,AR$51)=$E89),INDEX(Model_Inputs_Ref_Units,,AR$52)),0)","v":0},{"$f":"IFERROR(SUMPRODUCT(--(INDEX(Model_Inputs_Ref_Units,,AS$51)=$E89),INDEX(Model_Inputs_Ref_Units,,AS$52)),0)","v":0},{"$f":"IFERROR(SUMPRODUCT(--(INDEX(Model_Inputs_Ref_Units,,AT$51)=$E89),INDEX(Model_Inputs_Ref_Units,,AT$52)),0)","v":0},{"$f":"IFERROR(SUMPRODUCT(--(INDEX(Model_Inputs_Ref_Units,,AU$51)=$E89),INDEX(Model_Inputs_Ref_Units,,AU$52)),0)","v":0},{"$f":"IFERROR(SUMPRODUCT(--(INDEX(Model_Inputs_Ref_Units,,AV$51)=$E89),INDEX(Model_Inputs_Ref_Units,,AV$52)),0)","v":0},{"$f":"IFERROR(SUMPRODUCT(--(INDEX(Model_Inputs_Ref_Units,,AW$51)=$E89),INDEX(Model_Inputs_Ref_Units,,AW$52)),0)","v":0},{"$f":"IFERROR(SUMPRODUCT(--(INDEX(Model_Inputs_Ref_Units,,AX$51)=$E89),INDEX(Model_Inputs_Ref_Units,,AX$52)),0)","v":0},{"$f":"IFERROR(SUMPRODUCT(--(INDEX(Model_Inputs_Ref_Units,,AY$51)=$E89),INDEX(Model_Inputs_Ref_Units,,AY$52)),0)","v":0},{"$f":"IFERROR(SUMPRODUCT(--(INDEX(Model_Inputs_Ref_Units,,AZ$51)=$E89),INDEX(Model_Inputs_Ref_Units,,AZ$52)),0)","v":0},{"$f":"IFERROR(SUMPRODUCT(--(INDEX(Model_Inputs_Ref_Units,,BA$51)=$E89),INDEX(Model_Inputs_Ref_Units,,BA$52)),0)","v":0},{"$f":"IFERROR(SUMPRODUCT(--(INDEX(Model_Inputs_Ref_Units,,BB$51)=$E89),INDEX(Model_Inputs_Ref_Units,,BB$52)),0)","v":0},{"$f":"IFERROR(SUMPRODUCT(--(INDEX(Model_Inputs_Ref_Units,,BC$51)=$E89),INDEX(Model_Inputs_Ref_Units,,BC$52)),0)","v":0},{"$f":"IFERROR(SUMPRODUCT(--(INDEX(Model_Inputs_Ref_Units,,BD$51)=$E89),INDEX(Model_Inputs_Ref_Units,,BD$52)),0)","v":0},{"$f":"IFERROR(SUMPRODUCT(--(INDEX(Model_Inputs_Ref_Units,,BE$51)=$E89),INDEX(Model_Inputs_Ref_Units,,BE$52)),0)","v":0},{"$f":"IFERROR(SUMPRODUCT(--(INDEX(Model_Inputs_Ref_Units,,BF$51)=$E89),INDEX(Model_Inputs_Ref_Units,,BF$52)),0)","v":0},{"$f":"IFERROR(SUMPRODUCT(--(INDEX(Model_Inputs_Ref_Units,,BG$51)=$E89),INDEX(Model_Inputs_Ref_Units,,BG$52)),0)","v":0},{"$f":"IFERROR(SUMPRODUCT(--(INDEX(Model_Inputs_Ref_Units,,BH$51)=$E89),INDEX(Model_Inputs_Ref_Units,,BH$52)),0)","v":0},{"$f":"IFERROR(SUMPRODUCT(--(INDEX(Model_Inputs_Ref_Units,,BI$51)=$E89),INDEX(Model_Inputs_Ref_Units,,BI$52)),0)","v":0},{"$f":"IFERROR(SUMPRODUCT(--(INDEX(Model_Inputs_Ref_Units,,BJ$51)=$E89),INDEX(Model_Inputs_Ref_Units,,BJ$52)),0)","v":0},{"$f":"IFERROR(SUMPRODUCT(--(INDEX(Model_Inputs_Ref_Units,,BK$51)=$E89),INDEX(Model_Inputs_Ref_Units,,BK$52)),0)","v":0},{"$f":"IFERROR(SUMPRODUCT(--(INDEX(Model_Inputs_Ref_Units,,BL$51)=$E89),INDEX(Model_Inputs_Ref_Units,,BL$52)),0)","v":0},{"$f":"IFERROR(SUMPRODUCT(--(INDEX(Model_Inputs_Ref_Units,,BM$51)=$E89),INDEX(Model_Inputs_Ref_Units,,BM$52)),0)","v":0},{"$f":"IFERROR(SUMPRODUCT(--(INDEX(Model_Inputs_Ref_Units,,BN$51)=$E89),INDEX(Model_Inputs_Ref_Units,,BN$52)),0)","v":0},{"$f":"IFERROR(SUMPRODUCT(--(INDEX(Model_Inputs_Ref_Units,,BO$51)=$E89),INDEX(Model_Inputs_Ref_Units,,BO$52)),0)","v":0},{"$f":"IFERROR(SUMPRODUCT(--(INDEX(Model_Inputs_Ref_Units,,BP$51)=$E89),INDEX(Model_Inputs_Ref_Units,,BP$52)),0)","v":0},{"$f":"IFERROR(SUMPRODUCT(--(INDEX(Model_Inputs_Ref_Units,,BQ$51)=$E89),INDEX(Model_Inputs_Ref_Units,,BQ$52)),0)","v":0},{"$f":"IFERROR(SUMPRODUCT(--(INDEX(Model_Inputs_Ref_Units,,BR$51)=$E89),INDEX(Model_Inputs_Ref_Units,,BR$52)),0)","v":0},{"$f":"IFERROR(SUMPRODUCT(--(INDEX(Model_Inputs_Ref_Units,,BS$51)=$E89),INDEX(Model_Inputs_Ref_Units,,BS$52)),0)","v":0},{"$f":"IFERROR(SUMPRODUCT(--(INDEX(Model_Inputs_Ref_Units,,BT$51)=$E89),INDEX(Model_Inputs_Ref_Units,,BT$52)),0)","v":0},{"$f":"IFERROR(SUMPRODUCT(--(INDEX(Model_Inputs_Ref_Units,,BU$51)=$E89),INDEX(Model_Inputs_Ref_Units,,BU$52)),0)","v":0},{"$f":"IFERROR(SUMPRODUCT(--(INDEX(Model_Inputs_Ref_Units,,BV$51)=$E89),INDEX(Model_Inputs_Ref_Units,,BV$52)),0)","v":0},{"$f":"IFERROR(SUMPRODUCT(--(INDEX(Model_Inputs_Ref_Units,,BW$51)=$E89),INDEX(Model_Inputs_Ref_Units,,BW$52)),0)","v":0},{"$f":"IFERROR(SUMPRODUCT(--(INDEX(Model_Inputs_Ref_Units,,BX$51)=$E89),INDEX(Model_Inputs_Ref_Units,,BX$52)),0)","v":0},{"$f":"IFERROR(SUMPRODUCT(--(INDEX(Model_Inputs_Ref_Units,,BY$51)=$E89),INDEX(Model_Inputs_Ref_Units,,BY$52)),0)","v":0},{"$f":"IFERROR(SUMPRODUCT(--(INDEX(Model_Inputs_Ref_Units,,BZ$51)=$E89),INDEX(Model_Inputs_Ref_Units,,BZ$52)),0)","v":0},{"$f":"IFERROR(SUMPRODUCT(--(INDEX(Model_Inputs_Ref_Units,,CA$51)=$E89),INDEX(Model_Inputs_Ref_Units,,CA$52)),0)","v":0},{"$f":"IFERROR(SUMPRODUCT(--(INDEX(Model_Inputs_Ref_Units,,CB$51)=$E89),INDEX(Model_Inputs_Ref_Units,,CB$52)),0)","v":0},{"$f":"IFERROR(SUMPRODUCT(--(INDEX(Model_Inputs_Ref_Units,,CC$51)=$E89),INDEX(Model_Inputs_Ref_Units,,CC$52)),0)","v":0},{"$f":"IFERROR(SUMPRODUCT(--(INDEX(Model_Inputs_Ref_Units,,CD$51)=$E89),INDEX(Model_Inputs_Ref_Units,,CD$52)),0)","v":0},{"$f":"IFERROR(SUMPRODUCT(--(INDEX(Model_Inputs_Ref_Units,,CE$51)=$E89),INDEX(Model_Inputs_Ref_Units,,CE$52)),0)","v":0},{"$f":"IFERROR(SUMPRODUCT(--(INDEX(Model_Inputs_Ref_Units,,CF$51)=$E89),INDEX(Model_Inputs_Ref_Units,,CF$52)),0)","v":0},{"$f":"IFERROR(SUMPRODUCT(--(INDEX(Model_Inputs_Ref_Units,,CG$51)=$E89),INDEX(Model_Inputs_Ref_Units,,CG$52)),0)","v":0},{"$f":"IFERROR(SUMPRODUCT(--(INDEX(Model_Inputs_Ref_Units,,CH$51)=$E89),INDEX(Model_Inputs_Ref_Units,,CH$52)),0)","v":0},{"$f":"IFERROR(SUMPRODUCT(--(INDEX(Model_Inputs_Ref_Units,,CI$51)=$E89),INDEX(Model_Inputs_Ref_Units,,CI$52)),0)","v":0},{"$f":"IFERROR(SUMPRODUCT(--(INDEX(Model_Inputs_Ref_Units,,CJ$51)=$E89),INDEX(Model_Inputs_Ref_Units,,CJ$52)),0)","v":0},{"$f":"IFERROR(SUMPRODUCT(--(INDEX(Model_Inputs_Ref_Units,,CK$51)=$E89),INDEX(Model_Inputs_Ref_Units,,CK$52)),0)","v":0},{"$f":"IFERROR(SUMPRODUCT(--(INDEX(Model_Inputs_Ref_Units,,CL$51)=$E89),INDEX(Model_Inputs_Ref_Units,,CL$52)),0)","v":0},{"$f":"IFERROR(SUMPRODUCT(--(INDEX(Model_Inputs_Ref_Units,,CM$51)=$E89),INDEX(Model_Inputs_Ref_Units,,CM$52)),0)","v":0},{"$f":"IFERROR(SUMPRODUCT(--(INDEX(Model_Inputs_Ref_Units,,CN$51)=$E89),INDEX(Model_Inputs_Ref_Units,,CN$52)),0)","v":0},{"$f":"IFERROR(SUMPRODUCT(--(INDEX(Model_Inputs_Ref_Units,,CO$51)=$E89),INDEX(Model_Inputs_Ref_Units,,CO$52)),0)","v":0},{"$f":"IFERROR(SUMPRODUCT(--(INDEX(Model_Inputs_Ref_Units,,CP$51)=$E89),INDEX(Model_Inputs_Ref_Units,,CP$52)),0)","v":0},{"$f":"IFERROR(SUMPRODUCT(--(INDEX(Model_Inputs_Ref_Units,,CQ$51)=$E89),INDEX(Model_Inputs_Ref_Units,,CQ$52)),0)","v":0},{"$f":"IFERROR(SUMPRODUCT(--(INDEX(Model_Inputs_Ref_Units,,CR$51)=$E89),INDEX(Model_Inputs_Ref_Units,,CR$52)),0)","v":0},{"$f":"IFERROR(SUMPRODUCT(--(INDEX(Model_Inputs_Ref_Units,,CS$51)=$E89),INDEX(Model_Inputs_Ref_Units,,CS$52)),0)","v":0},{"$f":"IFERROR(SUMPRODUCT(--(INDEX(Model_Inputs_Ref_Units,,CT$51)=$E89),INDEX(Model_Inputs_Ref_Units,,CT$52)),0)","v":0},{"$f":"IFERROR(SUMPRODUCT(--(INDEX(Model_Inputs_Ref_Units,,CU$51)=$E89),INDEX(Model_Inputs_Ref_Units,,CU$52)),0)","v":0},{"$f":"IFERROR(SUMPRODUCT(--(INDEX(Model_Inputs_Ref_Units,,CV$51)=$E89),INDEX(Model_Inputs_Ref_Units,,CV$52)),0)","v":0},{"$f":"IFERROR(SUMPRODUCT(--(INDEX(Model_Inputs_Ref_Units,,CW$51)=$E89),INDEX(Model_Inputs_Ref_Units,,CW$52)),0)","v":0},{"$f":"IFERROR(SUMPRODUCT(--(INDEX(Model_Inputs_Ref_Units,,CX$51)=$E89),INDEX(Model_Inputs_Ref_Units,,CX$52)),0)","v":0},{"$f":"IFERROR(SUMPRODUCT(--(INDEX(Model_Inputs_Ref_Units,,CY$51)=$E89),INDEX(Model_Inputs_Ref_Units,,CY$52)),0)","v":0},{"$f":"IFERROR(SUMPRODUCT(--(INDEX(Model_Inputs_Ref_Units,,CZ$51)=$E89),INDEX(Model_Inputs_Ref_Units,,CZ$52)),0)","v":0},{"$f":"IFERROR(SUMPRODUCT(--(INDEX(Model_Inputs_Ref_Units,,DA$51)=$E89),INDEX(Model_Inputs_Ref_Units,,DA$52)),0)","v":0},{"$f":"IFERROR(SUMPRODUCT(--(INDEX(Model_Inputs_Ref_Units,,DB$51)=$E89),INDEX(Model_Inputs_Ref_Units,,DB$52)),0)","v":0},{"$f":"IFERROR(SUMPRODUCT(--(INDEX(Model_Inputs_Ref_Units,,DC$51)=$E89),INDEX(Model_Inputs_Ref_Units,,DC$52)),0)","v":0},{"$f":"IFERROR(SUMPRODUCT(--(INDEX(Model_Inputs_Ref_Units,,DD$51)=$E89),INDEX(Model_Inputs_Ref_Units,,DD$52)),0)","v":0},{"$f":"IFERROR(SUMPRODUCT(--(INDEX(Model_Inputs_Ref_Units,,DE$51)=$E89),INDEX(Model_Inputs_Ref_Units,,DE$52)),0)","v":0},{"$f":"IFERROR(SUMPRODUCT(--(INDEX(Model_Inputs_Ref_Units,,DF$51)=$E89),INDEX(Model_Inputs_Ref_Units,,DF$52)),0)","v":0}]
[null,null,{"$error":"#DIV/0!"},null,{"$f":"IFERROR(INDEX(Ref_Data,1,F90),\"\")","v":""},37,0,0,0,0,{"$f":"IFERROR(SUMPRODUCT(--(INDEX(Model_Inputs_Ref_Units,,K$51)=$E90),INDEX(Model_Inputs_Ref_Units,,K$52)),0)","v":0},{"$f":"IFERROR(SUMPRODUCT(--(INDEX(Model_Inputs_Ref_Units,,L$51)=$E90),INDEX(Model_Inputs_Ref_Units,,L$52)),0)","v":0},{"$f":"IFERROR(SUMPRODUCT(--(INDEX(Model_Inputs_Ref_Units,,M$51)=$E90),INDEX(Model_Inputs_Ref_Units,,M$52)),0)","v":0},{"$f":"IFERROR(SUMPRODUCT(--(INDEX(Model_Inputs_Ref_Units,,N$51)=$E90),INDEX(Model_Inputs_Ref_Units,,N$52)),0)","v":0},{"$f":"IFERROR(SUMPRODUCT(--(INDEX(Model_Inputs_Ref_Units,,O$51)=$E90),INDEX(Model_Inputs_Ref_Units,,O$52)),0)","v":0},{"$f":"IFERROR(SUMPRODUCT(--(INDEX(Model_Inputs_Ref_Units,,P$51)=$E90),INDEX(Model_Inputs_Ref_Units,,P$52)),0)","v":0},{"$f":"IFERROR(SUMPRODUCT(--(INDEX(Model_Inputs_Ref_Units,,Q$51)=$E90),INDEX(Model_Inputs_Ref_Units,,Q$52)),0)","v":0},{"$f":"IFERROR(SUMPRODUCT(--(INDEX(Model_Inputs_Ref_Units,,R$51)=$E90),INDEX(Model_Inputs_Ref_Units,,R$52)),0)","v":0},{"$f":"IFERROR(SUMPRODUCT(--(INDEX(Model_Inputs_Ref_Units,,S$51)=$E90),INDEX(Model_Inputs_Ref_Units,,S$52)),0)","v":0},{"$f":"IFERROR(SUMPRODUCT(--(INDEX(Model_Inputs_Ref_Units,,T$51)=$E90),INDEX(Model_Inputs_Ref_Units,,T$52)),0)","v":0},{"$f":"IFERROR(SUMPRODUCT(--(INDEX(Model_Inputs_Ref_Units,,U$51)=$E90),INDEX(Model_Inputs_Ref_Units,,U$52)),0)","v":0},{"$f":"IFERROR(SUMPRODUCT(--(INDEX(Model_Inputs_Ref_Units,,V$51)=$E90),INDEX(Model_Inputs_Ref_Units,,V$52)),0)","v":0},{"$f":"IFERROR(SUMPRODUCT(--(INDEX(Model_Inputs_Ref_Units,,W$51)=$E90),INDEX(Model_Inputs_Ref_Units,,W$52)),0)","v":0},{"$f":"IFERROR(SUMPRODUCT(--(INDEX(Model_Inputs_Ref_Units,,X$51)=$E90),INDEX(Model_Inputs_Ref_Units,,X$52)),0)","v":0},{"$f":"IFERROR(SUMPRODUCT(--(INDEX(Model_Inputs_Ref_Units,,Y$51)=$E90),INDEX(Model_Inputs_Ref_Units,,Y$52)),0)","v":0},{"$f":"IFERROR(SUMPRODUCT(--(INDEX(Model_Inputs_Ref_Units,,Z$51)=$E90),INDEX(Model_Inputs_Ref_Units,,Z$52)),0)","v":0},{"$f":"IFERROR(SUMPRODUCT(--(INDEX(Model_Inputs_Ref_Units,,AA$51)=$E90),INDEX(Model_Inputs_Ref_Units,,AA$52)),0)","v":0},{"$f":"IFERROR(SUMPRODUCT(--(INDEX(Model_Inputs_Ref_Units,,AB$51)=$E90),INDEX(Model_Inputs_Ref_Units,,AB$52)),0)","v":0},{"$f":"IFERROR(SUMPRODUCT(--(INDEX(Model_Inputs_Ref_Units,,AC$51)=$E90),INDEX(Model_Inputs_Ref_Units,,AC$52)),0)","v":0},{"$f":"IFERROR(SUMPRODUCT(--(INDEX(Model_Inputs_Ref_Units,,AD$51)=$E90),INDEX(Model_Inputs_Ref_Units,,AD$52)),0)","v":0},{"$f":"IFERROR(SUMPRODUCT(--(INDEX(Model_Inputs_Ref_Units,,AE$51)=$E90),INDEX(Model_Inputs_Ref_Units,,AE$52)),0)","v":0},{"$f":"IFERROR(SUMPRODUCT(--(INDEX(Model_Inputs_Ref_Units,,AF$51)=$E90),INDEX(Model_Inputs_Ref_Units,,AF$52)),0)","v":0},{"$f":"IFERROR(SUMPRODUCT(--(INDEX(Model_Inputs_Ref_Units,,AG$51)=$E90),INDEX(Model_Inputs_Ref_Units,,AG$52)),0)","v":0},{"$f":"IFERROR(SUMPRODUCT(--(INDEX(Model_Inputs_Ref_Units,,AH$51)=$E90),INDEX(Model_Inputs_Ref_Units,,AH$52)),0)","v":0},{"$f":"IFERROR(SUMPRODUCT(--(INDEX(Model_Inputs_Ref_Units,,AI$51)=$E90),INDEX(Model_Inputs_Ref_Units,,AI$52)),0)","v":0},{"$f":"IFERROR(SUMPRODUCT(--(INDEX(Model_Inputs_Ref_Units,,AJ$51)=$E90),INDEX(Model_Inputs_Ref_Units,,AJ$52)),0)","v":0},{"$f":"IFERROR(SUMPRODUCT(--(INDEX(Model_Inputs_Ref_Units,,AK$51)=$E90),INDEX(Model_Inputs_Ref_Units,,AK$52)),0)","v":0},{"$f":"IFERROR(SUMPRODUCT(--(INDEX(Model_Inputs_Ref_Units,,AL$51)=$E90),INDEX(Model_Inputs_Ref_Units,,AL$52)),0)","v":0},{"$f":"IFERROR(SUMPRODUCT(--(INDEX(Model_Inputs_Ref_Units,,AM$51)=$E90),INDEX(Model_Inputs_Ref_Units,,AM$52)),0)","v":0},{"$f":"IFERROR(SUMPRODUCT(--(INDEX(Model_Inputs_Ref_Units,,AN$51)=$E90),INDEX(Model_Inputs_Ref_Units,,AN$52)),0)","v":0},{"$f":"IFERROR(SUMPRODUCT(--(INDEX(Model_Inputs_Ref_Units,,AO$51)=$E90),INDEX(Model_Inputs_Ref_Units,,AO$52)),0)","v":0},{"$f":"IFERROR(SUMPRODUCT(--(INDEX(Model_Inputs_Ref_Units,,AP$51)=$E90),INDEX(Model_Inputs_Ref_Units,,AP$52)),0)","v":0},{"$f":"IFERROR(SUMPRODUCT(--(INDEX(Model_Inputs_Ref_Units,,AQ$51)=$E90),INDEX(Model_Inputs_Ref_Units,,AQ$52)),0)","v":0},{"$f":"IFERROR(SUMPRODUCT(--(INDEX(Model_Inputs_Ref_Units,,AR$51)=$E90),INDEX(Model_Inputs_Ref_Units,,AR$52)),0)","v":0},{"$f":"IFERROR(SUMPRODUCT(--(INDEX(Model_Inputs_Ref_Units,,AS$51)=$E90),INDEX(Model_Inputs_Ref_Units,,AS$52)),0)","v":0},{"$f":"IFERROR(SUMPRODUCT(--(INDEX(Model_Inputs_Ref_Units,,AT$51)=$E90),INDEX(Model_Inputs_Ref_Units,,AT$52)),0)","v":0},{"$f":"IFERROR(SUMPRODUCT(--(INDEX(Model_Inputs_Ref_Units,,AU$51)=$E90),INDEX(Model_Inputs_Ref_Units,,AU$52)),0)","v":0},{"$f":"IFERROR(SUMPRODUCT(--(INDEX(Model_Inputs_Ref_Units,,AV$51)=$E90),INDEX(Model_Inputs_Ref_Units,,AV$52)),0)","v":0},{"$f":"IFERROR(SUMPRODUCT(--(INDEX(Model_Inputs_Ref_Units,,AW$51)=$E90),INDEX(Model_Inputs_Ref_Units,,AW$52)),0)","v":0},{"$f":"IFERROR(SUMPRODUCT(--(INDEX(Model_Inputs_Ref_Units,,AX$51)=$E90),INDEX(Model_Inputs_Ref_Units,,AX$52)),0)","v":0},{"$f":"IFERROR(SUMPRODUCT(--(INDEX(Model_Inputs_Ref_Units,,AY$51)=$E90),INDEX(Model_Inputs_Ref_Units,,AY$52)),0)","v":0},{"$f":"IFERROR(SUMPRODUCT(--(INDEX(Model_Inputs_Ref_Units,,AZ$51)=$E90),INDEX(Model_Inputs_Ref_Units,,AZ$52)),0)","v":0},{"$f":"IFERROR(SUMPRODUCT(--(INDEX(Model_Inputs_Ref_Units,,BA$51)=$E90),INDEX(Model_Inputs_Ref_Units,,BA$52)),0)","v":0},{"$f":"IFERROR(SUMPRODUCT(--(INDEX(Model_Inputs_Ref_Units,,BB$51)=$E90),INDEX(Model_Inputs_Ref_Units,,BB$52)),0)","v":0},{"$f":"IFERROR(SUMPRODUCT(--(INDEX(Model_Inputs_Ref_Units,,BC$51)=$E90),INDEX(Model_Inputs_Ref_Units,,BC$52)),0)","v":0},{"$f":"IFERROR(SUMPRODUCT(--(INDEX(Model_Inputs_Ref_Units,,BD$51)=$E90),INDEX(Model_Inputs_Ref_Units,,BD$52)),0)","v":0},{"$f":"IFERROR(SUMPRODUCT(--(INDEX(Model_Inputs_Ref_Units,,BE$51)=$E90),INDEX(Model_Inputs_Ref_Units,,BE$52)),0)","v":0},{"$f":"IFERROR(SUMPRODUCT(--(INDEX(Model_Inputs_Ref_Units,,BF$51)=$E90),INDEX(Model_Inputs_Ref_Units,,BF$52)),0)","v":0},{"$f":"IFERROR(SUMPRODUCT(--(INDEX(Model_Inputs_Ref_Units,,BG$51)=$E90),INDEX(Model_Inputs_Ref_Units,,BG$52)),0)","v":0},{"$f":"IFERROR(SUMPRODUCT(--(INDEX(Model_Inputs_Ref_Units,,BH$51)=$E90),INDEX(Model_Inputs_Ref_Units,,BH$52)),0)","v":0},{"$f":"IFERROR(SUMPRODUCT(--(INDEX(Model_Inputs_Ref_Units,,BI$51)=$E90),INDEX(Model_Inputs_Ref_Units,,BI$52)),0)","v":0},{"$f":"IFERROR(SUMPRODUCT(--(INDEX(Model_Inputs_Ref_Units,,BJ$51)=$E90),INDEX(Model_Inputs_Ref_Units,,BJ$52)),0)","v":0},{"$f":"IFERROR(SUMPRODUCT(--(INDEX(Model_Inputs_Ref_Units,,BK$51)=$E90),INDEX(Model_Inputs_Ref_Units,,BK$52)),0)","v":0},{"$f":"IFERROR(SUMPRODUCT(--(INDEX(Model_Inputs_Ref_Units,,BL$51)=$E90),INDEX(Model_Inputs_Ref_Units,,BL$52)),0)","v":0},{"$f":"IFERROR(SUMPRODUCT(--(INDEX(Model_Inputs_Ref_Units,,BM$51)=$E90),INDEX(Model_Inputs_Ref_Units,,BM$52)),0)","v":0},{"$f":"IFERROR(SUMPRODUCT(--(INDEX(Model_Inputs_Ref_Units,,BN$51)=$E90),INDEX(Model_Inputs_Ref_Units,,BN$52)),0)","v":0},{"$f":"IFERROR(SUMPRODUCT(--(INDEX(Model_Inputs_Ref_Units,,BO$51)=$E90),INDEX(Model_Inputs_Ref_Units,,BO$52)),0)","v":0},{"$f":"IFERROR(SUMPRODUCT(--(INDEX(Model_Inputs_Ref_Units,,BP$51)=$E90),INDEX(Model_Inputs_Ref_Units,,BP$52)),0)","v":0},{"$f":"IFERROR(SUMPRODUCT(--(INDEX(Model_Inputs_Ref_Units,,BQ$51)=$E90),INDEX(Model_Inputs_Ref_Units,,BQ$52)),0)","v":0},{"$f":"IFERROR(SUMPRODUCT(--(INDEX(Model_Inputs_Ref_Units,,BR$51)=$E90),INDEX(Model_Inputs_Ref_Units,,BR$52)),0)","v":0},{"$f":"IFERROR(SUMPRODUCT(--(INDEX(Model_Inputs_Ref_Units,,BS$51)=$E90),INDEX(Model_Inputs_Ref_Units,,BS$52)),0)","v":0},{"$f":"IFERROR(SUMPRODUCT(--(INDEX(Model_Inputs_Ref_Units,,BT$51)=$E90),INDEX(Model_Inputs_Ref_Units,,BT$52)),0)","v":0},{"$f":"IFERROR(SUMPRODUCT(--(INDEX(Model_Inputs_Ref_Units,,BU$51)=$E90),INDEX(Model_Inputs_Ref_Units,,BU$52)),0)","v":0},{"$f":"IFERROR(SUMPRODUCT(--(INDEX(Model_Inputs_Ref_Units,,BV$51)=$E90),INDEX(Model_Inputs_Ref_Units,,BV$52)),0)","v":0},{"$f":"IFERROR(SUMPRODUCT(--(INDEX(Model_Inputs_Ref_Units,,BW$51)=$E90),INDEX(Model_Inputs_Ref_Units,,BW$52)),0)","v":0},{"$f":"IFERROR(SUMPRODUCT(--(INDEX(Model_Inputs_Ref_Units,,BX$51)=$E90),INDEX(Model_Inputs_Ref_Units,,BX$52)),0)","v":0},{"$f":"IFERROR(SUMPRODUCT(--(INDEX(Model_Inputs_Ref_Units,,BY$51)=$E90),INDEX(Model_Inputs_Ref_Units,,BY$52)),0)","v":0},{"$f":"IFERROR(SUMPRODUCT(--(INDEX(Model_Inputs_Ref_Units,,BZ$51)=$E90),INDEX(Model_Inputs_Ref_Units,,BZ$52)),0)","v":0},{"$f":"IFERROR(SUMPRODUCT(--(INDEX(Model_Inputs_Ref_Units,,CA$51)=$E90),INDEX(Model_Inputs_Ref_Units,,CA$52)),0)","v":0},{"$f":"IFERROR(SUMPRODUCT(--(INDEX(Model_Inputs_Ref_Units,,CB$51)=$E90),INDEX(Model_Inputs_Ref_Units,,CB$52)),0)","v":0},{"$f":"IFERROR(SUMPRODUCT(--(INDEX(Model_Inputs_Ref_Units,,CC$51)=$E90),INDEX(Model_Inputs_Ref_Units,,CC$52)),0)","v":0},{"$f":"IFERROR(SUMPRODUCT(--(INDEX(Model_Inputs_Ref_Units,,CD$51)=$E90),INDEX(Model_Inputs_Ref_Units,,CD$52)),0)","v":0},{"$f":"IFERROR(SUMPRODUCT(--(INDEX(Model_Inputs_Ref_Units,,CE$51)=$E90),INDEX(Model_Inputs_Ref_Units,,CE$52)),0)","v":0},{"$f":"IFERROR(SUMPRODUCT(--(INDEX(Model_Inputs_Ref_Units,,CF$51)=$E90),INDEX(Model_Inputs_Ref_Units,,CF$52)),0)","v":0},{"$f":"IFERROR(SUMPRODUCT(--(INDEX(Model_Inputs_Ref_Units,,CG$51)=$E90),INDEX(Model_Inputs_Ref_Units,,CG$52)),0)","v":0},{"$f":"IFERROR(SUMPRODUCT(--(INDEX(Model_Inputs_Ref_Units,,CH$51)=$E90),INDEX(Model_Inputs_Ref_Units,,CH$52)),0)","v":0},{"$f":"IFERROR(SUMPRODUCT(--(INDEX(Model_Inputs_Ref_Units,,CI$51)=$E90),INDEX(Model_Inputs_Ref_Units,,CI$52)),0)","v":0},{"$f":"IFERROR(SUMPRODUCT(--(INDEX(Model_Inputs_Ref_Units,,CJ$51)=$E90),INDEX(Model_Inputs_Ref_Units,,CJ$52)),0)","v":0},{"$f":"IFERROR(SUMPRODUCT(--(INDEX(Model_Inputs_Ref_Units,,CK$51)=$E90),INDEX(Model_Inputs_Ref_Units,,CK$52)),0)","v":0},{"$f":"IFERROR(SUMPRODUCT(--(INDEX(Model_Inputs_Ref_Units,,CL$51)=$E90),INDEX(Model_Inputs_Ref_Units,,CL$52)),0)","v":0},{"$f":"IFERROR(SUMPRODUCT(--(INDEX(Model_Inputs_Ref_Units,,CM$51)=$E90),INDEX(Model_Inputs_Ref_Units,,CM$52)),0)","v":0},{"$f":"IFERROR(SUMPRODUCT(--(INDEX(Model_Inputs_Ref_Units,,CN$51)=$E90),INDEX(Model_Inputs_Ref_Units,,CN$52)),0)","v":0},{"$f":"IFERROR(SUMPRODUCT(--(INDEX(Model_Inputs_Ref_Units,,CO$51)=$E90),INDEX(Model_Inputs_Ref_Units,,CO$52)),0)","v":0},{"$f":"IFERROR(SUMPRODUCT(--(INDEX(Model_Inputs_Ref_Units,,CP$51)=$E90),INDEX(Model_Inputs_Ref_Units,,CP$52)),0)","v":0},{"$f":"IFERROR(SUMPRODUCT(--(INDEX(Model_Inputs_Ref_Units,,CQ$51)=$E90),INDEX(Model_Inputs_Ref_Units,,CQ$52)),0)","v":0},{"$f":"IFERROR(SUMPRODUCT(--(INDEX(Model_Inputs_Ref_Units,,CR$51)=$E90),INDEX(Model_Inputs_Ref_Units,,CR$52)),0)","v":0},{"$f":"IFERROR(SUMPRODUCT(--(INDEX(Model_Inputs_Ref_Units,,CS$51)=$E90),INDEX(Model_Inputs_Ref_Units,,CS$52)),0)","v":0},{"$f":"IFERROR(SUMPRODUCT(--(INDEX(Model_Inputs_Ref_Units,,CT$51)=$E90),INDEX(Model_Inputs_Ref_Units,,CT$52)),0)","v":0},{"$f":"IFERROR(SUMPRODUCT(--(INDEX(Model_Inputs_Ref_Units,,CU$51)=$E90),INDEX(Model_Inputs_Ref_Units,,CU$52)),0)","v":0},{"$f":"IFERROR(SUMPRODUCT(--(INDEX(Model_Inputs_Ref_Units,,CV$51)=$E90),INDEX(Model_Inputs_Ref_Units,,CV$52)),0)","v":0},{"$f":"IFERROR(SUMPRODUCT(--(INDEX(Model_Inputs_Ref_Units,,CW$51)=$E90),INDEX(Model_Inputs_Ref_Units,,CW$52)),0)","v":0},{"$f":"IFERROR(SUMPRODUCT(--(INDEX(Model_Inputs_Ref_Units,,CX$51)=$E90),INDEX(Model_Inputs_Ref_Units,,CX$52)),0)","v":0},{"$f":"IFERROR(SUMPRODUCT(--(INDEX(Model_Inputs_Ref_Units,,CY$51)=$E90),INDEX(Model_Inputs_Ref_Units,,CY$52)),0)","v":0},{"$f":"IFERROR(SUMPRODUCT(--(INDEX(Model_Inputs_Ref_Units,,CZ$51)=$E90),INDEX(Model_Inputs_Ref_Units,,CZ$52)),0)","v":0},{"$f":"IFERROR(SUMPRODUCT(--(INDEX(Model_Inputs_Ref_Units,,DA$51)=$E90),INDEX(Model_Inputs_Ref_Units,,DA$52)),0)","v":0},{"$f":"IFERROR(SUMPRODUCT(--(INDEX(Model_Inputs_Ref_Units,,DB$51)=$E90),INDEX(Model_Inputs_Ref_Units,,DB$52)),0)","v":0},{"$f":"IFERROR(SUMPRODUCT(--(INDEX(Model_Inputs_Ref_Units,,DC$51)=$E90),INDEX(Model_Inputs_Ref_Units,,DC$52)),0)","v":0},{"$f":"IFERROR(SUMPRODUCT(--(INDEX(Model_Inputs_Ref_Units,,DD$51)=$E90),INDEX(Model_Inputs_Ref_Units,,DD$52)),0)","v":0},{"$f":"IFERROR(SUMPRODUCT(--(INDEX(Model_Inputs_Ref_Units,,DE$51)=$E90),INDEX(Model_Inputs_Ref_Units,,DE$52)),0)","v":0},{"$f":"IFERROR(SUMPRODUCT(--(INDEX(Model_Inputs_Ref_Units,,DF$51)=$E90),INDEX(Model_Inputs_Ref_Units,,DF$52)),0)","v":0}]
[null,null,{"$error":"#DIV/0!"},null,{"$f":"IFERROR(INDEX(Ref_Data,1,F91),\"\")","v":""},38,0,0,0,0,{"$f":"IFERROR(SUMPRODUCT(--(INDEX(Model_Inputs_Ref_Units,,K$51)=$E91),INDEX(Model_Inputs_Ref_Units,,K$52)),0)","v":0},{"$f":"IFERROR(SUMPRODUCT(--(INDEX(Model_Inputs_Ref_Units,,L$51)=$E91),INDEX(Model_Inputs_Ref_Units,,L$52)),0)","v":0},{"$f":"IFERROR(SUMPRODUCT(--(INDEX(Model_Inputs_Ref_Units,,M$51)=$E91),INDEX(Model_Inputs_Ref_Units,,M$52)),0)","v":0},{"$f":"IFERROR(SUMPRODUCT(--(INDEX(Model_Inputs_Ref_Units,,N$51)=$E91),INDEX(Model_Inputs_Ref_Units,,N$52)),0)","v":0},{"$f":"IFERROR(SUMPRODUCT(--(INDEX(Model_Inputs_Ref_Units,,O$51)=$E91),INDEX(Model_Inputs_Ref_Units,,O$52)),0)","v":0},{"$f":"IFERROR(SUMPRODUCT(--(INDEX(Model_Inputs_Ref_Units,,P$51)=$E91),INDEX(Model_Inputs_Ref_Units,,P$52)),0)","v":0},{"$f":"IFERROR(SUMPRODUCT(--(INDEX(Model_Inputs_Ref_Units,,Q$51)=$E91),INDEX(Model_Inputs_Ref_Units,,Q$52)),0)","v":0},{"$f":"IFERROR(SUMPRODUCT(--(INDEX(Model_Inputs_Ref_Units,,R$51)=$E91),INDEX(Model_Inputs_Ref_Units,,R$52)),0)","v":0},{"$f":"IFERROR(SUMPRODUCT(--(INDEX(Model_Inputs_Ref_Units,,S$51)=$E91),INDEX(Model_Inputs_Ref_Units,,S$52)),0)","v":0},{"$f":"IFERROR(SUMPRODUCT(--(INDEX(Model_Inputs_Ref_Units,,T$51)=$E91),INDEX(Model_Inputs_Ref_Units,,T$52)),0)","v":0},{"$f":"IFERROR(SUMPRODUCT(--(INDEX(Model_Inputs_Ref_Units,,U$51)=$E91),INDEX(Model_Inputs_Ref_Units,,U$52)),0)","v":0},{"$f":"IFERROR(SUMPRODUCT(--(INDEX(Model_Inputs_Ref_Units,,V$51)=$E91),INDEX(Model_Inputs_Ref_Units,,V$52)),0)","v":0},{"$f":"IFERROR(SUMPRODUCT(--(INDEX(Model_Inputs_Ref_Units,,W$51)=$E91),INDEX(Model_Inputs_Ref_Units,,W$52)),0)","v":0},{"$f":"IFERROR(SUMPRODUCT(--(INDEX(Model_Inputs_Ref_Units,,X$51)=$E91),INDEX(Model_Inputs_Ref_Units,,X$52)),0)","v":0},{"$f":"IFERROR(SUMPRODUCT(--(INDEX(Model_Inputs_Ref_Units,,Y$51)=$E91),INDEX(Model_Inputs_Ref_Units,,Y$52)),0)","v":0},{"$f":"IFERROR(SUMPRODUCT(--(INDEX(Model_Inputs_Ref_Units,,Z$51)=$E91),INDEX(Model_Inputs_Ref_Units,,Z$52)),0)","v":0},{"$f":"IFERROR(SUMPRODUCT(--(INDEX(Model_Inputs_Ref_Units,,AA$51)=$E91),INDEX(Model_Inputs_Ref_Units,,AA$52)),0)","v":0},{"$f":"IFERROR(SUMPRODUCT(--(INDEX(Model_Inputs_Ref_Units,,AB$51)=$E91),INDEX(Model_Inputs_Ref_Units,,AB$52)),0)","v":0},{"$f":"IFERROR(SUMPRODUCT(--(INDEX(Model_Inputs_Ref_Units,,AC$51)=$E91),INDEX(Model_Inputs_Ref_Units,,AC$52)),0)","v":0},{"$f":"IFERROR(SUMPRODUCT(--(INDEX(Model_Inputs_Ref_Units,,AD$51)=$E91),INDEX(Model_Inputs_Ref_Units,,AD$52)),0)","v":0},{"$f":"IFERROR(SUMPRODUCT(--(INDEX(Model_Inputs_Ref_Units,,AE$51)=$E91),INDEX(Model_Inputs_Ref_Units,,AE$52)),0)","v":0},{"$f":"IFERROR(SUMPRODUCT(--(INDEX(Model_Inputs_Ref_Units,,AF$51)=$E91),INDEX(Model_Inputs_Ref_Units,,AF$52)),0)","v":0},{"$f":"IFERROR(SUMPRODUCT(--(INDEX(Model_Inputs_Ref_Units,,AG$51)=$E91),INDEX(Model_Inputs_Ref_Units,,AG$52)),0)","v":0},{"$f":"IFERROR(SUMPRODUCT(--(INDEX(Model_Inputs_Ref_Units,,AH$51)=$E91),INDEX(Model_Inputs_Ref_Units,,AH$52)),0)","v":0},{"$f":"IFERROR(SUMPRODUCT(--(INDEX(Model_Inputs_Ref_Units,,AI$51)=$E91),INDEX(Model_Inputs_Ref_Units,,AI$52)),0)","v":0},{"$f":"IFERROR(SUMPRODUCT(--(INDEX(Model_Inputs_Ref_Units,,AJ$51)=$E91),INDEX(Model_Inputs_Ref_Units,,AJ$52)),0)","v":0},{"$f":"IFERROR(SUMPRODUCT(--(INDEX(Model_Inputs_Ref_Units,,AK$51)=$E91),INDEX(Model_Inputs_Ref_Units,,AK$52)),0)","v":0},{"$f":"IFERROR(SUMPRODUCT(--(INDEX(Model_Inputs_Ref_Units,,AL$51)=$E91),INDEX(Model_Inputs_Ref_Units,,AL$52)),0)","v":0},{"$f":"IFERROR(SUMPRODUCT(--(INDEX(Model_Inputs_Ref_Units,,AM$51)=$E91),INDEX(Model_Inputs_Ref_Units,,AM$52)),0)","v":0},{"$f":"IFERROR(SUMPRODUCT(--(INDEX(Model_Inputs_Ref_Units,,AN$51)=$E91),INDEX(Model_Inputs_Ref_Units,,AN$52)),0)","v":0},{"$f":"IFERROR(SUMPRODUCT(--(INDEX(Model_Inputs_Ref_Units,,AO$51)=$E91),INDEX(Model_Inputs_Ref_Units,,AO$52)),0)","v":0},{"$f":"IFERROR(SUMPRODUCT(--(INDEX(Model_Inputs_Ref_Units,,AP$51)=$E91),INDEX(Model_Inputs_Ref_Units,,AP$52)),0)","v":0},{"$f":"IFERROR(SUMPRODUCT(--(INDEX(Model_Inputs_Ref_Units,,AQ$51)=$E91),INDEX(Model_Inputs_Ref_Units,,AQ$52)),0)","v":0},{"$f":"IFERROR(SUMPRODUCT(--(INDEX(Model_Inputs_Ref_Units,,AR$51)=$E91),INDEX(Model_Inputs_Ref_Units,,AR$52)),0)","v":0},{"$f":"IFERROR(SUMPRODUCT(--(INDEX(Model_Inputs_Ref_Units,,AS$51)=$E91),INDEX(Model_Inputs_Ref_Units,,AS$52)),0)","v":0},{"$f":"IFERROR(SUMPRODUCT(--(INDEX(Model_Inputs_Ref_Units,,AT$51)=$E91),INDEX(Model_Inputs_Ref_Units,,AT$52)),0)","v":0},{"$f":"IFERROR(SUMPRODUCT(--(INDEX(Model_Inputs_Ref_Units,,AU$51)=$E91),INDEX(Model_Inputs_Ref_Units,,AU$52)),0)","v":0},{"$f":"IFERROR(SUMPRODUCT(--(INDEX(Model_Inputs_Ref_Units,,AV$51)=$E91),INDEX(Model_Inputs_Ref_Units,,AV$52)),0)","v":0},{"$f":"IFERROR(SUMPRODUCT(--(INDEX(Model_Inputs_Ref_Units,,AW$51)=$E91),INDEX(Model_Inputs_Ref_Units,,AW$52)),0)","v":0},{"$f":"IFERROR(SUMPRODUCT(--(INDEX(Model_Inputs_Ref_Units,,AX$51)=$E91),INDEX(Model_Inputs_Ref_Units,,AX$52)),0)","v":0},{"$f":"IFERROR(SUMPRODUCT(--(INDEX(Model_Inputs_Ref_Units,,AY$51)=$E91),INDEX(Model_Inputs_Ref_Units,,AY$52)),0)","v":0},{"$f":"IFERROR(SUMPRODUCT(--(INDEX(Model_Inputs_Ref_Units,,AZ$51)=$E91),INDEX(Model_Inputs_Ref_Units,,AZ$52)),0)","v":0},{"$f":"IFERROR(SUMPRODUCT(--(INDEX(Model_Inputs_Ref_Units,,BA$51)=$E91),INDEX(Model_Inputs_Ref_Units,,BA$52)),0)","v":0},{"$f":"IFERROR(SUMPRODUCT(--(INDEX(Model_Inputs_Ref_Units,,BB$51)=$E91),INDEX(Model_Inputs_Ref_Units,,BB$52)),0)","v":0},{"$f":"IFERROR(SUMPRODUCT(--(INDEX(Model_Inputs_Ref_Units,,BC$51)=$E91),INDEX(Model_Inputs_Ref_Units,,BC$52)),0)","v":0},{"$f":"IFERROR(SUMPRODUCT(--(INDEX(Model_Inputs_Ref_Units,,BD$51)=$E91),INDEX(Model_Inputs_Ref_Units,,BD$52)),0)","v":0},{"$f":"IFERROR(SUMPRODUCT(--(INDEX(Model_Inputs_Ref_Units,,BE$51)=$E91),INDEX(Model_Inputs_Ref_Units,,BE$52)),0)","v":0},{"$f":"IFERROR(SUMPRODUCT(--(INDEX(Model_Inputs_Ref_Units,,BF$51)=$E91),INDEX(Model_Inputs_Ref_Units,,BF$52)),0)","v":0},{"$f":"IFERROR(SUMPRODUCT(--(INDEX(Model_Inputs_Ref_Units,,BG$51)=$E91),INDEX(Model_Inputs_Ref_Units,,BG$52)),0)","v":0},{"$f":"IFERROR(SUMPRODUCT(--(INDEX(Model_Inputs_Ref_Units,,BH$51)=$E91),INDEX(Model_Inputs_Ref_Units,,BH$52)),0)","v":0},{"$f":"IFERROR(SUMPRODUCT(--(INDEX(Model_Inputs_Ref_Units,,BI$51)=$E91),INDEX(Model_Inputs_Ref_Units,,BI$52)),0)","v":0},{"$f":"IFERROR(SUMPRODUCT(--(INDEX(Model_Inputs_Ref_Units,,BJ$51)=$E91),INDEX(Model_Inputs_Ref_Units,,BJ$52)),0)","v":0},{"$f":"IFERROR(SUMPRODUCT(--(INDEX(Model_Inputs_Ref_Units,,BK$51)=$E91),INDEX(Model_Inputs_Ref_Units,,BK$52)),0)","v":0},{"$f":"IFERROR(SUMPRODUCT(--(INDEX(Model_Inputs_Ref_Units,,BL$51)=$E91),INDEX(Model_Inputs_Ref_Units,,BL$52)),0)","v":0},{"$f":"IFERROR(SUMPRODUCT(--(INDEX(Model_Inputs_Ref_Units,,BM$51)=$E91),INDEX(Model_Inputs_Ref_Units,,BM$52)),0)","v":0},{"$f":"IFERROR(SUMPRODUCT(--(INDEX(Model_Inputs_Ref_Units,,BN$51)=$E91),INDEX(Model_Inputs_Ref_Units,,BN$52)),0)","v":0},{"$f":"IFERROR(SUMPRODUCT(--(INDEX(Model_Inputs_Ref_Units,,BO$51)=$E91),INDEX(Model_Inputs_Ref_Units,,BO$52)),0)","v":0},{"$f":"IFERROR(SUMPRODUCT(--(INDEX(Model_Inputs_Ref_Units,,BP$51)=$E91),INDEX(Model_Inputs_Ref_Units,,BP$52)),0)","v":0},{"$f":"IFERROR(SUMPRODUCT(--(INDEX(Model_Inputs_Ref_Units,,BQ$51)=$E91),INDEX(Model_Inputs_Ref_Units,,BQ$52)),0)","v":0},{"$f":"IFERROR(SUMPRODUCT(--(INDEX(Model_Inputs_Ref_Units,,BR$51)=$E91),INDEX(Model_Inputs_Ref_Units,,BR$52)),0)","v":0},{"$f":"IFERROR(SUMPRODUCT(--(INDEX(Model_Inputs_Ref_Units,,BS$51)=$E91),INDEX(Model_Inputs_Ref_Units,,BS$52)),0)","v":0},{"$f":"IFERROR(SUMPRODUCT(--(INDEX(Model_Inputs_Ref_Units,,BT$51)=$E91),INDEX(Model_Inputs_Ref_Units,,BT$52)),0)","v":0},{"$f":"IFERROR(SUMPRODUCT(--(INDEX(Model_Inputs_Ref_Units,,BU$51)=$E91),INDEX(Model_Inputs_Ref_Units,,BU$52)),0)","v":0},{"$f":"IFERROR(SUMPRODUCT(--(INDEX(Model_Inputs_Ref_Units,,BV$51)=$E91),INDEX(Model_Inputs_Ref_Units,,BV$52)),0)","v":0},{"$f":"IFERROR(SUMPRODUCT(--(INDEX(Model_Inputs_Ref_Units,,BW$51)=$E91),INDEX(Model_Inputs_Ref_Units,,BW$52)),0)","v":0},{"$f":"IFERROR(SUMPRODUCT(--(INDEX(Model_Inputs_Ref_Units,,BX$51)=$E91),INDEX(Model_Inputs_Ref_Units,,BX$52)),0)","v":0},{"$f":"IFERROR(SUMPRODUCT(--(INDEX(Model_Inputs_Ref_Units,,BY$51)=$E91),INDEX(Model_Inputs_Ref_Units,,BY$52)),0)","v":0},{"$f":"IFERROR(SUMPRODUCT(--(INDEX(Model_Inputs_Ref_Units,,BZ$51)=$E91),INDEX(Model_Inputs_Ref_Units,,BZ$52)),0)","v":0},{"$f":"IFERROR(SUMPRODUCT(--(INDEX(Model_Inputs_Ref_Units,,CA$51)=$E91),INDEX(Model_Inputs_Ref_Units,,CA$52)),0)","v":0},{"$f":"IFERROR(SUMPRODUCT(--(INDEX(Model_Inputs_Ref_Units,,CB$51)=$E91),INDEX(Model_Inputs_Ref_Units,,CB$52)),0)","v":0},{"$f":"IFERROR(SUMPRODUCT(--(INDEX(Model_Inputs_Ref_Units,,CC$51)=$E91),INDEX(Model_Inputs_Ref_Units,,CC$52)),0)","v":0},{"$f":"IFERROR(SUMPRODUCT(--(INDEX(Model_Inputs_Ref_Units,,CD$51)=$E91),INDEX(Model_Inputs_Ref_Units,,CD$52)),0)","v":0},{"$f":"IFERROR(SUMPRODUCT(--(INDEX(Model_Inputs_Ref_Units,,CE$51)=$E91),INDEX(Model_Inputs_Ref_Units,,CE$52)),0)","v":0},{"$f":"IFERROR(SUMPRODUCT(--(INDEX(Model_Inputs_Ref_Units,,CF$51)=$E91),INDEX(Model_Inputs_Ref_Units,,CF$52)),0)","v":0},{"$f":"IFERROR(SUMPRODUCT(--(INDEX(Model_Inputs_Ref_Units,,CG$51)=$E91),INDEX(Model_Inputs_Ref_Units,,CG$52)),0)","v":0},{"$f":"IFERROR(SUMPRODUCT(--(INDEX(Model_Inputs_Ref_Units,,CH$51)=$E91),INDEX(Model_Inputs_Ref_Units,,CH$52)),0)","v":0},{"$f":"IFERROR(SUMPRODUCT(--(INDEX(Model_Inputs_Ref_Units,,CI$51)=$E91),INDEX(Model_Inputs_Ref_Units,,CI$52)),0)","v":0},{"$f":"IFERROR(SUMPRODUCT(--(INDEX(Model_Inputs_Ref_Units,,CJ$51)=$E91),INDEX(Model_Inputs_Ref_Units,,CJ$52)),0)","v":0},{"$f":"IFERROR(SUMPRODUCT(--(INDEX(Model_Inputs_Ref_Units,,CK$51)=$E91),INDEX(Model_Inputs_Ref_Units,,CK$52)),0)","v":0},{"$f":"IFERROR(SUMPRODUCT(--(INDEX(Model_Inputs_Ref_Units,,CL$51)=$E91),INDEX(Model_Inputs_Ref_Units,,CL$52)),0)","v":0},{"$f":"IFERROR(SUMPRODUCT(--(INDEX(Model_Inputs_Ref_Units,,CM$51)=$E91),INDEX(Model_Inputs_Ref_Units,,CM$52)),0)","v":0},{"$f":"IFERROR(SUMPRODUCT(--(INDEX(Model_Inputs_Ref_Units,,CN$51)=$E91),INDEX(Model_Inputs_Ref_Units,,CN$52)),0)","v":0},{"$f":"IFERROR(SUMPRODUCT(--(INDEX(Model_Inputs_Ref_Units,,CO$51)=$E91),INDEX(Model_Inputs_Ref_Units,,CO$52)),0)","v":0},{"$f":"IFERROR(SUMPRODUCT(--(INDEX(Model_Inputs_Ref_Units,,CP$51)=$E91),INDEX(Model_Inputs_Ref_Units,,CP$52)),0)","v":0},{"$f":"IFERROR(SUMPRODUCT(--(INDEX(Model_Inputs_Ref_Units,,CQ$51)=$E91),INDEX(Model_Inputs_Ref_Units,,CQ$52)),0)","v":0},{"$f":"IFERROR(SUMPRODUCT(--(INDEX(Model_Inputs_Ref_Units,,CR$51)=$E91),INDEX(Model_Inputs_Ref_Units,,CR$52)),0)","v":0},{"$f":"IFERROR(SUMPRODUCT(--(INDEX(Model_Inputs_Ref_Units,,CS$51)=$E91),INDEX(Model_Inputs_Ref_Units,,CS$52)),0)","v":0},{"$f":"IFERROR(SUMPRODUCT(--(INDEX(Model_Inputs_Ref_Units,,CT$51)=$E91),INDEX(Model_Inputs_Ref_Units,,CT$52)),0)","v":0},{"$f":"IFERROR(SUMPRODUCT(--(INDEX(Model_Inputs_Ref_Units,,CU$51)=$E91),INDEX(Model_Inputs_Ref_Units,,CU$52)),0)","v":0},{"$f":"IFERROR(SUMPRODUCT(--(INDEX(Model_Inputs_Ref_Units,,CV$51)=$E91),INDEX(Model_Inputs_Ref_Units,,CV$52)),0)","v":0},{"$f":"IFERROR(SUMPRODUCT(--(INDEX(Model_Inputs_Ref_Units,,CW$51)=$E91),INDEX(Model_Inputs_Ref_Units,,CW$52)),0)","v":0},{"$f":"IFERROR(SUMPRODUCT(--(INDEX(Model_Inputs_Ref_Units,,CX$51)=$E91),INDEX(Model_Inputs_Ref_Units,,CX$52)),0)","v":0},{"$f":"IFERROR(SUMPRODUCT(--(INDEX(Model_Inputs_Ref_Units,,CY$51)=$E91),INDEX(Model_Inputs_Ref_Units,,CY$52)),0)","v":0},{"$f":"IFERROR(SUMPRODUCT(--(INDEX(Model_Inputs_Ref_Units,,CZ$51)=$E91),INDEX(Model_Inputs_Ref_Units,,CZ$52)),0)","v":0},{"$f":"IFERROR(SUMPRODUCT(--(INDEX(Model_Inputs_Ref_Units,,DA$51)=$E91),INDEX(Model_Inputs_Ref_Units,,DA$52)),0)","v":0},{"$f":"IFERROR(SUMPRODUCT(--(INDEX(Model_Inputs_Ref_Units,,DB$51)=$E91),INDEX(Model_Inputs_Ref_Units,,DB$52)),0)","v":0},{"$f":"IFERROR(SUMPRODUCT(--(INDEX(Model_Inputs_Ref_Units,,DC$51)=$E91),INDEX(Model_Inputs_Ref_Units,,DC$52)),0)","v":0},{"$f":"IFERROR(SUMPRODUCT(--(INDEX(Model_Inputs_Ref_Units,,DD$51)=$E91),INDEX(Model_Inputs_Ref_Units,,DD$52)),0)","v":0},{"$f":"IFERROR(SUMPRODUCT(--(INDEX(Model_Inputs_Ref_Units,,DE$51)=$E91),INDEX(Model_Inputs_Ref_Units,,DE$52)),0)","v":0},{"$f":"IFERROR(SUMPRODUCT(--(INDEX(Model_Inputs_Ref_Units,,DF$51)=$E91),INDEX(Model_Inputs_Ref_Units,,DF$52)),0)","v":0}]
[null,null,{"$error":"#DIV/0!"},null,{"$f":"IFERROR(INDEX(Ref_Data,1,F92),\"\")","v":""},39,0,0,0,0,{"$f":"IFERROR(SUMPRODUCT(--(INDEX(Model_Inputs_Ref_Units,,K$51)=$E92),INDEX(Model_Inputs_Ref_Units,,K$52)),0)","v":0},{"$f":"IFERROR(SUMPRODUCT(--(INDEX(Model_Inputs_Ref_Units,,L$51)=$E92),INDEX(Model_Inputs_Ref_Units,,L$52)),0)","v":0},{"$f":"IFERROR(SUMPRODUCT(--(INDEX(Model_Inputs_Ref_Units,,M$51)=$E92),INDEX(Model_Inputs_Ref_Units,,M$52)),0)","v":0},{"$f":"IFERROR(SUMPRODUCT(--(INDEX(Model_Inputs_Ref_Units,,N$51)=$E92),INDEX(Model_Inputs_Ref_Units,,N$52)),0)","v":0},{"$f":"IFERROR(SUMPRODUCT(--(INDEX(Model_Inputs_Ref_Units,,O$51)=$E92),INDEX(Model_Inputs_Ref_Units,,O$52)),0)","v":0},{"$f":"IFERROR(SUMPRODUCT(--(INDEX(Model_Inputs_Ref_Units,,P$51)=$E92),INDEX(Model_Inputs_Ref_Units,,P$52)),0)","v":0},{"$f":"IFERROR(SUMPRODUCT(--(INDEX(Model_Inputs_Ref_Units,,Q$51)=$E92),INDEX(Model_Inputs_Ref_Units,,Q$52)),0)","v":0},{"$f":"IFERROR(SUMPRODUCT(--(INDEX(Model_Inputs_Ref_Units,,R$51)=$E92),INDEX(Model_Inputs_Ref_Units,,R$52)),0)","v":0},{"$f":"IFERROR(SUMPRODUCT(--(INDEX(Model_Inputs_Ref_Units,,S$51)=$E92),INDEX(Model_Inputs_Ref_Units,,S$52)),0)","v":0},{"$f":"IFERROR(SUMPRODUCT(--(INDEX(Model_Inputs_Ref_Units,,T$51)=$E92),INDEX(Model_Inputs_Ref_Units,,T$52)),0)","v":0},{"$f":"IFERROR(SUMPRODUCT(--(INDEX(Model_Inputs_Ref_Units,,U$51)=$E92),INDEX(Model_Inputs_Ref_Units,,U$52)),0)","v":0},{"$f":"IFERROR(SUMPRODUCT(--(INDEX(Model_Inputs_Ref_Units,,V$51)=$E92),INDEX(Model_Inputs_Ref_Units,,V$52)),0)","v":0},{"$f":"IFERROR(SUMPRODUCT(--(INDEX(Model_Inputs_Ref_Units,,W$51)=$E92),INDEX(Model_Inputs_Ref_Units,,W$52)),0)","v":0},{"$f":"IFERROR(SUMPRODUCT(--(INDEX(Model_Inputs_Ref_Units,,X$51)=$E92),INDEX(Model_Inputs_Ref_Units,,X$52)),0)","v":0},{"$f":"IFERROR(SUMPRODUCT(--(INDEX(Model_Inputs_Ref_Units,,Y$51)=$E92),INDEX(Model_Inputs_Ref_Units,,Y$52)),0)","v":0},{"$f":"IFERROR(SUMPRODUCT(--(INDEX(Model_Inputs_Ref_Units,,Z$51)=$E92),INDEX(Model_Inputs_Ref_Units,,Z$52)),0)","v":0},{"$f":"IFERROR(SUMPRODUCT(--(INDEX(Model_Inputs_Ref_Units,,AA$51)=$E92),INDEX(Model_Inputs_Ref_Units,,AA$52)),0)","v":0},{"$f":"IFERROR(SUMPRODUCT(--(INDEX(Model_Inputs_Ref_Units,,AB$51)=$E92),INDEX(Model_Inputs_Ref_Units,,AB$52)),0)","v":0},{"$f":"IFERROR(SUMPRODUCT(--(INDEX(Model_Inputs_Ref_Units,,AC$51)=$E92),INDEX(Model_Inputs_Ref_Units,,AC$52)),0)","v":0},{"$f":"IFERROR(SUMPRODUCT(--(INDEX(Model_Inputs_Ref_Units,,AD$51)=$E92),INDEX(Model_Inputs_Ref_Units,,AD$52)),0)","v":0},{"$f":"IFERROR(SUMPRODUCT(--(INDEX(Model_Inputs_Ref_Units,,AE$51)=$E92),INDEX(Model_Inputs_Ref_Units,,AE$52)),0)","v":0},{"$f":"IFERROR(SUMPRODUCT(--(INDEX(Model_Inputs_Ref_Units,,AF$51)=$E92),INDEX(Model_Inputs_Ref_Units,,AF$52)),0)","v":0},{"$f":"IFERROR(SUMPRODUCT(--(INDEX(Model_Inputs_Ref_Units,,AG$51)=$E92),INDEX(Model_Inputs_Ref_Units,,AG$52)),0)","v":0},{"$f":"IFERROR(SUMPRODUCT(--(INDEX(Model_Inputs_Ref_Units,,AH$51)=$E92),INDEX(Model_Inputs_Ref_Units,,AH$52)),0)","v":0},{"$f":"IFERROR(SUMPRODUCT(--(INDEX(Model_Inputs_Ref_Units,,AI$51)=$E92),INDEX(Model_Inputs_Ref_Units,,AI$52)),0)","v":0},{"$f":"IFERROR(SUMPRODUCT(--(INDEX(Model_Inputs_Ref_Units,,AJ$51)=$E92),INDEX(Model_Inputs_Ref_Units,,AJ$52)),0)","v":0},{"$f":"IFERROR(SUMPRODUCT(--(INDEX(Model_Inputs_Ref_Units,,AK$51)=$E92),INDEX(Model_Inputs_Ref_Units,,AK$52)),0)","v":0},{"$f":"IFERROR(SUMPRODUCT(--(INDEX(Model_Inputs_Ref_Units,,AL$51)=$E92),INDEX(Model_Inputs_Ref_Units,,AL$52)),0)","v":0},{"$f":"IFERROR(SUMPRODUCT(--(INDEX(Model_Inputs_Ref_Units,,AM$51)=$E92),INDEX(Model_Inputs_Ref_Units,,AM$52)),0)","v":0},{"$f":"IFERROR(SUMPRODUCT(--(INDEX(Model_Inputs_Ref_Units,,AN$51)=$E92),INDEX(Model_Inputs_Ref_Units,,AN$52)),0)","v":0},{"$f":"IFERROR(SUMPRODUCT(--(INDEX(Model_Inputs_Ref_Units,,AO$51)=$E92),INDEX(Model_Inputs_Ref_Units,,AO$52)),0)","v":0},{"$f":"IFERROR(SUMPRODUCT(--(INDEX(Model_Inputs_Ref_Units,,AP$51)=$E92),INDEX(Model_Inputs_Ref_Units,,AP$52)),0)","v":0},{"$f":"IFERROR(SUMPRODUCT(--(INDEX(Model_Inputs_Ref_Units,,AQ$51)=$E92),INDEX(Model_Inputs_Ref_Units,,AQ$52)),0)","v":0},{"$f":"IFERROR(SUMPRODUCT(--(INDEX(Model_Inputs_Ref_Units,,AR$51)=$E92),INDEX(Model_Inputs_Ref_Units,,AR$52)),0)","v":0},{"$f":"IFERROR(SUMPRODUCT(--(INDEX(Model_Inputs_Ref_Units,,AS$51)=$E92),INDEX(Model_Inputs_Ref_Units,,AS$52)),0)","v":0},{"$f":"IFERROR(SUMPRODUCT(--(INDEX(Model_Inputs_Ref_Units,,AT$51)=$E92),INDEX(Model_Inputs_Ref_Units,,AT$52)),0)","v":0},{"$f":"IFERROR(SUMPRODUCT(--(INDEX(Model_Inputs_Ref_Units,,AU$51)=$E92),INDEX(Model_Inputs_Ref_Units,,AU$52)),0)","v":0},{"$f":"IFERROR(SUMPRODUCT(--(INDEX(Model_Inputs_Ref_Units,,AV$51)=$E92),INDEX(Model_Inputs_Ref_Units,,AV$52)),0)","v":0},{"$f":"IFERROR(SUMPRODUCT(--(INDEX(Model_Inputs_Ref_Units,,AW$51)=$E92),INDEX(Model_Inputs_Ref_Units,,AW$52)),0)","v":0},{"$f":"IFERROR(SUMPRODUCT(--(INDEX(Model_Inputs_Ref_Units,,AX$51)=$E92),INDEX(Model_Inputs_Ref_Units,,AX$52)),0)","v":0},{"$f":"IFERROR(SUMPRODUCT(--(INDEX(Model_Inputs_Ref_Units,,AY$51)=$E92),INDEX(Model_Inputs_Ref_Units,,AY$52)),0)","v":0},{"$f":"IFERROR(SUMPRODUCT(--(INDEX(Model_Inputs_Ref_Units,,AZ$51)=$E92),INDEX(Model_Inputs_Ref_Units,,AZ$52)),0)","v":0},{"$f":"IFERROR(SUMPRODUCT(--(INDEX(Model_Inputs_Ref_Units,,BA$51)=$E92),INDEX(Model_Inputs_Ref_Units,,BA$52)),0)","v":0},{"$f":"IFERROR(SUMPRODUCT(--(INDEX(Model_Inputs_Ref_Units,,BB$51)=$E92),INDEX(Model_Inputs_Ref_Units,,BB$52)),0)","v":0},{"$f":"IFERROR(SUMPRODUCT(--(INDEX(Model_Inputs_Ref_Units,,BC$51)=$E92),INDEX(Model_Inputs_Ref_Units,,BC$52)),0)","v":0},{"$f":"IFERROR(SUMPRODUCT(--(INDEX(Model_Inputs_Ref_Units,,BD$51)=$E92),INDEX(Model_Inputs_Ref_Units,,BD$52)),0)","v":0},{"$f":"IFERROR(SUMPRODUCT(--(INDEX(Model_Inputs_Ref_Units,,BE$51)=$E92),INDEX(Model_Inputs_Ref_Units,,BE$52)),0)","v":0},{"$f":"IFERROR(SUMPRODUCT(--(INDEX(Model_Inputs_Ref_Units,,BF$51)=$E92),INDEX(Model_Inputs_Ref_Units,,BF$52)),0)","v":0},{"$f":"IFERROR(SUMPRODUCT(--(INDEX(Model_Inputs_Ref_Units,,BG$51)=$E92),INDEX(Model_Inputs_Ref_Units,,BG$52)),0)","v":0},{"$f":"IFERROR(SUMPRODUCT(--(INDEX(Model_Inputs_Ref_Units,,BH$51)=$E92),INDEX(Model_Inputs_Ref_Units,,BH$52)),0)","v":0},{"$f":"IFERROR(SUMPRODUCT(--(INDEX(Model_Inputs_Ref_Units,,BI$51)=$E92),INDEX(Model_Inputs_Ref_Units,,BI$52)),0)","v":0},{"$f":"IFERROR(SUMPRODUCT(--(INDEX(Model_Inputs_Ref_Units,,BJ$51)=$E92),INDEX(Model_Inputs_Ref_Units,,BJ$52)),0)","v":0},{"$f":"IFERROR(SUMPRODUCT(--(INDEX(Model_Inputs_Ref_Units,,BK$51)=$E92),INDEX(Model_Inputs_Ref_Units,,BK$52)),0)","v":0},{"$f":"IFERROR(SUMPRODUCT(--(INDEX(Model_Inputs_Ref_Units,,BL$51)=$E92),INDEX(Model_Inputs_Ref_Units,,BL$52)),0)","v":0},{"$f":"IFERROR(SUMPRODUCT(--(INDEX(Model_Inputs_Ref_Units,,BM$51)=$E92),INDEX(Model_Inputs_Ref_Units,,BM$52)),0)","v":0},{"$f":"IFERROR(SUMPRODUCT(--(INDEX(Model_Inputs_Ref_Units,,BN$51)=$E92),INDEX(Model_Inputs_Ref_Units,,BN$52)),0)","v":0},{"$f":"IFERROR(SUMPRODUCT(--(INDEX(Model_Inputs_Ref_Units,,BO$51)=$E92),INDEX(Model_Inputs_Ref_Units,,BO$52)),0)","v":0},{"$f":"IFERROR(SUMPRODUCT(--(INDEX(Model_Inputs_Ref_Units,,BP$51)=$E92),INDEX(Model_Inputs_Ref_Units,,BP$52)),0)","v":0},{"$f":"IFERROR(SUMPRODUCT(--(INDEX(Model_Inputs_Ref_Units,,BQ$51)=$E92),INDEX(Model_Inputs_Ref_Units,,BQ$52)),0)","v":0},{"$f":"IFERROR(SUMPRODUCT(--(INDEX(Model_Inputs_Ref_Units,,BR$51)=$E92),INDEX(Model_Inputs_Ref_Units,,BR$52)),0)","v":0},{"$f":"IFERROR(SUMPRODUCT(--(INDEX(Model_Inputs_Ref_Units,,BS$51)=$E92),INDEX(Model_Inputs_Ref_Units,,BS$52)),0)","v":0},{"$f":"IFERROR(SUMPRODUCT(--(INDEX(Model_Inputs_Ref_Units,,BT$51)=$E92),INDEX(Model_Inputs_Ref_Units,,BT$52)),0)","v":0},{"$f":"IFERROR(SUMPRODUCT(--(INDEX(Model_Inputs_Ref_Units,,BU$51)=$E92),INDEX(Model_Inputs_Ref_Units,,BU$52)),0)","v":0},{"$f":"IFERROR(SUMPRODUCT(--(INDEX(Model_Inputs_Ref_Units,,BV$51)=$E92),INDEX(Model_Inputs_Ref_Units,,BV$52)),0)","v":0},{"$f":"IFERROR(SUMPRODUCT(--(INDEX(Model_Inputs_Ref_Units,,BW$51)=$E92),INDEX(Model_Inputs_Ref_Units,,BW$52)),0)","v":0},{"$f":"IFERROR(SUMPRODUCT(--(INDEX(Model_Inputs_Ref_Units,,BX$51)=$E92),INDEX(Model_Inputs_Ref_Units,,BX$52)),0)","v":0},{"$f":"IFERROR(SUMPRODUCT(--(INDEX(Model_Inputs_Ref_Units,,BY$51)=$E92),INDEX(Model_Inputs_Ref_Units,,BY$52)),0)","v":0},{"$f":"IFERROR(SUMPRODUCT(--(INDEX(Model_Inputs_Ref_Units,,BZ$51)=$E92),INDEX(Model_Inputs_Ref_Units,,BZ$52)),0)","v":0},{"$f":"IFERROR(SUMPRODUCT(--(INDEX(Model_Inputs_Ref_Units,,CA$51)=$E92),INDEX(Model_Inputs_Ref_Units,,CA$52)),0)","v":0},{"$f":"IFERROR(SUMPRODUCT(--(INDEX(Model_Inputs_Ref_Units,,CB$51)=$E92),INDEX(Model_Inputs_Ref_Units,,CB$52)),0)","v":0},{"$f":"IFERROR(SUMPRODUCT(--(INDEX(Model_Inputs_Ref_Units,,CC$51)=$E92),INDEX(Model_Inputs_Ref_Units,,CC$52)),0)","v":0},{"$f":"IFERROR(SUMPRODUCT(--(INDEX(Model_Inputs_Ref_Units,,CD$51)=$E92),INDEX(Model_Inputs_Ref_Units,,CD$52)),0)","v":0},{"$f":"IFERROR(SUMPRODUCT(--(INDEX(Model_Inputs_Ref_Units,,CE$51)=$E92),INDEX(Model_Inputs_Ref_Units,,CE$52)),0)","v":0},{"$f":"IFERROR(SUMPRODUCT(--(INDEX(Model_Inputs_Ref_Units,,CF$51)=$E92),INDEX(Model_Inputs_Ref_Units,,CF$52)),0)","v":0},{"$f":"IFERROR(SUMPRODUCT(--(INDEX(Model_Inputs_Ref_Units,,CG$51)=$E92),INDEX(Model_Inputs_Ref_Units,,CG$52)),0)","v":0},{"$f":"IFERROR(SUMPRODUCT(--(INDEX(Model_Inputs_Ref_Units,,CH$51)=$E92),INDEX(Model_Inputs_Ref_Units,,CH$52)),0)","v":0},{"$f":"IFERROR(SUMPRODUCT(--(INDEX(Model_Inputs_Ref_Units,,CI$51)=$E92),INDEX(Model_Inputs_Ref_Units,,CI$52)),0)","v":0},{"$f":"IFERROR(SUMPRODUCT(--(INDEX(Model_Inputs_Ref_Units,,CJ$51)=$E92),INDEX(Model_Inputs_Ref_Units,,CJ$52)),0)","v":0},{"$f":"IFERROR(SUMPRODUCT(--(INDEX(Model_Inputs_Ref_Units,,CK$51)=$E92),INDEX(Model_Inputs_Ref_Units,,CK$52)),0)","v":0},{"$f":"IFERROR(SUMPRODUCT(--(INDEX(Model_Inputs_Ref_Units,,CL$51)=$E92),INDEX(Model_Inputs_Ref_Units,,CL$52)),0)","v":0},{"$f":"IFERROR(SUMPRODUCT(--(INDEX(Model_Inputs_Ref_Units,,CM$51)=$E92),INDEX(Model_Inputs_Ref_Units,,CM$52)),0)","v":0},{"$f":"IFERROR(SUMPRODUCT(--(INDEX(Model_Inputs_Ref_Units,,CN$51)=$E92),INDEX(Model_Inputs_Ref_Units,,CN$52)),0)","v":0},{"$f":"IFERROR(SUMPRODUCT(--(INDEX(Model_Inputs_Ref_Units,,CO$51)=$E92),INDEX(Model_Inputs_Ref_Units,,CO$52)),0)","v":0},{"$f":"IFERROR(SUMPRODUCT(--(INDEX(Model_Inputs_Ref_Units,,CP$51)=$E92),INDEX(Model_Inputs_Ref_Units,,CP$52)),0)","v":0},{"$f":"IFERROR(SUMPRODUCT(--(INDEX(Model_Inputs_Ref_Units,,CQ$51)=$E92),INDEX(Model_Inputs_Ref_Units,,CQ$52)),0)","v":0},{"$f":"IFERROR(SUMPRODUCT(--(INDEX(Model_Inputs_Ref_Units,,CR$51)=$E92),INDEX(Model_Inputs_Ref_Units,,CR$52)),0)","v":0},{"$f":"IFERROR(SUMPRODUCT(--(INDEX(Model_Inputs_Ref_Units,,CS$51)=$E92),INDEX(Model_Inputs_Ref_Units,,CS$52)),0)","v":0},{"$f":"IFERROR(SUMPRODUCT(--(INDEX(Model_Inputs_Ref_Units,,CT$51)=$E92),INDEX(Model_Inputs_Ref_Units,,CT$52)),0)","v":0},{"$f":"IFERROR(SUMPRODUCT(--(INDEX(Model_Inputs_Ref_Units,,CU$51)=$E92),INDEX(Model_Inputs_Ref_Units,,CU$52)),0)","v":0},{"$f":"IFERROR(SUMPRODUCT(--(INDEX(Model_Inputs_Ref_Units,,CV$51)=$E92),INDEX(Model_Inputs_Ref_Units,,CV$52)),0)","v":0},{"$f":"IFERROR(SUMPRODUCT(--(INDEX(Model_Inputs_Ref_Units,,CW$51)=$E92),INDEX(Model_Inputs_Ref_Units,,CW$52)),0)","v":0},{"$f":"IFERROR(SUMPRODUCT(--(INDEX(Model_Inputs_Ref_Units,,CX$51)=$E92),INDEX(Model_Inputs_Ref_Units,,CX$52)),0)","v":0},{"$f":"IFERROR(SUMPRODUCT(--(INDEX(Model_Inputs_Ref_Units,,CY$51)=$E92),INDEX(Model_Inputs_Ref_Units,,CY$52)),0)","v":0},{"$f":"IFERROR(SUMPRODUCT(--(INDEX(Model_Inputs_Ref_Units,,CZ$51)=$E92),INDEX(Model_Inputs_Ref_Units,,CZ$52)),0)","v":0},{"$f":"IFERROR(SUMPRODUCT(--(INDEX(Model_Inputs_Ref_Units,,DA$51)=$E92),INDEX(Model_Inputs_Ref_Units,,DA$52)),0)","v":0},{"$f":"IFERROR(SUMPRODUCT(--(INDEX(Model_Inputs_Ref_Units,,DB$51)=$E92),INDEX(Model_Inputs_Ref_Units,,DB$52)),0)","v":0},{"$f":"IFERROR(SUMPRODUCT(--(INDEX(Model_Inputs_Ref_Units,,DC$51)=$E92),INDEX(Model_Inputs_Ref_Units,,DC$52)),0)","v":0},{"$f":"IFERROR(SUMPRODUCT(--(INDEX(Model_Inputs_Ref_Units,,DD$51)=$E92),INDEX(Model_Inputs_Ref_Units,,DD$52)),0)","v":0},{"$f":"IFERROR(SUMPRODUCT(--(INDEX(Model_Inputs_Ref_Units,,DE$51)=$E92),INDEX(Model_Inputs_Ref_Units,,DE$52)),0)","v":0},{"$f":"IFERROR(SUMPRODUCT(--(INDEX(Model_Inputs_Ref_Units,,DF$51)=$E92),INDEX(Model_Inputs_Ref_Units,,DF$52)),0)","v":0}]
[null,null,{"$error":"#DIV/0!"},null,{"$f":"IFERROR(INDEX(Ref_Data,1,F93),\"\")","v":""},40,0,0,0,0,{"$f":"IFERROR(SUMPRODUCT(--(INDEX(Model_Inputs_Ref_Units,,K$51)=$E93),INDEX(Model_Inputs_Ref_Units,,K$52)),0)","v":0},{"$f":"IFERROR(SUMPRODUCT(--(INDEX(Model_Inputs_Ref_Units,,L$51)=$E93),INDEX(Model_Inputs_Ref_Units,,L$52)),0)","v":0},{"$f":"IFERROR(SUMPRODUCT(--(INDEX(Model_Inputs_Ref_Units,,M$51)=$E93),INDEX(Model_Inputs_Ref_Units,,M$52)),0)","v":0},{"$f":"IFERROR(SUMPRODUCT(--(INDEX(Model_Inputs_Ref_Units,,N$51)=$E93),INDEX(Model_Inputs_Ref_Units,,N$52)),0)","v":0},{"$f":"IFERROR(SUMPRODUCT(--(INDEX(Model_Inputs_Ref_Units,,O$51)=$E93),INDEX(Model_Inputs_Ref_Units,,O$52)),0)","v":0},{"$f":"IFERROR(SUMPRODUCT(--(INDEX(Model_Inputs_Ref_Units,,P$51)=$E93),INDEX(Model_Inputs_Ref_Units,,P$52)),0)","v":0},{"$f":"IFERROR(SUMPRODUCT(--(INDEX(Model_Inputs_Ref_Units,,Q$51)=$E93),INDEX(Model_Inputs_Ref_Units,,Q$52)),0)","v":0},{"$f":"IFERROR(SUMPRODUCT(--(INDEX(Model_Inputs_Ref_Units,,R$51)=$E93),INDEX(Model_Inputs_Ref_Units,,R$52)),0)","v":0},{"$f":"IFERROR(SUMPRODUCT(--(INDEX(Model_Inputs_Ref_Units,,S$51)=$E93),INDEX(Model_Inputs_Ref_Units,,S$52)),0)","v":0},{"$f":"IFERROR(SUMPRODUCT(--(INDEX(Model_Inputs_Ref_Units,,T$51)=$E93),INDEX(Model_Inputs_Ref_Units,,T$52)),0)","v":0},{"$f":"IFERROR(SUMPRODUCT(--(INDEX(Model_Inputs_Ref_Units,,U$51)=$E93),INDEX(Model_Inputs_Ref_Units,,U$52)),0)","v":0},{"$f":"IFERROR(SUMPRODUCT(--(INDEX(Model_Inputs_Ref_Units,,V$51)=$E93),INDEX(Model_Inputs_Ref_Units,,V$52)),0)","v":0},{"$f":"IFERROR(SUMPRODUCT(--(INDEX(Model_Inputs_Ref_Units,,W$51)=$E93),INDEX(Model_Inputs_Ref_Units,,W$52)),0)","v":0},{"$f":"IFERROR(SUMPRODUCT(--(INDEX(Model_Inputs_Ref_Units,,X$51)=$E93),INDEX(Model_Inputs_Ref_Units,,X$52)),0)","v":0},{"$f":"IFERROR(SUMPRODUCT(--(INDEX(Model_Inputs_Ref_Units,,Y$51)=$E93),INDEX(Model_Inputs_Ref_Units,,Y$52)),0)","v":0},{"$f":"IFERROR(SUMPRODUCT(--(INDEX(Model_Inputs_Ref_Units,,Z$51)=$E93),INDEX(Model_Inputs_Ref_Units,,Z$52)),0)","v":0},{"$f":"IFERROR(SUMPRODUCT(--(INDEX(Model_Inputs_Ref_Units,,AA$51)=$E93),INDEX(Model_Inputs_Ref_Units,,AA$52)),0)","v":0},{"$f":"IFERROR(SUMPRODUCT(--(INDEX(Model_Inputs_Ref_Units,,AB$51)=$E93),INDEX(Model_Inputs_Ref_Units,,AB$52)),0)","v":0},{"$f":"IFERROR(SUMPRODUCT(--(INDEX(Model_Inputs_Ref_Units,,AC$51)=$E93),INDEX(Model_Inputs_Ref_Units,,AC$52)),0)","v":0},{"$f":"IFERROR(SUMPRODUCT(--(INDEX(Model_Inputs_Ref_Units,,AD$51)=$E93),INDEX(Model_Inputs_Ref_Units,,AD$52)),0)","v":0},{"$f":"IFERROR(SUMPRODUCT(--(INDEX(Model_Inputs_Ref_Units,,AE$51)=$E93),INDEX(Model_Inputs_Ref_Units,,AE$52)),0)","v":0},{"$f":"IFERROR(SUMPRODUCT(--(INDEX(Model_Inputs_Ref_Units,,AF$51)=$E93),INDEX(Model_Inputs_Ref_Units,,AF$52)),0)","v":0},{"$f":"IFERROR(SUMPRODUCT(--(INDEX(Model_Inputs_Ref_Units,,AG$51)=$E93),INDEX(Model_Inputs_Ref_Units,,AG$52)),0)","v":0},{"$f":"IFERROR(SUMPRODUCT(--(INDEX(Model_Inputs_Ref_Units,,AH$51)=$E93),INDEX(Model_Inputs_Ref_Units,,AH$52)),0)","v":0},{"$f":"IFERROR(SUMPRODUCT(--(INDEX(Model_Inputs_Ref_Units,,AI$51)=$E93),INDEX(Model_Inputs_Ref_Units,,AI$52)),0)","v":0},{"$f":"IFERROR(SUMPRODUCT(--(INDEX(Model_Inputs_Ref_Units,,AJ$51)=$E93),INDEX(Model_Inputs_Ref_Units,,AJ$52)),0)","v":0},{"$f":"IFERROR(SUMPRODUCT(--(INDEX(Model_Inputs_Ref_Units,,AK$51)=$E93),INDEX(Model_Inputs_Ref_Units,,AK$52)),0)","v":0},{"$f":"IFERROR(SUMPRODUCT(--(INDEX(Model_Inputs_Ref_Units,,AL$51)=$E93),INDEX(Model_Inputs_Ref_Units,,AL$52)),0)","v":0},{"$f":"IFERROR(SUMPRODUCT(--(INDEX(Model_Inputs_Ref_Units,,AM$51)=$E93),INDEX(Model_Inputs_Ref_Units,,AM$52)),0)","v":0},{"$f":"IFERROR(SUMPRODUCT(--(INDEX(Model_Inputs_Ref_Units,,AN$51)=$E93),INDEX(Model_Inputs_Ref_Units,,AN$52)),0)","v":0},{"$f":"IFERROR(SUMPRODUCT(--(INDEX(Model_Inputs_Ref_Units,,AO$51)=$E93),INDEX(Model_Inputs_Ref_Units,,AO$52)),0)","v":0},{"$f":"IFERROR(SUMPRODUCT(--(INDEX(Model_Inputs_Ref_Units,,AP$51)=$E93),INDEX(Model_Inputs_Ref_Units,,AP$52)),0)","v":0},{"$f":"IFERROR(SUMPRODUCT(--(INDEX(Model_Inputs_Ref_Units,,AQ$51)=$E93),INDEX(Model_Inputs_Ref_Units,,AQ$52)),0)","v":0},{"$f":"IFERROR(SUMPRODUCT(--(INDEX(Model_Inputs_Ref_Units,,AR$51)=$E93),INDEX(Model_Inputs_Ref_Units,,AR$52)),0)","v":0},{"$f":"IFERROR(SUMPRODUCT(--(INDEX(Model_Inputs_Ref_Units,,AS$51)=$E93),INDEX(Model_Inputs_Ref_Units,,AS$52)),0)","v":0},{"$f":"IFERROR(SUMPRODUCT(--(INDEX(Model_Inputs_Ref_Units,,AT$51)=$E93),INDEX(Model_Inputs_Ref_Units,,AT$52)),0)","v":0},{"$f":"IFERROR(SUMPRODUCT(--(INDEX(Model_Inputs_Ref_Units,,AU$51)=$E93),INDEX(Model_Inputs_Ref_Units,,AU$52)),0)","v":0},{"$f":"IFERROR(SUMPRODUCT(--(INDEX(Model_Inputs_Ref_Units,,AV$51)=$E93),INDEX(Model_Inputs_Ref_Units,,AV$52)),0)","v":0},{"$f":"IFERROR(SUMPRODUCT(--(INDEX(Model_Inputs_Ref_Units,,AW$51)=$E93),INDEX(Model_Inputs_Ref_Units,,AW$52)),0)","v":0},{"$f":"IFERROR(SUMPRODUCT(--(INDEX(Model_Inputs_Ref_Units,,AX$51)=$E93),INDEX(Model_Inputs_Ref_Units,,AX$52)),0)","v":0},{"$f":"IFERROR(SUMPRODUCT(--(INDEX(Model_Inputs_Ref_Units,,AY$51)=$E93),INDEX(Model_Inputs_Ref_Units,,AY$52)),0)","v":0},{"$f":"IFERROR(SUMPRODUCT(--(INDEX(Model_Inputs_Ref_Units,,AZ$51)=$E93),INDEX(Model_Inputs_Ref_Units,,AZ$52)),0)","v":0},{"$f":"IFERROR(SUMPRODUCT(--(INDEX(Model_Inputs_Ref_Units,,BA$51)=$E93),INDEX(Model_Inputs_Ref_Units,,BA$52)),0)","v":0},{"$f":"IFERROR(SUMPRODUCT(--(INDEX(Model_Inputs_Ref_Units,,BB$51)=$E93),INDEX(Model_Inputs_Ref_Units,,BB$52)),0)","v":0},{"$f":"IFERROR(SUMPRODUCT(--(INDEX(Model_Inputs_Ref_Units,,BC$51)=$E93),INDEX(Model_Inputs_Ref_Units,,BC$52)),0)","v":0},{"$f":"IFERROR(SUMPRODUCT(--(INDEX(Model_Inputs_Ref_Units,,BD$51)=$E93),INDEX(Model_Inputs_Ref_Units,,BD$52)),0)","v":0},{"$f":"IFERROR(SUMPRODUCT(--(INDEX(Model_Inputs_Ref_Units,,BE$51)=$E93),INDEX(Model_Inputs_Ref_Units,,BE$52)),0)","v":0},{"$f":"IFERROR(SUMPRODUCT(--(INDEX(Model_Inputs_Ref_Units,,BF$51)=$E93),INDEX(Model_Inputs_Ref_Units,,BF$52)),0)","v":0},{"$f":"IFERROR(SUMPRODUCT(--(INDEX(Model_Inputs_Ref_Units,,BG$51)=$E93),INDEX(Model_Inputs_Ref_Units,,BG$52)),0)","v":0},{"$f":"IFERROR(SUMPRODUCT(--(INDEX(Model_Inputs_Ref_Units,,BH$51)=$E93),INDEX(Model_Inputs_Ref_Units,,BH$52)),0)","v":0},{"$f":"IFERROR(SUMPRODUCT(--(INDEX(Model_Inputs_Ref_Units,,BI$51)=$E93),INDEX(Model_Inputs_Ref_Units,,BI$52)),0)","v":0},{"$f":"IFERROR(SUMPRODUCT(--(INDEX(Model_Inputs_Ref_Units,,BJ$51)=$E93),INDEX(Model_Inputs_Ref_Units,,BJ$52)),0)","v":0},{"$f":"IFERROR(SUMPRODUCT(--(INDEX(Model_Inputs_Ref_Units,,BK$51)=$E93),INDEX(Model_Inputs_Ref_Units,,BK$52)),0)","v":0},{"$f":"IFERROR(SUMPRODUCT(--(INDEX(Model_Inputs_Ref_Units,,BL$51)=$E93),INDEX(Model_Inputs_Ref_Units,,BL$52)),0)","v":0},{"$f":"IFERROR(SUMPRODUCT(--(INDEX(Model_Inputs_Ref_Units,,BM$51)=$E93),INDEX(Model_Inputs_Ref_Units,,BM$52)),0)","v":0},{"$f":"IFERROR(SUMPRODUCT(--(INDEX(Model_Inputs_Ref_Units,,BN$51)=$E93),INDEX(Model_Inputs_Ref_Units,,BN$52)),0)","v":0},{"$f":"IFERROR(SUMPRODUCT(--(INDEX(Model_Inputs_Ref_Units,,BO$51)=$E93),INDEX(Model_Inputs_Ref_Units,,BO$52)),0)","v":0},{"$f":"IFERROR(SUMPRODUCT(--(INDEX(Model_Inputs_Ref_Units,,BP$51)=$E93),INDEX(Model_Inputs_Ref_Units,,BP$52)),0)","v":0},{"$f":"IFERROR(SUMPRODUCT(--(INDEX(Model_Inputs_Ref_Units,,BQ$51)=$E93),INDEX(Model_Inputs_Ref_Units,,BQ$52)),0)","v":0},{"$f":"IFERROR(SUMPRODUCT(--(INDEX(Model_Inputs_Ref_Units,,BR$51)=$E93),INDEX(Model_Inputs_Ref_Units,,BR$52)),0)","v":0},{"$f":"IFERROR(SUMPRODUCT(--(INDEX(Model_Inputs_Ref_Units,,BS$51)=$E93),INDEX(Model_Inputs_Ref_Units,,BS$52)),0)","v":0},{"$f":"IFERROR(SUMPRODUCT(--(INDEX(Model_Inputs_Ref_Units,,BT$51)=$E93),INDEX(Model_Inputs_Ref_Units,,BT$52)),0)","v":0},{"$f":"IFERROR(SUMPRODUCT(--(INDEX(Model_Inputs_Ref_Units,,BU$51)=$E93),INDEX(Model_Inputs_Ref_Units,,BU$52)),0)","v":0},{"$f":"IFERROR(SUMPRODUCT(--(INDEX(Model_Inputs_Ref_Units,,BV$51)=$E93),INDEX(Model_Inputs_Ref_Units,,BV$52)),0)","v":0},{"$f":"IFERROR(SUMPRODUCT(--(INDEX(Model_Inputs_Ref_Units,,BW$51)=$E93),INDEX(Model_Inputs_Ref_Units,,BW$52)),0)","v":0},{"$f":"IFERROR(SUMPRODUCT(--(INDEX(Model_Inputs_Ref_Units,,BX$51)=$E93),INDEX(Model_Inputs_Ref_Units,,BX$52)),0)","v":0},{"$f":"IFERROR(SUMPRODUCT(--(INDEX(Model_Inputs_Ref_Units,,BY$51)=$E93),INDEX(Model_Inputs_Ref_Units,,BY$52)),0)","v":0},{"$f":"IFERROR(SUMPRODUCT(--(INDEX(Model_Inputs_Ref_Units,,BZ$51)=$E93),INDEX(Model_Inputs_Ref_Units,,BZ$52)),0)","v":0},{"$f":"IFERROR(SUMPRODUCT(--(INDEX(Model_Inputs_Ref_Units,,CA$51)=$E93),INDEX(Model_Inputs_Ref_Units,,CA$52)),0)","v":0},{"$f":"IFERROR(SUMPRODUCT(--(INDEX(Model_Inputs_Ref_Units,,CB$51)=$E93),INDEX(Model_Inputs_Ref_Units,,CB$52)),0)","v":0},{"$f":"IFERROR(SUMPRODUCT(--(INDEX(Model_Inputs_Ref_Units,,CC$51)=$E93),INDEX(Model_Inputs_Ref_Units,,CC$52)),0)","v":0},{"$f":"IFERROR(SUMPRODUCT(--(INDEX(Model_Inputs_Ref_Units,,CD$51)=$E93),INDEX(Model_Inputs_Ref_Units,,CD$52)),0)","v":0},{"$f":"IFERROR(SUMPRODUCT(--(INDEX(Model_Inputs_Ref_Units,,CE$51)=$E93),INDEX(Model_Inputs_Ref_Units,,CE$52)),0)","v":0},{"$f":"IFERROR(SUMPRODUCT(--(INDEX(Model_Inputs_Ref_Units,,CF$51)=$E93),INDEX(Model_Inputs_Ref_Units,,CF$52)),0)","v":0},{"$f":"IFERROR(SUMPRODUCT(--(INDEX(Model_Inputs_Ref_Units,,CG$51)=$E93),INDEX(Model_Inputs_Ref_Units,,CG$52)),0)","v":0},{"$f":"IFERROR(SUMPRODUCT(--(INDEX(Model_Inputs_Ref_Units,,CH$51)=$E93),INDEX(Model_Inputs_Ref_Units,,CH$52)),0)","v":0},{"$f":"IFERROR(SUMPRODUCT(--(INDEX(Model_Inputs_Ref_Units,,CI$51)=$E93),INDEX(Model_Inputs_Ref_Units,,CI$52)),0)","v":0},{"$f":"IFERROR(SUMPRODUCT(--(INDEX(Model_Inputs_Ref_Units,,CJ$51)=$E93),INDEX(Model_Inputs_Ref_Units,,CJ$52)),0)","v":0},{"$f":"IFERROR(SUMPRODUCT(--(INDEX(Model_Inputs_Ref_Units,,CK$51)=$E93),INDEX(Model_Inputs_Ref_Units,,CK$52)),0)","v":0},{"$f":"IFERROR(SUMPRODUCT(--(INDEX(Model_Inputs_Ref_Units,,CL$51)=$E93),INDEX(Model_Inputs_Ref_Units,,CL$52)),0)","v":0},{"$f":"IFERROR(SUMPRODUCT(--(INDEX(Model_Inputs_Ref_Units,,CM$51)=$E93),INDEX(Model_Inputs_Ref_Units,,CM$52)),0)","v":0},{"$f":"IFERROR(SUMPRODUCT(--(INDEX(Model_Inputs_Ref_Units,,CN$51)=$E93),INDEX(Model_Inputs_Ref_Units,,CN$52)),0)","v":0},{"$f":"IFERROR(SUMPRODUCT(--(INDEX(Model_Inputs_Ref_Units,,CO$51)=$E93),INDEX(Model_Inputs_Ref_Units,,CO$52)),0)","v":0},{"$f":"IFERROR(SUMPRODUCT(--(INDEX(Model_Inputs_Ref_Units,,CP$51)=$E93),INDEX(Model_Inputs_Ref_Units,,CP$52)),0)","v":0},{"$f":"IFERROR(SUMPRODUCT(--(INDEX(Model_Inputs_Ref_Units,,CQ$51)=$E93),INDEX(Model_Inputs_Ref_Units,,CQ$52)),0)","v":0},{"$f":"IFERROR(SUMPRODUCT(--(INDEX(Model_Inputs_Ref_Units,,CR$51)=$E93),INDEX(Model_Inputs_Ref_Units,,CR$52)),0)","v":0},{"$f":"IFERROR(SUMPRODUCT(--(INDEX(Model_Inputs_Ref_Units,,CS$51)=$E93),INDEX(Model_Inputs_Ref_Units,,CS$52)),0)","v":0},{"$f":"IFERROR(SUMPRODUCT(--(INDEX(Model_Inputs_Ref_Units,,CT$51)=$E93),INDEX(Model_Inputs_Ref_Units,,CT$52)),0)","v":0},{"$f":"IFERROR(SUMPRODUCT(--(INDEX(Model_Inputs_Ref_Units,,CU$51)=$E93),INDEX(Model_Inputs_Ref_Units,,CU$52)),0)","v":0},{"$f":"IFERROR(SUMPRODUCT(--(INDEX(Model_Inputs_Ref_Units,,CV$51)=$E93),INDEX(Model_Inputs_Ref_Units,,CV$52)),0)","v":0},{"$f":"IFERROR(SUMPRODUCT(--(INDEX(Model_Inputs_Ref_Units,,CW$51)=$E93),INDEX(Model_Inputs_Ref_Units,,CW$52)),0)","v":0},{"$f":"IFERROR(SUMPRODUCT(--(INDEX(Model_Inputs_Ref_Units,,CX$51)=$E93),INDEX(Model_Inputs_Ref_Units,,CX$52)),0)","v":0},{"$f":"IFERROR(SUMPRODUCT(--(INDEX(Model_Inputs_Ref_Units,,CY$51)=$E93),INDEX(Model_Inputs_Ref_Units,,CY$52)),0)","v":0},{"$f":"IFERROR(SUMPRODUCT(--(INDEX(Model_Inputs_Ref_Units,,CZ$51)=$E93),INDEX(Model_Inputs_Ref_Units,,CZ$52)),0)","v":0},{"$f":"IFERROR(SUMPRODUCT(--(INDEX(Model_Inputs_Ref_Units,,DA$51)=$E93),INDEX(Model_Inputs_Ref_Units,,DA$52)),0)","v":0},{"$f":"IFERROR(SUMPRODUCT(--(INDEX(Model_Inputs_Ref_Units,,DB$51)=$E93),INDEX(Model_Inputs_Ref_Units,,DB$52)),0)","v":0},{"$f":"IFERROR(SUMPRODUCT(--(INDEX(Model_Inputs_Ref_Units,,DC$51)=$E93),INDEX(Model_Inputs_Ref_Units,,DC$52)),0)","v":0},{"$f":"IFERROR(SUMPRODUCT(--(INDEX(Model_Inputs_Ref_Units,,DD$51)=$E93),INDEX(Model_Inputs_Ref_Units,,DD$52)),0)","v":0},{"$f":"IFERROR(SUMPRODUCT(--(INDEX(Model_Inputs_Ref_Units,,DE$51)=$E93),INDEX(Model_Inputs_Ref_Units,,DE$52)),0)","v":0},{"$f":"IFERROR(SUMPRODUCT(--(INDEX(Model_Inputs_Ref_Units,,DF$51)=$E93),INDEX(Model_Inputs_Ref_Units,,DF$52)),0)","v":0}]
[null,null,{"$error":"#DIV/0!"},null,{"$f":"IFERROR(INDEX(Ref_Data,1,F94),\"\")","v":""},41,0,0,0,0,{"$f":"IFERROR(SUMPRODUCT(--(INDEX(Model_Inputs_Ref_Units,,K$51)=$E94),INDEX(Model_Inputs_Ref_Units,,K$52)),0)","v":0},{"$f":"IFERROR(SUMPRODUCT(--(INDEX(Model_Inputs_Ref_Units,,L$51)=$E94),INDEX(Model_Inputs_Ref_Units,,L$52)),0)","v":0},{"$f":"IFERROR(SUMPRODUCT(--(INDEX(Model_Inputs_Ref_Units,,M$51)=$E94),INDEX(Model_Inputs_Ref_Units,,M$52)),0)","v":0},{"$f":"IFERROR(SUMPRODUCT(--(INDEX(Model_Inputs_Ref_Units,,N$51)=$E94),INDEX(Model_Inputs_Ref_Units,,N$52)),0)","v":0},{"$f":"IFERROR(SUMPRODUCT(--(INDEX(Model_Inputs_Ref_Units,,O$51)=$E94),INDEX(Model_Inputs_Ref_Units,,O$52)),0)","v":0},{"$f":"IFERROR(SUMPRODUCT(--(INDEX(Model_Inputs_Ref_Units,,P$51)=$E94),INDEX(Model_Inputs_Ref_Units,,P$52)),0)","v":0},{"$f":"IFERROR(SUMPRODUCT(--(INDEX(Model_Inputs_Ref_Units,,Q$51)=$E94),INDEX(Model_Inputs_Ref_Units,,Q$52)),0)","v":0},{"$f":"IFERROR(SUMPRODUCT(--(INDEX(Model_Inputs_Ref_Units,,R$51)=$E94),INDEX(Model_Inputs_Ref_Units,,R$52)),0)","v":0},{"$f":"IFERROR(SUMPRODUCT(--(INDEX(Model_Inputs_Ref_Units,,S$51)=$E94),INDEX(Model_Inputs_Ref_Units,,S$52)),0)","v":0},{"$f":"IFERROR(SUMPRODUCT(--(INDEX(Model_Inputs_Ref_Units,,T$51)=$E94),INDEX(Model_Inputs_Ref_Units,,T$52)),0)","v":0},{"$f":"IFERROR(SUMPRODUCT(--(INDEX(Model_Inputs_Ref_Units,,U$51)=$E94),INDEX(Model_Inputs_Ref_Units,,U$52)),0)","v":0},{"$f":"IFERROR(SUMPRODUCT(--(INDEX(Model_Inputs_Ref_Units,,V$51)=$E94),INDEX(Model_Inputs_Ref_Units,,V$52)),0)","v":0},{"$f":"IFERROR(SUMPRODUCT(--(INDEX(Model_Inputs_Ref_Units,,W$51)=$E94),INDEX(Model_Inputs_Ref_Units,,W$52)),0)","v":0},{"$f":"IFERROR(SUMPRODUCT(--(INDEX(Model_Inputs_Ref_Units,,X$51)=$E94),INDEX(Model_Inputs_Ref_Units,,X$52)),0)","v":0},{"$f":"IFERROR(SUMPRODUCT(--(INDEX(Model_Inputs_Ref_Units,,Y$51)=$E94),INDEX(Model_Inputs_Ref_Units,,Y$52)),0)","v":0},{"$f":"IFERROR(SUMPRODUCT(--(INDEX(Model_Inputs_Ref_Units,,Z$51)=$E94),INDEX(Model_Inputs_Ref_Units,,Z$52)),0)","v":0},{"$f":"IFERROR(SUMPRODUCT(--(INDEX(Model_Inputs_Ref_Units,,AA$51)=$E94),INDEX(Model_Inputs_Ref_Units,,AA$52)),0)","v":0},{"$f":"IFERROR(SUMPRODUCT(--(INDEX(Model_Inputs_Ref_Units,,AB$51)=$E94),INDEX(Model_Inputs_Ref_Units,,AB$52)),0)","v":0},{"$f":"IFERROR(SUMPRODUCT(--(INDEX(Model_Inputs_Ref_Units,,AC$51)=$E94),INDEX(Model_Inputs_Ref_Units,,AC$52)),0)","v":0},{"$f":"IFERROR(SUMPRODUCT(--(INDEX(Model_Inputs_Ref_Units,,AD$51)=$E94),INDEX(Model_Inputs_Ref_Units,,AD$52)),0)","v":0},{"$f":"IFERROR(SUMPRODUCT(--(INDEX(Model_Inputs_Ref_Units,,AE$51)=$E94),INDEX(Model_Inputs_Ref_Units,,AE$52)),0)","v":0},{"$f":"IFERROR(SUMPRODUCT(--(INDEX(Model_Inputs_Ref_Units,,AF$51)=$E94),INDEX(Model_Inputs_Ref_Units,,AF$52)),0)","v":0},{"$f":"IFERROR(SUMPRODUCT(--(INDEX(Model_Inputs_Ref_Units,,AG$51)=$E94),INDEX(Model_Inputs_Ref_Units,,AG$52)),0)","v":0},{"$f":"IFERROR(SUMPRODUCT(--(INDEX(Model_Inputs_Ref_Units,,AH$51)=$E94),INDEX(Model_Inputs_Ref_Units,,AH$52)),0)","v":0},{"$f":"IFERROR(SUMPRODUCT(--(INDEX(Model_Inputs_Ref_Units,,AI$51)=$E94),INDEX(Model_Inputs_Ref_Units,,AI$52)),0)","v":0},{"$f":"IFERROR(SUMPRODUCT(--(INDEX(Model_Inputs_Ref_Units,,AJ$51)=$E94),INDEX(Model_Inputs_Ref_Units,,AJ$52)),0)","v":0},{"$f":"IFERROR(SUMPRODUCT(--(INDEX(Model_Inputs_Ref_Units,,AK$51)=$E94),INDEX(Model_Inputs_Ref_Units,,AK$52)),0)","v":0},{"$f":"IFERROR(SUMPRODUCT(--(INDEX(Model_Inputs_Ref_Units,,AL$51)=$E94),INDEX(Model_Inputs_Ref_Units,,AL$52)),0)","v":0},{"$f":"IFERROR(SUMPRODUCT(--(INDEX(Model_Inputs_Ref_Units,,AM$51)=$E94),INDEX(Model_Inputs_Ref_Units,,AM$52)),0)","v":0},{"$f":"IFERROR(SUMPRODUCT(--(INDEX(Model_Inputs_Ref_Units,,AN$51)=$E94),INDEX(Model_Inputs_Ref_Units,,AN$52)),0)","v":0},{"$f":"IFERROR(SUMPRODUCT(--(INDEX(Model_Inputs_Ref_Units,,AO$51)=$E94),INDEX(Model_Inputs_Ref_Units,,AO$52)),0)","v":0},{"$f":"IFERROR(SUMPRODUCT(--(INDEX(Model_Inputs_Ref_Units,,AP$51)=$E94),INDEX(Model_Inputs_Ref_Units,,AP$52)),0)","v":0},{"$f":"IFERROR(SUMPRODUCT(--(INDEX(Model_Inputs_Ref_Units,,AQ$51)=$E94),INDEX(Model_Inputs_Ref_Units,,AQ$52)),0)","v":0},{"$f":"IFERROR(SUMPRODUCT(--(INDEX(Model_Inputs_Ref_Units,,AR$51)=$E94),INDEX(Model_Inputs_Ref_Units,,AR$52)),0)","v":0},{"$f":"IFERROR(SUMPRODUCT(--(INDEX(Model_Inputs_Ref_Units,,AS$51)=$E94),INDEX(Model_Inputs_Ref_Units,,AS$52)),0)","v":0},{"$f":"IFERROR(SUMPRODUCT(--(INDEX(Model_Inputs_Ref_Units,,AT$51)=$E94),INDEX(Model_Inputs_Ref_Units,,AT$52)),0)","v":0},{"$f":"IFERROR(SUMPRODUCT(--(INDEX(Model_Inputs_Ref_Units,,AU$51)=$E94),INDEX(Model_Inputs_Ref_Units,,AU$52)),0)","v":0},{"$f":"IFERROR(SUMPRODUCT(--(INDEX(Model_Inputs_Ref_Units,,AV$51)=$E94),INDEX(Model_Inputs_Ref_Units,,AV$52)),0)","v":0},{"$f":"IFERROR(SUMPRODUCT(--(INDEX(Model_Inputs_Ref_Units,,AW$51)=$E94),INDEX(Model_Inputs_Ref_Units,,AW$52)),0)","v":0},{"$f":"IFERROR(SUMPRODUCT(--(INDEX(Model_Inputs_Ref_Units,,AX$51)=$E94),INDEX(Model_Inputs_Ref_Units,,AX$52)),0)","v":0},{"$f":"IFERROR(SUMPRODUCT(--(INDEX(Model_Inputs_Ref_Units,,AY$51)=$E94),INDEX(Model_Inputs_Ref_Units,,AY$52)),0)","v":0},{"$f":"IFERROR(SUMPRODUCT(--(INDEX(Model_Inputs_Ref_Units,,AZ$51)=$E94),INDEX(Model_Inputs_Ref_Units,,AZ$52)),0)","v":0},{"$f":"IFERROR(SUMPRODUCT(--(INDEX(Model_Inputs_Ref_Units,,BA$51)=$E94),INDEX(Model_Inputs_Ref_Units,,BA$52)),0)","v":0},{"$f":"IFERROR(SUMPRODUCT(--(INDEX(Model_Inputs_Ref_Units,,BB$51)=$E94),INDEX(Model_Inputs_Ref_Units,,BB$52)),0)","v":0},{"$f":"IFERROR(SUMPRODUCT(--(INDEX(Model_Inputs_Ref_Units,,BC$51)=$E94),INDEX(Model_Inputs_Ref_Units,,BC$52)),0)","v":0},{"$f":"IFERROR(SUMPRODUCT(--(INDEX(Model_Inputs_Ref_Units,,BD$51)=$E94),INDEX(Model_Inputs_Ref_Units,,BD$52)),0)","v":0},{"$f":"IFERROR(SUMPRODUCT(--(INDEX(Model_Inputs_Ref_Units,,BE$51)=$E94),INDEX(Model_Inputs_Ref_Units,,BE$52)),0)","v":0},{"$f":"IFERROR(SUMPRODUCT(--(INDEX(Model_Inputs_Ref_Units,,BF$51)=$E94),INDEX(Model_Inputs_Ref_Units,,BF$52)),0)","v":0},{"$f":"IFERROR(SUMPRODUCT(--(INDEX(Model_Inputs_Ref_Units,,BG$51)=$E94),INDEX(Model_Inputs_Ref_Units,,BG$52)),0)","v":0},{"$f":"IFERROR(SUMPRODUCT(--(INDEX(Model_Inputs_Ref_Units,,BH$51)=$E94),INDEX(Model_Inputs_Ref_Units,,BH$52)),0)","v":0},{"$f":"IFERROR(SUMPRODUCT(--(INDEX(Model_Inputs_Ref_Units,,BI$51)=$E94),INDEX(Model_Inputs_Ref_Units,,BI$52)),0)","v":0},{"$f":"IFERROR(SUMPRODUCT(--(INDEX(Model_Inputs_Ref_Units,,BJ$51)=$E94),INDEX(Model_Inputs_Ref_Units,,BJ$52)),0)","v":0},{"$f":"IFERROR(SUMPRODUCT(--(INDEX(Model_Inputs_Ref_Units,,BK$51)=$E94),INDEX(Model_Inputs_Ref_Units,,BK$52)),0)","v":0},{"$f":"IFERROR(SUMPRODUCT(--(INDEX(Model_Inputs_Ref_Units,,BL$51)=$E94),INDEX(Model_Inputs_Ref_Units,,BL$52)),0)","v":0},{"$f":"IFERROR(SUMPRODUCT(--(INDEX(Model_Inputs_Ref_Units,,BM$51)=$E94),INDEX(Model_Inputs_Ref_Units,,BM$52)),0)","v":0},{"$f":"IFERROR(SUMPRODUCT(--(INDEX(Model_Inputs_Ref_Units,,BN$51)=$E94),INDEX(Model_Inputs_Ref_Units,,BN$52)),0)","v":0},{"$f":"IFERROR(SUMPRODUCT(--(INDEX(Model_Inputs_Ref_Units,,BO$51)=$E94),INDEX(Model_Inputs_Ref_Units,,BO$52)),0)","v":0},{"$f":"IFERROR(SUMPRODUCT(--(INDEX(Model_Inputs_Ref_Units,,BP$51)=$E94),INDEX(Model_Inputs_Ref_Units,,BP$52)),0)","v":0},{"$f":"IFERROR(SUMPRODUCT(--(INDEX(Model_Inputs_Ref_Units,,BQ$51)=$E94),INDEX(Model_Inputs_Ref_Units,,BQ$52)),0)","v":0},{"$f":"IFERROR(SUMPRODUCT(--(INDEX(Model_Inputs_Ref_Units,,BR$51)=$E94),INDEX(Model_Inputs_Ref_Units,,BR$52)),0)","v":0},{"$f":"IFERROR(SUMPRODUCT(--(INDEX(Model_Inputs_Ref_Units,,BS$51)=$E94),INDEX(Model_Inputs_Ref_Units,,BS$52)),0)","v":0},{"$f":"IFERROR(SUMPRODUCT(--(INDEX(Model_Inputs_Ref_Units,,BT$51)=$E94),INDEX(Model_Inputs_Ref_Units,,BT$52)),0)","v":0},{"$f":"IFERROR(SUMPRODUCT(--(INDEX(Model_Inputs_Ref_Units,,BU$51)=$E94),INDEX(Model_Inputs_Ref_Units,,BU$52)),0)","v":0},{"$f":"IFERROR(SUMPRODUCT(--(INDEX(Model_Inputs_Ref_Units,,BV$51)=$E94),INDEX(Model_Inputs_Ref_Units,,BV$52)),0)","v":0},{"$f":"IFERROR(SUMPRODUCT(--(INDEX(Model_Inputs_Ref_Units,,BW$51)=$E94),INDEX(Model_Inputs_Ref_Units,,BW$52)),0)","v":0},{"$f":"IFERROR(SUMPRODUCT(--(INDEX(Model_Inputs_Ref_Units,,BX$51)=$E94),INDEX(Model_Inputs_Ref_Units,,BX$52)),0)","v":0},{"$f":"IFERROR(SUMPRODUCT(--(INDEX(Model_Inputs_Ref_Units,,BY$51)=$E94),INDEX(Model_Inputs_Ref_Units,,BY$52)),0)","v":0},{"$f":"IFERROR(SUMPRODUCT(--(INDEX(Model_Inputs_Ref_Units,,BZ$51)=$E94),INDEX(Model_Inputs_Ref_Units,,BZ$52)),0)","v":0},{"$f":"IFERROR(SUMPRODUCT(--(INDEX(Model_Inputs_Ref_Units,,CA$51)=$E94),INDEX(Model_Inputs_Ref_Units,,CA$52)),0)","v":0},{"$f":"IFERROR(SUMPRODUCT(--(INDEX(Model_Inputs_Ref_Units,,CB$51)=$E94),INDEX(Model_Inputs_Ref_Units,,CB$52)),0)","v":0},{"$f":"IFERROR(SUMPRODUCT(--(INDEX(Model_Inputs_Ref_Units,,CC$51)=$E94),INDEX(Model_Inputs_Ref_Units,,CC$52)),0)","v":0},{"$f":"IFERROR(SUMPRODUCT(--(INDEX(Model_Inputs_Ref_Units,,CD$51)=$E94),INDEX(Model_Inputs_Ref_Units,,CD$52)),0)","v":0},{"$f":"IFERROR(SUMPRODUCT(--(INDEX(Model_Inputs_Ref_Units,,CE$51)=$E94),INDEX(Model_Inputs_Ref_Units,,CE$52)),0)","v":0},{"$f":"IFERROR(SUMPRODUCT(--(INDEX(Model_Inputs_Ref_Units,,CF$51)=$E94),INDEX(Model_Inputs_Ref_Units,,CF$52)),0)","v":0},{"$f":"IFERROR(SUMPRODUCT(--(INDEX(Model_Inputs_Ref_Units,,CG$51)=$E94),INDEX(Model_Inputs_Ref_Units,,CG$52)),0)","v":0},{"$f":"IFERROR(SUMPRODUCT(--(INDEX(Model_Inputs_Ref_Units,,CH$51)=$E94),INDEX(Model_Inputs_Ref_Units,,CH$52)),0)","v":0},{"$f":"IFERROR(SUMPRODUCT(--(INDEX(Model_Inputs_Ref_Units,,CI$51)=$E94),INDEX(Model_Inputs_Ref_Units,,CI$52)),0)","v":0},{"$f":"IFERROR(SUMPRODUCT(--(INDEX(Model_Inputs_Ref_Units,,CJ$51)=$E94),INDEX(Model_Inputs_Ref_Units,,CJ$52)),0)","v":0},{"$f":"IFERROR(SUMPRODUCT(--(INDEX(Model_Inputs_Ref_Units,,CK$51)=$E94),INDEX(Model_Inputs_Ref_Units,,CK$52)),0)","v":0},{"$f":"IFERROR(SUMPRODUCT(--(INDEX(Model_Inputs_Ref_Units,,CL$51)=$E94),INDEX(Model_Inputs_Ref_Units,,CL$52)),0)","v":0},{"$f":"IFERROR(SUMPRODUCT(--(INDEX(Model_Inputs_Ref_Units,,CM$51)=$E94),INDEX(Model_Inputs_Ref_Units,,CM$52)),0)","v":0},{"$f":"IFERROR(SUMPRODUCT(--(INDEX(Model_Inputs_Ref_Units,,CN$51)=$E94),INDEX(Model_Inputs_Ref_Units,,CN$52)),0)","v":0},{"$f":"IFERROR(SUMPRODUCT(--(INDEX(Model_Inputs_Ref_Units,,CO$51)=$E94),INDEX(Model_Inputs_Ref_Units,,CO$52)),0)","v":0},{"$f":"IFERROR(SUMPRODUCT(--(INDEX(Model_Inputs_Ref_Units,,CP$51)=$E94),INDEX(Model_Inputs_Ref_Units,,CP$52)),0)","v":0},{"$f":"IFERROR(SUMPRODUCT(--(INDEX(Model_Inputs_Ref_Units,,CQ$51)=$E94),INDEX(Model_Inputs_Ref_Units,,CQ$52)),0)","v":0},{"$f":"IFERROR(SUMPRODUCT(--(INDEX(Model_Inputs_Ref_Units,,CR$51)=$E94),INDEX(Model_Inputs_Ref_Units,,CR$52)),0)","v":0},{"$f":"IFERROR(SUMPRODUCT(--(INDEX(Model_Inputs_Ref_Units,,CS$51)=$E94),INDEX(Model_Inputs_Ref_Units,,CS$52)),0)","v":0},{"$f":"IFERROR(SUMPRODUCT(--(INDEX(Model_Inputs_Ref_Units,,CT$51)=$E94),INDEX(Model_Inputs_Ref_Units,,CT$52)),0)","v":0},{"$f":"IFERROR(SUMPRODUCT(--(INDEX(Model_Inputs_Ref_Units,,CU$51)=$E94),INDEX(Model_Inputs_Ref_Units,,CU$52)),0)","v":0},{"$f":"IFERROR(SUMPRODUCT(--(INDEX(Model_Inputs_Ref_Units,,CV$51)=$E94),INDEX(Model_Inputs_Ref_Units,,CV$52)),0)","v":0},{"$f":"IFERROR(SUMPRODUCT(--(INDEX(Model_Inputs_Ref_Units,,CW$51)=$E94),INDEX(Model_Inputs_Ref_Units,,CW$52)),0)","v":0},{"$f":"IFERROR(SUMPRODUCT(--(INDEX(Model_Inputs_Ref_Units,,CX$51)=$E94),INDEX(Model_Inputs_Ref_Units,,CX$52)),0)","v":0},{"$f":"IFERROR(SUMPRODUCT(--(INDEX(Model_Inputs_Ref_Units,,CY$51)=$E94),INDEX(Model_Inputs_Ref_Units,,CY$52)),0)","v":0},{"$f":"IFERROR(SUMPRODUCT(--(INDEX(Model_Inputs_Ref_Units,,CZ$51)=$E94),INDEX(Model_Inputs_Ref_Units,,CZ$52)),0)","v":0},{"$f":"IFERROR(SUMPRODUCT(--(INDEX(Model_Inputs_Ref_Units,,DA$51)=$E94),INDEX(Model_Inputs_Ref_Units,,DA$52)),0)","v":0},{"$f":"IFERROR(SUMPRODUCT(--(INDEX(Model_Inputs_Ref_Units,,DB$51)=$E94),INDEX(Model_Inputs_Ref_Units,,DB$52)),0)","v":0},{"$f":"IFERROR(SUMPRODUCT(--(INDEX(Model_Inputs_Ref_Units,,DC$51)=$E94),INDEX(Model_Inputs_Ref_Units,,DC$52)),0)","v":0},{"$f":"IFERROR(SUMPRODUCT(--(INDEX(Model_Inputs_Ref_Units,,DD$51)=$E94),INDEX(Model_Inputs_Ref_Units,,DD$52)),0)","v":0},{"$f":"IFERROR(SUMPRODUCT(--(INDEX(Model_Inputs_Ref_Units,,DE$51)=$E94),INDEX(Model_Inputs_Ref_Units,,DE$52)),0)","v":0},{"$f":"IFERROR(SUMPRODUCT(--(INDEX(Model_Inputs_Ref_Units,,DF$51)=$E94),INDEX(Model_Inputs_Ref_Units,,DF$52)),0)","v":0}]
[null,null,{"$error":"#DIV/0!"},null,{"$f":"IFERROR(INDEX(Ref_Data,1,F95),\"\")","v":""},42,0,0,0,0,{"$f":"IFERROR(SUMPRODUCT(--(INDEX(Model_Inputs_Ref_Units,,K$51)=$E95),INDEX(Model_Inputs_Ref_Units,,K$52)),0)","v":0},{"$f":"IFERROR(SUMPRODUCT(--(INDEX(Model_Inputs_Ref_Units,,L$51)=$E95),INDEX(Model_Inputs_Ref_Units,,L$52)),0)","v":0},{"$f":"IFERROR(SUMPRODUCT(--(INDEX(Model_Inputs_Ref_Units,,M$51)=$E95),INDEX(Model_Inputs_Ref_Units,,M$52)),0)","v":0},{"$f":"IFERROR(SUMPRODUCT(--(INDEX(Model_Inputs_Ref_Units,,N$51)=$E95),INDEX(Model_Inputs_Ref_Units,,N$52)),0)","v":0},{"$f":"IFERROR(SUMPRODUCT(--(INDEX(Model_Inputs_Ref_Units,,O$51)=$E95),INDEX(Model_Inputs_Ref_Units,,O$52)),0)","v":0},{"$f":"IFERROR(SUMPRODUCT(--(INDEX(Model_Inputs_Ref_Units,,P$51)=$E95),INDEX(Model_Inputs_Ref_Units,,P$52)),0)","v":0},{"$f":"IFERROR(SUMPRODUCT(--(INDEX(Model_Inputs_Ref_Units,,Q$51)=$E95),INDEX(Model_Inputs_Ref_Units,,Q$52)),0)","v":0},{"$f":"IFERROR(SUMPRODUCT(--(INDEX(Model_Inputs_Ref_Units,,R$51)=$E95),INDEX(Model_Inputs_Ref_Units,,R$52)),0)","v":0},{"$f":"IFERROR(SUMPRODUCT(--(INDEX(Model_Inputs_Ref_Units,,S$51)=$E95),INDEX(Model_Inputs_Ref_Units,,S$52)),0)","v":0},{"$f":"IFERROR(SUMPRODUCT(--(INDEX(Model_Inputs_Ref_Units,,T$51)=$E95),INDEX(Model_Inputs_Ref_Units,,T$52)),0)","v":0},{"$f":"IFERROR(SUMPRODUCT(--(INDEX(Model_Inputs_Ref_Units,,U$51)=$E95),INDEX(Model_Inputs_Ref_Units,,U$52)),0)","v":0},{"$f":"IFERROR(SUMPRODUCT(--(INDEX(Model_Inputs_Ref_Units,,V$51)=$E95),INDEX(Model_Inputs_Ref_Units,,V$52)),0)","v":0},{"$f":"IFERROR(SUMPRODUCT(--(INDEX(Model_Inputs_Ref_Units,,W$51)=$E95),INDEX(Model_Inputs_Ref_Units,,W$52)),0)","v":0},{"$f":"IFERROR(SUMPRODUCT(--(INDEX(Model_Inputs_Ref_Units,,X$51)=$E95),INDEX(Model_Inputs_Ref_Units,,X$52)),0)","v":0},{"$f":"IFERROR(SUMPRODUCT(--(INDEX(Model_Inputs_Ref_Units,,Y$51)=$E95),INDEX(Model_Inputs_Ref_Units,,Y$52)),0)","v":0},{"$f":"IFERROR(SUMPRODUCT(--(INDEX(Model_Inputs_Ref_Units,,Z$51)=$E95),INDEX(Model_Inputs_Ref_Units,,Z$52)),0)","v":0},{"$f":"IFERROR(SUMPRODUCT(--(INDEX(Model_Inputs_Ref_Units,,AA$51)=$E95),INDEX(Model_Inputs_Ref_Units,,AA$52)),0)","v":0},{"$f":"IFERROR(SUMPRODUCT(--(INDEX(Model_Inputs_Ref_Units,,AB$51)=$E95),INDEX(Model_Inputs_Ref_Units,,AB$52)),0)","v":0},{"$f":"IFERROR(SUMPRODUCT(--(INDEX(Model_Inputs_Ref_Units,,AC$51)=$E95),INDEX(Model_Inputs_Ref_Units,,AC$52)),0)","v":0},{"$f":"IFERROR(SUMPRODUCT(--(INDEX(Model_Inputs_Ref_Units,,AD$51)=$E95),INDEX(Model_Inputs_Ref_Units,,AD$52)),0)","v":0},{"$f":"IFERROR(SUMPRODUCT(--(INDEX(Model_Inputs_Ref_Units,,AE$51)=$E95),INDEX(Model_Inputs_Ref_Units,,AE$52)),0)","v":0},{"$f":"IFERROR(SUMPRODUCT(--(INDEX(Model_Inputs_Ref_Units,,AF$51)=$E95),INDEX(Model_Inputs_Ref_Units,,AF$52)),0)","v":0},{"$f":"IFERROR(SUMPRODUCT(--(INDEX(Model_Inputs_Ref_Units,,AG$51)=$E95),INDEX(Model_Inputs_Ref_Units,,AG$52)),0)","v":0},{"$f":"IFERROR(SUMPRODUCT(--(INDEX(Model_Inputs_Ref_Units,,AH$51)=$E95),INDEX(Model_Inputs_Ref_Units,,AH$52)),0)","v":0},{"$f":"IFERROR(SUMPRODUCT(--(INDEX(Model_Inputs_Ref_Units,,AI$51)=$E95),INDEX(Model_Inputs_Ref_Units,,AI$52)),0)","v":0},{"$f":"IFERROR(SUMPRODUCT(--(INDEX(Model_Inputs_Ref_Units,,AJ$51)=$E95),INDEX(Model_Inputs_Ref_Units,,AJ$52)),0)","v":0},{"$f":"IFERROR(SUMPRODUCT(--(INDEX(Model_Inputs_Ref_Units,,AK$51)=$E95),INDEX(Model_Inputs_Ref_Units,,AK$52)),0)","v":0},{"$f":"IFERROR(SUMPRODUCT(--(INDEX(Model_Inputs_Ref_Units,,AL$51)=$E95),INDEX(Model_Inputs_Ref_Units,,AL$52)),0)","v":0},{"$f":"IFERROR(SUMPRODUCT(--(INDEX(Model_Inputs_Ref_Units,,AM$51)=$E95),INDEX(Model_Inputs_Ref_Units,,AM$52)),0)","v":0},{"$f":"IFERROR(SUMPRODUCT(--(INDEX(Model_Inputs_Ref_Units,,AN$51)=$E95),INDEX(Model_Inputs_Ref_Units,,AN$52)),0)","v":0},{"$f":"IFERROR(SUMPRODUCT(--(INDEX(Model_Inputs_Ref_Units,,AO$51)=$E95),INDEX(Model_Inputs_Ref_Units,,AO$52)),0)","v":0},{"$f":"IFERROR(SUMPRODUCT(--(INDEX(Model_Inputs_Ref_Units,,AP$51)=$E95),INDEX(Model_Inputs_Ref_Units,,AP$52)),0)","v":0},{"$f":"IFERROR(SUMPRODUCT(--(INDEX(Model_Inputs_Ref_Units,,AQ$51)=$E95),INDEX(Model_Inputs_Ref_Units,,AQ$52)),0)","v":0},{"$f":"IFERROR(SUMPRODUCT(--(INDEX(Model_Inputs_Ref_Units,,AR$51)=$E95),INDEX(Model_Inputs_Ref_Units,,AR$52)),0)","v":0},{"$f":"IFERROR(SUMPRODUCT(--(INDEX(Model_Inputs_Ref_Units,,AS$51)=$E95),INDEX(Model_Inputs_Ref_Units,,AS$52)),0)","v":0},{"$f":"IFERROR(SUMPRODUCT(--(INDEX(Model_Inputs_Ref_Units,,AT$51)=$E95),INDEX(Model_Inputs_Ref_Units,,AT$52)),0)","v":0},{"$f":"IFERROR(SUMPRODUCT(--(INDEX(Model_Inputs_Ref_Units,,AU$51)=$E95),INDEX(Model_Inputs_Ref_Units,,AU$52)),0)","v":0},{"$f":"IFERROR(SUMPRODUCT(--(INDEX(Model_Inputs_Ref_Units,,AV$51)=$E95),INDEX(Model_Inputs_Ref_Units,,AV$52)),0)","v":0},{"$f":"IFERROR(SUMPRODUCT(--(INDEX(Model_Inputs_Ref_Units,,AW$51)=$E95),INDEX(Model_Inputs_Ref_Units,,AW$52)),0)","v":0},{"$f":"IFERROR(SUMPRODUCT(--(INDEX(Model_Inputs_Ref_Units,,AX$51)=$E95),INDEX(Model_Inputs_Ref_Units,,AX$52)),0)","v":0},{"$f":"IFERROR(SUMPRODUCT(--(INDEX(Model_Inputs_Ref_Units,,AY$51)=$E95),INDEX(Model_Inputs_Ref_Units,,AY$52)),0)","v":0},{"$f":"IFERROR(SUMPRODUCT(--(INDEX(Model_Inputs_Ref_Units,,AZ$51)=$E95),INDEX(Model_Inputs_Ref_Units,,AZ$52)),0)","v":0},{"$f":"IFERROR(SUMPRODUCT(--(INDEX(Model_Inputs_Ref_Units,,BA$51)=$E95),INDEX(Model_Inputs_Ref_Units,,BA$52)),0)","v":0},{"$f":"IFERROR(SUMPRODUCT(--(INDEX(Model_Inputs_Ref_Units,,BB$51)=$E95),INDEX(Model_Inputs_Ref_Units,,BB$52)),0)","v":0},{"$f":"IFERROR(SUMPRODUCT(--(INDEX(Model_Inputs_Ref_Units,,BC$51)=$E95),INDEX(Model_Inputs_Ref_Units,,BC$52)),0)","v":0},{"$f":"IFERROR(SUMPRODUCT(--(INDEX(Model_Inputs_Ref_Units,,BD$51)=$E95),INDEX(Model_Inputs_Ref_Units,,BD$52)),0)","v":0},{"$f":"IFERROR(SUMPRODUCT(--(INDEX(Model_Inputs_Ref_Units,,BE$51)=$E95),INDEX(Model_Inputs_Ref_Units,,BE$52)),0)","v":0},{"$f":"IFERROR(SUMPRODUCT(--(INDEX(Model_Inputs_Ref_Units,,BF$51)=$E95),INDEX(Model_Inputs_Ref_Units,,BF$52)),0)","v":0},{"$f":"IFERROR(SUMPRODUCT(--(INDEX(Model_Inputs_Ref_Units,,BG$51)=$E95),INDEX(Model_Inputs_Ref_Units,,BG$52)),0)","v":0},{"$f":"IFERROR(SUMPRODUCT(--(INDEX(Model_Inputs_Ref_Units,,BH$51)=$E95),INDEX(Model_Inputs_Ref_Units,,BH$52)),0)","v":0},{"$f":"IFERROR(SUMPRODUCT(--(INDEX(Model_Inputs_Ref_Units,,BI$51)=$E95),INDEX(Model_Inputs_Ref_Units,,BI$52)),0)","v":0},{"$f":"IFERROR(SUMPRODUCT(--(INDEX(Model_Inputs_Ref_Units,,BJ$51)=$E95),INDEX(Model_Inputs_Ref_Units,,BJ$52)),0)","v":0},{"$f":"IFERROR(SUMPRODUCT(--(INDEX(Model_Inputs_Ref_Units,,BK$51)=$E95),INDEX(Model_Inputs_Ref_Units,,BK$52)),0)","v":0},{"$f":"IFERROR(SUMPRODUCT(--(INDEX(Model_Inputs_Ref_Units,,BL$51)=$E95),INDEX(Model_Inputs_Ref_Units,,BL$52)),0)","v":0},{"$f":"IFERROR(SUMPRODUCT(--(INDEX(Model_Inputs_Ref_Units,,BM$51)=$E95),INDEX(Model_Inputs_Ref_Units,,BM$52)),0)","v":0},{"$f":"IFERROR(SUMPRODUCT(--(INDEX(Model_Inputs_Ref_Units,,BN$51)=$E95),INDEX(Model_Inputs_Ref_Units,,BN$52)),0)","v":0},{"$f":"IFERROR(SUMPRODUCT(--(INDEX(Model_Inputs_Ref_Units,,BO$51)=$E95),INDEX(Model_Inputs_Ref_Units,,BO$52)),0)","v":0},{"$f":"IFERROR(SUMPRODUCT(--(INDEX(Model_Inputs_Ref_Units,,BP$51)=$E95),INDEX(Model_Inputs_Ref_Units,,BP$52)),0)","v":0},{"$f":"IFERROR(SUMPRODUCT(--(INDEX(Model_Inputs_Ref_Units,,BQ$51)=$E95),INDEX(Model_Inputs_Ref_Units,,BQ$52)),0)","v":0},{"$f":"IFERROR(SUMPRODUCT(--(INDEX(Model_Inputs_Ref_Units,,BR$51)=$E95),INDEX(Model_Inputs_Ref_Units,,BR$52)),0)","v":0},{"$f":"IFERROR(SUMPRODUCT(--(INDEX(Model_Inputs_Ref_Units,,BS$51)=$E95),INDEX(Model_Inputs_Ref_Units,,BS$52)),0)","v":0},{"$f":"IFERROR(SUMPRODUCT(--(INDEX(Model_Inputs_Ref_Units,,BT$51)=$E95),INDEX(Model_Inputs_Ref_Units,,BT$52)),0)","v":0},{"$f":"IFERROR(SUMPRODUCT(--(INDEX(Model_Inputs_Ref_Units,,BU$51)=$E95),INDEX(Model_Inputs_Ref_Units,,BU$52)),0)","v":0},{"$f":"IFERROR(SUMPRODUCT(--(INDEX(Model_Inputs_Ref_Units,,BV$51)=$E95),INDEX(Model_Inputs_Ref_Units,,BV$52)),0)","v":0},{"$f":"IFERROR(SUMPRODUCT(--(INDEX(Model_Inputs_Ref_Units,,BW$51)=$E95),INDEX(Model_Inputs_Ref_Units,,BW$52)),0)","v":0},{"$f":"IFERROR(SUMPRODUCT(--(INDEX(Model_Inputs_Ref_Units,,BX$51)=$E95),INDEX(Model_Inputs_Ref_Units,,BX$52)),0)","v":0},{"$f":"IFERROR(SUMPRODUCT(--(INDEX(Model_Inputs_Ref_Units,,BY$51)=$E95),INDEX(Model_Inputs_Ref_Units,,BY$52)),0)","v":0},{"$f":"IFERROR(SUMPRODUCT(--(INDEX(Model_Inputs_Ref_Units,,BZ$51)=$E95),INDEX(Model_Inputs_Ref_Units,,BZ$52)),0)","v":0},{"$f":"IFERROR(SUMPRODUCT(--(INDEX(Model_Inputs_Ref_Units,,CA$51)=$E95),INDEX(Model_Inputs_Ref_Units,,CA$52)),0)","v":0},{"$f":"IFERROR(SUMPRODUCT(--(INDEX(Model_Inputs_Ref_Units,,CB$51)=$E95),INDEX(Model_Inputs_Ref_Units,,CB$52)),0)","v":0},{"$f":"IFERROR(SUMPRODUCT(--(INDEX(Model_Inputs_Ref_Units,,CC$51)=$E95),INDEX(Model_Inputs_Ref_Units,,CC$52)),0)","v":0},{"$f":"IFERROR(SUMPRODUCT(--(INDEX(Model_Inputs_Ref_Units,,CD$51)=$E95),INDEX(Model_Inputs_Ref_Units,,CD$52)),0)","v":0},{"$f":"IFERROR(SUMPRODUCT(--(INDEX(Model_Inputs_Ref_Units,,CE$51)=$E95),INDEX(Model_Inputs_Ref_Units,,CE$52)),0)","v":0},{"$f":"IFERROR(SUMPRODUCT(--(INDEX(Model_Inputs_Ref_Units,,CF$51)=$E95),INDEX(Model_Inputs_Ref_Units,,CF$52)),0)","v":0},{"$f":"IFERROR(SUMPRODUCT(--(INDEX(Model_Inputs_Ref_Units,,CG$51)=$E95),INDEX(Model_Inputs_Ref_Units,,CG$52)),0)","v":0},{"$f":"IFERROR(SUMPRODUCT(--(INDEX(Model_Inputs_Ref_Units,,CH$51)=$E95),INDEX(Model_Inputs_Ref_Units,,CH$52)),0)","v":0},{"$f":"IFERROR(SUMPRODUCT(--(INDEX(Model_Inputs_Ref_Units,,CI$51)=$E95),INDEX(Model_Inputs_Ref_Units,,CI$52)),0)","v":0},{"$f":"IFERROR(SUMPRODUCT(--(INDEX(Model_Inputs_Ref_Units,,CJ$51)=$E95),INDEX(Model_Inputs_Ref_Units,,CJ$52)),0)","v":0},{"$f":"IFERROR(SUMPRODUCT(--(INDEX(Model_Inputs_Ref_Units,,CK$51)=$E95),INDEX(Model_Inputs_Ref_Units,,CK$52)),0)","v":0},{"$f":"IFERROR(SUMPRODUCT(--(INDEX(Model_Inputs_Ref_Units,,CL$51)=$E95),INDEX(Model_Inputs_Ref_Units,,CL$52)),0)","v":0},{"$f":"IFERROR(SUMPRODUCT(--(INDEX(Model_Inputs_Ref_Units,,CM$51)=$E95),INDEX(Model_Inputs_Ref_Units,,CM$52)),0)","v":0},{"$f":"IFERROR(SUMPRODUCT(--(INDEX(Model_Inputs_Ref_Units,,CN$51)=$E95),INDEX(Model_Inputs_Ref_Units,,CN$52)),0)","v":0},{"$f":"IFERROR(SUMPRODUCT(--(INDEX(Model_Inputs_Ref_Units,,CO$51)=$E95),INDEX(Model_Inputs_Ref_Units,,CO$52)),0)","v":0},{"$f":"IFERROR(SUMPRODUCT(--(INDEX(Model_Inputs_Ref_Units,,CP$51)=$E95),INDEX(Model_Inputs_Ref_Units,,CP$52)),0)","v":0},{"$f":"IFERROR(SUMPRODUCT(--(INDEX(Model_Inputs_Ref_Units,,CQ$51)=$E95),INDEX(Model_Inputs_Ref_Units,,CQ$52)),0)","v":0},{"$f":"IFERROR(SUMPRODUCT(--(INDEX(Model_Inputs_Ref_Units,,CR$51)=$E95),INDEX(Model_Inputs_Ref_Units,,CR$52)),0)","v":0},{"$f":"IFERROR(SUMPRODUCT(--(INDEX(Model_Inputs_Ref_Units,,CS$51)=$E95),INDEX(Model_Inputs_Ref_Units,,CS$52)),0)","v":0},{"$f":"IFERROR(SUMPRODUCT(--(INDEX(Model_Inputs_Ref_Units,,CT$51)=$E95),INDEX(Model_Inputs_Ref_Units,,CT$52)),0)","v":0},{"$f":"IFERROR(SUMPRODUCT(--(INDEX(Model_Inputs_Ref_Units,,CU$51)=$E95),INDEX(Model_Inputs_Ref_Units,,CU$52)),0)","v":0},{"$f":"IFERROR(SUMPRODUCT(--(INDEX(Model_Inputs_Ref_Units,,CV$51)=$E95),INDEX(Model_Inputs_Ref_Units,,CV$52)),0)","v":0},{"$f":"IFERROR(SUMPRODUCT(--(INDEX(Model_Inputs_Ref_Units,,CW$51)=$E95),INDEX(Model_Inputs_Ref_Units,,CW$52)),0)","v":0},{"$f":"IFERROR(SUMPRODUCT(--(INDEX(Model_Inputs_Ref_Units,,CX$51)=$E95),INDEX(Model_Inputs_Ref_Units,,CX$52)),0)","v":0},{"$f":"IFERROR(SUMPRODUCT(--(INDEX(Model_Inputs_Ref_Units,,CY$51)=$E95),INDEX(Model_Inputs_Ref_Units,,CY$52)),0)","v":0},{"$f":"IFERROR(SUMPRODUCT(--(INDEX(Model_Inputs_Ref_Units,,CZ$51)=$E95),INDEX(Model_Inputs_Ref_Units,,CZ$52)),0)","v":0},{"$f":"IFERROR(SUMPRODUCT(--(INDEX(Model_Inputs_Ref_Units,,DA$51)=$E95),INDEX(Model_Inputs_Ref_Units,,DA$52)),0)","v":0},{"$f":"IFERROR(SUMPRODUCT(--(INDEX(Model_Inputs_Ref_Units,,DB$51)=$E95),INDEX(Model_Inputs_Ref_Units,,DB$52)),0)","v":0},{"$f":"IFERROR(SUMPRODUCT(--(INDEX(Model_Inputs_Ref_Units,,DC$51)=$E95),INDEX(Model_Inputs_Ref_Units,,DC$52)),0)","v":0},{"$f":"IFERROR(SUMPRODUCT(--(INDEX(Model_Inputs_Ref_Units,,DD$51)=$E95),INDEX(Model_Inputs_Ref_Units,,DD$52)),0)","v":0},{"$f":"IFERROR(SUMPRODUCT(--(INDEX(Model_Inputs_Ref_Units,,DE$51)=$E95),INDEX(Model_Inputs_Ref_Units,,DE$52)),0)","v":0},{"$f":"IFERROR(SUMPRODUCT(--(INDEX(Model_Inputs_Ref_Units,,DF$51)=$E95),INDEX(Model_Inputs_Ref_Units,,DF$52)),0)","v":0}]
[null,null,{"$error":"#DIV/0!"},null,{"$f":"IFERROR(INDEX(Ref_Data,1,F96),\"\")","v":""},43,0,0,0,0,{"$f":"IFERROR(SUMPRODUCT(--(INDEX(Model_Inputs_Ref_Units,,K$51)=$E96),INDEX(Model_Inputs_Ref_Units,,K$52)),0)","v":0},{"$f":"IFERROR(SUMPRODUCT(--(INDEX(Model_Inputs_Ref_Units,,L$51)=$E96),INDEX(Model_Inputs_Ref_Units,,L$52)),0)","v":0},{"$f":"IFERROR(SUMPRODUCT(--(INDEX(Model_Inputs_Ref_Units,,M$51)=$E96),INDEX(Model_Inputs_Ref_Units,,M$52)),0)","v":0},{"$f":"IFERROR(SUMPRODUCT(--(INDEX(Model_Inputs_Ref_Units,,N$51)=$E96),INDEX(Model_Inputs_Ref_Units,,N$52)),0)","v":0},{"$f":"IFERROR(SUMPRODUCT(--(INDEX(Model_Inputs_Ref_Units,,O$51)=$E96),INDEX(Model_Inputs_Ref_Units,,O$52)),0)","v":0},{"$f":"IFERROR(SUMPRODUCT(--(INDEX(Model_Inputs_Ref_Units,,P$51)=$E96),INDEX(Model_Inputs_Ref_Units,,P$52)),0)","v":0},{"$f":"IFERROR(SUMPRODUCT(--(INDEX(Model_Inputs_Ref_Units,,Q$51)=$E96),INDEX(Model_Inputs_Ref_Units,,Q$52)),0)","v":0},{"$f":"IFERROR(SUMPRODUCT(--(INDEX(Model_Inputs_Ref_Units,,R$51)=$E96),INDEX(Model_Inputs_Ref_Units,,R$52)),0)","v":0},{"$f":"IFERROR(SUMPRODUCT(--(INDEX(Model_Inputs_Ref_Units,,S$51)=$E96),INDEX(Model_Inputs_Ref_Units,,S$52)),0)","v":0},{"$f":"IFERROR(SUMPRODUCT(--(INDEX(Model_Inputs_Ref_Units,,T$51)=$E96),INDEX(Model_Inputs_Ref_Units,,T$52)),0)","v":0},{"$f":"IFERROR(SUMPRODUCT(--(INDEX(Model_Inputs_Ref_Units,,U$51)=$E96),INDEX(Model_Inputs_Ref_Units,,U$52)),0)","v":0},{"$f":"IFERROR(SUMPRODUCT(--(INDEX(Model_Inputs_Ref_Units,,V$51)=$E96),INDEX(Model_Inputs_Ref_Units,,V$52)),0)","v":0},{"$f":"IFERROR(SUMPRODUCT(--(INDEX(Model_Inputs_Ref_Units,,W$51)=$E96),INDEX(Model_Inputs_Ref_Units,,W$52)),0)","v":0},{"$f":"IFERROR(SUMPRODUCT(--(INDEX(Model_Inputs_Ref_Units,,X$51)=$E96),INDEX(Model_Inputs_Ref_Units,,X$52)),0)","v":0},{"$f":"IFERROR(SUMPRODUCT(--(INDEX(Model_Inputs_Ref_Units,,Y$51)=$E96),INDEX(Model_Inputs_Ref_Units,,Y$52)),0)","v":0},{"$f":"IFERROR(SUMPRODUCT(--(INDEX(Model_Inputs_Ref_Units,,Z$51)=$E96),INDEX(Model_Inputs_Ref_Units,,Z$52)),0)","v":0},{"$f":"IFERROR(SUMPRODUCT(--(INDEX(Model_Inputs_Ref_Units,,AA$51)=$E96),INDEX(Model_Inputs_Ref_Units,,AA$52)),0)","v":0},{"$f":"IFERROR(SUMPRODUCT(--(INDEX(Model_Inputs_Ref_Units,,AB$51)=$E96),INDEX(Model_Inputs_Ref_Units,,AB$52)),0)","v":0},{"$f":"IFERROR(SUMPRODUCT(--(INDEX(Model_Inputs_Ref_Units,,AC$51)=$E96),INDEX(Model_Inputs_Ref_Units,,AC$52)),0)","v":0},{"$f":"IFERROR(SUMPRODUCT(--(INDEX(Model_Inputs_Ref_Units,,AD$51)=$E96),INDEX(Model_Inputs_Ref_Units,,AD$52)),0)","v":0},{"$f":"IFERROR(SUMPRODUCT(--(INDEX(Model_Inputs_Ref_Units,,AE$51)=$E96),INDEX(Model_Inputs_Ref_Units,,AE$52)),0)","v":0},{"$f":"IFERROR(SUMPRODUCT(--(INDEX(Model_Inputs_Ref_Units,,AF$51)=$E96),INDEX(Model_Inputs_Ref_Units,,AF$52)),0)","v":0},{"$f":"IFERROR(SUMPRODUCT(--(INDEX(Model_Inputs_Ref_Units,,AG$51)=$E96),INDEX(Model_Inputs_Ref_Units,,AG$52)),0)","v":0},{"$f":"IFERROR(SUMPRODUCT(--(INDEX(Model_Inputs_Ref_Units,,AH$51)=$E96),INDEX(Model_Inputs_Ref_Units,,AH$52)),0)","v":0},{"$f":"IFERROR(SUMPRODUCT(--(INDEX(Model_Inputs_Ref_Units,,AI$51)=$E96),INDEX(Model_Inputs_Ref_Units,,AI$52)),0)","v":0},{"$f":"IFERROR(SUMPRODUCT(--(INDEX(Model_Inputs_Ref_Units,,AJ$51)=$E96),INDEX(Model_Inputs_Ref_Units,,AJ$52)),0)","v":0},{"$f":"IFERROR(SUMPRODUCT(--(INDEX(Model_Inputs_Ref_Units,,AK$51)=$E96),INDEX(Model_Inputs_Ref_Units,,AK$52)),0)","v":0},{"$f":"IFERROR(SUMPRODUCT(--(INDEX(Model_Inputs_Ref_Units,,AL$51)=$E96),INDEX(Model_Inputs_Ref_Units,,AL$52)),0)","v":0},{"$f":"IFERROR(SUMPRODUCT(--(INDEX(Model_Inputs_Ref_Units,,AM$51)=$E96),INDEX(Model_Inputs_Ref_Units,,AM$52)),0)","v":0},{"$f":"IFERROR(SUMPRODUCT(--(INDEX(Model_Inputs_Ref_Units,,AN$51)=$E96),INDEX(Model_Inputs_Ref_Units,,AN$52)),0)","v":0},{"$f":"IFERROR(SUMPRODUCT(--(INDEX(Model_Inputs_Ref_Units,,AO$51)=$E96),INDEX(Model_Inputs_Ref_Units,,AO$52)),0)","v":0},{"$f":"IFERROR(SUMPRODUCT(--(INDEX(Model_Inputs_Ref_Units,,AP$51)=$E96),INDEX(Model_Inputs_Ref_Units,,AP$52)),0)","v":0},{"$f":"IFERROR(SUMPRODUCT(--(INDEX(Model_Inputs_Ref_Units,,AQ$51)=$E96),INDEX(Model_Inputs_Ref_Units,,AQ$52)),0)","v":0},{"$f":"IFERROR(SUMPRODUCT(--(INDEX(Model_Inputs_Ref_Units,,AR$51)=$E96),INDEX(Model_Inputs_Ref_Units,,AR$52)),0)","v":0},{"$f":"IFERROR(SUMPRODUCT(--(INDEX(Model_Inputs_Ref_Units,,AS$51)=$E96),INDEX(Model_Inputs_Ref_Units,,AS$52)),0)","v":0},{"$f":"IFERROR(SUMPRODUCT(--(INDEX(Model_Inputs_Ref_Units,,AT$51)=$E96),INDEX(Model_Inputs_Ref_Units,,AT$52)),0)","v":0},{"$f":"IFERROR(SUMPRODUCT(--(INDEX(Model_Inputs_Ref_Units,,AU$51)=$E96),INDEX(Model_Inputs_Ref_Units,,AU$52)),0)","v":0},{"$f":"IFERROR(SUMPRODUCT(--(INDEX(Model_Inputs_Ref_Units,,AV$51)=$E96),INDEX(Model_Inputs_Ref_Units,,AV$52)),0)","v":0},{"$f":"IFERROR(SUMPRODUCT(--(INDEX(Model_Inputs_Ref_Units,,AW$51)=$E96),INDEX(Model_Inputs_Ref_Units,,AW$52)),0)","v":0},{"$f":"IFERROR(SUMPRODUCT(--(INDEX(Model_Inputs_Ref_Units,,AX$51)=$E96),INDEX(Model_Inputs_Ref_Units,,AX$52)),0)","v":0},{"$f":"IFERROR(SUMPRODUCT(--(INDEX(Model_Inputs_Ref_Units,,AY$51)=$E96),INDEX(Model_Inputs_Ref_Units,,AY$52)),0)","v":0},{"$f":"IFERROR(SUMPRODUCT(--(INDEX(Model_Inputs_Ref_Units,,AZ$51)=$E96),INDEX(Model_Inputs_Ref_Units,,AZ$52)),0)","v":0},{"$f":"IFERROR(SUMPRODUCT(--(INDEX(Model_Inputs_Ref_Units,,BA$51)=$E96),INDEX(Model_Inputs_Ref_Units,,BA$52)),0)","v":0},{"$f":"IFERROR(SUMPRODUCT(--(INDEX(Model_Inputs_Ref_Units,,BB$51)=$E96),INDEX(Model_Inputs_Ref_Units,,BB$52)),0)","v":0},{"$f":"IFERROR(SUMPRODUCT(--(INDEX(Model_Inputs_Ref_Units,,BC$51)=$E96),INDEX(Model_Inputs_Ref_Units,,BC$52)),0)","v":0},{"$f":"IFERROR(SUMPRODUCT(--(INDEX(Model_Inputs_Ref_Units,,BD$51)=$E96),INDEX(Model_Inputs_Ref_Units,,BD$52)),0)","v":0},{"$f":"IFERROR(SUMPRODUCT(--(INDEX(Model_Inputs_Ref_Units,,BE$51)=$E96),INDEX(Model_Inputs_Ref_Units,,BE$52)),0)","v":0},{"$f":"IFERROR(SUMPRODUCT(--(INDEX(Model_Inputs_Ref_Units,,BF$51)=$E96),INDEX(Model_Inputs_Ref_Units,,BF$52)),0)","v":0},{"$f":"IFERROR(SUMPRODUCT(--(INDEX(Model_Inputs_Ref_Units,,BG$51)=$E96),INDEX(Model_Inputs_Ref_Units,,BG$52)),0)","v":0},{"$f":"IFERROR(SUMPRODUCT(--(INDEX(Model_Inputs_Ref_Units,,BH$51)=$E96),INDEX(Model_Inputs_Ref_Units,,BH$52)),0)","v":0},{"$f":"IFERROR(SUMPRODUCT(--(INDEX(Model_Inputs_Ref_Units,,BI$51)=$E96),INDEX(Model_Inputs_Ref_Units,,BI$52)),0)","v":0},{"$f":"IFERROR(SUMPRODUCT(--(INDEX(Model_Inputs_Ref_Units,,BJ$51)=$E96),INDEX(Model_Inputs_Ref_Units,,BJ$52)),0)","v":0},{"$f":"IFERROR(SUMPRODUCT(--(INDEX(Model_Inputs_Ref_Units,,BK$51)=$E96),INDEX(Model_Inputs_Ref_Units,,BK$52)),0)","v":0},{"$f":"IFERROR(SUMPRODUCT(--(INDEX(Model_Inputs_Ref_Units,,BL$51)=$E96),INDEX(Model_Inputs_Ref_Units,,BL$52)),0)","v":0},{"$f":"IFERROR(SUMPRODUCT(--(INDEX(Model_Inputs_Ref_Units,,BM$51)=$E96),INDEX(Model_Inputs_Ref_Units,,BM$52)),0)","v":0},{"$f":"IFERROR(SUMPRODUCT(--(INDEX(Model_Inputs_Ref_Units,,BN$51)=$E96),INDEX(Model_Inputs_Ref_Units,,BN$52)),0)","v":0},{"$f":"IFERROR(SUMPRODUCT(--(INDEX(Model_Inputs_Ref_Units,,BO$51)=$E96),INDEX(Model_Inputs_Ref_Units,,BO$52)),0)","v":0},{"$f":"IFERROR(SUMPRODUCT(--(INDEX(Model_Inputs_Ref_Units,,BP$51)=$E96),INDEX(Model_Inputs_Ref_Units,,BP$52)),0)","v":0},{"$f":"IFERROR(SUMPRODUCT(--(INDEX(Model_Inputs_Ref_Units,,BQ$51)=$E96),INDEX(Model_Inputs_Ref_Units,,BQ$52)),0)","v":0},{"$f":"IFERROR(SUMPRODUCT(--(INDEX(Model_Inputs_Ref_Units,,BR$51)=$E96),INDEX(Model_Inputs_Ref_Units,,BR$52)),0)","v":0},{"$f":"IFERROR(SUMPRODUCT(--(INDEX(Model_Inputs_Ref_Units,,BS$51)=$E96),INDEX(Model_Inputs_Ref_Units,,BS$52)),0)","v":0},{"$f":"IFERROR(SUMPRODUCT(--(INDEX(Model_Inputs_Ref_Units,,BT$51)=$E96),INDEX(Model_Inputs_Ref_Units,,BT$52)),0)","v":0},{"$f":"IFERROR(SUMPRODUCT(--(INDEX(Model_Inputs_Ref_Units,,BU$51)=$E96),INDEX(Model_Inputs_Ref_Units,,BU$52)),0)","v":0},{"$f":"IFERROR(SUMPRODUCT(--(INDEX(Model_Inputs_Ref_Units,,BV$51)=$E96),INDEX(Model_Inputs_Ref_Units,,BV$52)),0)","v":0},{"$f":"IFERROR(SUMPRODUCT(--(INDEX(Model_Inputs_Ref_Units,,BW$51)=$E96),INDEX(Model_Inputs_Ref_Units,,BW$52)),0)","v":0},{"$f":"IFERROR(SUMPRODUCT(--(INDEX(Model_Inputs_Ref_Units,,BX$51)=$E96),INDEX(Model_Inputs_Ref_Units,,BX$52)),0)","v":0},{"$f":"IFERROR(SUMPRODUCT(--(INDEX(Model_Inputs_Ref_Units,,BY$51)=$E96),INDEX(Model_Inputs_Ref_Units,,BY$52)),0)","v":0},{"$f":"IFERROR(SUMPRODUCT(--(INDEX(Model_Inputs_Ref_Units,,BZ$51)=$E96),INDEX(Model_Inputs_Ref_Units,,BZ$52)),0)","v":0},{"$f":"IFERROR(SUMPRODUCT(--(INDEX(Model_Inputs_Ref_Units,,CA$51)=$E96),INDEX(Model_Inputs_Ref_Units,,CA$52)),0)","v":0},{"$f":"IFERROR(SUMPRODUCT(--(INDEX(Model_Inputs_Ref_Units,,CB$51)=$E96),INDEX(Model_Inputs_Ref_Units,,CB$52)),0)","v":0},{"$f":"IFERROR(SUMPRODUCT(--(INDEX(Model_Inputs_Ref_Units,,CC$51)=$E96),INDEX(Model_Inputs_Ref_Units,,CC$52)),0)","v":0},{"$f":"IFERROR(SUMPRODUCT(--(INDEX(Model_Inputs_Ref_Units,,CD$51)=$E96),INDEX(Model_Inputs_Ref_Units,,CD$52)),0)","v":0},{"$f":"IFERROR(SUMPRODUCT(--(INDEX(Model_Inputs_Ref_Units,,CE$51)=$E96),INDEX(Model_Inputs_Ref_Units,,CE$52)),0)","v":0},{"$f":"IFERROR(SUMPRODUCT(--(INDEX(Model_Inputs_Ref_Units,,CF$51)=$E96),INDEX(Model_Inputs_Ref_Units,,CF$52)),0)","v":0},{"$f":"IFERROR(SUMPRODUCT(--(INDEX(Model_Inputs_Ref_Units,,CG$51)=$E96),INDEX(Model_Inputs_Ref_Units,,CG$52)),0)","v":0},{"$f":"IFERROR(SUMPRODUCT(--(INDEX(Model_Inputs_Ref_Units,,CH$51)=$E96),INDEX(Model_Inputs_Ref_Units,,CH$52)),0)","v":0},{"$f":"IFERROR(SUMPRODUCT(--(INDEX(Model_Inputs_Ref_Units,,CI$51)=$E96),INDEX(Model_Inputs_Ref_Units,,CI$52)),0)","v":0},{"$f":"IFERROR(SUMPRODUCT(--(INDEX(Model_Inputs_Ref_Units,,CJ$51)=$E96),INDEX(Model_Inputs_Ref_Units,,CJ$52)),0)","v":0},{"$f":"IFERROR(SUMPRODUCT(--(INDEX(Model_Inputs_Ref_Units,,CK$51)=$E96),INDEX(Model_Inputs_Ref_Units,,CK$52)),0)","v":0},{"$f":"IFERROR(SUMPRODUCT(--(INDEX(Model_Inputs_Ref_Units,,CL$51)=$E96),INDEX(Model_Inputs_Ref_Units,,CL$52)),0)","v":0},{"$f":"IFERROR(SUMPRODUCT(--(INDEX(Model_Inputs_Ref_Units,,CM$51)=$E96),INDEX(Model_Inputs_Ref_Units,,CM$52)),0)","v":0},{"$f":"IFERROR(SUMPRODUCT(--(INDEX(Model_Inputs_Ref_Units,,CN$51)=$E96),INDEX(Model_Inputs_Ref_Units,,CN$52)),0)","v":0},{"$f":"IFERROR(SUMPRODUCT(--(INDEX(Model_Inputs_Ref_Units,,CO$51)=$E96),INDEX(Model_Inputs_Ref_Units,,CO$52)),0)","v":0},{"$f":"IFERROR(SUMPRODUCT(--(INDEX(Model_Inputs_Ref_Units,,CP$51)=$E96),INDEX(Model_Inputs_Ref_Units,,CP$52)),0)","v":0},{"$f":"IFERROR(SUMPRODUCT(--(INDEX(Model_Inputs_Ref_Units,,CQ$51)=$E96),INDEX(Model_Inputs_Ref_Units,,CQ$52)),0)","v":0},{"$f":"IFERROR(SUMPRODUCT(--(INDEX(Model_Inputs_Ref_Units,,CR$51)=$E96),INDEX(Model_Inputs_Ref_Units,,CR$52)),0)","v":0},{"$f":"IFERROR(SUMPRODUCT(--(INDEX(Model_Inputs_Ref_Units,,CS$51)=$E96),INDEX(Model_Inputs_Ref_Units,,CS$52)),0)","v":0},{"$f":"IFERROR(SUMPRODUCT(--(INDEX(Model_Inputs_Ref_Units,,CT$51)=$E96),INDEX(Model_Inputs_Ref_Units,,CT$52)),0)","v":0},{"$f":"IFERROR(SUMPRODUCT(--(INDEX(Model_Inputs_Ref_Units,,CU$51)=$E96),INDEX(Model_Inputs_Ref_Units,,CU$52)),0)","v":0},{"$f":"IFERROR(SUMPRODUCT(--(INDEX(Model_Inputs_Ref_Units,,CV$51)=$E96),INDEX(Model_Inputs_Ref_Units,,CV$52)),0)","v":0},{"$f":"IFERROR(SUMPRODUCT(--(INDEX(Model_Inputs_Ref_Units,,CW$51)=$E96),INDEX(Model_Inputs_Ref_Units,,CW$52)),0)","v":0},{"$f":"IFERROR(SUMPRODUCT(--(INDEX(Model_Inputs_Ref_Units,,CX$51)=$E96),INDEX(Model_Inputs_Ref_Units,,CX$52)),0)","v":0},{"$f":"IFERROR(SUMPRODUCT(--(INDEX(Model_Inputs_Ref_Units,,CY$51)=$E96),INDEX(Model_Inputs_Ref_Units,,CY$52)),0)","v":0},{"$f":"IFERROR(SUMPRODUCT(--(INDEX(Model_Inputs_Ref_Units,,CZ$51)=$E96),INDEX(Model_Inputs_Ref_Units,,CZ$52)),0)","v":0},{"$f":"IFERROR(SUMPRODUCT(--(INDEX(Model_Inputs_Ref_Units,,DA$51)=$E96),INDEX(Model_Inputs_Ref_Units,,DA$52)),0)","v":0},{"$f":"IFERROR(SUMPRODUCT(--(INDEX(Model_Inputs_Ref_Units,,DB$51)=$E96),INDEX(Model_Inputs_Ref_Units,,DB$52)),0)","v":0},{"$f":"IFERROR(SUMPRODUCT(--(INDEX(Model_Inputs_Ref_Units,,DC$51)=$E96),INDEX(Model_Inputs_Ref_Units,,DC$52)),0)","v":0},{"$f":"IFERROR(SUMPRODUCT(--(INDEX(Model_Inputs_Ref_Units,,DD$51)=$E96),INDEX(Model_Inputs_Ref_Units,,DD$52)),0)","v":0},{"$f":"IFERROR(SUMPRODUCT(--(INDEX(Model_Inputs_Ref_Units,,DE$51)=$E96),INDEX(Model_Inputs_Ref_Units,,DE$52)),0)","v":0},{"$f":"IFERROR(SUMPRODUCT(--(INDEX(Model_Inputs_Ref_Units,,DF$51)=$E96),INDEX(Model_Inputs_Ref_Units,,DF$52)),0)","v":0}]
[null,null,{"$error":"#DIV/0!"},null,{"$f":"IFERROR(INDEX(Ref_Data,1,F97),\"\")","v":""},44,0,0,0,0,{"$f":"IFERROR(SUMPRODUCT(--(INDEX(Model_Inputs_Ref_Units,,K$51)=$E97),INDEX(Model_Inputs_Ref_Units,,K$52)),0)","v":0},{"$f":"IFERROR(SUMPRODUCT(--(INDEX(Model_Inputs_Ref_Units,,L$51)=$E97),INDEX(Model_Inputs_Ref_Units,,L$52)),0)","v":0},{"$f":"IFERROR(SUMPRODUCT(--(INDEX(Model_Inputs_Ref_Units,,M$51)=$E97),INDEX(Model_Inputs_Ref_Units,,M$52)),0)","v":0},{"$f":"IFERROR(SUMPRODUCT(--(INDEX(Model_Inputs_Ref_Units,,N$51)=$E97),INDEX(Model_Inputs_Ref_Units,,N$52)),0)","v":0},{"$f":"IFERROR(SUMPRODUCT(--(INDEX(Model_Inputs_Ref_Units,,O$51)=$E97),INDEX(Model_Inputs_Ref_Units,,O$52)),0)","v":0},{"$f":"IFERROR(SUMPRODUCT(--(INDEX(Model_Inputs_Ref_Units,,P$51)=$E97),INDEX(Model_Inputs_Ref_Units,,P$52)),0)","v":0},{"$f":"IFERROR(SUMPRODUCT(--(INDEX(Model_Inputs_Ref_Units,,Q$51)=$E97),INDEX(Model_Inputs_Ref_Units,,Q$52)),0)","v":0},{"$f":"IFERROR(SUMPRODUCT(--(INDEX(Model_Inputs_Ref_Units,,R$51)=$E97),INDEX(Model_Inputs_Ref_Units,,R$52)),0)","v":0},{"$f":"IFERROR(SUMPRODUCT(--(INDEX(Model_Inputs_Ref_Units,,S$51)=$E97),INDEX(Model_Inputs_Ref_Units,,S$52)),0)","v":0},{"$f":"IFERROR(SUMPRODUCT(--(INDEX(Model_Inputs_Ref_Units,,T$51)=$E97),INDEX(Model_Inputs_Ref_Units,,T$52)),0)","v":0},{"$f":"IFERROR(SUMPRODUCT(--(INDEX(Model_Inputs_Ref_Units,,U$51)=$E97),INDEX(Model_Inputs_Ref_Units,,U$52)),0)","v":0},{"$f":"IFERROR(SUMPRODUCT(--(INDEX(Model_Inputs_Ref_Units,,V$51)=$E97),INDEX(Model_Inputs_Ref_Units,,V$52)),0)","v":0},{"$f":"IFERROR(SUMPRODUCT(--(INDEX(Model_Inputs_Ref_Units,,W$51)=$E97),INDEX(Model_Inputs_Ref_Units,,W$52)),0)","v":0},{"$f":"IFERROR(SUMPRODUCT(--(INDEX(Model_Inputs_Ref_Units,,X$51)=$E97),INDEX(Model_Inputs_Ref_Units,,X$52)),0)","v":0},{"$f":"IFERROR(SUMPRODUCT(--(INDEX(Model_Inputs_Ref_Units,,Y$51)=$E97),INDEX(Model_Inputs_Ref_Units,,Y$52)),0)","v":0},{"$f":"IFERROR(SUMPRODUCT(--(INDEX(Model_Inputs_Ref_Units,,Z$51)=$E97),INDEX(Model_Inputs_Ref_Units,,Z$52)),0)","v":0},{"$f":"IFERROR(SUMPRODUCT(--(INDEX(Model_Inputs_Ref_Units,,AA$51)=$E97),INDEX(Model_Inputs_Ref_Units,,AA$52)),0)","v":0},{"$f":"IFERROR(SUMPRODUCT(--(INDEX(Model_Inputs_Ref_Units,,AB$51)=$E97),INDEX(Model_Inputs_Ref_Units,,AB$52)),0)","v":0},{"$f":"IFERROR(SUMPRODUCT(--(INDEX(Model_Inputs_Ref_Units,,AC$51)=$E97),INDEX(Model_Inputs_Ref_Units,,AC$52)),0)","v":0},{"$f":"IFERROR(SUMPRODUCT(--(INDEX(Model_Inputs_Ref_Units,,AD$51)=$E97),INDEX(Model_Inputs_Ref_Units,,AD$52)),0)","v":0},{"$f":"IFERROR(SUMPRODUCT(--(INDEX(Model_Inputs_Ref_Units,,AE$51)=$E97),INDEX(Model_Inputs_Ref_Units,,AE$52)),0)","v":0},{"$f":"IFERROR(SUMPRODUCT(--(INDEX(Model_Inputs_Ref_Units,,AF$51)=$E97),INDEX(Model_Inputs_Ref_Units,,AF$52)),0)","v":0},{"$f":"IFERROR(SUMPRODUCT(--(INDEX(Model_Inputs_Ref_Units,,AG$51)=$E97),INDEX(Model_Inputs_Ref_Units,,AG$52)),0)","v":0},{"$f":"IFERROR(SUMPRODUCT(--(INDEX(Model_Inputs_Ref_Units,,AH$51)=$E97),INDEX(Model_Inputs_Ref_Units,,AH$52)),0)","v":0},{"$f":"IFERROR(SUMPRODUCT(--(INDEX(Model_Inputs_Ref_Units,,AI$51)=$E97),INDEX(Model_Inputs_Ref_Units,,AI$52)),0)","v":0},{"$f":"IFERROR(SUMPRODUCT(--(INDEX(Model_Inputs_Ref_Units,,AJ$51)=$E97),INDEX(Model_Inputs_Ref_Units,,AJ$52)),0)","v":0},{"$f":"IFERROR(SUMPRODUCT(--(INDEX(Model_Inputs_Ref_Units,,AK$51)=$E97),INDEX(Model_Inputs_Ref_Units,,AK$52)),0)","v":0},{"$f":"IFERROR(SUMPRODUCT(--(INDEX(Model_Inputs_Ref_Units,,AL$51)=$E97),INDEX(Model_Inputs_Ref_Units,,AL$52)),0)","v":0},{"$f":"IFERROR(SUMPRODUCT(--(INDEX(Model_Inputs_Ref_Units,,AM$51)=$E97),INDEX(Model_Inputs_Ref_Units,,AM$52)),0)","v":0},{"$f":"IFERROR(SUMPRODUCT(--(INDEX(Model_Inputs_Ref_Units,,AN$51)=$E97),INDEX(Model_Inputs_Ref_Units,,AN$52)),0)","v":0},{"$f":"IFERROR(SUMPRODUCT(--(INDEX(Model_Inputs_Ref_Units,,AO$51)=$E97),INDEX(Model_Inputs_Ref_Units,,AO$52)),0)","v":0},{"$f":"IFERROR(SUMPRODUCT(--(INDEX(Model_Inputs_Ref_Units,,AP$51)=$E97),INDEX(Model_Inputs_Ref_Units,,AP$52)),0)","v":0},{"$f":"IFERROR(SUMPRODUCT(--(INDEX(Model_Inputs_Ref_Units,,AQ$51)=$E97),INDEX(Model_Inputs_Ref_Units,,AQ$52)),0)","v":0},{"$f":"IFERROR(SUMPRODUCT(--(INDEX(Model_Inputs_Ref_Units,,AR$51)=$E97),INDEX(Model_Inputs_Ref_Units,,AR$52)),0)","v":0},{"$f":"IFERROR(SUMPRODUCT(--(INDEX(Model_Inputs_Ref_Units,,AS$51)=$E97),INDEX(Model_Inputs_Ref_Units,,AS$52)),0)","v":0},{"$f":"IFERROR(SUMPRODUCT(--(INDEX(Model_Inputs_Ref_Units,,AT$51)=$E97),INDEX(Model_Inputs_Ref_Units,,AT$52)),0)","v":0},{"$f":"IFERROR(SUMPRODUCT(--(INDEX(Model_Inputs_Ref_Units,,AU$51)=$E97),INDEX(Model_Inputs_Ref_Units,,AU$52)),0)","v":0},{"$f":"IFERROR(SUMPRODUCT(--(INDEX(Model_Inputs_Ref_Units,,AV$51)=$E97),INDEX(Model_Inputs_Ref_Units,,AV$52)),0)","v":0},{"$f":"IFERROR(SUMPRODUCT(--(INDEX(Model_Inputs_Ref_Units,,AW$51)=$E97),INDEX(Model_Inputs_Ref_Units,,AW$52)),0)","v":0},{"$f":"IFERROR(SUMPRODUCT(--(INDEX(Model_Inputs_Ref_Units,,AX$51)=$E97),INDEX(Model_Inputs_Ref_Units,,AX$52)),0)","v":0},{"$f":"IFERROR(SUMPRODUCT(--(INDEX(Model_Inputs_Ref_Units,,AY$51)=$E97),INDEX(Model_Inputs_Ref_Units,,AY$52)),0)","v":0},{"$f":"IFERROR(SUMPRODUCT(--(INDEX(Model_Inputs_Ref_Units,,AZ$51)=$E97),INDEX(Model_Inputs_Ref_Units,,AZ$52)),0)","v":0},{"$f":"IFERROR(SUMPRODUCT(--(INDEX(Model_Inputs_Ref_Units,,BA$51)=$E97),INDEX(Model_Inputs_Ref_Units,,BA$52)),0)","v":0},{"$f":"IFERROR(SUMPRODUCT(--(INDEX(Model_Inputs_Ref_Units,,BB$51)=$E97),INDEX(Model_Inputs_Ref_Units,,BB$52)),0)","v":0},{"$f":"IFERROR(SUMPRODUCT(--(INDEX(Model_Inputs_Ref_Units,,BC$51)=$E97),INDEX(Model_Inputs_Ref_Units,,BC$52)),0)","v":0},{"$f":"IFERROR(SUMPRODUCT(--(INDEX(Model_Inputs_Ref_Units,,BD$51)=$E97),INDEX(Model_Inputs_Ref_Units,,BD$52)),0)","v":0},{"$f":"IFERROR(SUMPRODUCT(--(INDEX(Model_Inputs_Ref_Units,,BE$51)=$E97),INDEX(Model_Inputs_Ref_Units,,BE$52)),0)","v":0},{"$f":"IFERROR(SUMPRODUCT(--(INDEX(Model_Inputs_Ref_Units,,BF$51)=$E97),INDEX(Model_Inputs_Ref_Units,,BF$52)),0)","v":0},{"$f":"IFERROR(SUMPRODUCT(--(INDEX(Model_Inputs_Ref_Units,,BG$51)=$E97),INDEX(Model_Inputs_Ref_Units,,BG$52)),0)","v":0},{"$f":"IFERROR(SUMPRODUCT(--(INDEX(Model_Inputs_Ref_Units,,BH$51)=$E97),INDEX(Model_Inputs_Ref_Units,,BH$52)),0)","v":0},{"$f":"IFERROR(SUMPRODUCT(--(INDEX(Model_Inputs_Ref_Units,,BI$51)=$E97),INDEX(Model_Inputs_Ref_Units,,BI$52)),0)","v":0},{"$f":"IFERROR(SUMPRODUCT(--(INDEX(Model_Inputs_Ref_Units,,BJ$51)=$E97),INDEX(Model_Inputs_Ref_Units,,BJ$52)),0)","v":0},{"$f":"IFERROR(SUMPRODUCT(--(INDEX(Model_Inputs_Ref_Units,,BK$51)=$E97),INDEX(Model_Inputs_Ref_Units,,BK$52)),0)","v":0},{"$f":"IFERROR(SUMPRODUCT(--(INDEX(Model_Inputs_Ref_Units,,BL$51)=$E97),INDEX(Model_Inputs_Ref_Units,,BL$52)),0)","v":0},{"$f":"IFERROR(SUMPRODUCT(--(INDEX(Model_Inputs_Ref_Units,,BM$51)=$E97),INDEX(Model_Inputs_Ref_Units,,BM$52)),0)","v":0},{"$f":"IFERROR(SUMPRODUCT(--(INDEX(Model_Inputs_Ref_Units,,BN$51)=$E97),INDEX(Model_Inputs_Ref_Units,,BN$52)),0)","v":0},{"$f":"IFERROR(SUMPRODUCT(--(INDEX(Model_Inputs_Ref_Units,,BO$51)=$E97),INDEX(Model_Inputs_Ref_Units,,BO$52)),0)","v":0},{"$f":"IFERROR(SUMPRODUCT(--(INDEX(Model_Inputs_Ref_Units,,BP$51)=$E97),INDEX(Model_Inputs_Ref_Units,,BP$52)),0)","v":0},{"$f":"IFERROR(SUMPRODUCT(--(INDEX(Model_Inputs_Ref_Units,,BQ$51)=$E97),INDEX(Model_Inputs_Ref_Units,,BQ$52)),0)","v":0},{"$f":"IFERROR(SUMPRODUCT(--(INDEX(Model_Inputs_Ref_Units,,BR$51)=$E97),INDEX(Model_Inputs_Ref_Units,,BR$52)),0)","v":0},{"$f":"IFERROR(SUMPRODUCT(--(INDEX(Model_Inputs_Ref_Units,,BS$51)=$E97),INDEX(Model_Inputs_Ref_Units,,BS$52)),0)","v":0},{"$f":"IFERROR(SUMPRODUCT(--(INDEX(Model_Inputs_Ref_Units,,BT$51)=$E97),INDEX(Model_Inputs_Ref_Units,,BT$52)),0)","v":0},{"$f":"IFERROR(SUMPRODUCT(--(INDEX(Model_Inputs_Ref_Units,,BU$51)=$E97),INDEX(Model_Inputs_Ref_Units,,BU$52)),0)","v":0},{"$f":"IFERROR(SUMPRODUCT(--(INDEX(Model_Inputs_Ref_Units,,BV$51)=$E97),INDEX(Model_Inputs_Ref_Units,,BV$52)),0)","v":0},{"$f":"IFERROR(SUMPRODUCT(--(INDEX(Model_Inputs_Ref_Units,,BW$51)=$E97),INDEX(Model_Inputs_Ref_Units,,BW$52)),0)","v":0},{"$f":"IFERROR(SUMPRODUCT(--(INDEX(Model_Inputs_Ref_Units,,BX$51)=$E97),INDEX(Model_Inputs_Ref_Units,,BX$52)),0)","v":0},{"$f":"IFERROR(SUMPRODUCT(--(INDEX(Model_Inputs_Ref_Units,,BY$51)=$E97),INDEX(Model_Inputs_Ref_Units,,BY$52)),0)","v":0},{"$f":"IFERROR(SUMPRODUCT(--(INDEX(Model_Inputs_Ref_Units,,BZ$51)=$E97),INDEX(Model_Inputs_Ref_Units,,BZ$52)),0)","v":0},{"$f":"IFERROR(SUMPRODUCT(--(INDEX(Model_Inputs_Ref_Units,,CA$51)=$E97),INDEX(Model_Inputs_Ref_Units,,CA$52)),0)","v":0},{"$f":"IFERROR(SUMPRODUCT(--(INDEX(Model_Inputs_Ref_Units,,CB$51)=$E97),INDEX(Model_Inputs_Ref_Units,,CB$52)),0)","v":0},{"$f":"IFERROR(SUMPRODUCT(--(INDEX(Model_Inputs_Ref_Units,,CC$51)=$E97),INDEX(Model_Inputs_Ref_Units,,CC$52)),0)","v":0},{"$f":"IFERROR(SUMPRODUCT(--(INDEX(Model_Inputs_Ref_Units,,CD$51)=$E97),INDEX(Model_Inputs_Ref_Units,,CD$52)),0)","v":0},{"$f":"IFERROR(SUMPRODUCT(--(INDEX(Model_Inputs_Ref_Units,,CE$51)=$E97),INDEX(Model_Inputs_Ref_Units,,CE$52)),0)","v":0},{"$f":"IFERROR(SUMPRODUCT(--(INDEX(Model_Inputs_Ref_Units,,CF$51)=$E97),INDEX(Model_Inputs_Ref_Units,,CF$52)),0)","v":0},{"$f":"IFERROR(SUMPRODUCT(--(INDEX(Model_Inputs_Ref_Units,,CG$51)=$E97),INDEX(Model_Inputs_Ref_Units,,CG$52)),0)","v":0},{"$f":"IFERROR(SUMPRODUCT(--(INDEX(Model_Inputs_Ref_Units,,CH$51)=$E97),INDEX(Model_Inputs_Ref_Units,,CH$52)),0)","v":0},{"$f":"IFERROR(SUMPRODUCT(--(INDEX(Model_Inputs_Ref_Units,,CI$51)=$E97),INDEX(Model_Inputs_Ref_Units,,CI$52)),0)","v":0},{"$f":"IFERROR(SUMPRODUCT(--(INDEX(Model_Inputs_Ref_Units,,CJ$51)=$E97),INDEX(Model_Inputs_Ref_Units,,CJ$52)),0)","v":0},{"$f":"IFERROR(SUMPRODUCT(--(INDEX(Model_Inputs_Ref_Units,,CK$51)=$E97),INDEX(Model_Inputs_Ref_Units,,CK$52)),0)","v":0},{"$f":"IFERROR(SUMPRODUCT(--(INDEX(Model_Inputs_Ref_Units,,CL$51)=$E97),INDEX(Model_Inputs_Ref_Units,,CL$52)),0)","v":0},{"$f":"IFERROR(SUMPRODUCT(--(INDEX(Model_Inputs_Ref_Units,,CM$51)=$E97),INDEX(Model_Inputs_Ref_Units,,CM$52)),0)","v":0},{"$f":"IFERROR(SUMPRODUCT(--(INDEX(Model_Inputs_Ref_Units,,CN$51)=$E97),INDEX(Model_Inputs_Ref_Units,,CN$52)),0)","v":0},{"$f":"IFERROR(SUMPRODUCT(--(INDEX(Model_Inputs_Ref_Units,,CO$51)=$E97),INDEX(Model_Inputs_Ref_Units,,CO$52)),0)","v":0},{"$f":"IFERROR(SUMPRODUCT(--(INDEX(Model_Inputs_Ref_Units,,CP$51)=$E97),INDEX(Model_Inputs_Ref_Units,,CP$52)),0)","v":0},{"$f":"IFERROR(SUMPRODUCT(--(INDEX(Model_Inputs_Ref_Units,,CQ$51)=$E97),INDEX(Model_Inputs_Ref_Units,,CQ$52)),0)","v":0},{"$f":"IFERROR(SUMPRODUCT(--(INDEX(Model_Inputs_Ref_Units,,CR$51)=$E97),INDEX(Model_Inputs_Ref_Units,,CR$52)),0)","v":0},{"$f":"IFERROR(SUMPRODUCT(--(INDEX(Model_Inputs_Ref_Units,,CS$51)=$E97),INDEX(Model_Inputs_Ref_Units,,CS$52)),0)","v":0},{"$f":"IFERROR(SUMPRODUCT(--(INDEX(Model_Inputs_Ref_Units,,CT$51)=$E97),INDEX(Model_Inputs_Ref_Units,,CT$52)),0)","v":0},{"$f":"IFERROR(SUMPRODUCT(--(INDEX(Model_Inputs_Ref_Units,,CU$51)=$E97),INDEX(Model_Inputs_Ref_Units,,CU$52)),0)","v":0},{"$f":"IFERROR(SUMPRODUCT(--(INDEX(Model_Inputs_Ref_Units,,CV$51)=$E97),INDEX(Model_Inputs_Ref_Units,,CV$52)),0)","v":0},{"$f":"IFERROR(SUMPRODUCT(--(INDEX(Model_Inputs_Ref_Units,,CW$51)=$E97),INDEX(Model_Inputs_Ref_Units,,CW$52)),0)","v":0},{"$f":"IFERROR(SUMPRODUCT(--(INDEX(Model_Inputs_Ref_Units,,CX$51)=$E97),INDEX(Model_Inputs_Ref_Units,,CX$52)),0)","v":0},{"$f":"IFERROR(SUMPRODUCT(--(INDEX(Model_Inputs_Ref_Units,,CY$51)=$E97),INDEX(Model_Inputs_Ref_Units,,CY$52)),0)","v":0},{"$f":"IFERROR(SUMPRODUCT(--(INDEX(Model_Inputs_Ref_Units,,CZ$51)=$E97),INDEX(Model_Inputs_Ref_Units,,CZ$52)),0)","v":0},{"$f":"IFERROR(SUMPRODUCT(--(INDEX(Model_Inputs_Ref_Units,,DA$51)=$E97),INDEX(Model_Inputs_Ref_Units,,DA$52)),0)","v":0},{"$f":"IFERROR(SUMPRODUCT(--(INDEX(Model_Inputs_Ref_Units,,DB$51)=$E97),INDEX(Model_Inputs_Ref_Units,,DB$52)),0)","v":0},{"$f":"IFERROR(SUMPRODUCT(--(INDEX(Model_Inputs_Ref_Units,,DC$51)=$E97),INDEX(Model_Inputs_Ref_Units,,DC$52)),0)","v":0},{"$f":"IFERROR(SUMPRODUCT(--(INDEX(Model_Inputs_Ref_Units,,DD$51)=$E97),INDEX(Model_Inputs_Ref_Units,,DD$52)),0)","v":0},{"$f":"IFERROR(SUMPRODUCT(--(INDEX(Model_Inputs_Ref_Units,,DE$51)=$E97),INDEX(Model_Inputs_Ref_Units,,DE$52)),0)","v":0},{"$f":"IFERROR(SUMPRODUCT(--(INDEX(Model_Inputs_Ref_Units,,DF$51)=$E97),INDEX(Model_Inputs_Ref_Units,,DF$52)),0)","v":0}]
[null,null,{"$error":"#DIV/0!"},null,{"$f":"IFERROR(INDEX(Ref_Data,1,F98),\"\")","v":""},45,0,0,0,0,{"$f":"IFERROR(SUMPRODUCT(--(INDEX(Model_Inputs_Ref_Units,,K$51)=$E98),INDEX(Model_Inputs_Ref_Units,,K$52)),0)","v":0},{"$f":"IFERROR(SUMPRODUCT(--(INDEX(Model_Inputs_Ref_Units,,L$51)=$E98),INDEX(Model_Inputs_Ref_Units,,L$52)),0)","v":0},{"$f":"IFERROR(SUMPRODUCT(--(INDEX(Model_Inputs_Ref_Units,,M$51)=$E98),INDEX(Model_Inputs_Ref_Units,,M$52)),0)","v":0},{"$f":"IFERROR(SUMPRODUCT(--(INDEX(Model_Inputs_Ref_Units,,N$51)=$E98),INDEX(Model_Inputs_Ref_Units,,N$52)),0)","v":0},{"$f":"IFERROR(SUMPRODUCT(--(INDEX(Model_Inputs_Ref_Units,,O$51)=$E98),INDEX(Model_Inputs_Ref_Units,,O$52)),0)","v":0},{"$f":"IFERROR(SUMPRODUCT(--(INDEX(Model_Inputs_Ref_Units,,P$51)=$E98),INDEX(Model_Inputs_Ref_Units,,P$52)),0)","v":0},{"$f":"IFERROR(SUMPRODUCT(--(INDEX(Model_Inputs_Ref_Units,,Q$51)=$E98),INDEX(Model_Inputs_Ref_Units,,Q$52)),0)","v":0},{"$f":"IFERROR(SUMPRODUCT(--(INDEX(Model_Inputs_Ref_Units,,R$51)=$E98),INDEX(Model_Inputs_Ref_Units,,R$52)),0)","v":0},{"$f":"IFERROR(SUMPRODUCT(--(INDEX(Model_Inputs_Ref_Units,,S$51)=$E98),INDEX(Model_Inputs_Ref_Units,,S$52)),0)","v":0},{"$f":"IFERROR(SUMPRODUCT(--(INDEX(Model_Inputs_Ref_Units,,T$51)=$E98),INDEX(Model_Inputs_Ref_Units,,T$52)),0)","v":0},{"$f":"IFERROR(SUMPRODUCT(--(INDEX(Model_Inputs_Ref_Units,,U$51)=$E98),INDEX(Model_Inputs_Ref_Units,,U$52)),0)","v":0},{"$f":"IFERROR(SUMPRODUCT(--(INDEX(Model_Inputs_Ref_Units,,V$51)=$E98),INDEX(Model_Inputs_Ref_Units,,V$52)),0)","v":0},{"$f":"IFERROR(SUMPRODUCT(--(INDEX(Model_Inputs_Ref_Units,,W$51)=$E98),INDEX(Model_Inputs_Ref_Units,,W$52)),0)","v":0},{"$f":"IFERROR(SUMPRODUCT(--(INDEX(Model_Inputs_Ref_Units,,X$51)=$E98),INDEX(Model_Inputs_Ref_Units,,X$52)),0)","v":0},{"$f":"IFERROR(SUMPRODUCT(--(INDEX(Model_Inputs_Ref_Units,,Y$51)=$E98),INDEX(Model_Inputs_Ref_Units,,Y$52)),0)","v":0},{"$f":"IFERROR(SUMPRODUCT(--(INDEX(Model_Inputs_Ref_Units,,Z$51)=$E98),INDEX(Model_Inputs_Ref_Units,,Z$52)),0)","v":0},{"$f":"IFERROR(SUMPRODUCT(--(INDEX(Model_Inputs_Ref_Units,,AA$51)=$E98),INDEX(Model_Inputs_Ref_Units,,AA$52)),0)","v":0},{"$f":"IFERROR(SUMPRODUCT(--(INDEX(Model_Inputs_Ref_Units,,AB$51)=$E98),INDEX(Model_Inputs_Ref_Units,,AB$52)),0)","v":0},{"$f":"IFERROR(SUMPRODUCT(--(INDEX(Model_Inputs_Ref_Units,,AC$51)=$E98),INDEX(Model_Inputs_Ref_Units,,AC$52)),0)","v":0},{"$f":"IFERROR(SUMPRODUCT(--(INDEX(Model_Inputs_Ref_Units,,AD$51)=$E98),INDEX(Model_Inputs_Ref_Units,,AD$52)),0)","v":0},{"$f":"IFERROR(SUMPRODUCT(--(INDEX(Model_Inputs_Ref_Units,,AE$51)=$E98),INDEX(Model_Inputs_Ref_Units,,AE$52)),0)","v":0},{"$f":"IFERROR(SUMPRODUCT(--(INDEX(Model_Inputs_Ref_Units,,AF$51)=$E98),INDEX(Model_Inputs_Ref_Units,,AF$52)),0)","v":0},{"$f":"IFERROR(SUMPRODUCT(--(INDEX(Model_Inputs_Ref_Units,,AG$51)=$E98),INDEX(Model_Inputs_Ref_Units,,AG$52)),0)","v":0},{"$f":"IFERROR(SUMPRODUCT(--(INDEX(Model_Inputs_Ref_Units,,AH$51)=$E98),INDEX(Model_Inputs_Ref_Units,,AH$52)),0)","v":0},{"$f":"IFERROR(SUMPRODUCT(--(INDEX(Model_Inputs_Ref_Units,,AI$51)=$E98),INDEX(Model_Inputs_Ref_Units,,AI$52)),0)","v":0},{"$f":"IFERROR(SUMPRODUCT(--(INDEX(Model_Inputs_Ref_Units,,AJ$51)=$E98),INDEX(Model_Inputs_Ref_Units,,AJ$52)),0)","v":0},{"$f":"IFERROR(SUMPRODUCT(--(INDEX(Model_Inputs_Ref_Units,,AK$51)=$E98),INDEX(Model_Inputs_Ref_Units,,AK$52)),0)","v":0},{"$f":"IFERROR(SUMPRODUCT(--(INDEX(Model_Inputs_Ref_Units,,AL$51)=$E98),INDEX(Model_Inputs_Ref_Units,,AL$52)),0)","v":0},{"$f":"IFERROR(SUMPRODUCT(--(INDEX(Model_Inputs_Ref_Units,,AM$51)=$E98),INDEX(Model_Inputs_Ref_Units,,AM$52)),0)","v":0},{"$f":"IFERROR(SUMPRODUCT(--(INDEX(Model_Inputs_Ref_Units,,AN$51)=$E98),INDEX(Model_Inputs_Ref_Units,,AN$52)),0)","v":0},{"$f":"IFERROR(SUMPRODUCT(--(INDEX(Model_Inputs_Ref_Units,,AO$51)=$E98),INDEX(Model_Inputs_Ref_Units,,AO$52)),0)","v":0},{"$f":"IFERROR(SUMPRODUCT(--(INDEX(Model_Inputs_Ref_Units,,AP$51)=$E98),INDEX(Model_Inputs_Ref_Units,,AP$52)),0)","v":0},{"$f":"IFERROR(SUMPRODUCT(--(INDEX(Model_Inputs_Ref_Units,,AQ$51)=$E98),INDEX(Model_Inputs_Ref_Units,,AQ$52)),0)","v":0},{"$f":"IFERROR(SUMPRODUCT(--(INDEX(Model_Inputs_Ref_Units,,AR$51)=$E98),INDEX(Model_Inputs_Ref_Units,,AR$52)),0)","v":0},{"$f":"IFERROR(SUMPRODUCT(--(INDEX(Model_Inputs_Ref_Units,,AS$51)=$E98),INDEX(Model_Inputs_Ref_Units,,AS$52)),0)","v":0},{"$f":"IFERROR(SUMPRODUCT(--(INDEX(Model_Inputs_Ref_Units,,AT$51)=$E98),INDEX(Model_Inputs_Ref_Units,,AT$52)),0)","v":0},{"$f":"IFERROR(SUMPRODUCT(--(INDEX(Model_Inputs_Ref_Units,,AU$51)=$E98),INDEX(Model_Inputs_Ref_Units,,AU$52)),0)","v":0},{"$f":"IFERROR(SUMPRODUCT(--(INDEX(Model_Inputs_Ref_Units,,AV$51)=$E98),INDEX(Model_Inputs_Ref_Units,,AV$52)),0)","v":0},{"$f":"IFERROR(SUMPRODUCT(--(INDEX(Model_Inputs_Ref_Units,,AW$51)=$E98),INDEX(Model_Inputs_Ref_Units,,AW$52)),0)","v":0},{"$f":"IFERROR(SUMPRODUCT(--(INDEX(Model_Inputs_Ref_Units,,AX$51)=$E98),INDEX(Model_Inputs_Ref_Units,,AX$52)),0)","v":0},{"$f":"IFERROR(SUMPRODUCT(--(INDEX(Model_Inputs_Ref_Units,,AY$51)=$E98),INDEX(Model_Inputs_Ref_Units,,AY$52)),0)","v":0},{"$f":"IFERROR(SUMPRODUCT(--(INDEX(Model_Inputs_Ref_Units,,AZ$51)=$E98),INDEX(Model_Inputs_Ref_Units,,AZ$52)),0)","v":0},{"$f":"IFERROR(SUMPRODUCT(--(INDEX(Model_Inputs_Ref_Units,,BA$51)=$E98),INDEX(Model_Inputs_Ref_Units,,BA$52)),0)","v":0},{"$f":"IFERROR(SUMPRODUCT(--(INDEX(Model_Inputs_Ref_Units,,BB$51)=$E98),INDEX(Model_Inputs_Ref_Units,,BB$52)),0)","v":0},{"$f":"IFERROR(SUMPRODUCT(--(INDEX(Model_Inputs_Ref_Units,,BC$51)=$E98),INDEX(Model_Inputs_Ref_Units,,BC$52)),0)","v":0},{"$f":"IFERROR(SUMPRODUCT(--(INDEX(Model_Inputs_Ref_Units,,BD$51)=$E98),INDEX(Model_Inputs_Ref_Units,,BD$52)),0)","v":0},{"$f":"IFERROR(SUMPRODUCT(--(INDEX(Model_Inputs_Ref_Units,,BE$51)=$E98),INDEX(Model_Inputs_Ref_Units,,BE$52)),0)","v":0},{"$f":"IFERROR(SUMPRODUCT(--(INDEX(Model_Inputs_Ref_Units,,BF$51)=$E98),INDEX(Model_Inputs_Ref_Units,,BF$52)),0)","v":0},{"$f":"IFERROR(SUMPRODUCT(--(INDEX(Model_Inputs_Ref_Units,,BG$51)=$E98),INDEX(Model_Inputs_Ref_Units,,BG$52)),0)","v":0},{"$f":"IFERROR(SUMPRODUCT(--(INDEX(Model_Inputs_Ref_Units,,BH$51)=$E98),INDEX(Model_Inputs_Ref_Units,,BH$52)),0)","v":0},{"$f":"IFERROR(SUMPRODUCT(--(INDEX(Model_Inputs_Ref_Units,,BI$51)=$E98),INDEX(Model_Inputs_Ref_Units,,BI$52)),0)","v":0},{"$f":"IFERROR(SUMPRODUCT(--(INDEX(Model_Inputs_Ref_Units,,BJ$51)=$E98),INDEX(Model_Inputs_Ref_Units,,BJ$52)),0)","v":0},{"$f":"IFERROR(SUMPRODUCT(--(INDEX(Model_Inputs_Ref_Units,,BK$51)=$E98),INDEX(Model_Inputs_Ref_Units,,BK$52)),0)","v":0},{"$f":"IFERROR(SUMPRODUCT(--(INDEX(Model_Inputs_Ref_Units,,BL$51)=$E98),INDEX(Model_Inputs_Ref_Units,,BL$52)),0)","v":0},{"$f":"IFERROR(SUMPRODUCT(--(INDEX(Model_Inputs_Ref_Units,,BM$51)=$E98),INDEX(Model_Inputs_Ref_Units,,BM$52)),0)","v":0},{"$f":"IFERROR(SUMPRODUCT(--(INDEX(Model_Inputs_Ref_Units,,BN$51)=$E98),INDEX(Model_Inputs_Ref_Units,,BN$52)),0)","v":0},{"$f":"IFERROR(SUMPRODUCT(--(INDEX(Model_Inputs_Ref_Units,,BO$51)=$E98),INDEX(Model_Inputs_Ref_Units,,BO$52)),0)","v":0},{"$f":"IFERROR(SUMPRODUCT(--(INDEX(Model_Inputs_Ref_Units,,BP$51)=$E98),INDEX(Model_Inputs_Ref_Units,,BP$52)),0)","v":0},{"$f":"IFERROR(SUMPRODUCT(--(INDEX(Model_Inputs_Ref_Units,,BQ$51)=$E98),INDEX(Model_Inputs_Ref_Units,,BQ$52)),0)","v":0},{"$f":"IFERROR(SUMPRODUCT(--(INDEX(Model_Inputs_Ref_Units,,BR$51)=$E98),INDEX(Model_Inputs_Ref_Units,,BR$52)),0)","v":0},{"$f":"IFERROR(SUMPRODUCT(--(INDEX(Model_Inputs_Ref_Units,,BS$51)=$E98),INDEX(Model_Inputs_Ref_Units,,BS$52)),0)","v":0},{"$f":"IFERROR(SUMPRODUCT(--(INDEX(Model_Inputs_Ref_Units,,BT$51)=$E98),INDEX(Model_Inputs_Ref_Units,,BT$52)),0)","v":0},{"$f":"IFERROR(SUMPRODUCT(--(INDEX(Model_Inputs_Ref_Units,,BU$51)=$E98),INDEX(Model_Inputs_Ref_Units,,BU$52)),0)","v":0},{"$f":"IFERROR(SUMPRODUCT(--(INDEX(Model_Inputs_Ref_Units,,BV$51)=$E98),INDEX(Model_Inputs_Ref_Units,,BV$52)),0)","v":0},{"$f":"IFERROR(SUMPRODUCT(--(INDEX(Model_Inputs_Ref_Units,,BW$51)=$E98),INDEX(Model_Inputs_Ref_Units,,BW$52)),0)","v":0},{"$f":"IFERROR(SUMPRODUCT(--(INDEX(Model_Inputs_Ref_Units,,BX$51)=$E98),INDEX(Model_Inputs_Ref_Units,,BX$52)),0)","v":0},{"$f":"IFERROR(SUMPRODUCT(--(INDEX(Model_Inputs_Ref_Units,,BY$51)=$E98),INDEX(Model_Inputs_Ref_Units,,BY$52)),0)","v":0},{"$f":"IFERROR(SUMPRODUCT(--(INDEX(Model_Inputs_Ref_Units,,BZ$51)=$E98),INDEX(Model_Inputs_Ref_Units,,BZ$52)),0)","v":0},{"$f":"IFERROR(SUMPRODUCT(--(INDEX(Model_Inputs_Ref_Units,,CA$51)=$E98),INDEX(Model_Inputs_Ref_Units,,CA$52)),0)","v":0},{"$f":"IFERROR(SUMPRODUCT(--(INDEX(Model_Inputs_Ref_Units,,CB$51)=$E98),INDEX(Model_Inputs_Ref_Units,,CB$52)),0)","v":0},{"$f":"IFERROR(SUMPRODUCT(--(INDEX(Model_Inputs_Ref_Units,,CC$51)=$E98),INDEX(Model_Inputs_Ref_Units,,CC$52)),0)","v":0},{"$f":"IFERROR(SUMPRODUCT(--(INDEX(Model_Inputs_Ref_Units,,CD$51)=$E98),INDEX(Model_Inputs_Ref_Units,,CD$52)),0)","v":0},{"$f":"IFERROR(SUMPRODUCT(--(INDEX(Model_Inputs_Ref_Units,,CE$51)=$E98),INDEX(Model_Inputs_Ref_Units,,CE$52)),0)","v":0},{"$f":"IFERROR(SUMPRODUCT(--(INDEX(Model_Inputs_Ref_Units,,CF$51)=$E98),INDEX(Model_Inputs_Ref_Units,,CF$52)),0)","v":0},{"$f":"IFERROR(SUMPRODUCT(--(INDEX(Model_Inputs_Ref_Units,,CG$51)=$E98),INDEX(Model_Inputs_Ref_Units,,CG$52)),0)","v":0},{"$f":"IFERROR(SUMPRODUCT(--(INDEX(Model_Inputs_Ref_Units,,CH$51)=$E98),INDEX(Model_Inputs_Ref_Units,,CH$52)),0)","v":0},{"$f":"IFERROR(SUMPRODUCT(--(INDEX(Model_Inputs_Ref_Units,,CI$51)=$E98),INDEX(Model_Inputs_Ref_Units,,CI$52)),0)","v":0},{"$f":"IFERROR(SUMPRODUCT(--(INDEX(Model_Inputs_Ref_Units,,CJ$51)=$E98),INDEX(Model_Inputs_Ref_Units,,CJ$52)),0)","v":0},{"$f":"IFERROR(SUMPRODUCT(--(INDEX(Model_Inputs_Ref_Units,,CK$51)=$E98),INDEX(Model_Inputs_Ref_Units,,CK$52)),0)","v":0},{"$f":"IFERROR(SUMPRODUCT(--(INDEX(Model_Inputs_Ref_Units,,CL$51)=$E98),INDEX(Model_Inputs_Ref_Units,,CL$52)),0)","v":0},{"$f":"IFERROR(SUMPRODUCT(--(INDEX(Model_Inputs_Ref_Units,,CM$51)=$E98),INDEX(Model_Inputs_Ref_Units,,CM$52)),0)","v":0},{"$f":"IFERROR(SUMPRODUCT(--(INDEX(Model_Inputs_Ref_Units,,CN$51)=$E98),INDEX(Model_Inputs_Ref_Units,,CN$52)),0)","v":0},{"$f":"IFERROR(SUMPRODUCT(--(INDEX(Model_Inputs_Ref_Units,,CO$51)=$E98),INDEX(Model_Inputs_Ref_Units,,CO$52)),0)","v":0},{"$f":"IFERROR(SUMPRODUCT(--(INDEX(Model_Inputs_Ref_Units,,CP$51)=$E98),INDEX(Model_Inputs_Ref_Units,,CP$52)),0)","v":0},{"$f":"IFERROR(SUMPRODUCT(--(INDEX(Model_Inputs_Ref_Units,,CQ$51)=$E98),INDEX(Model_Inputs_Ref_Units,,CQ$52)),0)","v":0},{"$f":"IFERROR(SUMPRODUCT(--(INDEX(Model_Inputs_Ref_Units,,CR$51)=$E98),INDEX(Model_Inputs_Ref_Units,,CR$52)),0)","v":0},{"$f":"IFERROR(SUMPRODUCT(--(INDEX(Model_Inputs_Ref_Units,,CS$51)=$E98),INDEX(Model_Inputs_Ref_Units,,CS$52)),0)","v":0},{"$f":"IFERROR(SUMPRODUCT(--(INDEX(Model_Inputs_Ref_Units,,CT$51)=$E98),INDEX(Model_Inputs_Ref_Units,,CT$52)),0)","v":0},{"$f":"IFERROR(SUMPRODUCT(--(INDEX(Model_Inputs_Ref_Units,,CU$51)=$E98),INDEX(Model_Inputs_Ref_Units,,CU$52)),0)","v":0},{"$f":"IFERROR(SUMPRODUCT(--(INDEX(Model_Inputs_Ref_Units,,CV$51)=$E98),INDEX(Model_Inputs_Ref_Units,,CV$52)),0)","v":0},{"$f":"IFERROR(SUMPRODUCT(--(INDEX(Model_Inputs_Ref_Units,,CW$51)=$E98),INDEX(Model_Inputs_Ref_Units,,CW$52)),0)","v":0},{"$f":"IFERROR(SUMPRODUCT(--(INDEX(Model_Inputs_Ref_Units,,CX$51)=$E98),INDEX(Model_Inputs_Ref_Units,,CX$52)),0)","v":0},{"$f":"IFERROR(SUMPRODUCT(--(INDEX(Model_Inputs_Ref_Units,,CY$51)=$E98),INDEX(Model_Inputs_Ref_Units,,CY$52)),0)","v":0},{"$f":"IFERROR(SUMPRODUCT(--(INDEX(Model_Inputs_Ref_Units,,CZ$51)=$E98),INDEX(Model_Inputs_Ref_Units,,CZ$52)),0)","v":0},{"$f":"IFERROR(SUMPRODUCT(--(INDEX(Model_Inputs_Ref_Units,,DA$51)=$E98),INDEX(Model_Inputs_Ref_Units,,DA$52)),0)","v":0},{"$f":"IFERROR(SUMPRODUCT(--(INDEX(Model_Inputs_Ref_Units,,DB$51)=$E98),INDEX(Model_Inputs_Ref_Units,,DB$52)),0)","v":0},{"$f":"IFERROR(SUMPRODUCT(--(INDEX(Model_Inputs_Ref_Units,,DC$51)=$E98),INDEX(Model_Inputs_Ref_Units,,DC$52)),0)","v":0},{"$f":"IFERROR(SUMPRODUCT(--(INDEX(Model_Inputs_Ref_Units,,DD$51)=$E98),INDEX(Model_Inputs_Ref_Units,,DD$52)),0)","v":0},{"$f":"IFERROR(SUMPRODUCT(--(INDEX(Model_Inputs_Ref_Units,,DE$51)=$E98),INDEX(Model_Inputs_Ref_Units,,DE$52)),0)","v":0},{"$f":"IFERROR(SUMPRODUCT(--(INDEX(Model_Inputs_Ref_Units,,DF$51)=$E98),INDEX(Model_Inputs_Ref_Units,,DF$52)),0)","v":0}]
[null,null,{"$error":"#DIV/0!"},null,{"$f":"IFERROR(INDEX(Ref_Data,1,F99),\"\")","v":""},46,0,0,0,0,{"$f":"IFERROR(SUMPRODUCT(--(INDEX(Model_Inputs_Ref_Units,,K$51)=$E99),INDEX(Model_Inputs_Ref_Units,,K$52)),0)","v":0},{"$f":"IFERROR(SUMPRODUCT(--(INDEX(Model_Inputs_Ref_Units,,L$51)=$E99),INDEX(Model_Inputs_Ref_Units,,L$52)),0)","v":0},{"$f":"IFERROR(SUMPRODUCT(--(INDEX(Model_Inputs_Ref_Units,,M$51)=$E99),INDEX(Model_Inputs_Ref_Units,,M$52)),0)","v":0},{"$f":"IFERROR(SUMPRODUCT(--(INDEX(Model_Inputs_Ref_Units,,N$51)=$E99),INDEX(Model_Inputs_Ref_Units,,N$52)),0)","v":0},{"$f":"IFERROR(SUMPRODUCT(--(INDEX(Model_Inputs_Ref_Units,,O$51)=$E99),INDEX(Model_Inputs_Ref_Units,,O$52)),0)","v":0},{"$f":"IFERROR(SUMPRODUCT(--(INDEX(Model_Inputs_Ref_Units,,P$51)=$E99),INDEX(Model_Inputs_Ref_Units,,P$52)),0)","v":0},{"$f":"IFERROR(SUMPRODUCT(--(INDEX(Model_Inputs_Ref_Units,,Q$51)=$E99),INDEX(Model_Inputs_Ref_Units,,Q$52)),0)","v":0},{"$f":"IFERROR(SUMPRODUCT(--(INDEX(Model_Inputs_Ref_Units,,R$51)=$E99),INDEX(Model_Inputs_Ref_Units,,R$52)),0)","v":0},{"$f":"IFERROR(SUMPRODUCT(--(INDEX(Model_Inputs_Ref_Units,,S$51)=$E99),INDEX(Model_Inputs_Ref_Units,,S$52)),0)","v":0},{"$f":"IFERROR(SUMPRODUCT(--(INDEX(Model_Inputs_Ref_Units,,T$51)=$E99),INDEX(Model_Inputs_Ref_Units,,T$52)),0)","v":0},{"$f":"IFERROR(SUMPRODUCT(--(INDEX(Model_Inputs_Ref_Units,,U$51)=$E99),INDEX(Model_Inputs_Ref_Units,,U$52)),0)","v":0},{"$f":"IFERROR(SUMPRODUCT(--(INDEX(Model_Inputs_Ref_Units,,V$51)=$E99),INDEX(Model_Inputs_Ref_Units,,V$52)),0)","v":0},{"$f":"IFERROR(SUMPRODUCT(--(INDEX(Model_Inputs_Ref_Units,,W$51)=$E99),INDEX(Model_Inputs_Ref_Units,,W$52)),0)","v":0},{"$f":"IFERROR(SUMPRODUCT(--(INDEX(Model_Inputs_Ref_Units,,X$51)=$E99),INDEX(Model_Inputs_Ref_Units,,X$52)),0)","v":0},{"$f":"IFERROR(SUMPRODUCT(--(INDEX(Model_Inputs_Ref_Units,,Y$51)=$E99),INDEX(Model_Inputs_Ref_Units,,Y$52)),0)","v":0},{"$f":"IFERROR(SUMPRODUCT(--(INDEX(Model_Inputs_Ref_Units,,Z$51)=$E99),INDEX(Model_Inputs_Ref_Units,,Z$52)),0)","v":0},{"$f":"IFERROR(SUMPRODUCT(--(INDEX(Model_Inputs_Ref_Units,,AA$51)=$E99),INDEX(Model_Inputs_Ref_Units,,AA$52)),0)","v":0},{"$f":"IFERROR(SUMPRODUCT(--(INDEX(Model_Inputs_Ref_Units,,AB$51)=$E99),INDEX(Model_Inputs_Ref_Units,,AB$52)),0)","v":0},{"$f":"IFERROR(SUMPRODUCT(--(INDEX(Model_Inputs_Ref_Units,,AC$51)=$E99),INDEX(Model_Inputs_Ref_Units,,AC$52)),0)","v":0},{"$f":"IFERROR(SUMPRODUCT(--(INDEX(Model_Inputs_Ref_Units,,AD$51)=$E99),INDEX(Model_Inputs_Ref_Units,,AD$52)),0)","v":0},{"$f":"IFERROR(SUMPRODUCT(--(INDEX(Model_Inputs_Ref_Units,,AE$51)=$E99),INDEX(Model_Inputs_Ref_Units,,AE$52)),0)","v":0},{"$f":"IFERROR(SUMPRODUCT(--(INDEX(Model_Inputs_Ref_Units,,AF$51)=$E99),INDEX(Model_Inputs_Ref_Units,,AF$52)),0)","v":0},{"$f":"IFERROR(SUMPRODUCT(--(INDEX(Model_Inputs_Ref_Units,,AG$51)=$E99),INDEX(Model_Inputs_Ref_Units,,AG$52)),0)","v":0},{"$f":"IFERROR(SUMPRODUCT(--(INDEX(Model_Inputs_Ref_Units,,AH$51)=$E99),INDEX(Model_Inputs_Ref_Units,,AH$52)),0)","v":0},{"$f":"IFERROR(SUMPRODUCT(--(INDEX(Model_Inputs_Ref_Units,,AI$51)=$E99),INDEX(Model_Inputs_Ref_Units,,AI$52)),0)","v":0},{"$f":"IFERROR(SUMPRODUCT(--(INDEX(Model_Inputs_Ref_Units,,AJ$51)=$E99),INDEX(Model_Inputs_Ref_Units,,AJ$52)),0)","v":0},{"$f":"IFERROR(SUMPRODUCT(--(INDEX(Model_Inputs_Ref_Units,,AK$51)=$E99),INDEX(Model_Inputs_Ref_Units,,AK$52)),0)","v":0},{"$f":"IFERROR(SUMPRODUCT(--(INDEX(Model_Inputs_Ref_Units,,AL$51)=$E99),INDEX(Model_Inputs_Ref_Units,,AL$52)),0)","v":0},{"$f":"IFERROR(SUMPRODUCT(--(INDEX(Model_Inputs_Ref_Units,,AM$51)=$E99),INDEX(Model_Inputs_Ref_Units,,AM$52)),0)","v":0},{"$f":"IFERROR(SUMPRODUCT(--(INDEX(Model_Inputs_Ref_Units,,AN$51)=$E99),INDEX(Model_Inputs_Ref_Units,,AN$52)),0)","v":0},{"$f":"IFERROR(SUMPRODUCT(--(INDEX(Model_Inputs_Ref_Units,,AO$51)=$E99),INDEX(Model_Inputs_Ref_Units,,AO$52)),0)","v":0},{"$f":"IFERROR(SUMPRODUCT(--(INDEX(Model_Inputs_Ref_Units,,AP$51)=$E99),INDEX(Model_Inputs_Ref_Units,,AP$52)),0)","v":0},{"$f":"IFERROR(SUMPRODUCT(--(INDEX(Model_Inputs_Ref_Units,,AQ$51)=$E99),INDEX(Model_Inputs_Ref_Units,,AQ$52)),0)","v":0},{"$f":"IFERROR(SUMPRODUCT(--(INDEX(Model_Inputs_Ref_Units,,AR$51)=$E99),INDEX(Model_Inputs_Ref_Units,,AR$52)),0)","v":0},{"$f":"IFERROR(SUMPRODUCT(--(INDEX(Model_Inputs_Ref_Units,,AS$51)=$E99),INDEX(Model_Inputs_Ref_Units,,AS$52)),0)","v":0},{"$f":"IFERROR(SUMPRODUCT(--(INDEX(Model_Inputs_Ref_Units,,AT$51)=$E99),INDEX(Model_Inputs_Ref_Units,,AT$52)),0)","v":0},{"$f":"IFERROR(SUMPRODUCT(--(INDEX(Model_Inputs_Ref_Units,,AU$51)=$E99),INDEX(Model_Inputs_Ref_Units,,AU$52)),0)","v":0},{"$f":"IFERROR(SUMPRODUCT(--(INDEX(Model_Inputs_Ref_Units,,AV$51)=$E99),INDEX(Model_Inputs_Ref_Units,,AV$52)),0)","v":0},{"$f":"IFERROR(SUMPRODUCT(--(INDEX(Model_Inputs_Ref_Units,,AW$51)=$E99),INDEX(Model_Inputs_Ref_Units,,AW$52)),0)","v":0},{"$f":"IFERROR(SUMPRODUCT(--(INDEX(Model_Inputs_Ref_Units,,AX$51)=$E99),INDEX(Model_Inputs_Ref_Units,,AX$52)),0)","v":0},{"$f":"IFERROR(SUMPRODUCT(--(INDEX(Model_Inputs_Ref_Units,,AY$51)=$E99),INDEX(Model_Inputs_Ref_Units,,AY$52)),0)","v":0},{"$f":"IFERROR(SUMPRODUCT(--(INDEX(Model_Inputs_Ref_Units,,AZ$51)=$E99),INDEX(Model_Inputs_Ref_Units,,AZ$52)),0)","v":0},{"$f":"IFERROR(SUMPRODUCT(--(INDEX(Model_Inputs_Ref_Units,,BA$51)=$E99),INDEX(Model_Inputs_Ref_Units,,BA$52)),0)","v":0},{"$f":"IFERROR(SUMPRODUCT(--(INDEX(Model_Inputs_Ref_Units,,BB$51)=$E99),INDEX(Model_Inputs_Ref_Units,,BB$52)),0)","v":0},{"$f":"IFERROR(SUMPRODUCT(--(INDEX(Model_Inputs_Ref_Units,,BC$51)=$E99),INDEX(Model_Inputs_Ref_Units,,BC$52)),0)","v":0},{"$f":"IFERROR(SUMPRODUCT(--(INDEX(Model_Inputs_Ref_Units,,BD$51)=$E99),INDEX(Model_Inputs_Ref_Units,,BD$52)),0)","v":0},{"$f":"IFERROR(SUMPRODUCT(--(INDEX(Model_Inputs_Ref_Units,,BE$51)=$E99),INDEX(Model_Inputs_Ref_Units,,BE$52)),0)","v":0},{"$f":"IFERROR(SUMPRODUCT(--(INDEX(Model_Inputs_Ref_Units,,BF$51)=$E99),INDEX(Model_Inputs_Ref_Units,,BF$52)),0)","v":0},{"$f":"IFERROR(SUMPRODUCT(--(INDEX(Model_Inputs_Ref_Units,,BG$51)=$E99),INDEX(Model_Inputs_Ref_Units,,BG$52)),0)","v":0},{"$f":"IFERROR(SUMPRODUCT(--(INDEX(Model_Inputs_Ref_Units,,BH$51)=$E99),INDEX(Model_Inputs_Ref_Units,,BH$52)),0)","v":0},{"$f":"IFERROR(SUMPRODUCT(--(INDEX(Model_Inputs_Ref_Units,,BI$51)=$E99),INDEX(Model_Inputs_Ref_Units,,BI$52)),0)","v":0},{"$f":"IFERROR(SUMPRODUCT(--(INDEX(Model_Inputs_Ref_Units,,BJ$51)=$E99),INDEX(Model_Inputs_Ref_Units,,BJ$52)),0)","v":0},{"$f":"IFERROR(SUMPRODUCT(--(INDEX(Model_Inputs_Ref_Units,,BK$51)=$E99),INDEX(Model_Inputs_Ref_Units,,BK$52)),0)","v":0},{"$f":"IFERROR(SUMPRODUCT(--(INDEX(Model_Inputs_Ref_Units,,BL$51)=$E99),INDEX(Model_Inputs_Ref_Units,,BL$52)),0)","v":0},{"$f":"IFERROR(SUMPRODUCT(--(INDEX(Model_Inputs_Ref_Units,,BM$51)=$E99),INDEX(Model_Inputs_Ref_Units,,BM$52)),0)","v":0},{"$f":"IFERROR(SUMPRODUCT(--(INDEX(Model_Inputs_Ref_Units,,BN$51)=$E99),INDEX(Model_Inputs_Ref_Units,,BN$52)),0)","v":0},{"$f":"IFERROR(SUMPRODUCT(--(INDEX(Model_Inputs_Ref_Units,,BO$51)=$E99),INDEX(Model_Inputs_Ref_Units,,BO$52)),0)","v":0},{"$f":"IFERROR(SUMPRODUCT(--(INDEX(Model_Inputs_Ref_Units,,BP$51)=$E99),INDEX(Model_Inputs_Ref_Units,,BP$52)),0)","v":0},{"$f":"IFERROR(SUMPRODUCT(--(INDEX(Model_Inputs_Ref_Units,,BQ$51)=$E99),INDEX(Model_Inputs_Ref_Units,,BQ$52)),0)","v":0},{"$f":"IFERROR(SUMPRODUCT(--(INDEX(Model_Inputs_Ref_Units,,BR$51)=$E99),INDEX(Model_Inputs_Ref_Units,,BR$52)),0)","v":0},{"$f":"IFERROR(SUMPRODUCT(--(INDEX(Model_Inputs_Ref_Units,,BS$51)=$E99),INDEX(Model_Inputs_Ref_Units,,BS$52)),0)","v":0},{"$f":"IFERROR(SUMPRODUCT(--(INDEX(Model_Inputs_Ref_Units,,BT$51)=$E99),INDEX(Model_Inputs_Ref_Units,,BT$52)),0)","v":0},{"$f":"IFERROR(SUMPRODUCT(--(INDEX(Model_Inputs_Ref_Units,,BU$51)=$E99),INDEX(Model_Inputs_Ref_Units,,BU$52)),0)","v":0},{"$f":"IFERROR(SUMPRODUCT(--(INDEX(Model_Inputs_Ref_Units,,BV$51)=$E99),INDEX(Model_Inputs_Ref_Units,,BV$52)),0)","v":0},{"$f":"IFERROR(SUMPRODUCT(--(INDEX(Model_Inputs_Ref_Units,,BW$51)=$E99),INDEX(Model_Inputs_Ref_Units,,BW$52)),0)","v":0},{"$f":"IFERROR(SUMPRODUCT(--(INDEX(Model_Inputs_Ref_Units,,BX$51)=$E99),INDEX(Model_Inputs_Ref_Units,,BX$52)),0)","v":0},{"$f":"IFERROR(SUMPRODUCT(--(INDEX(Model_Inputs_Ref_Units,,BY$51)=$E99),INDEX(Model_Inputs_Ref_Units,,BY$52)),0)","v":0},{"$f":"IFERROR(SUMPRODUCT(--(INDEX(Model_Inputs_Ref_Units,,BZ$51)=$E99),INDEX(Model_Inputs_Ref_Units,,BZ$52)),0)","v":0},{"$f":"IFERROR(SUMPRODUCT(--(INDEX(Model_Inputs_Ref_Units,,CA$51)=$E99),INDEX(Model_Inputs_Ref_Units,,CA$52)),0)","v":0},{"$f":"IFERROR(SUMPRODUCT(--(INDEX(Model_Inputs_Ref_Units,,CB$51)=$E99),INDEX(Model_Inputs_Ref_Units,,CB$52)),0)","v":0},{"$f":"IFERROR(SUMPRODUCT(--(INDEX(Model_Inputs_Ref_Units,,CC$51)=$E99),INDEX(Model_Inputs_Ref_Units,,CC$52)),0)","v":0},{"$f":"IFERROR(SUMPRODUCT(--(INDEX(Model_Inputs_Ref_Units,,CD$51)=$E99),INDEX(Model_Inputs_Ref_Units,,CD$52)),0)","v":0},{"$f":"IFERROR(SUMPRODUCT(--(INDEX(Model_Inputs_Ref_Units,,CE$51)=$E99),INDEX(Model_Inputs_Ref_Units,,CE$52)),0)","v":0},{"$f":"IFERROR(SUMPRODUCT(--(INDEX(Model_Inputs_Ref_Units,,CF$51)=$E99),INDEX(Model_Inputs_Ref_Units,,CF$52)),0)","v":0},{"$f":"IFERROR(SUMPRODUCT(--(INDEX(Model_Inputs_Ref_Units,,CG$51)=$E99),INDEX(Model_Inputs_Ref_Units,,CG$52)),0)","v":0},{"$f":"IFERROR(SUMPRODUCT(--(INDEX(Model_Inputs_Ref_Units,,CH$51)=$E99),INDEX(Model_Inputs_Ref_Units,,CH$52)),0)","v":0},{"$f":"IFERROR(SUMPRODUCT(--(INDEX(Model_Inputs_Ref_Units,,CI$51)=$E99),INDEX(Model_Inputs_Ref_Units,,CI$52)),0)","v":0},{"$f":"IFERROR(SUMPRODUCT(--(INDEX(Model_Inputs_Ref_Units,,CJ$51)=$E99),INDEX(Model_Inputs_Ref_Units,,CJ$52)),0)","v":0},{"$f":"IFERROR(SUMPRODUCT(--(INDEX(Model_Inputs_Ref_Units,,CK$51)=$E99),INDEX(Model_Inputs_Ref_Units,,CK$52)),0)","v":0},{"$f":"IFERROR(SUMPRODUCT(--(INDEX(Model_Inputs_Ref_Units,,CL$51)=$E99),INDEX(Model_Inputs_Ref_Units,,CL$52)),0)","v":0},{"$f":"IFERROR(SUMPRODUCT(--(INDEX(Model_Inputs_Ref_Units,,CM$51)=$E99),INDEX(Model_Inputs_Ref_Units,,CM$52)),0)","v":0},{"$f":"IFERROR(SUMPRODUCT(--(INDEX(Model_Inputs_Ref_Units,,CN$51)=$E99),INDEX(Model_Inputs_Ref_Units,,CN$52)),0)","v":0},{"$f":"IFERROR(SUMPRODUCT(--(INDEX(Model_Inputs_Ref_Units,,CO$51)=$E99),INDEX(Model_Inputs_Ref_Units,,CO$52)),0)","v":0},{"$f":"IFERROR(SUMPRODUCT(--(INDEX(Model_Inputs_Ref_Units,,CP$51)=$E99),INDEX(Model_Inputs_Ref_Units,,CP$52)),0)","v":0},{"$f":"IFERROR(SUMPRODUCT(--(INDEX(Model_Inputs_Ref_Units,,CQ$51)=$E99),INDEX(Model_Inputs_Ref_Units,,CQ$52)),0)","v":0},{"$f":"IFERROR(SUMPRODUCT(--(INDEX(Model_Inputs_Ref_Units,,CR$51)=$E99),INDEX(Model_Inputs_Ref_Units,,CR$52)),0)","v":0},{"$f":"IFERROR(SUMPRODUCT(--(INDEX(Model_Inputs_Ref_Units,,CS$51)=$E99),INDEX(Model_Inputs_Ref_Units,,CS$52)),0)","v":0},{"$f":"IFERROR(SUMPRODUCT(--(INDEX(Model_Inputs_Ref_Units,,CT$51)=$E99),INDEX(Model_Inputs_Ref_Units,,CT$52)),0)","v":0},{"$f":"IFERROR(SUMPRODUCT(--(INDEX(Model_Inputs_Ref_Units,,CU$51)=$E99),INDEX(Model_Inputs_Ref_Units,,CU$52)),0)","v":0},{"$f":"IFERROR(SUMPRODUCT(--(INDEX(Model_Inputs_Ref_Units,,CV$51)=$E99),INDEX(Model_Inputs_Ref_Units,,CV$52)),0)","v":0},{"$f":"IFERROR(SUMPRODUCT(--(INDEX(Model_Inputs_Ref_Units,,CW$51)=$E99),INDEX(Model_Inputs_Ref_Units,,CW$52)),0)","v":0},{"$f":"IFERROR(SUMPRODUCT(--(INDEX(Model_Inputs_Ref_Units,,CX$51)=$E99),INDEX(Model_Inputs_Ref_Units,,CX$52)),0)","v":0},{"$f":"IFERROR(SUMPRODUCT(--(INDEX(Model_Inputs_Ref_Units,,CY$51)=$E99),INDEX(Model_Inputs_Ref_Units,,CY$52)),0)","v":0},{"$f":"IFERROR(SUMPRODUCT(--(INDEX(Model_Inputs_Ref_Units,,CZ$51)=$E99),INDEX(Model_Inputs_Ref_Units,,CZ$52)),0)","v":0},{"$f":"IFERROR(SUMPRODUCT(--(INDEX(Model_Inputs_Ref_Units,,DA$51)=$E99),INDEX(Model_Inputs_Ref_Units,,DA$52)),0)","v":0},{"$f":"IFERROR(SUMPRODUCT(--(INDEX(Model_Inputs_Ref_Units,,DB$51)=$E99),INDEX(Model_Inputs_Ref_Units,,DB$52)),0)","v":0},{"$f":"IFERROR(SUMPRODUCT(--(INDEX(Model_Inputs_Ref_Units,,DC$51)=$E99),INDEX(Model_Inputs_Ref_Units,,DC$52)),0)","v":0},{"$f":"IFERROR(SUMPRODUCT(--(INDEX(Model_Inputs_Ref_Units,,DD$51)=$E99),INDEX(Model_Inputs_Ref_Units,,DD$52)),0)","v":0},{"$f":"IFERROR(SUMPRODUCT(--(INDEX(Model_Inputs_Ref_Units,,DE$51)=$E99),INDEX(Model_Inputs_Ref_Units,,DE$52)),0)","v":0},{"$f":"IFERROR(SUMPRODUCT(--(INDEX(Model_Inputs_Ref_Units,,DF$51)=$E99),INDEX(Model_Inputs_Ref_Units,,DF$52)),0)","v":0}]
[null,null,{"$error":"#DIV/0!"},null,{"$f":"IFERROR(INDEX(Ref_Data,1,F100),\"\")","v":""},47,0,0,0,0,{"$f":"IFERROR(SUMPRODUCT(--(INDEX(Model_Inputs_Ref_Units,,K$51)=$E100),INDEX(Model_Inputs_Ref_Units,,K$52)),0)","v":0},{"$f":"IFERROR(SUMPRODUCT(--(INDEX(Model_Inputs_Ref_Units,,L$51)=$E100),INDEX(Model_Inputs_Ref_Units,,L$52)),0)","v":0},{"$f":"IFERROR(SUMPRODUCT(--(INDEX(Model_Inputs_Ref_Units,,M$51)=$E100),INDEX(Model_Inputs_Ref_Units,,M$52)),0)","v":0},{"$f":"IFERROR(SUMPRODUCT(--(INDEX(Model_Inputs_Ref_Units,,N$51)=$E100),INDEX(Model_Inputs_Ref_Units,,N$52)),0)","v":0},{"$f":"IFERROR(SUMPRODUCT(--(INDEX(Model_Inputs_Ref_Units,,O$51)=$E100),INDEX(Model_Inputs_Ref_Units,,O$52)),0)","v":0},{"$f":"IFERROR(SUMPRODUCT(--(INDEX(Model_Inputs_Ref_Units,,P$51)=$E100),INDEX(Model_Inputs_Ref_Units,,P$52)),0)","v":0},{"$f":"IFERROR(SUMPRODUCT(--(INDEX(Model_Inputs_Ref_Units,,Q$51)=$E100),INDEX(Model_Inputs_Ref_Units,,Q$52)),0)","v":0},{"$f":"IFERROR(SUMPRODUCT(--(INDEX(Model_Inputs_Ref_Units,,R$51)=$E100),INDEX(Model_Inputs_Ref_Units,,R$52)),0)","v":0},{"$f":"IFERROR(SUMPRODUCT(--(INDEX(Model_Inputs_Ref_Units,,S$51)=$E100),INDEX(Model_Inputs_Ref_Units,,S$52)),0)","v":0},{"$f":"IFERROR(SUMPRODUCT(--(INDEX(Model_Inputs_Ref_Units,,T$51)=$E100),INDEX(Model_Inputs_Ref_Units,,T$52)),0)","v":0},{"$f":"IFERROR(SUMPRODUCT(--(INDEX(Model_Inputs_Ref_Units,,U$51)=$E100),INDEX(Model_Inputs_Ref_Units,,U$52)),0)","v":0},{"$f":"IFERROR(SUMPRODUCT(--(INDEX(Model_Inputs_Ref_Units,,V$51)=$E100),INDEX(Model_Inputs_Ref_Units,,V$52)),0)","v":0},{"$f":"IFERROR(SUMPRODUCT(--(INDEX(Model_Inputs_Ref_Units,,W$51)=$E100),INDEX(Model_Inputs_Ref_Units,,W$52)),0)","v":0},{"$f":"IFERROR(SUMPRODUCT(--(INDEX(Model_Inputs_Ref_Units,,X$51)=$E100),INDEX(Model_Inputs_Ref_Units,,X$52)),0)","v":0},{"$f":"IFERROR(SUMPRODUCT(--(INDEX(Model_Inputs_Ref_Units,,Y$51)=$E100),INDEX(Model_Inputs_Ref_Units,,Y$52)),0)","v":0},{"$f":"IFERROR(SUMPRODUCT(--(INDEX(Model_Inputs_Ref_Units,,Z$51)=$E100),INDEX(Model_Inputs_Ref_Units,,Z$52)),0)","v":0},{"$f":"IFERROR(SUMPRODUCT(--(INDEX(Model_Inputs_Ref_Units,,AA$51)=$E100),INDEX(Model_Inputs_Ref_Units,,AA$52)),0)","v":0},{"$f":"IFERROR(SUMPRODUCT(--(INDEX(Model_Inputs_Ref_Units,,AB$51)=$E100),INDEX(Model_Inputs_Ref_Units,,AB$52)),0)","v":0},{"$f":"IFERROR(SUMPRODUCT(--(INDEX(Model_Inputs_Ref_Units,,AC$51)=$E100),INDEX(Model_Inputs_Ref_Units,,AC$52)),0)","v":0},{"$f":"IFERROR(SUMPRODUCT(--(INDEX(Model_Inputs_Ref_Units,,AD$51)=$E100),INDEX(Model_Inputs_Ref_Units,,AD$52)),0)","v":0},{"$f":"IFERROR(SUMPRODUCT(--(INDEX(Model_Inputs_Ref_Units,,AE$51)=$E100),INDEX(Model_Inputs_Ref_Units,,AE$52)),0)","v":0},{"$f":"IFERROR(SUMPRODUCT(--(INDEX(Model_Inputs_Ref_Units,,AF$51)=$E100),INDEX(Model_Inputs_Ref_Units,,AF$52)),0)","v":0},{"$f":"IFERROR(SUMPRODUCT(--(INDEX(Model_Inputs_Ref_Units,,AG$51)=$E100),INDEX(Model_Inputs_Ref_Units,,AG$52)),0)","v":0},{"$f":"IFERROR(SUMPRODUCT(--(INDEX(Model_Inputs_Ref_Units,,AH$51)=$E100),INDEX(Model_Inputs_Ref_Units,,AH$52)),0)","v":0},{"$f":"IFERROR(SUMPRODUCT(--(INDEX(Model_Inputs_Ref_Units,,AI$51)=$E100),INDEX(Model_Inputs_Ref_Units,,AI$52)),0)","v":0},{"$f":"IFERROR(SUMPRODUCT(--(INDEX(Model_Inputs_Ref_Units,,AJ$51)=$E100),INDEX(Model_Inputs_Ref_Units,,AJ$52)),0)","v":0},{"$f":"IFERROR(SUMPRODUCT(--(INDEX(Model_Inputs_Ref_Units,,AK$51)=$E100),INDEX(Model_Inputs_Ref_Units,,AK$52)),0)","v":0},{"$f":"IFERROR(SUMPRODUCT(--(INDEX(Model_Inputs_Ref_Units,,AL$51)=$E100),INDEX(Model_Inputs_Ref_Units,,AL$52)),0)","v":0},{"$f":"IFERROR(SUMPRODUCT(--(INDEX(Model_Inputs_Ref_Units,,AM$51)=$E100),INDEX(Model_Inputs_Ref_Units,,AM$52)),0)","v":0},{"$f":"IFERROR(SUMPRODUCT(--(INDEX(Model_Inputs_Ref_Units,,AN$51)=$E100),INDEX(Model_Inputs_Ref_Units,,AN$52)),0)","v":0},{"$f":"IFERROR(SUMPRODUCT(--(INDEX(Model_Inputs_Ref_Units,,AO$51)=$E100),INDEX(Model_Inputs_Ref_Units,,AO$52)),0)","v":0},{"$f":"IFERROR(SUMPRODUCT(--(INDEX(Model_Inputs_Ref_Units,,AP$51)=$E100),INDEX(Model_Inputs_Ref_Units,,AP$52)),0)","v":0},{"$f":"IFERROR(SUMPRODUCT(--(INDEX(Model_Inputs_Ref_Units,,AQ$51)=$E100),INDEX(Model_Inputs_Ref_Units,,AQ$52)),0)","v":0},{"$f":"IFERROR(SUMPRODUCT(--(INDEX(Model_Inputs_Ref_Units,,AR$51)=$E100),INDEX(Model_Inputs_Ref_Units,,AR$52)),0)","v":0},{"$f":"IFERROR(SUMPRODUCT(--(INDEX(Model_Inputs_Ref_Units,,AS$51)=$E100),INDEX(Model_Inputs_Ref_Units,,AS$52)),0)","v":0},{"$f":"IFERROR(SUMPRODUCT(--(INDEX(Model_Inputs_Ref_Units,,AT$51)=$E100),INDEX(Model_Inputs_Ref_Units,,AT$52)),0)","v":0},{"$f":"IFERROR(SUMPRODUCT(--(INDEX(Model_Inputs_Ref_Units,,AU$51)=$E100),INDEX(Model_Inputs_Ref_Units,,AU$52)),0)","v":0},{"$f":"IFERROR(SUMPRODUCT(--(INDEX(Model_Inputs_Ref_Units,,AV$51)=$E100),INDEX(Model_Inputs_Ref_Units,,AV$52)),0)","v":0},{"$f":"IFERROR(SUMPRODUCT(--(INDEX(Model_Inputs_Ref_Units,,AW$51)=$E100),INDEX(Model_Inputs_Ref_Units,,AW$52)),0)","v":0},{"$f":"IFERROR(SUMPRODUCT(--(INDEX(Model_Inputs_Ref_Units,,AX$51)=$E100),INDEX(Model_Inputs_Ref_Units,,AX$52)),0)","v":0},{"$f":"IFERROR(SUMPRODUCT(--(INDEX(Model_Inputs_Ref_Units,,AY$51)=$E100),INDEX(Model_Inputs_Ref_Units,,AY$52)),0)","v":0},{"$f":"IFERROR(SUMPRODUCT(--(INDEX(Model_Inputs_Ref_Units,,AZ$51)=$E100),INDEX(Model_Inputs_Ref_Units,,AZ$52)),0)","v":0},{"$f":"IFERROR(SUMPRODUCT(--(INDEX(Model_Inputs_Ref_Units,,BA$51)=$E100),INDEX(Model_Inputs_Ref_Units,,BA$52)),0)","v":0},{"$f":"IFERROR(SUMPRODUCT(--(INDEX(Model_Inputs_Ref_Units,,BB$51)=$E100),INDEX(Model_Inputs_Ref_Units,,BB$52)),0)","v":0},{"$f":"IFERROR(SUMPRODUCT(--(INDEX(Model_Inputs_Ref_Units,,BC$51)=$E100),INDEX(Model_Inputs_Ref_Units,,BC$52)),0)","v":0},{"$f":"IFERROR(SUMPRODUCT(--(INDEX(Model_Inputs_Ref_Units,,BD$51)=$E100),INDEX(Model_Inputs_Ref_Units,,BD$52)),0)","v":0},{"$f":"IFERROR(SUMPRODUCT(--(INDEX(Model_Inputs_Ref_Units,,BE$51)=$E100),INDEX(Model_Inputs_Ref_Units,,BE$52)),0)","v":0},{"$f":"IFERROR(SUMPRODUCT(--(INDEX(Model_Inputs_Ref_Units,,BF$51)=$E100),INDEX(Model_Inputs_Ref_Units,,BF$52)),0)","v":0},{"$f":"IFERROR(SUMPRODUCT(--(INDEX(Model_Inputs_Ref_Units,,BG$51)=$E100),INDEX(Model_Inputs_Ref_Units,,BG$52)),0)","v":0},{"$f":"IFERROR(SUMPRODUCT(--(INDEX(Model_Inputs_Ref_Units,,BH$51)=$E100),INDEX(Model_Inputs_Ref_Units,,BH$52)),0)","v":0},{"$f":"IFERROR(SUMPRODUCT(--(INDEX(Model_Inputs_Ref_Units,,BI$51)=$E100),INDEX(Model_Inputs_Ref_Units,,BI$52)),0)","v":0},{"$f":"IFERROR(SUMPRODUCT(--(INDEX(Model_Inputs_Ref_Units,,BJ$51)=$E100),INDEX(Model_Inputs_Ref_Units,,BJ$52)),0)","v":0},{"$f":"IFERROR(SUMPRODUCT(--(INDEX(Model_Inputs_Ref_Units,,BK$51)=$E100),INDEX(Model_Inputs_Ref_Units,,BK$52)),0)","v":0},{"$f":"IFERROR(SUMPRODUCT(--(INDEX(Model_Inputs_Ref_Units,,BL$51)=$E100),INDEX(Model_Inputs_Ref_Units,,BL$52)),0)","v":0},{"$f":"IFERROR(SUMPRODUCT(--(INDEX(Model_Inputs_Ref_Units,,BM$51)=$E100),INDEX(Model_Inputs_Ref_Units,,BM$52)),0)","v":0},{"$f":"IFERROR(SUMPRODUCT(--(INDEX(Model_Inputs_Ref_Units,,BN$51)=$E100),INDEX(Model_Inputs_Ref_Units,,BN$52)),0)","v":0},{"$f":"IFERROR(SUMPRODUCT(--(INDEX(Model_Inputs_Ref_Units,,BO$51)=$E100),INDEX(Model_Inputs_Ref_Units,,BO$52)),0)","v":0},{"$f":"IFERROR(SUMPRODUCT(--(INDEX(Model_Inputs_Ref_Units,,BP$51)=$E100),INDEX(Model_Inputs_Ref_Units,,BP$52)),0)","v":0},{"$f":"IFERROR(SUMPRODUCT(--(INDEX(Model_Inputs_Ref_Units,,BQ$51)=$E100),INDEX(Model_Inputs_Ref_Units,,BQ$52)),0)","v":0},{"$f":"IFERROR(SUMPRODUCT(--(INDEX(Model_Inputs_Ref_Units,,BR$51)=$E100),INDEX(Model_Inputs_Ref_Units,,BR$52)),0)","v":0},{"$f":"IFERROR(SUMPRODUCT(--(INDEX(Model_Inputs_Ref_Units,,BS$51)=$E100),INDEX(Model_Inputs_Ref_Units,,BS$52)),0)","v":0},{"$f":"IFERROR(SUMPRODUCT(--(INDEX(Model_Inputs_Ref_Units,,BT$51)=$E100),INDEX(Model_Inputs_Ref_Units,,BT$52)),0)","v":0},{"$f":"IFERROR(SUMPRODUCT(--(INDEX(Model_Inputs_Ref_Units,,BU$51)=$E100),INDEX(Model_Inputs_Ref_Units,,BU$52)),0)","v":0},{"$f":"IFERROR(SUMPRODUCT(--(INDEX(Model_Inputs_Ref_Units,,BV$51)=$E100),INDEX(Model_Inputs_Ref_Units,,BV$52)),0)","v":0},{"$f":"IFERROR(SUMPRODUCT(--(INDEX(Model_Inputs_Ref_Units,,BW$51)=$E100),INDEX(Model_Inputs_Ref_Units,,BW$52)),0)","v":0},{"$f":"IFERROR(SUMPRODUCT(--(INDEX(Model_Inputs_Ref_Units,,BX$51)=$E100),INDEX(Model_Inputs_Ref_Units,,BX$52)),0)","v":0},{"$f":"IFERROR(SUMPRODUCT(--(INDEX(Model_Inputs_Ref_Units,,BY$51)=$E100),INDEX(Model_Inputs_Ref_Units,,BY$52)),0)","v":0},{"$f":"IFERROR(SUMPRODUCT(--(INDEX(Model_Inputs_Ref_Units,,BZ$51)=$E100),INDEX(Model_Inputs_Ref_Units,,BZ$52)),0)","v":0},{"$f":"IFERROR(SUMPRODUCT(--(INDEX(Model_Inputs_Ref_Units,,CA$51)=$E100),INDEX(Model_Inputs_Ref_Units,,CA$52)),0)","v":0},{"$f":"IFERROR(SUMPRODUCT(--(INDEX(Model_Inputs_Ref_Units,,CB$51)=$E100),INDEX(Model_Inputs_Ref_Units,,CB$52)),0)","v":0},{"$f":"IFERROR(SUMPRODUCT(--(INDEX(Model_Inputs_Ref_Units,,CC$51)=$E100),INDEX(Model_Inputs_Ref_Units,,CC$52)),0)","v":0},{"$f":"IFERROR(SUMPRODUCT(--(INDEX(Model_Inputs_Ref_Units,,CD$51)=$E100),INDEX(Model_Inputs_Ref_Units,,CD$52)),0)","v":0},{"$f":"IFERROR(SUMPRODUCT(--(INDEX(Model_Inputs_Ref_Units,,CE$51)=$E100),INDEX(Model_Inputs_Ref_Units,,CE$52)),0)","v":0},{"$f":"IFERROR(SUMPRODUCT(--(INDEX(Model_Inputs_Ref_Units,,CF$51)=$E100),INDEX(Model_Inputs_Ref_Units,,CF$52)),0)","v":0},{"$f":"IFERROR(SUMPRODUCT(--(INDEX(Model_Inputs_Ref_Units,,CG$51)=$E100),INDEX(Model_Inputs_Ref_Units,,CG$52)),0)","v":0},{"$f":"IFERROR(SUMPRODUCT(--(INDEX(Model_Inputs_Ref_Units,,CH$51)=$E100),INDEX(Model_Inputs_Ref_Units,,CH$52)),0)","v":0},{"$f":"IFERROR(SUMPRODUCT(--(INDEX(Model_Inputs_Ref_Units,,CI$51)=$E100),INDEX(Model_Inputs_Ref_Units,,CI$52)),0)","v":0},{"$f":"IFERROR(SUMPRODUCT(--(INDEX(Model_Inputs_Ref_Units,,CJ$51)=$E100),INDEX(Model_Inputs_Ref_Units,,CJ$52)),0)","v":0},{"$f":"IFERROR(SUMPRODUCT(--(INDEX(Model_Inputs_Ref_Units,,CK$51)=$E100),INDEX(Model_Inputs_Ref_Units,,CK$52)),0)","v":0},{"$f":"IFERROR(SUMPRODUCT(--(INDEX(Model_Inputs_Ref_Units,,CL$51)=$E100),INDEX(Model_Inputs_Ref_Units,,CL$52)),0)","v":0},{"$f":"IFERROR(SUMPRODUCT(--(INDEX(Model_Inputs_Ref_Units,,CM$51)=$E100),INDEX(Model_Inputs_Ref_Units,,CM$52)),0)","v":0},{"$f":"IFERROR(SUMPRODUCT(--(INDEX(Model_Inputs_Ref_Units,,CN$51)=$E100),INDEX(Model_Inputs_Ref_Units,,CN$52)),0)","v":0},{"$f":"IFERROR(SUMPRODUCT(--(INDEX(Model_Inputs_Ref_Units,,CO$51)=$E100),INDEX(Model_Inputs_Ref_Units,,CO$52)),0)","v":0},{"$f":"IFERROR(SUMPRODUCT(--(INDEX(Model_Inputs_Ref_Units,,CP$51)=$E100),INDEX(Model_Inputs_Ref_Units,,CP$52)),0)","v":0},{"$f":"IFERROR(SUMPRODUCT(--(INDEX(Model_Inputs_Ref_Units,,CQ$51)=$E100),INDEX(Model_Inputs_Ref_Units,,CQ$52)),0)","v":0},{"$f":"IFERROR(SUMPRODUCT(--(INDEX(Model_Inputs_Ref_Units,,CR$51)=$E100),INDEX(Model_Inputs_Ref_Units,,CR$52)),0)","v":0},{"$f":"IFERROR(SUMPRODUCT(--(INDEX(Model_Inputs_Ref_Units,,CS$51)=$E100),INDEX(Model_Inputs_Ref_Units,,CS$52)),0)","v":0},{"$f":"IFERROR(SUMPRODUCT(--(INDEX(Model_Inputs_Ref_Units,,CT$51)=$E100),INDEX(Model_Inputs_Ref_Units,,CT$52)),0)","v":0},{"$f":"IFERROR(SUMPRODUCT(--(INDEX(Model_Inputs_Ref_Units,,CU$51)=$E100),INDEX(Model_Inputs_Ref_Units,,CU$52)),0)","v":0},{"$f":"IFERROR(SUMPRODUCT(--(INDEX(Model_Inputs_Ref_Units,,CV$51)=$E100),INDEX(Model_Inputs_Ref_Units,,CV$52)),0)","v":0},{"$f":"IFERROR(SUMPRODUCT(--(INDEX(Model_Inputs_Ref_Units,,CW$51)=$E100),INDEX(Model_Inputs_Ref_Units,,CW$52)),0)","v":0},{"$f":"IFERROR(SUMPRODUCT(--(INDEX(Model_Inputs_Ref_Units,,CX$51)=$E100),INDEX(Model_Inputs_Ref_Units,,CX$52)),0)","v":0},{"$f":"IFERROR(SUMPRODUCT(--(INDEX(Model_Inputs_Ref_Units,,CY$51)=$E100),INDEX(Model_Inputs_Ref_Units,,CY$52)),0)","v":0},{"$f":"IFERROR(SUMPRODUCT(--(INDEX(Model_Inputs_Ref_Units,,CZ$51)=$E100),INDEX(Model_Inputs_Ref_Units,,CZ$52)),0)","v":0},{"$f":"IFERROR(SUMPRODUCT(--(INDEX(Model_Inputs_Ref_Units,,DA$51)=$E100),INDEX(Model_Inputs_Ref_Units,,DA$52)),0)","v":0},{"$f":"IFERROR(SUMPRODUCT(--(INDEX(Model_Inputs_Ref_Units,,DB$51)=$E100),INDEX(Model_Inputs_Ref_Units,,DB$52)),0)","v":0},{"$f":"IFERROR(SUMPRODUCT(--(INDEX(Model_Inputs_Ref_Units,,DC$51)=$E100),INDEX(Model_Inputs_Ref_Units,,DC$52)),0)","v":0},{"$f":"IFERROR(SUMPRODUCT(--(INDEX(Model_Inputs_Ref_Units,,DD$51)=$E100),INDEX(Model_Inputs_Ref_Units,,DD$52)),0)","v":0},{"$f":"IFERROR(SUMPRODUCT(--(INDEX(Model_Inputs_Ref_Units,,DE$51)=$E100),INDEX(Model_Inputs_Ref_Units,,DE$52)),0)","v":0},{"$f":"IFERROR(SUMPRODUCT(--(INDEX(Model_Inputs_Ref_Units,,DF$51)=$E100),INDEX(Model_Inputs_Ref_Units,,DF$52)),0)","v":0}]
[null,null,{"$error":"#DIV/0!"},null,{"$f":"IFERROR(INDEX(Ref_Data,1,F101),\"\")","v":""},48,0,0,0,0,{"$f":"IFERROR(SUMPRODUCT(--(INDEX(Model_Inputs_Ref_Units,,K$51)=$E101),INDEX(Model_Inputs_Ref_Units,,K$52)),0)","v":0},{"$f":"IFERROR(SUMPRODUCT(--(INDEX(Model_Inputs_Ref_Units,,L$51)=$E101),INDEX(Model_Inputs_Ref_Units,,L$52)),0)","v":0},{"$f":"IFERROR(SUMPRODUCT(--(INDEX(Model_Inputs_Ref_Units,,M$51)=$E101),INDEX(Model_Inputs_Ref_Units,,M$52)),0)","v":0},{"$f":"IFERROR(SUMPRODUCT(--(INDEX(Model_Inputs_Ref_Units,,N$51)=$E101),INDEX(Model_Inputs_Ref_Units,,N$52)),0)","v":0},{"$f":"IFERROR(SUMPRODUCT(--(INDEX(Model_Inputs_Ref_Units,,O$51)=$E101),INDEX(Model_Inputs_Ref_Units,,O$52)),0)","v":0},{"$f":"IFERROR(SUMPRODUCT(--(INDEX(Model_Inputs_Ref_Units,,P$51)=$E101),INDEX(Model_Inputs_Ref_Units,,P$52)),0)","v":0},{"$f":"IFERROR(SUMPRODUCT(--(INDEX(Model_Inputs_Ref_Units,,Q$51)=$E101),INDEX(Model_Inputs_Ref_Units,,Q$52)),0)","v":0},{"$f":"IFERROR(SUMPRODUCT(--(INDEX(Model_Inputs_Ref_Units,,R$51)=$E101),INDEX(Model_Inputs_Ref_Units,,R$52)),0)","v":0},{"$f":"IFERROR(SUMPRODUCT(--(INDEX(Model_Inputs_Ref_Units,,S$51)=$E101),INDEX(Model_Inputs_Ref_Units,,S$52)),0)","v":0},{"$f":"IFERROR(SUMPRODUCT(--(INDEX(Model_Inputs_Ref_Units,,T$51)=$E101),INDEX(Model_Inputs_Ref_Units,,T$52)),0)","v":0},{"$f":"IFERROR(SUMPRODUCT(--(INDEX(Model_Inputs_Ref_Units,,U$51)=$E101),INDEX(Model_Inputs_Ref_Units,,U$52)),0)","v":0},{"$f":"IFERROR(SUMPRODUCT(--(INDEX(Model_Inputs_Ref_Units,,V$51)=$E101),INDEX(Model_Inputs_Ref_Units,,V$52)),0)","v":0},{"$f":"IFERROR(SUMPRODUCT(--(INDEX(Model_Inputs_Ref_Units,,W$51)=$E101),INDEX(Model_Inputs_Ref_Units,,W$52)),0)","v":0},{"$f":"IFERROR(SUMPRODUCT(--(INDEX(Model_Inputs_Ref_Units,,X$51)=$E101),INDEX(Model_Inputs_Ref_Units,,X$52)),0)","v":0},{"$f":"IFERROR(SUMPRODUCT(--(INDEX(Model_Inputs_Ref_Units,,Y$51)=$E101),INDEX(Model_Inputs_Ref_Units,,Y$52)),0)","v":0},{"$f":"IFERROR(SUMPRODUCT(--(INDEX(Model_Inputs_Ref_Units,,Z$51)=$E101),INDEX(Model_Inputs_Ref_Units,,Z$52)),0)","v":0},{"$f":"IFERROR(SUMPRODUCT(--(INDEX(Model_Inputs_Ref_Units,,AA$51)=$E101),INDEX(Model_Inputs_Ref_Units,,AA$52)),0)","v":0},{"$f":"IFERROR(SUMPRODUCT(--(INDEX(Model_Inputs_Ref_Units,,AB$51)=$E101),INDEX(Model_Inputs_Ref_Units,,AB$52)),0)","v":0},{"$f":"IFERROR(SUMPRODUCT(--(INDEX(Model_Inputs_Ref_Units,,AC$51)=$E101),INDEX(Model_Inputs_Ref_Units,,AC$52)),0)","v":0},{"$f":"IFERROR(SUMPRODUCT(--(INDEX(Model_Inputs_Ref_Units,,AD$51)=$E101),INDEX(Model_Inputs_Ref_Units,,AD$52)),0)","v":0},{"$f":"IFERROR(SUMPRODUCT(--(INDEX(Model_Inputs_Ref_Units,,AE$51)=$E101),INDEX(Model_Inputs_Ref_Units,,AE$52)),0)","v":0},{"$f":"IFERROR(SUMPRODUCT(--(INDEX(Model_Inputs_Ref_Units,,AF$51)=$E101),INDEX(Model_Inputs_Ref_Units,,AF$52)),0)","v":0},{"$f":"IFERROR(SUMPRODUCT(--(INDEX(Model_Inputs_Ref_Units,,AG$51)=$E101),INDEX(Model_Inputs_Ref_Units,,AG$52)),0)","v":0},{"$f":"IFERROR(SUMPRODUCT(--(INDEX(Model_Inputs_Ref_Units,,AH$51)=$E101),INDEX(Model_Inputs_Ref_Units,,AH$52)),0)","v":0},{"$f":"IFERROR(SUMPRODUCT(--(INDEX(Model_Inputs_Ref_Units,,AI$51)=$E101),INDEX(Model_Inputs_Ref_Units,,AI$52)),0)","v":0},{"$f":"IFERROR(SUMPRODUCT(--(INDEX(Model_Inputs_Ref_Units,,AJ$51)=$E101),INDEX(Model_Inputs_Ref_Units,,AJ$52)),0)","v":0},{"$f":"IFERROR(SUMPRODUCT(--(INDEX(Model_Inputs_Ref_Units,,AK$51)=$E101),INDEX(Model_Inputs_Ref_Units,,AK$52)),0)","v":0},{"$f":"IFERROR(SUMPRODUCT(--(INDEX(Model_Inputs_Ref_Units,,AL$51)=$E101),INDEX(Model_Inputs_Ref_Units,,AL$52)),0)","v":0},{"$f":"IFERROR(SUMPRODUCT(--(INDEX(Model_Inputs_Ref_Units,,AM$51)=$E101),INDEX(Model_Inputs_Ref_Units,,AM$52)),0)","v":0},{"$f":"IFERROR(SUMPRODUCT(--(INDEX(Model_Inputs_Ref_Units,,AN$51)=$E101),INDEX(Model_Inputs_Ref_Units,,AN$52)),0)","v":0},{"$f":"IFERROR(SUMPRODUCT(--(INDEX(Model_Inputs_Ref_Units,,AO$51)=$E101),INDEX(Model_Inputs_Ref_Units,,AO$52)),0)","v":0},{"$f":"IFERROR(SUMPRODUCT(--(INDEX(Model_Inputs_Ref_Units,,AP$51)=$E101),INDEX(Model_Inputs_Ref_Units,,AP$52)),0)","v":0},{"$f":"IFERROR(SUMPRODUCT(--(INDEX(Model_Inputs_Ref_Units,,AQ$51)=$E101),INDEX(Model_Inputs_Ref_Units,,AQ$52)),0)","v":0},{"$f":"IFERROR(SUMPRODUCT(--(INDEX(Model_Inputs_Ref_Units,,AR$51)=$E101),INDEX(Model_Inputs_Ref_Units,,AR$52)),0)","v":0},{"$f":"IFERROR(SUMPRODUCT(--(INDEX(Model_Inputs_Ref_Units,,AS$51)=$E101),INDEX(Model_Inputs_Ref_Units,,AS$52)),0)","v":0},{"$f":"IFERROR(SUMPRODUCT(--(INDEX(Model_Inputs_Ref_Units,,AT$51)=$E101),INDEX(Model_Inputs_Ref_Units,,AT$52)),0)","v":0},{"$f":"IFERROR(SUMPRODUCT(--(INDEX(Model_Inputs_Ref_Units,,AU$51)=$E101),INDEX(Model_Inputs_Ref_Units,,AU$52)),0)","v":0},{"$f":"IFERROR(SUMPRODUCT(--(INDEX(Model_Inputs_Ref_Units,,AV$51)=$E101),INDEX(Model_Inputs_Ref_Units,,AV$52)),0)","v":0},{"$f":"IFERROR(SUMPRODUCT(--(INDEX(Model_Inputs_Ref_Units,,AW$51)=$E101),INDEX(Model_Inputs_Ref_Units,,AW$52)),0)","v":0},{"$f":"IFERROR(SUMPRODUCT(--(INDEX(Model_Inputs_Ref_Units,,AX$51)=$E101),INDEX(Model_Inputs_Ref_Units,,AX$52)),0)","v":0},{"$f":"IFERROR(SUMPRODUCT(--(INDEX(Model_Inputs_Ref_Units,,AY$51)=$E101),INDEX(Model_Inputs_Ref_Units,,AY$52)),0)","v":0},{"$f":"IFERROR(SUMPRODUCT(--(INDEX(Model_Inputs_Ref_Units,,AZ$51)=$E101),INDEX(Model_Inputs_Ref_Units,,AZ$52)),0)","v":0},{"$f":"IFERROR(SUMPRODUCT(--(INDEX(Model_Inputs_Ref_Units,,BA$51)=$E101),INDEX(Model_Inputs_Ref_Units,,BA$52)),0)","v":0},{"$f":"IFERROR(SUMPRODUCT(--(INDEX(Model_Inputs_Ref_Units,,BB$51)=$E101),INDEX(Model_Inputs_Ref_Units,,BB$52)),0)","v":0},{"$f":"IFERROR(SUMPRODUCT(--(INDEX(Model_Inputs_Ref_Units,,BC$51)=$E101),INDEX(Model_Inputs_Ref_Units,,BC$52)),0)","v":0},{"$f":"IFERROR(SUMPRODUCT(--(INDEX(Model_Inputs_Ref_Units,,BD$51)=$E101),INDEX(Model_Inputs_Ref_Units,,BD$52)),0)","v":0},{"$f":"IFERROR(SUMPRODUCT(--(INDEX(Model_Inputs_Ref_Units,,BE$51)=$E101),INDEX(Model_Inputs_Ref_Units,,BE$52)),0)","v":0},{"$f":"IFERROR(SUMPRODUCT(--(INDEX(Model_Inputs_Ref_Units,,BF$51)=$E101),INDEX(Model_Inputs_Ref_Units,,BF$52)),0)","v":0},{"$f":"IFERROR(SUMPRODUCT(--(INDEX(Model_Inputs_Ref_Units,,BG$51)=$E101),INDEX(Model_Inputs_Ref_Units,,BG$52)),0)","v":0},{"$f":"IFERROR(SUMPRODUCT(--(INDEX(Model_Inputs_Ref_Units,,BH$51)=$E101),INDEX(Model_Inputs_Ref_Units,,BH$52)),0)","v":0},{"$f":"IFERROR(SUMPRODUCT(--(INDEX(Model_Inputs_Ref_Units,,BI$51)=$E101),INDEX(Model_Inputs_Ref_Units,,BI$52)),0)","v":0},{"$f":"IFERROR(SUMPRODUCT(--(INDEX(Model_Inputs_Ref_Units,,BJ$51)=$E101),INDEX(Model_Inputs_Ref_Units,,BJ$52)),0)","v":0},{"$f":"IFERROR(SUMPRODUCT(--(INDEX(Model_Inputs_Ref_Units,,BK$51)=$E101),INDEX(Model_Inputs_Ref_Units,,BK$52)),0)","v":0},{"$f":"IFERROR(SUMPRODUCT(--(INDEX(Model_Inputs_Ref_Units,,BL$51)=$E101),INDEX(Model_Inputs_Ref_Units,,BL$52)),0)","v":0},{"$f":"IFERROR(SUMPRODUCT(--(INDEX(Model_Inputs_Ref_Units,,BM$51)=$E101),INDEX(Model_Inputs_Ref_Units,,BM$52)),0)","v":0},{"$f":"IFERROR(SUMPRODUCT(--(INDEX(Model_Inputs_Ref_Units,,BN$51)=$E101),INDEX(Model_Inputs_Ref_Units,,BN$52)),0)","v":0},{"$f":"IFERROR(SUMPRODUCT(--(INDEX(Model_Inputs_Ref_Units,,BO$51)=$E101),INDEX(Model_Inputs_Ref_Units,,BO$52)),0)","v":0},{"$f":"IFERROR(SUMPRODUCT(--(INDEX(Model_Inputs_Ref_Units,,BP$51)=$E101),INDEX(Model_Inputs_Ref_Units,,BP$52)),0)","v":0},{"$f":"IFERROR(SUMPRODUCT(--(INDEX(Model_Inputs_Ref_Units,,BQ$51)=$E101),INDEX(Model_Inputs_Ref_Units,,BQ$52)),0)","v":0},{"$f":"IFERROR(SUMPRODUCT(--(INDEX(Model_Inputs_Ref_Units,,BR$51)=$E101),INDEX(Model_Inputs_Ref_Units,,BR$52)),0)","v":0},{"$f":"IFERROR(SUMPRODUCT(--(INDEX(Model_Inputs_Ref_Units,,BS$51)=$E101),INDEX(Model_Inputs_Ref_Units,,BS$52)),0)","v":0},{"$f":"IFERROR(SUMPRODUCT(--(INDEX(Model_Inputs_Ref_Units,,BT$51)=$E101),INDEX(Model_Inputs_Ref_Units,,BT$52)),0)","v":0},{"$f":"IFERROR(SUMPRODUCT(--(INDEX(Model_Inputs_Ref_Units,,BU$51)=$E101),INDEX(Model_Inputs_Ref_Units,,BU$52)),0)","v":0},{"$f":"IFERROR(SUMPRODUCT(--(INDEX(Model_Inputs_Ref_Units,,BV$51)=$E101),INDEX(Model_Inputs_Ref_Units,,BV$52)),0)","v":0},{"$f":"IFERROR(SUMPRODUCT(--(INDEX(Model_Inputs_Ref_Units,,BW$51)=$E101),INDEX(Model_Inputs_Ref_Units,,BW$52)),0)","v":0},{"$f":"IFERROR(SUMPRODUCT(--(INDEX(Model_Inputs_Ref_Units,,BX$51)=$E101),INDEX(Model_Inputs_Ref_Units,,BX$52)),0)","v":0},{"$f":"IFERROR(SUMPRODUCT(--(INDEX(Model_Inputs_Ref_Units,,BY$51)=$E101),INDEX(Model_Inputs_Ref_Units,,BY$52)),0)","v":0},{"$f":"IFERROR(SUMPRODUCT(--(INDEX(Model_Inputs_Ref_Units,,BZ$51)=$E101),INDEX(Model_Inputs_Ref_Units,,BZ$52)),0)","v":0},{"$f":"IFERROR(SUMPRODUCT(--(INDEX(Model_Inputs_Ref_Units,,CA$51)=$E101),INDEX(Model_Inputs_Ref_Units,,CA$52)),0)","v":0},{"$f":"IFERROR(SUMPRODUCT(--(INDEX(Model_Inputs_Ref_Units,,CB$51)=$E101),INDEX(Model_Inputs_Ref_Units,,CB$52)),0)","v":0},{"$f":"IFERROR(SUMPRODUCT(--(INDEX(Model_Inputs_Ref_Units,,CC$51)=$E101),INDEX(Model_Inputs_Ref_Units,,CC$52)),0)","v":0},{"$f":"IFERROR(SUMPRODUCT(--(INDEX(Model_Inputs_Ref_Units,,CD$51)=$E101),INDEX(Model_Inputs_Ref_Units,,CD$52)),0)","v":0},{"$f":"IFERROR(SUMPRODUCT(--(INDEX(Model_Inputs_Ref_Units,,CE$51)=$E101),INDEX(Model_Inputs_Ref_Units,,CE$52)),0)","v":0},{"$f":"IFERROR(SUMPRODUCT(--(INDEX(Model_Inputs_Ref_Units,,CF$51)=$E101),INDEX(Model_Inputs_Ref_Units,,CF$52)),0)","v":0},{"$f":"IFERROR(SUMPRODUCT(--(INDEX(Model_Inputs_Ref_Units,,CG$51)=$E101),INDEX(Model_Inputs_Ref_Units,,CG$52)),0)","v":0},{"$f":"IFERROR(SUMPRODUCT(--(INDEX(Model_Inputs_Ref_Units,,CH$51)=$E101),INDEX(Model_Inputs_Ref_Units,,CH$52)),0)","v":0},{"$f":"IFERROR(SUMPRODUCT(--(INDEX(Model_Inputs_Ref_Units,,CI$51)=$E101),INDEX(Model_Inputs_Ref_Units,,CI$52)),0)","v":0},{"$f":"IFERROR(SUMPRODUCT(--(INDEX(Model_Inputs_Ref_Units,,CJ$51)=$E101),INDEX(Model_Inputs_Ref_Units,,CJ$52)),0)","v":0},{"$f":"IFERROR(SUMPRODUCT(--(INDEX(Model_Inputs_Ref_Units,,CK$51)=$E101),INDEX(Model_Inputs_Ref_Units,,CK$52)),0)","v":0},{"$f":"IFERROR(SUMPRODUCT(--(INDEX(Model_Inputs_Ref_Units,,CL$51)=$E101),INDEX(Model_Inputs_Ref_Units,,CL$52)),0)","v":0},{"$f":"IFERROR(SUMPRODUCT(--(INDEX(Model_Inputs_Ref_Units,,CM$51)=$E101),INDEX(Model_Inputs_Ref_Units,,CM$52)),0)","v":0},{"$f":"IFERROR(SUMPRODUCT(--(INDEX(Model_Inputs_Ref_Units,,CN$51)=$E101),INDEX(Model_Inputs_Ref_Units,,CN$52)),0)","v":0},{"$f":"IFERROR(SUMPRODUCT(--(INDEX(Model_Inputs_Ref_Units,,CO$51)=$E101),INDEX(Model_Inputs_Ref_Units,,CO$52)),0)","v":0},{"$f":"IFERROR(SUMPRODUCT(--(INDEX(Model_Inputs_Ref_Units,,CP$51)=$E101),INDEX(Model_Inputs_Ref_Units,,CP$52)),0)","v":0},{"$f":"IFERROR(SUMPRODUCT(--(INDEX(Model_Inputs_Ref_Units,,CQ$51)=$E101),INDEX(Model_Inputs_Ref_Units,,CQ$52)),0)","v":0},{"$f":"IFERROR(SUMPRODUCT(--(INDEX(Model_Inputs_Ref_Units,,CR$51)=$E101),INDEX(Model_Inputs_Ref_Units,,CR$52)),0)","v":0},{"$f":"IFERROR(SUMPRODUCT(--(INDEX(Model_Inputs_Ref_Units,,CS$51)=$E101),INDEX(Model_Inputs_Ref_Units,,CS$52)),0)","v":0},{"$f":"IFERROR(SUMPRODUCT(--(INDEX(Model_Inputs_Ref_Units,,CT$51)=$E101),INDEX(Model_Inputs_Ref_Units,,CT$52)),0)","v":0},{"$f":"IFERROR(SUMPRODUCT(--(INDEX(Model_Inputs_Ref_Units,,CU$51)=$E101),INDEX(Model_Inputs_Ref_Units,,CU$52)),0)","v":0},{"$f":"IFERROR(SUMPRODUCT(--(INDEX(Model_Inputs_Ref_Units,,CV$51)=$E101),INDEX(Model_Inputs_Ref_Units,,CV$52)),0)","v":0},{"$f":"IFERROR(SUMPRODUCT(--(INDEX(Model_Inputs_Ref_Units,,CW$51)=$E101),INDEX(Model_Inputs_Ref_Units,,CW$52)),0)","v":0},{"$f":"IFERROR(SUMPRODUCT(--(INDEX(Model_Inputs_Ref_Units,,CX$51)=$E101),INDEX(Model_Inputs_Ref_Units,,CX$52)),0)","v":0},{"$f":"IFERROR(SUMPRODUCT(--(INDEX(Model_Inputs_Ref_Units,,CY$51)=$E101),INDEX(Model_Inputs_Ref_Units,,CY$52)),0)","v":0},{"$f":"IFERROR(SUMPRODUCT(--(INDEX(Model_Inputs_Ref_Units,,CZ$51)=$E101),INDEX(Model_Inputs_Ref_Units,,CZ$52)),0)","v":0},{"$f":"IFERROR(SUMPRODUCT(--(INDEX(Model_Inputs_Ref_Units,,DA$51)=$E101),INDEX(Model_Inputs_Ref_Units,,DA$52)),0)","v":0},{"$f":"IFERROR(SUMPRODUCT(--(INDEX(Model_Inputs_Ref_Units,,DB$51)=$E101),INDEX(Model_Inputs_Ref_Units,,DB$52)),0)","v":0},{"$f":"IFERROR(SUMPRODUCT(--(INDEX(Model_Inputs_Ref_Units,,DC$51)=$E101),INDEX(Model_Inputs_Ref_Units,,DC$52)),0)","v":0},{"$f":"IFERROR(SUMPRODUCT(--(INDEX(Model_Inputs_Ref_Units,,DD$51)=$E101),INDEX(Model_Inputs_Ref_Units,,DD$52)),0)","v":0},{"$f":"IFERROR(SUMPRODUCT(--(INDEX(Model_Inputs_Ref_Units,,DE$51)=$E101),INDEX(Model_Inputs_Ref_Units,,DE$52)),0)","v":0},{"$f":"IFERROR(SUMPRODUCT(--(INDEX(Model_Inputs_Ref_Units,,DF$51)=$E101),INDEX(Model_Inputs_Ref_Units,,DF$52)),0)","v":0}]
[null,null,{"$error":"#DIV/0!"},null,{"$f":"IFERROR(INDEX(Ref_Data,1,F102),\"\")","v":""},49,0,0,0,0,{"$f":"IFERROR(SUMPRODUCT(--(INDEX(Model_Inputs_Ref_Units,,K$51)=$E102),INDEX(Model_Inputs_Ref_Units,,K$52)),0)","v":0},{"$f":"IFERROR(SUMPRODUCT(--(INDEX(Model_Inputs_Ref_Units,,L$51)=$E102),INDEX(Model_Inputs_Ref_Units,,L$52)),0)","v":0},{"$f":"IFERROR(SUMPRODUCT(--(INDEX(Model_Inputs_Ref_Units,,M$51)=$E102),INDEX(Model_Inputs_Ref_Units,,M$52)),0)","v":0},{"$f":"IFERROR(SUMPRODUCT(--(INDEX(Model_Inputs_Ref_Units,,N$51)=$E102),INDEX(Model_Inputs_Ref_Units,,N$52)),0)","v":0},{"$f":"IFERROR(SUMPRODUCT(--(INDEX(Model_Inputs_Ref_Units,,O$51)=$E102),INDEX(Model_Inputs_Ref_Units,,O$52)),0)","v":0},{"$f":"IFERROR(SUMPRODUCT(--(INDEX(Model_Inputs_Ref_Units,,P$51)=$E102),INDEX(Model_Inputs_Ref_Units,,P$52)),0)","v":0},{"$f":"IFERROR(SUMPRODUCT(--(INDEX(Model_Inputs_Ref_Units,,Q$51)=$E102),INDEX(Model_Inputs_Ref_Units,,Q$52)),0)","v":0},{"$f":"IFERROR(SUMPRODUCT(--(INDEX(Model_Inputs_Ref_Units,,R$51)=$E102),INDEX(Model_Inputs_Ref_Units,,R$52)),0)","v":0},{"$f":"IFERROR(SUMPRODUCT(--(INDEX(Model_Inputs_Ref_Units,,S$51)=$E102),INDEX(Model_Inputs_Ref_Units,,S$52)),0)","v":0},{"$f":"IFERROR(SUMPRODUCT(--(INDEX(Model_Inputs_Ref_Units,,T$51)=$E102),INDEX(Model_Inputs_Ref_Units,,T$52)),0)","v":0},{"$f":"IFERROR(SUMPRODUCT(--(INDEX(Model_Inputs_Ref_Units,,U$51)=$E102),INDEX(Model_Inputs_Ref_Units,,U$52)),0)","v":0},{"$f":"IFERROR(SUMPRODUCT(--(INDEX(Model_Inputs_Ref_Units,,V$51)=$E102),INDEX(Model_Inputs_Ref_Units,,V$52)),0)","v":0},{"$f":"IFERROR(SUMPRODUCT(--(INDEX(Model_Inputs_Ref_Units,,W$51)=$E102),INDEX(Model_Inputs_Ref_Units,,W$52)),0)","v":0},{"$f":"IFERROR(SUMPRODUCT(--(INDEX(Model_Inputs_Ref_Units,,X$51)=$E102),INDEX(Model_Inputs_Ref_Units,,X$52)),0)","v":0},{"$f":"IFERROR(SUMPRODUCT(--(INDEX(Model_Inputs_Ref_Units,,Y$51)=$E102),INDEX(Model_Inputs_Ref_Units,,Y$52)),0)","v":0},{"$f":"IFERROR(SUMPRODUCT(--(INDEX(Model_Inputs_Ref_Units,,Z$51)=$E102),INDEX(Model_Inputs_Ref_Units,,Z$52)),0)","v":0},{"$f":"IFERROR(SUMPRODUCT(--(INDEX(Model_Inputs_Ref_Units,,AA$51)=$E102),INDEX(Model_Inputs_Ref_Units,,AA$52)),0)","v":0},{"$f":"IFERROR(SUMPRODUCT(--(INDEX(Model_Inputs_Ref_Units,,AB$51)=$E102),INDEX(Model_Inputs_Ref_Units,,AB$52)),0)","v":0},{"$f":"IFERROR(SUMPRODUCT(--(INDEX(Model_Inputs_Ref_Units,,AC$51)=$E102),INDEX(Model_Inputs_Ref_Units,,AC$52)),0)","v":0},{"$f":"IFERROR(SUMPRODUCT(--(INDEX(Model_Inputs_Ref_Units,,AD$51)=$E102),INDEX(Model_Inputs_Ref_Units,,AD$52)),0)","v":0},{"$f":"IFERROR(SUMPRODUCT(--(INDEX(Model_Inputs_Ref_Units,,AE$51)=$E102),INDEX(Model_Inputs_Ref_Units,,AE$52)),0)","v":0},{"$f":"IFERROR(SUMPRODUCT(--(INDEX(Model_Inputs_Ref_Units,,AF$51)=$E102),INDEX(Model_Inputs_Ref_Units,,AF$52)),0)","v":0},{"$f":"IFERROR(SUMPRODUCT(--(INDEX(Model_Inputs_Ref_Units,,AG$51)=$E102),INDEX(Model_Inputs_Ref_Units,,AG$52)),0)","v":0},{"$f":"IFERROR(SUMPRODUCT(--(INDEX(Model_Inputs_Ref_Units,,AH$51)=$E102),INDEX(Model_Inputs_Ref_Units,,AH$52)),0)","v":0},{"$f":"IFERROR(SUMPRODUCT(--(INDEX(Model_Inputs_Ref_Units,,AI$51)=$E102),INDEX(Model_Inputs_Ref_Units,,AI$52)),0)","v":0},{"$f":"IFERROR(SUMPRODUCT(--(INDEX(Model_Inputs_Ref_Units,,AJ$51)=$E102),INDEX(Model_Inputs_Ref_Units,,AJ$52)),0)","v":0},{"$f":"IFERROR(SUMPRODUCT(--(INDEX(Model_Inputs_Ref_Units,,AK$51)=$E102),INDEX(Model_Inputs_Ref_Units,,AK$52)),0)","v":0},{"$f":"IFERROR(SUMPRODUCT(--(INDEX(Model_Inputs_Ref_Units,,AL$51)=$E102),INDEX(Model_Inputs_Ref_Units,,AL$52)),0)","v":0},{"$f":"IFERROR(SUMPRODUCT(--(INDEX(Model_Inputs_Ref_Units,,AM$51)=$E102),INDEX(Model_Inputs_Ref_Units,,AM$52)),0)","v":0},{"$f":"IFERROR(SUMPRODUCT(--(INDEX(Model_Inputs_Ref_Units,,AN$51)=$E102),INDEX(Model_Inputs_Ref_Units,,AN$52)),0)","v":0},{"$f":"IFERROR(SUMPRODUCT(--(INDEX(Model_Inputs_Ref_Units,,AO$51)=$E102),INDEX(Model_Inputs_Ref_Units,,AO$52)),0)","v":0},{"$f":"IFERROR(SUMPRODUCT(--(INDEX(Model_Inputs_Ref_Units,,AP$51)=$E102),INDEX(Model_Inputs_Ref_Units,,AP$52)),0)","v":0},{"$f":"IFERROR(SUMPRODUCT(--(INDEX(Model_Inputs_Ref_Units,,AQ$51)=$E102),INDEX(Model_Inputs_Ref_Units,,AQ$52)),0)","v":0},{"$f":"IFERROR(SUMPRODUCT(--(INDEX(Model_Inputs_Ref_Units,,AR$51)=$E102),INDEX(Model_Inputs_Ref_Units,,AR$52)),0)","v":0},{"$f":"IFERROR(SUMPRODUCT(--(INDEX(Model_Inputs_Ref_Units,,AS$51)=$E102),INDEX(Model_Inputs_Ref_Units,,AS$52)),0)","v":0},{"$f":"IFERROR(SUMPRODUCT(--(INDEX(Model_Inputs_Ref_Units,,AT$51)=$E102),INDEX(Model_Inputs_Ref_Units,,AT$52)),0)","v":0},{"$f":"IFERROR(SUMPRODUCT(--(INDEX(Model_Inputs_Ref_Units,,AU$51)=$E102),INDEX(Model_Inputs_Ref_Units,,AU$52)),0)","v":0},{"$f":"IFERROR(SUMPRODUCT(--(INDEX(Model_Inputs_Ref_Units,,AV$51)=$E102),INDEX(Model_Inputs_Ref_Units,,AV$52)),0)","v":0},{"$f":"IFERROR(SUMPRODUCT(--(INDEX(Model_Inputs_Ref_Units,,AW$51)=$E102),INDEX(Model_Inputs_Ref_Units,,AW$52)),0)","v":0},{"$f":"IFERROR(SUMPRODUCT(--(INDEX(Model_Inputs_Ref_Units,,AX$51)=$E102),INDEX(Model_Inputs_Ref_Units,,AX$52)),0)","v":0},{"$f":"IFERROR(SUMPRODUCT(--(INDEX(Model_Inputs_Ref_Units,,AY$51)=$E102),INDEX(Model_Inputs_Ref_Units,,AY$52)),0)","v":0},{"$f":"IFERROR(SUMPRODUCT(--(INDEX(Model_Inputs_Ref_Units,,AZ$51)=$E102),INDEX(Model_Inputs_Ref_Units,,AZ$52)),0)","v":0},{"$f":"IFERROR(SUMPRODUCT(--(INDEX(Model_Inputs_Ref_Units,,BA$51)=$E102),INDEX(Model_Inputs_Ref_Units,,BA$52)),0)","v":0},{"$f":"IFERROR(SUMPRODUCT(--(INDEX(Model_Inputs_Ref_Units,,BB$51)=$E102),INDEX(Model_Inputs_Ref_Units,,BB$52)),0)","v":0},{"$f":"IFERROR(SUMPRODUCT(--(INDEX(Model_Inputs_Ref_Units,,BC$51)=$E102),INDEX(Model_Inputs_Ref_Units,,BC$52)),0)","v":0},{"$f":"IFERROR(SUMPRODUCT(--(INDEX(Model_Inputs_Ref_Units,,BD$51)=$E102),INDEX(Model_Inputs_Ref_Units,,BD$52)),0)","v":0},{"$f":"IFERROR(SUMPRODUCT(--(INDEX(Model_Inputs_Ref_Units,,BE$51)=$E102),INDEX(Model_Inputs_Ref_Units,,BE$52)),0)","v":0},{"$f":"IFERROR(SUMPRODUCT(--(INDEX(Model_Inputs_Ref_Units,,BF$51)=$E102),INDEX(Model_Inputs_Ref_Units,,BF$52)),0)","v":0},{"$f":"IFERROR(SUMPRODUCT(--(INDEX(Model_Inputs_Ref_Units,,BG$51)=$E102),INDEX(Model_Inputs_Ref_Units,,BG$52)),0)","v":0},{"$f":"IFERROR(SUMPRODUCT(--(INDEX(Model_Inputs_Ref_Units,,BH$51)=$E102),INDEX(Model_Inputs_Ref_Units,,BH$52)),0)","v":0},{"$f":"IFERROR(SUMPRODUCT(--(INDEX(Model_Inputs_Ref_Units,,BI$51)=$E102),INDEX(Model_Inputs_Ref_Units,,BI$52)),0)","v":0},{"$f":"IFERROR(SUMPRODUCT(--(INDEX(Model_Inputs_Ref_Units,,BJ$51)=$E102),INDEX(Model_Inputs_Ref_Units,,BJ$52)),0)","v":0},{"$f":"IFERROR(SUMPRODUCT(--(INDEX(Model_Inputs_Ref_Units,,BK$51)=$E102),INDEX(Model_Inputs_Ref_Units,,BK$52)),0)","v":0},{"$f":"IFERROR(SUMPRODUCT(--(INDEX(Model_Inputs_Ref_Units,,BL$51)=$E102),INDEX(Model_Inputs_Ref_Units,,BL$52)),0)","v":0},{"$f":"IFERROR(SUMPRODUCT(--(INDEX(Model_Inputs_Ref_Units,,BM$51)=$E102),INDEX(Model_Inputs_Ref_Units,,BM$52)),0)","v":0},{"$f":"IFERROR(SUMPRODUCT(--(INDEX(Model_Inputs_Ref_Units,,BN$51)=$E102),INDEX(Model_Inputs_Ref_Units,,BN$52)),0)","v":0},{"$f":"IFERROR(SUMPRODUCT(--(INDEX(Model_Inputs_Ref_Units,,BO$51)=$E102),INDEX(Model_Inputs_Ref_Units,,BO$52)),0)","v":0},{"$f":"IFERROR(SUMPRODUCT(--(INDEX(Model_Inputs_Ref_Units,,BP$51)=$E102),INDEX(Model_Inputs_Ref_Units,,BP$52)),0)","v":0},{"$f":"IFERROR(SUMPRODUCT(--(INDEX(Model_Inputs_Ref_Units,,BQ$51)=$E102),INDEX(Model_Inputs_Ref_Units,,BQ$52)),0)","v":0},{"$f":"IFERROR(SUMPRODUCT(--(INDEX(Model_Inputs_Ref_Units,,BR$51)=$E102),INDEX(Model_Inputs_Ref_Units,,BR$52)),0)","v":0},{"$f":"IFERROR(SUMPRODUCT(--(INDEX(Model_Inputs_Ref_Units,,BS$51)=$E102),INDEX(Model_Inputs_Ref_Units,,BS$52)),0)","v":0},{"$f":"IFERROR(SUMPRODUCT(--(INDEX(Model_Inputs_Ref_Units,,BT$51)=$E102),INDEX(Model_Inputs_Ref_Units,,BT$52)),0)","v":0},{"$f":"IFERROR(SUMPRODUCT(--(INDEX(Model_Inputs_Ref_Units,,BU$51)=$E102),INDEX(Model_Inputs_Ref_Units,,BU$52)),0)","v":0},{"$f":"IFERROR(SUMPRODUCT(--(INDEX(Model_Inputs_Ref_Units,,BV$51)=$E102),INDEX(Model_Inputs_Ref_Units,,BV$52)),0)","v":0},{"$f":"IFERROR(SUMPRODUCT(--(INDEX(Model_Inputs_Ref_Units,,BW$51)=$E102),INDEX(Model_Inputs_Ref_Units,,BW$52)),0)","v":0},{"$f":"IFERROR(SUMPRODUCT(--(INDEX(Model_Inputs_Ref_Units,,BX$51)=$E102),INDEX(Model_Inputs_Ref_Units,,BX$52)),0)","v":0},{"$f":"IFERROR(SUMPRODUCT(--(INDEX(Model_Inputs_Ref_Units,,BY$51)=$E102),INDEX(Model_Inputs_Ref_Units,,BY$52)),0)","v":0},{"$f":"IFERROR(SUMPRODUCT(--(INDEX(Model_Inputs_Ref_Units,,BZ$51)=$E102),INDEX(Model_Inputs_Ref_Units,,BZ$52)),0)","v":0},{"$f":"IFERROR(SUMPRODUCT(--(INDEX(Model_Inputs_Ref_Units,,CA$51)=$E102),INDEX(Model_Inputs_Ref_Units,,CA$52)),0)","v":0},{"$f":"IFERROR(SUMPRODUCT(--(INDEX(Model_Inputs_Ref_Units,,CB$51)=$E102),INDEX(Model_Inputs_Ref_Units,,CB$52)),0)","v":0},{"$f":"IFERROR(SUMPRODUCT(--(INDEX(Model_Inputs_Ref_Units,,CC$51)=$E102),INDEX(Model_Inputs_Ref_Units,,CC$52)),0)","v":0},{"$f":"IFERROR(SUMPRODUCT(--(INDEX(Model_Inputs_Ref_Units,,CD$51)=$E102),INDEX(Model_Inputs_Ref_Units,,CD$52)),0)","v":0},{"$f":"IFERROR(SUMPRODUCT(--(INDEX(Model_Inputs_Ref_Units,,CE$51)=$E102),INDEX(Model_Inputs_Ref_Units,,CE$52)),0)","v":0},{"$f":"IFERROR(SUMPRODUCT(--(INDEX(Model_Inputs_Ref_Units,,CF$51)=$E102),INDEX(Model_Inputs_Ref_Units,,CF$52)),0)","v":0},{"$f":"IFERROR(SUMPRODUCT(--(INDEX(Model_Inputs_Ref_Units,,CG$51)=$E102),INDEX(Model_Inputs_Ref_Units,,CG$52)),0)","v":0},{"$f":"IFERROR(SUMPRODUCT(--(INDEX(Model_Inputs_Ref_Units,,CH$51)=$E102),INDEX(Model_Inputs_Ref_Units,,CH$52)),0)","v":0},{"$f":"IFERROR(SUMPRODUCT(--(INDEX(Model_Inputs_Ref_Units,,CI$51)=$E102),INDEX(Model_Inputs_Ref_Units,,CI$52)),0)","v":0},{"$f":"IFERROR(SUMPRODUCT(--(INDEX(Model_Inputs_Ref_Units,,CJ$51)=$E102),INDEX(Model_Inputs_Ref_Units,,CJ$52)),0)","v":0},{"$f":"IFERROR(SUMPRODUCT(--(INDEX(Model_Inputs_Ref_Units,,CK$51)=$E102),INDEX(Model_Inputs_Ref_Units,,CK$52)),0)","v":0},{"$f":"IFERROR(SUMPRODUCT(--(INDEX(Model_Inputs_Ref_Units,,CL$51)=$E102),INDEX(Model_Inputs_Ref_Units,,CL$52)),0)","v":0},{"$f":"IFERROR(SUMPRODUCT(--(INDEX(Model_Inputs_Ref_Units,,CM$51)=$E102),INDEX(Model_Inputs_Ref_Units,,CM$52)),0)","v":0},{"$f":"IFERROR(SUMPRODUCT(--(INDEX(Model_Inputs_Ref_Units,,CN$51)=$E102),INDEX(Model_Inputs_Ref_Units,,CN$52)),0)","v":0},{"$f":"IFERROR(SUMPRODUCT(--(INDEX(Model_Inputs_Ref_Units,,CO$51)=$E102),INDEX(Model_Inputs_Ref_Units,,CO$52)),0)","v":0},{"$f":"IFERROR(SUMPRODUCT(--(INDEX(Model_Inputs_Ref_Units,,CP$51)=$E102),INDEX(Model_Inputs_Ref_Units,,CP$52)),0)","v":0},{"$f":"IFERROR(SUMPRODUCT(--(INDEX(Model_Inputs_Ref_Units,,CQ$51)=$E102),INDEX(Model_Inputs_Ref_Units,,CQ$52)),0)","v":0},{"$f":"IFERROR(SUMPRODUCT(--(INDEX(Model_Inputs_Ref_Units,,CR$51)=$E102),INDEX(Model_Inputs_Ref_Units,,CR$52)),0)","v":0},{"$f":"IFERROR(SUMPRODUCT(--(INDEX(Model_Inputs_Ref_Units,,CS$51)=$E102),INDEX(Model_Inputs_Ref_Units,,CS$52)),0)","v":0},{"$f":"IFERROR(SUMPRODUCT(--(INDEX(Model_Inputs_Ref_Units,,CT$51)=$E102),INDEX(Model_Inputs_Ref_Units,,CT$52)),0)","v":0},{"$f":"IFERROR(SUMPRODUCT(--(INDEX(Model_Inputs_Ref_Units,,CU$51)=$E102),INDEX(Model_Inputs_Ref_Units,,CU$52)),0)","v":0},{"$f":"IFERROR(SUMPRODUCT(--(INDEX(Model_Inputs_Ref_Units,,CV$51)=$E102),INDEX(Model_Inputs_Ref_Units,,CV$52)),0)","v":0},{"$f":"IFERROR(SUMPRODUCT(--(INDEX(Model_Inputs_Ref_Units,,CW$51)=$E102),INDEX(Model_Inputs_Ref_Units,,CW$52)),0)","v":0},{"$f":"IFERROR(SUMPRODUCT(--(INDEX(Model_Inputs_Ref_Units,,CX$51)=$E102),INDEX(Model_Inputs_Ref_Units,,CX$52)),0)","v":0},{"$f":"IFERROR(SUMPRODUCT(--(INDEX(Model_Inputs_Ref_Units,,CY$51)=$E102),INDEX(Model_Inputs_Ref_Units,,CY$52)),0)","v":0},{"$f":"IFERROR(SUMPRODUCT(--(INDEX(Model_Inputs_Ref_Units,,CZ$51)=$E102),INDEX(Model_Inputs_Ref_Units,,CZ$52)),0)","v":0},{"$f":"IFERROR(SUMPRODUCT(--(INDEX(Model_Inputs_Ref_Units,,DA$51)=$E102),INDEX(Model_Inputs_Ref_Units,,DA$52)),0)","v":0},{"$f":"IFERROR(SUMPRODUCT(--(INDEX(Model_Inputs_Ref_Units,,DB$51)=$E102),INDEX(Model_Inputs_Ref_Units,,DB$52)),0)","v":0},{"$f":"IFERROR(SUMPRODUCT(--(INDEX(Model_Inputs_Ref_Units,,DC$51)=$E102),INDEX(Model_Inputs_Ref_Units,,DC$52)),0)","v":0},{"$f":"IFERROR(SUMPRODUCT(--(INDEX(Model_Inputs_Ref_Units,,DD$51)=$E102),INDEX(Model_Inputs_Ref_Units,,DD$52)),0)","v":0},{"$f":"IFERROR(SUMPRODUCT(--(INDEX(Model_Inputs_Ref_Units,,DE$51)=$E102),INDEX(Model_Inputs_Ref_Units,,DE$52)),0)","v":0},{"$f":"IFERROR(SUMPRODUCT(--(INDEX(Model_Inputs_Ref_Units,,DF$51)=$E102),INDEX(Model_Inputs_Ref_Units,,DF$52)),0)","v":0}]
[null,null,{"$error":"#DIV/0!"},null,{"$f":"IFERROR(INDEX(Ref_Data,1,F103),\"\")","v":""},50,0,0,0,0,{"$f":"IFERROR(SUMPRODUCT(--(INDEX(Model_Inputs_Ref_Units,,K$51)=$E103),INDEX(Model_Inputs_Ref_Units,,K$52)),0)","v":0},{"$f":"IFERROR(SUMPRODUCT(--(INDEX(Model_Inputs_Ref_Units,,L$51)=$E103),INDEX(Model_Inputs_Ref_Units,,L$52)),0)","v":0},{"$f":"IFERROR(SUMPRODUCT(--(INDEX(Model_Inputs_Ref_Units,,M$51)=$E103),INDEX(Model_Inputs_Ref_Units,,M$52)),0)","v":0},{"$f":"IFERROR(SUMPRODUCT(--(INDEX(Model_Inputs_Ref_Units,,N$51)=$E103),INDEX(Model_Inputs_Ref_Units,,N$52)),0)","v":0},{"$f":"IFERROR(SUMPRODUCT(--(INDEX(Model_Inputs_Ref_Units,,O$51)=$E103),INDEX(Model_Inputs_Ref_Units,,O$52)),0)","v":0},{"$f":"IFERROR(SUMPRODUCT(--(INDEX(Model_Inputs_Ref_Units,,P$51)=$E103),INDEX(Model_Inputs_Ref_Units,,P$52)),0)","v":0},{"$f":"IFERROR(SUMPRODUCT(--(INDEX(Model_Inputs_Ref_Units,,Q$51)=$E103),INDEX(Model_Inputs_Ref_Units,,Q$52)),0)","v":0},{"$f":"IFERROR(SUMPRODUCT(--(INDEX(Model_Inputs_Ref_Units,,R$51)=$E103),INDEX(Model_Inputs_Ref_Units,,R$52)),0)","v":0},{"$f":"IFERROR(SUMPRODUCT(--(INDEX(Model_Inputs_Ref_Units,,S$51)=$E103),INDEX(Model_Inputs_Ref_Units,,S$52)),0)","v":0},{"$f":"IFERROR(SUMPRODUCT(--(INDEX(Model_Inputs_Ref_Units,,T$51)=$E103),INDEX(Model_Inputs_Ref_Units,,T$52)),0)","v":0},{"$f":"IFERROR(SUMPRODUCT(--(INDEX(Model_Inputs_Ref_Units,,U$51)=$E103),INDEX(Model_Inputs_Ref_Units,,U$52)),0)","v":0},{"$f":"IFERROR(SUMPRODUCT(--(INDEX(Model_Inputs_Ref_Units,,V$51)=$E103),INDEX(Model_Inputs_Ref_Units,,V$52)),0)","v":0},{"$f":"IFERROR(SUMPRODUCT(--(INDEX(Model_Inputs_Ref_Units,,W$51)=$E103),INDEX(Model_Inputs_Ref_Units,,W$52)),0)","v":0},{"$f":"IFERROR(SUMPRODUCT(--(INDEX(Model_Inputs_Ref_Units,,X$51)=$E103),INDEX(Model_Inputs_Ref_Units,,X$52)),0)","v":0},{"$f":"IFERROR(SUMPRODUCT(--(INDEX(Model_Inputs_Ref_Units,,Y$51)=$E103),INDEX(Model_Inputs_Ref_Units,,Y$52)),0)","v":0},{"$f":"IFERROR(SUMPRODUCT(--(INDEX(Model_Inputs_Ref_Units,,Z$51)=$E103),INDEX(Model_Inputs_Ref_Units,,Z$52)),0)","v":0},{"$f":"IFERROR(SUMPRODUCT(--(INDEX(Model_Inputs_Ref_Units,,AA$51)=$E103),INDEX(Model_Inputs_Ref_Units,,AA$52)),0)","v":0},{"$f":"IFERROR(SUMPRODUCT(--(INDEX(Model_Inputs_Ref_Units,,AB$51)=$E103),INDEX(Model_Inputs_Ref_Units,,AB$52)),0)","v":0},{"$f":"IFERROR(SUMPRODUCT(--(INDEX(Model_Inputs_Ref_Units,,AC$51)=$E103),INDEX(Model_Inputs_Ref_Units,,AC$52)),0)","v":0},{"$f":"IFERROR(SUMPRODUCT(--(INDEX(Model_Inputs_Ref_Units,,AD$51)=$E103),INDEX(Model_Inputs_Ref_Units,,AD$52)),0)","v":0},{"$f":"IFERROR(SUMPRODUCT(--(INDEX(Model_Inputs_Ref_Units,,AE$51)=$E103),INDEX(Model_Inputs_Ref_Units,,AE$52)),0)","v":0},{"$f":"IFERROR(SUMPRODUCT(--(INDEX(Model_Inputs_Ref_Units,,AF$51)=$E103),INDEX(Model_Inputs_Ref_Units,,AF$52)),0)","v":0},{"$f":"IFERROR(SUMPRODUCT(--(INDEX(Model_Inputs_Ref_Units,,AG$51)=$E103),INDEX(Model_Inputs_Ref_Units,,AG$52)),0)","v":0},{"$f":"IFERROR(SUMPRODUCT(--(INDEX(Model_Inputs_Ref_Units,,AH$51)=$E103),INDEX(Model_Inputs_Ref_Units,,AH$52)),0)","v":0},{"$f":"IFERROR(SUMPRODUCT(--(INDEX(Model_Inputs_Ref_Units,,AI$51)=$E103),INDEX(Model_Inputs_Ref_Units,,AI$52)),0)","v":0},{"$f":"IFERROR(SUMPRODUCT(--(INDEX(Model_Inputs_Ref_Units,,AJ$51)=$E103),INDEX(Model_Inputs_Ref_Units,,AJ$52)),0)","v":0},{"$f":"IFERROR(SUMPRODUCT(--(INDEX(Model_Inputs_Ref_Units,,AK$51)=$E103),INDEX(Model_Inputs_Ref_Units,,AK$52)),0)","v":0},{"$f":"IFERROR(SUMPRODUCT(--(INDEX(Model_Inputs_Ref_Units,,AL$51)=$E103),INDEX(Model_Inputs_Ref_Units,,AL$52)),0)","v":0},{"$f":"IFERROR(SUMPRODUCT(--(INDEX(Model_Inputs_Ref_Units,,AM$51)=$E103),INDEX(Model_Inputs_Ref_Units,,AM$52)),0)","v":0},{"$f":"IFERROR(SUMPRODUCT(--(INDEX(Model_Inputs_Ref_Units,,AN$51)=$E103),INDEX(Model_Inputs_Ref_Units,,AN$52)),0)","v":0},{"$f":"IFERROR(SUMPRODUCT(--(INDEX(Model_Inputs_Ref_Units,,AO$51)=$E103),INDEX(Model_Inputs_Ref_Units,,AO$52)),0)","v":0},{"$f":"IFERROR(SUMPRODUCT(--(INDEX(Model_Inputs_Ref_Units,,AP$51)=$E103),INDEX(Model_Inputs_Ref_Units,,AP$52)),0)","v":0},{"$f":"IFERROR(SUMPRODUCT(--(INDEX(Model_Inputs_Ref_Units,,AQ$51)=$E103),INDEX(Model_Inputs_Ref_Units,,AQ$52)),0)","v":0},{"$f":"IFERROR(SUMPRODUCT(--(INDEX(Model_Inputs_Ref_Units,,AR$51)=$E103),INDEX(Model_Inputs_Ref_Units,,AR$52)),0)","v":0},{"$f":"IFERROR(SUMPRODUCT(--(INDEX(Model_Inputs_Ref_Units,,AS$51)=$E103),INDEX(Model_Inputs_Ref_Units,,AS$52)),0)","v":0},{"$f":"IFERROR(SUMPRODUCT(--(INDEX(Model_Inputs_Ref_Units,,AT$51)=$E103),INDEX(Model_Inputs_Ref_Units,,AT$52)),0)","v":0},{"$f":"IFERROR(SUMPRODUCT(--(INDEX(Model_Inputs_Ref_Units,,AU$51)=$E103),INDEX(Model_Inputs_Ref_Units,,AU$52)),0)","v":0},{"$f":"IFERROR(SUMPRODUCT(--(INDEX(Model_Inputs_Ref_Units,,AV$51)=$E103),INDEX(Model_Inputs_Ref_Units,,AV$52)),0)","v":0},{"$f":"IFERROR(SUMPRODUCT(--(INDEX(Model_Inputs_Ref_Units,,AW$51)=$E103),INDEX(Model_Inputs_Ref_Units,,AW$52)),0)","v":0},{"$f":"IFERROR(SUMPRODUCT(--(INDEX(Model_Inputs_Ref_Units,,AX$51)=$E103),INDEX(Model_Inputs_Ref_Units,,AX$52)),0)","v":0},{"$f":"IFERROR(SUMPRODUCT(--(INDEX(Model_Inputs_Ref_Units,,AY$51)=$E103),INDEX(Model_Inputs_Ref_Units,,AY$52)),0)","v":0},{"$f":"IFERROR(SUMPRODUCT(--(INDEX(Model_Inputs_Ref_Units,,AZ$51)=$E103),INDEX(Model_Inputs_Ref_Units,,AZ$52)),0)","v":0},{"$f":"IFERROR(SUMPRODUCT(--(INDEX(Model_Inputs_Ref_Units,,BA$51)=$E103),INDEX(Model_Inputs_Ref_Units,,BA$52)),0)","v":0},{"$f":"IFERROR(SUMPRODUCT(--(INDEX(Model_Inputs_Ref_Units,,BB$51)=$E103),INDEX(Model_Inputs_Ref_Units,,BB$52)),0)","v":0},{"$f":"IFERROR(SUMPRODUCT(--(INDEX(Model_Inputs_Ref_Units,,BC$51)=$E103),INDEX(Model_Inputs_Ref_Units,,BC$52)),0)","v":0},{"$f":"IFERROR(SUMPRODUCT(--(INDEX(Model_Inputs_Ref_Units,,BD$51)=$E103),INDEX(Model_Inputs_Ref_Units,,BD$52)),0)","v":0},{"$f":"IFERROR(SUMPRODUCT(--(INDEX(Model_Inputs_Ref_Units,,BE$51)=$E103),INDEX(Model_Inputs_Ref_Units,,BE$52)),0)","v":0},{"$f":"IFERROR(SUMPRODUCT(--(INDEX(Model_Inputs_Ref_Units,,BF$51)=$E103),INDEX(Model_Inputs_Ref_Units,,BF$52)),0)","v":0},{"$f":"IFERROR(SUMPRODUCT(--(INDEX(Model_Inputs_Ref_Units,,BG$51)=$E103),INDEX(Model_Inputs_Ref_Units,,BG$52)),0)","v":0},{"$f":"IFERROR(SUMPRODUCT(--(INDEX(Model_Inputs_Ref_Units,,BH$51)=$E103),INDEX(Model_Inputs_Ref_Units,,BH$52)),0)","v":0},{"$f":"IFERROR(SUMPRODUCT(--(INDEX(Model_Inputs_Ref_Units,,BI$51)=$E103),INDEX(Model_Inputs_Ref_Units,,BI$52)),0)","v":0},{"$f":"IFERROR(SUMPRODUCT(--(INDEX(Model_Inputs_Ref_Units,,BJ$51)=$E103),INDEX(Model_Inputs_Ref_Units,,BJ$52)),0)","v":0},{"$f":"IFERROR(SUMPRODUCT(--(INDEX(Model_Inputs_Ref_Units,,BK$51)=$E103),INDEX(Model_Inputs_Ref_Units,,BK$52)),0)","v":0},{"$f":"IFERROR(SUMPRODUCT(--(INDEX(Model_Inputs_Ref_Units,,BL$51)=$E103),INDEX(Model_Inputs_Ref_Units,,BL$52)),0)","v":0},{"$f":"IFERROR(SUMPRODUCT(--(INDEX(Model_Inputs_Ref_Units,,BM$51)=$E103),INDEX(Model_Inputs_Ref_Units,,BM$52)),0)","v":0},{"$f":"IFERROR(SUMPRODUCT(--(INDEX(Model_Inputs_Ref_Units,,BN$51)=$E103),INDEX(Model_Inputs_Ref_Units,,BN$52)),0)","v":0},{"$f":"IFERROR(SUMPRODUCT(--(INDEX(Model_Inputs_Ref_Units,,BO$51)=$E103),INDEX(Model_Inputs_Ref_Units,,BO$52)),0)","v":0},{"$f":"IFERROR(SUMPRODUCT(--(INDEX(Model_Inputs_Ref_Units,,BP$51)=$E103),INDEX(Model_Inputs_Ref_Units,,BP$52)),0)","v":0},{"$f":"IFERROR(SUMPRODUCT(--(INDEX(Model_Inputs_Ref_Units,,BQ$51)=$E103),INDEX(Model_Inputs_Ref_Units,,BQ$52)),0)","v":0},{"$f":"IFERROR(SUMPRODUCT(--(INDEX(Model_Inputs_Ref_Units,,BR$51)=$E103),INDEX(Model_Inputs_Ref_Units,,BR$52)),0)","v":0},{"$f":"IFERROR(SUMPRODUCT(--(INDEX(Model_Inputs_Ref_Units,,BS$51)=$E103),INDEX(Model_Inputs_Ref_Units,,BS$52)),0)","v":0},{"$f":"IFERROR(SUMPRODUCT(--(INDEX(Model_Inputs_Ref_Units,,BT$51)=$E103),INDEX(Model_Inputs_Ref_Units,,BT$52)),0)","v":0},{"$f":"IFERROR(SUMPRODUCT(--(INDEX(Model_Inputs_Ref_Units,,BU$51)=$E103),INDEX(Model_Inputs_Ref_Units,,BU$52)),0)","v":0},{"$f":"IFERROR(SUMPRODUCT(--(INDEX(Model_Inputs_Ref_Units,,BV$51)=$E103),INDEX(Model_Inputs_Ref_Units,,BV$52)),0)","v":0},{"$f":"IFERROR(SUMPRODUCT(--(INDEX(Model_Inputs_Ref_Units,,BW$51)=$E103),INDEX(Model_Inputs_Ref_Units,,BW$52)),0)","v":0},{"$f":"IFERROR(SUMPRODUCT(--(INDEX(Model_Inputs_Ref_Units,,BX$51)=$E103),INDEX(Model_Inputs_Ref_Units,,BX$52)),0)","v":0},{"$f":"IFERROR(SUMPRODUCT(--(INDEX(Model_Inputs_Ref_Units,,BY$51)=$E103),INDEX(Model_Inputs_Ref_Units,,BY$52)),0)","v":0},{"$f":"IFERROR(SUMPRODUCT(--(INDEX(Model_Inputs_Ref_Units,,BZ$51)=$E103),INDEX(Model_Inputs_Ref_Units,,BZ$52)),0)","v":0},{"$f":"IFERROR(SUMPRODUCT(--(INDEX(Model_Inputs_Ref_Units,,CA$51)=$E103),INDEX(Model_Inputs_Ref_Units,,CA$52)),0)","v":0},{"$f":"IFERROR(SUMPRODUCT(--(INDEX(Model_Inputs_Ref_Units,,CB$51)=$E103),INDEX(Model_Inputs_Ref_Units,,CB$52)),0)","v":0},{"$f":"IFERROR(SUMPRODUCT(--(INDEX(Model_Inputs_Ref_Units,,CC$51)=$E103),INDEX(Model_Inputs_Ref_Units,,CC$52)),0)","v":0},{"$f":"IFERROR(SUMPRODUCT(--(INDEX(Model_Inputs_Ref_Units,,CD$51)=$E103),INDEX(Model_Inputs_Ref_Units,,CD$52)),0)","v":0},{"$f":"IFERROR(SUMPRODUCT(--(INDEX(Model_Inputs_Ref_Units,,CE$51)=$E103),INDEX(Model_Inputs_Ref_Units,,CE$52)),0)","v":0},{"$f":"IFERROR(SUMPRODUCT(--(INDEX(Model_Inputs_Ref_Units,,CF$51)=$E103),INDEX(Model_Inputs_Ref_Units,,CF$52)),0)","v":0},{"$f":"IFERROR(SUMPRODUCT(--(INDEX(Model_Inputs_Ref_Units,,CG$51)=$E103),INDEX(Model_Inputs_Ref_Units,,CG$52)),0)","v":0},{"$f":"IFERROR(SUMPRODUCT(--(INDEX(Model_Inputs_Ref_Units,,CH$51)=$E103),INDEX(Model_Inputs_Ref_Units,,CH$52)),0)","v":0},{"$f":"IFERROR(SUMPRODUCT(--(INDEX(Model_Inputs_Ref_Units,,CI$51)=$E103),INDEX(Model_Inputs_Ref_Units,,CI$52)),0)","v":0},{"$f":"IFERROR(SUMPRODUCT(--(INDEX(Model_Inputs_Ref_Units,,CJ$51)=$E103),INDEX(Model_Inputs_Ref_Units,,CJ$52)),0)","v":0},{"$f":"IFERROR(SUMPRODUCT(--(INDEX(Model_Inputs_Ref_Units,,CK$51)=$E103),INDEX(Model_Inputs_Ref_Units,,CK$52)),0)","v":0},{"$f":"IFERROR(SUMPRODUCT(--(INDEX(Model_Inputs_Ref_Units,,CL$51)=$E103),INDEX(Model_Inputs_Ref_Units,,CL$52)),0)","v":0},{"$f":"IFERROR(SUMPRODUCT(--(INDEX(Model_Inputs_Ref_Units,,CM$51)=$E103),INDEX(Model_Inputs_Ref_Units,,CM$52)),0)","v":0},{"$f":"IFERROR(SUMPRODUCT(--(INDEX(Model_Inputs_Ref_Units,,CN$51)=$E103),INDEX(Model_Inputs_Ref_Units,,CN$52)),0)","v":0},{"$f":"IFERROR(SUMPRODUCT(--(INDEX(Model_Inputs_Ref_Units,,CO$51)=$E103),INDEX(Model_Inputs_Ref_Units,,CO$52)),0)","v":0},{"$f":"IFERROR(SUMPRODUCT(--(INDEX(Model_Inputs_Ref_Units,,CP$51)=$E103),INDEX(Model_Inputs_Ref_Units,,CP$52)),0)","v":0},{"$f":"IFERROR(SUMPRODUCT(--(INDEX(Model_Inputs_Ref_Units,,CQ$51)=$E103),INDEX(Model_Inputs_Ref_Units,,CQ$52)),0)","v":0},{"$f":"IFERROR(SUMPRODUCT(--(INDEX(Model_Inputs_Ref_Units,,CR$51)=$E103),INDEX(Model_Inputs_Ref_Units,,CR$52)),0)","v":0},{"$f":"IFERROR(SUMPRODUCT(--(INDEX(Model_Inputs_Ref_Units,,CS$51)=$E103),INDEX(Model_Inputs_Ref_Units,,CS$52)),0)","v":0},{"$f":"IFERROR(SUMPRODUCT(--(INDEX(Model_Inputs_Ref_Units,,CT$51)=$E103),INDEX(Model_Inputs_Ref_Units,,CT$52)),0)","v":0},{"$f":"IFERROR(SUMPRODUCT(--(INDEX(Model_Inputs_Ref_Units,,CU$51)=$E103),INDEX(Model_Inputs_Ref_Units,,CU$52)),0)","v":0},{"$f":"IFERROR(SUMPRODUCT(--(INDEX(Model_Inputs_Ref_Units,,CV$51)=$E103),INDEX(Model_Inputs_Ref_Units,,CV$52)),0)","v":0},{"$f":"IFERROR(SUMPRODUCT(--(INDEX(Model_Inputs_Ref_Units,,CW$51)=$E103),INDEX(Model_Inputs_Ref_Units,,CW$52)),0)","v":0},{"$f":"IFERROR(SUMPRODUCT(--(INDEX(Model_Inputs_Ref_Units,,CX$51)=$E103),INDEX(Model_Inputs_Ref_Units,,CX$52)),0)","v":0},{"$f":"IFERROR(SUMPRODUCT(--(INDEX(Model_Inputs_Ref_Units,,CY$51)=$E103),INDEX(Model_Inputs_Ref_Units,,CY$52)),0)","v":0},{"$f":"IFERROR(SUMPRODUCT(--(INDEX(Model_Inputs_Ref_Units,,CZ$51)=$E103),INDEX(Model_Inputs_Ref_Units,,CZ$52)),0)","v":0},{"$f":"IFERROR(SUMPRODUCT(--(INDEX(Model_Inputs_Ref_Units,,DA$51)=$E103),INDEX(Model_Inputs_Ref_Units,,DA$52)),0)","v":0},{"$f":"IFERROR(SUMPRODUCT(--(INDEX(Model_Inputs_Ref_Units,,DB$51)=$E103),INDEX(Model_Inputs_Ref_Units,,DB$52)),0)","v":0},{"$f":"IFERROR(SUMPRODUCT(--(INDEX(Model_Inputs_Ref_Units,,DC$51)=$E103),INDEX(Model_Inputs_Ref_Units,,DC$52)),0)","v":0},{"$f":"IFERROR(SUMPRODUCT(--(INDEX(Model_Inputs_Ref_Units,,DD$51)=$E103),INDEX(Model_Inputs_Ref_Units,,DD$52)),0)","v":0},{"$f":"IFERROR(SUMPRODUCT(--(INDEX(Model_Inputs_Ref_Units,,DE$51)=$E103),INDEX(Model_Inputs_Ref_Units,,DE$52)),0)","v":0},{"$f":"IFERROR(SUMPRODUCT(--(INDEX(Model_Inputs_Ref_Units,,DF$51)=$E103),INDEX(Model_Inputs_Ref_Units,,DF$52)),0)","v":0}]
[null,null,{"$error":"#DIV/0!"},null,{"$f":"IFERROR(INDEX(Ref_Data,1,F104),\"\")","v":""},51,0,0,0,0,{"$f":"IFERROR(SUMPRODUCT(--(INDEX(Model_Inputs_Ref_Units,,K$51)=$E104),INDEX(Model_Inputs_Ref_Units,,K$52)),0)","v":0},{"$f":"IFERROR(SUMPRODUCT(--(INDEX(Model_Inputs_Ref_Units,,L$51)=$E104),INDEX(Model_Inputs_Ref_Units,,L$52)),0)","v":0},{"$f":"IFERROR(SUMPRODUCT(--(INDEX(Model_Inputs_Ref_Units,,M$51)=$E104),INDEX(Model_Inputs_Ref_Units,,M$52)),0)","v":0},{"$f":"IFERROR(SUMPRODUCT(--(INDEX(Model_Inputs_Ref_Units,,N$51)=$E104),INDEX(Model_Inputs_Ref_Units,,N$52)),0)","v":0},{"$f":"IFERROR(SUMPRODUCT(--(INDEX(Model_Inputs_Ref_Units,,O$51)=$E104),INDEX(Model_Inputs_Ref_Units,,O$52)),0)","v":0},{"$f":"IFERROR(SUMPRODUCT(--(INDEX(Model_Inputs_Ref_Units,,P$51)=$E104),INDEX(Model_Inputs_Ref_Units,,P$52)),0)","v":0},{"$f":"IFERROR(SUMPRODUCT(--(INDEX(Model_Inputs_Ref_Units,,Q$51)=$E104),INDEX(Model_Inputs_Ref_Units,,Q$52)),0)","v":0},{"$f":"IFERROR(SUMPRODUCT(--(INDEX(Model_Inputs_Ref_Units,,R$51)=$E104),INDEX(Model_Inputs_Ref_Units,,R$52)),0)","v":0},{"$f":"IFERROR(SUMPRODUCT(--(INDEX(Model_Inputs_Ref_Units,,S$51)=$E104),INDEX(Model_Inputs_Ref_Units,,S$52)),0)","v":0},{"$f":"IFERROR(SUMPRODUCT(--(INDEX(Model_Inputs_Ref_Units,,T$51)=$E104),INDEX(Model_Inputs_Ref_Units,,T$52)),0)","v":0},{"$f":"IFERROR(SUMPRODUCT(--(INDEX(Model_Inputs_Ref_Units,,U$51)=$E104),INDEX(Model_Inputs_Ref_Units,,U$52)),0)","v":0},{"$f":"IFERROR(SUMPRODUCT(--(INDEX(Model_Inputs_Ref_Units,,V$51)=$E104),INDEX(Model_Inputs_Ref_Units,,V$52)),0)","v":0},{"$f":"IFERROR(SUMPRODUCT(--(INDEX(Model_Inputs_Ref_Units,,W$51)=$E104),INDEX(Model_Inputs_Ref_Units,,W$52)),0)","v":0},{"$f":"IFERROR(SUMPRODUCT(--(INDEX(Model_Inputs_Ref_Units,,X$51)=$E104),INDEX(Model_Inputs_Ref_Units,,X$52)),0)","v":0},{"$f":"IFERROR(SUMPRODUCT(--(INDEX(Model_Inputs_Ref_Units,,Y$51)=$E104),INDEX(Model_Inputs_Ref_Units,,Y$52)),0)","v":0},{"$f":"IFERROR(SUMPRODUCT(--(INDEX(Model_Inputs_Ref_Units,,Z$51)=$E104),INDEX(Model_Inputs_Ref_Units,,Z$52)),0)","v":0},{"$f":"IFERROR(SUMPRODUCT(--(INDEX(Model_Inputs_Ref_Units,,AA$51)=$E104),INDEX(Model_Inputs_Ref_Units,,AA$52)),0)","v":0},{"$f":"IFERROR(SUMPRODUCT(--(INDEX(Model_Inputs_Ref_Units,,AB$51)=$E104),INDEX(Model_Inputs_Ref_Units,,AB$52)),0)","v":0},{"$f":"IFERROR(SUMPRODUCT(--(INDEX(Model_Inputs_Ref_Units,,AC$51)=$E104),INDEX(Model_Inputs_Ref_Units,,AC$52)),0)","v":0},{"$f":"IFERROR(SUMPRODUCT(--(INDEX(Model_Inputs_Ref_Units,,AD$51)=$E104),INDEX(Model_Inputs_Ref_Units,,AD$52)),0)","v":0},{"$f":"IFERROR(SUMPRODUCT(--(INDEX(Model_Inputs_Ref_Units,,AE$51)=$E104),INDEX(Model_Inputs_Ref_Units,,AE$52)),0)","v":0},{"$f":"IFERROR(SUMPRODUCT(--(INDEX(Model_Inputs_Ref_Units,,AF$51)=$E104),INDEX(Model_Inputs_Ref_Units,,AF$52)),0)","v":0},{"$f":"IFERROR(SUMPRODUCT(--(INDEX(Model_Inputs_Ref_Units,,AG$51)=$E104),INDEX(Model_Inputs_Ref_Units,,AG$52)),0)","v":0},{"$f":"IFERROR(SUMPRODUCT(--(INDEX(Model_Inputs_Ref_Units,,AH$51)=$E104),INDEX(Model_Inputs_Ref_Units,,AH$52)),0)","v":0},{"$f":"IFERROR(SUMPRODUCT(--(INDEX(Model_Inputs_Ref_Units,,AI$51)=$E104),INDEX(Model_Inputs_Ref_Units,,AI$52)),0)","v":0},{"$f":"IFERROR(SUMPRODUCT(--(INDEX(Model_Inputs_Ref_Units,,AJ$51)=$E104),INDEX(Model_Inputs_Ref_Units,,AJ$52)),0)","v":0},{"$f":"IFERROR(SUMPRODUCT(--(INDEX(Model_Inputs_Ref_Units,,AK$51)=$E104),INDEX(Model_Inputs_Ref_Units,,AK$52)),0)","v":0},{"$f":"IFERROR(SUMPRODUCT(--(INDEX(Model_Inputs_Ref_Units,,AL$51)=$E104),INDEX(Model_Inputs_Ref_Units,,AL$52)),0)","v":0},{"$f":"IFERROR(SUMPRODUCT(--(INDEX(Model_Inputs_Ref_Units,,AM$51)=$E104),INDEX(Model_Inputs_Ref_Units,,AM$52)),0)","v":0},{"$f":"IFERROR(SUMPRODUCT(--(INDEX(Model_Inputs_Ref_Units,,AN$51)=$E104),INDEX(Model_Inputs_Ref_Units,,AN$52)),0)","v":0},{"$f":"IFERROR(SUMPRODUCT(--(INDEX(Model_Inputs_Ref_Units,,AO$51)=$E104),INDEX(Model_Inputs_Ref_Units,,AO$52)),0)","v":0},{"$f":"IFERROR(SUMPRODUCT(--(INDEX(Model_Inputs_Ref_Units,,AP$51)=$E104),INDEX(Model_Inputs_Ref_Units,,AP$52)),0)","v":0},{"$f":"IFERROR(SUMPRODUCT(--(INDEX(Model_Inputs_Ref_Units,,AQ$51)=$E104),INDEX(Model_Inputs_Ref_Units,,AQ$52)),0)","v":0},{"$f":"IFERROR(SUMPRODUCT(--(INDEX(Model_Inputs_Ref_Units,,AR$51)=$E104),INDEX(Model_Inputs_Ref_Units,,AR$52)),0)","v":0},{"$f":"IFERROR(SUMPRODUCT(--(INDEX(Model_Inputs_Ref_Units,,AS$51)=$E104),INDEX(Model_Inputs_Ref_Units,,AS$52)),0)","v":0},{"$f":"IFERROR(SUMPRODUCT(--(INDEX(Model_Inputs_Ref_Units,,AT$51)=$E104),INDEX(Model_Inputs_Ref_Units,,AT$52)),0)","v":0},{"$f":"IFERROR(SUMPRODUCT(--(INDEX(Model_Inputs_Ref_Units,,AU$51)=$E104),INDEX(Model_Inputs_Ref_Units,,AU$52)),0)","v":0},{"$f":"IFERROR(SUMPRODUCT(--(INDEX(Model_Inputs_Ref_Units,,AV$51)=$E104),INDEX(Model_Inputs_Ref_Units,,AV$52)),0)","v":0},{"$f":"IFERROR(SUMPRODUCT(--(INDEX(Model_Inputs_Ref_Units,,AW$51)=$E104),INDEX(Model_Inputs_Ref_Units,,AW$52)),0)","v":0},{"$f":"IFERROR(SUMPRODUCT(--(INDEX(Model_Inputs_Ref_Units,,AX$51)=$E104),INDEX(Model_Inputs_Ref_Units,,AX$52)),0)","v":0},{"$f":"IFERROR(SUMPRODUCT(--(INDEX(Model_Inputs_Ref_Units,,AY$51)=$E104),INDEX(Model_Inputs_Ref_Units,,AY$52)),0)","v":0},{"$f":"IFERROR(SUMPRODUCT(--(INDEX(Model_Inputs_Ref_Units,,AZ$51)=$E104),INDEX(Model_Inputs_Ref_Units,,AZ$52)),0)","v":0},{"$f":"IFERROR(SUMPRODUCT(--(INDEX(Model_Inputs_Ref_Units,,BA$51)=$E104),INDEX(Model_Inputs_Ref_Units,,BA$52)),0)","v":0},{"$f":"IFERROR(SUMPRODUCT(--(INDEX(Model_Inputs_Ref_Units,,BB$51)=$E104),INDEX(Model_Inputs_Ref_Units,,BB$52)),0)","v":0},{"$f":"IFERROR(SUMPRODUCT(--(INDEX(Model_Inputs_Ref_Units,,BC$51)=$E104),INDEX(Model_Inputs_Ref_Units,,BC$52)),0)","v":0},{"$f":"IFERROR(SUMPRODUCT(--(INDEX(Model_Inputs_Ref_Units,,BD$51)=$E104),INDEX(Model_Inputs_Ref_Units,,BD$52)),0)","v":0},{"$f":"IFERROR(SUMPRODUCT(--(INDEX(Model_Inputs_Ref_Units,,BE$51)=$E104),INDEX(Model_Inputs_Ref_Units,,BE$52)),0)","v":0},{"$f":"IFERROR(SUMPRODUCT(--(INDEX(Model_Inputs_Ref_Units,,BF$51)=$E104),INDEX(Model_Inputs_Ref_Units,,BF$52)),0)","v":0},{"$f":"IFERROR(SUMPRODUCT(--(INDEX(Model_Inputs_Ref_Units,,BG$51)=$E104),INDEX(Model_Inputs_Ref_Units,,BG$52)),0)","v":0},{"$f":"IFERROR(SUMPRODUCT(--(INDEX(Model_Inputs_Ref_Units,,BH$51)=$E104),INDEX(Model_Inputs_Ref_Units,,BH$52)),0)","v":0},{"$f":"IFERROR(SUMPRODUCT(--(INDEX(Model_Inputs_Ref_Units,,BI$51)=$E104),INDEX(Model_Inputs_Ref_Units,,BI$52)),0)","v":0},{"$f":"IFERROR(SUMPRODUCT(--(INDEX(Model_Inputs_Ref_Units,,BJ$51)=$E104),INDEX(Model_Inputs_Ref_Units,,BJ$52)),0)","v":0},{"$f":"IFERROR(SUMPRODUCT(--(INDEX(Model_Inputs_Ref_Units,,BK$51)=$E104),INDEX(Model_Inputs_Ref_Units,,BK$52)),0)","v":0},{"$f":"IFERROR(SUMPRODUCT(--(INDEX(Model_Inputs_Ref_Units,,BL$51)=$E104),INDEX(Model_Inputs_Ref_Units,,BL$52)),0)","v":0},{"$f":"IFERROR(SUMPRODUCT(--(INDEX(Model_Inputs_Ref_Units,,BM$51)=$E104),INDEX(Model_Inputs_Ref_Units,,BM$52)),0)","v":0},{"$f":"IFERROR(SUMPRODUCT(--(INDEX(Model_Inputs_Ref_Units,,BN$51)=$E104),INDEX(Model_Inputs_Ref_Units,,BN$52)),0)","v":0},{"$f":"IFERROR(SUMPRODUCT(--(INDEX(Model_Inputs_Ref_Units,,BO$51)=$E104),INDEX(Model_Inputs_Ref_Units,,BO$52)),0)","v":0},{"$f":"IFERROR(SUMPRODUCT(--(INDEX(Model_Inputs_Ref_Units,,BP$51)=$E104),INDEX(Model_Inputs_Ref_Units,,BP$52)),0)","v":0},{"$f":"IFERROR(SUMPRODUCT(--(INDEX(Model_Inputs_Ref_Units,,BQ$51)=$E104),INDEX(Model_Inputs_Ref_Units,,BQ$52)),0)","v":0},{"$f":"IFERROR(SUMPRODUCT(--(INDEX(Model_Inputs_Ref_Units,,BR$51)=$E104),INDEX(Model_Inputs_Ref_Units,,BR$52)),0)","v":0},{"$f":"IFERROR(SUMPRODUCT(--(INDEX(Model_Inputs_Ref_Units,,BS$51)=$E104),INDEX(Model_Inputs_Ref_Units,,BS$52)),0)","v":0},{"$f":"IFERROR(SUMPRODUCT(--(INDEX(Model_Inputs_Ref_Units,,BT$51)=$E104),INDEX(Model_Inputs_Ref_Units,,BT$52)),0)","v":0},{"$f":"IFERROR(SUMPRODUCT(--(INDEX(Model_Inputs_Ref_Units,,BU$51)=$E104),INDEX(Model_Inputs_Ref_Units,,BU$52)),0)","v":0},{"$f":"IFERROR(SUMPRODUCT(--(INDEX(Model_Inputs_Ref_Units,,BV$51)=$E104),INDEX(Model_Inputs_Ref_Units,,BV$52)),0)","v":0},{"$f":"IFERROR(SUMPRODUCT(--(INDEX(Model_Inputs_Ref_Units,,BW$51)=$E104),INDEX(Model_Inputs_Ref_Units,,BW$52)),0)","v":0},{"$f":"IFERROR(SUMPRODUCT(--(INDEX(Model_Inputs_Ref_Units,,BX$51)=$E104),INDEX(Model_Inputs_Ref_Units,,BX$52)),0)","v":0},{"$f":"IFERROR(SUMPRODUCT(--(INDEX(Model_Inputs_Ref_Units,,BY$51)=$E104),INDEX(Model_Inputs_Ref_Units,,BY$52)),0)","v":0},{"$f":"IFERROR(SUMPRODUCT(--(INDEX(Model_Inputs_Ref_Units,,BZ$51)=$E104),INDEX(Model_Inputs_Ref_Units,,BZ$52)),0)","v":0},{"$f":"IFERROR(SUMPRODUCT(--(INDEX(Model_Inputs_Ref_Units,,CA$51)=$E104),INDEX(Model_Inputs_Ref_Units,,CA$52)),0)","v":0},{"$f":"IFERROR(SUMPRODUCT(--(INDEX(Model_Inputs_Ref_Units,,CB$51)=$E104),INDEX(Model_Inputs_Ref_Units,,CB$52)),0)","v":0},{"$f":"IFERROR(SUMPRODUCT(--(INDEX(Model_Inputs_Ref_Units,,CC$51)=$E104),INDEX(Model_Inputs_Ref_Units,,CC$52)),0)","v":0},{"$f":"IFERROR(SUMPRODUCT(--(INDEX(Model_Inputs_Ref_Units,,CD$51)=$E104),INDEX(Model_Inputs_Ref_Units,,CD$52)),0)","v":0},{"$f":"IFERROR(SUMPRODUCT(--(INDEX(Model_Inputs_Ref_Units,,CE$51)=$E104),INDEX(Model_Inputs_Ref_Units,,CE$52)),0)","v":0},{"$f":"IFERROR(SUMPRODUCT(--(INDEX(Model_Inputs_Ref_Units,,CF$51)=$E104),INDEX(Model_Inputs_Ref_Units,,CF$52)),0)","v":0},{"$f":"IFERROR(SUMPRODUCT(--(INDEX(Model_Inputs_Ref_Units,,CG$51)=$E104),INDEX(Model_Inputs_Ref_Units,,CG$52)),0)","v":0},{"$f":"IFERROR(SUMPRODUCT(--(INDEX(Model_Inputs_Ref_Units,,CH$51)=$E104),INDEX(Model_Inputs_Ref_Units,,CH$52)),0)","v":0},{"$f":"IFERROR(SUMPRODUCT(--(INDEX(Model_Inputs_Ref_Units,,CI$51)=$E104),INDEX(Model_Inputs_Ref_Units,,CI$52)),0)","v":0},{"$f":"IFERROR(SUMPRODUCT(--(INDEX(Model_Inputs_Ref_Units,,CJ$51)=$E104),INDEX(Model_Inputs_Ref_Units,,CJ$52)),0)","v":0},{"$f":"IFERROR(SUMPRODUCT(--(INDEX(Model_Inputs_Ref_Units,,CK$51)=$E104),INDEX(Model_Inputs_Ref_Units,,CK$52)),0)","v":0},{"$f":"IFERROR(SUMPRODUCT(--(INDEX(Model_Inputs_Ref_Units,,CL$51)=$E104),INDEX(Model_Inputs_Ref_Units,,CL$52)),0)","v":0},{"$f":"IFERROR(SUMPRODUCT(--(INDEX(Model_Inputs_Ref_Units,,CM$51)=$E104),INDEX(Model_Inputs_Ref_Units,,CM$52)),0)","v":0},{"$f":"IFERROR(SUMPRODUCT(--(INDEX(Model_Inputs_Ref_Units,,CN$51)=$E104),INDEX(Model_Inputs_Ref_Units,,CN$52)),0)","v":0},{"$f":"IFERROR(SUMPRODUCT(--(INDEX(Model_Inputs_Ref_Units,,CO$51)=$E104),INDEX(Model_Inputs_Ref_Units,,CO$52)),0)","v":0},{"$f":"IFERROR(SUMPRODUCT(--(INDEX(Model_Inputs_Ref_Units,,CP$51)=$E104),INDEX(Model_Inputs_Ref_Units,,CP$52)),0)","v":0},{"$f":"IFERROR(SUMPRODUCT(--(INDEX(Model_Inputs_Ref_Units,,CQ$51)=$E104),INDEX(Model_Inputs_Ref_Units,,CQ$52)),0)","v":0},{"$f":"IFERROR(SUMPRODUCT(--(INDEX(Model_Inputs_Ref_Units,,CR$51)=$E104),INDEX(Model_Inputs_Ref_Units,,CR$52)),0)","v":0},{"$f":"IFERROR(SUMPRODUCT(--(INDEX(Model_Inputs_Ref_Units,,CS$51)=$E104),INDEX(Model_Inputs_Ref_Units,,CS$52)),0)","v":0},{"$f":"IFERROR(SUMPRODUCT(--(INDEX(Model_Inputs_Ref_Units,,CT$51)=$E104),INDEX(Model_Inputs_Ref_Units,,CT$52)),0)","v":0},{"$f":"IFERROR(SUMPRODUCT(--(INDEX(Model_Inputs_Ref_Units,,CU$51)=$E104),INDEX(Model_Inputs_Ref_Units,,CU$52)),0)","v":0},{"$f":"IFERROR(SUMPRODUCT(--(INDEX(Model_Inputs_Ref_Units,,CV$51)=$E104),INDEX(Model_Inputs_Ref_Units,,CV$52)),0)","v":0},{"$f":"IFERROR(SUMPRODUCT(--(INDEX(Model_Inputs_Ref_Units,,CW$51)=$E104),INDEX(Model_Inputs_Ref_Units,,CW$52)),0)","v":0},{"$f":"IFERROR(SUMPRODUCT(--(INDEX(Model_Inputs_Ref_Units,,CX$51)=$E104),INDEX(Model_Inputs_Ref_Units,,CX$52)),0)","v":0},{"$f":"IFERROR(SUMPRODUCT(--(INDEX(Model_Inputs_Ref_Units,,CY$51)=$E104),INDEX(Model_Inputs_Ref_Units,,CY$52)),0)","v":0},{"$f":"IFERROR(SUMPRODUCT(--(INDEX(Model_Inputs_Ref_Units,,CZ$51)=$E104),INDEX(Model_Inputs_Ref_Units,,CZ$52)),0)","v":0},{"$f":"IFERROR(SUMPRODUCT(--(INDEX(Model_Inputs_Ref_Units,,DA$51)=$E104),INDEX(Model_Inputs_Ref_Units,,DA$52)),0)","v":0},{"$f":"IFERROR(SUMPRODUCT(--(INDEX(Model_Inputs_Ref_Units,,DB$51)=$E104),INDEX(Model_Inputs_Ref_Units,,DB$52)),0)","v":0},{"$f":"IFERROR(SUMPRODUCT(--(INDEX(Model_Inputs_Ref_Units,,DC$51)=$E104),INDEX(Model_Inputs_Ref_Units,,DC$52)),0)","v":0},{"$f":"IFERROR(SUMPRODUCT(--(INDEX(Model_Inputs_Ref_Units,,DD$51)=$E104),INDEX(Model_Inputs_Ref_Units,,DD$52)),0)","v":0},{"$f":"IFERROR(SUMPRODUCT(--(INDEX(Model_Inputs_Ref_Units,,DE$51)=$E104),INDEX(Model_Inputs_Ref_Units,,DE$52)),0)","v":0},{"$f":"IFERROR(SUMPRODUCT(--(INDEX(Model_Inputs_Ref_Units,,DF$51)=$E104),INDEX(Model_Inputs_Ref_Units,,DF$52)),0)","v":0}]
[null,null,{"$error":"#DIV/0!"},null,{"$f":"IFERROR(INDEX(Ref_Data,1,F105),\"\")","v":""},52,0,0,0,0,{"$f":"IFERROR(SUMPRODUCT(--(INDEX(Model_Inputs_Ref_Units,,K$51)=$E105),INDEX(Model_Inputs_Ref_Units,,K$52)),0)","v":0},{"$f":"IFERROR(SUMPRODUCT(--(INDEX(Model_Inputs_Ref_Units,,L$51)=$E105),INDEX(Model_Inputs_Ref_Units,,L$52)),0)","v":0},{"$f":"IFERROR(SUMPRODUCT(--(INDEX(Model_Inputs_Ref_Units,,M$51)=$E105),INDEX(Model_Inputs_Ref_Units,,M$52)),0)","v":0},{"$f":"IFERROR(SUMPRODUCT(--(INDEX(Model_Inputs_Ref_Units,,N$51)=$E105),INDEX(Model_Inputs_Ref_Units,,N$52)),0)","v":0},{"$f":"IFERROR(SUMPRODUCT(--(INDEX(Model_Inputs_Ref_Units,,O$51)=$E105),INDEX(Model_Inputs_Ref_Units,,O$52)),0)","v":0},{"$f":"IFERROR(SUMPRODUCT(--(INDEX(Model_Inputs_Ref_Units,,P$51)=$E105),INDEX(Model_Inputs_Ref_Units,,P$52)),0)","v":0},{"$f":"IFERROR(SUMPRODUCT(--(INDEX(Model_Inputs_Ref_Units,,Q$51)=$E105),INDEX(Model_Inputs_Ref_Units,,Q$52)),0)","v":0},{"$f":"IFERROR(SUMPRODUCT(--(INDEX(Model_Inputs_Ref_Units,,R$51)=$E105),INDEX(Model_Inputs_Ref_Units,,R$52)),0)","v":0},{"$f":"IFERROR(SUMPRODUCT(--(INDEX(Model_Inputs_Ref_Units,,S$51)=$E105),INDEX(Model_Inputs_Ref_Units,,S$52)),0)","v":0},{"$f":"IFERROR(SUMPRODUCT(--(INDEX(Model_Inputs_Ref_Units,,T$51)=$E105),INDEX(Model_Inputs_Ref_Units,,T$52)),0)","v":0},{"$f":"IFERROR(SUMPRODUCT(--(INDEX(Model_Inputs_Ref_Units,,U$51)=$E105),INDEX(Model_Inputs_Ref_Units,,U$52)),0)","v":0},{"$f":"IFERROR(SUMPRODUCT(--(INDEX(Model_Inputs_Ref_Units,,V$51)=$E105),INDEX(Model_Inputs_Ref_Units,,V$52)),0)","v":0},{"$f":"IFERROR(SUMPRODUCT(--(INDEX(Model_Inputs_Ref_Units,,W$51)=$E105),INDEX(Model_Inputs_Ref_Units,,W$52)),0)","v":0},{"$f":"IFERROR(SUMPRODUCT(--(INDEX(Model_Inputs_Ref_Units,,X$51)=$E105),INDEX(Model_Inputs_Ref_Units,,X$52)),0)","v":0},{"$f":"IFERROR(SUMPRODUCT(--(INDEX(Model_Inputs_Ref_Units,,Y$51)=$E105),INDEX(Model_Inputs_Ref_Units,,Y$52)),0)","v":0},{"$f":"IFERROR(SUMPRODUCT(--(INDEX(Model_Inputs_Ref_Units,,Z$51)=$E105),INDEX(Model_Inputs_Ref_Units,,Z$52)),0)","v":0},{"$f":"IFERROR(SUMPRODUCT(--(INDEX(Model_Inputs_Ref_Units,,AA$51)=$E105),INDEX(Model_Inputs_Ref_Units,,AA$52)),0)","v":0},{"$f":"IFERROR(SUMPRODUCT(--(INDEX(Model_Inputs_Ref_Units,,AB$51)=$E105),INDEX(Model_Inputs_Ref_Units,,AB$52)),0)","v":0},{"$f":"IFERROR(SUMPRODUCT(--(INDEX(Model_Inputs_Ref_Units,,AC$51)=$E105),INDEX(Model_Inputs_Ref_Units,,AC$52)),0)","v":0},{"$f":"IFERROR(SUMPRODUCT(--(INDEX(Model_Inputs_Ref_Units,,AD$51)=$E105),INDEX(Model_Inputs_Ref_Units,,AD$52)),0)","v":0},{"$f":"IFERROR(SUMPRODUCT(--(INDEX(Model_Inputs_Ref_Units,,AE$51)=$E105),INDEX(Model_Inputs_Ref_Units,,AE$52)),0)","v":0},{"$f":"IFERROR(SUMPRODUCT(--(INDEX(Model_Inputs_Ref_Units,,AF$51)=$E105),INDEX(Model_Inputs_Ref_Units,,AF$52)),0)","v":0},{"$f":"IFERROR(SUMPRODUCT(--(INDEX(Model_Inputs_Ref_Units,,AG$51)=$E105),INDEX(Model_Inputs_Ref_Units,,AG$52)),0)","v":0},{"$f":"IFERROR(SUMPRODUCT(--(INDEX(Model_Inputs_Ref_Units,,AH$51)=$E105),INDEX(Model_Inputs_Ref_Units,,AH$52)),0)","v":0},{"$f":"IFERROR(SUMPRODUCT(--(INDEX(Model_Inputs_Ref_Units,,AI$51)=$E105),INDEX(Model_Inputs_Ref_Units,,AI$52)),0)","v":0},{"$f":"IFERROR(SUMPRODUCT(--(INDEX(Model_Inputs_Ref_Units,,AJ$51)=$E105),INDEX(Model_Inputs_Ref_Units,,AJ$52)),0)","v":0},{"$f":"IFERROR(SUMPRODUCT(--(INDEX(Model_Inputs_Ref_Units,,AK$51)=$E105),INDEX(Model_Inputs_Ref_Units,,AK$52)),0)","v":0},{"$f":"IFERROR(SUMPRODUCT(--(INDEX(Model_Inputs_Ref_Units,,AL$51)=$E105),INDEX(Model_Inputs_Ref_Units,,AL$52)),0)","v":0},{"$f":"IFERROR(SUMPRODUCT(--(INDEX(Model_Inputs_Ref_Units,,AM$51)=$E105),INDEX(Model_Inputs_Ref_Units,,AM$52)),0)","v":0},{"$f":"IFERROR(SUMPRODUCT(--(INDEX(Model_Inputs_Ref_Units,,AN$51)=$E105),INDEX(Model_Inputs_Ref_Units,,AN$52)),0)","v":0},{"$f":"IFERROR(SUMPRODUCT(--(INDEX(Model_Inputs_Ref_Units,,AO$51)=$E105),INDEX(Model_Inputs_Ref_Units,,AO$52)),0)","v":0},{"$f":"IFERROR(SUMPRODUCT(--(INDEX(Model_Inputs_Ref_Units,,AP$51)=$E105),INDEX(Model_Inputs_Ref_Units,,AP$52)),0)","v":0},{"$f":"IFERROR(SUMPRODUCT(--(INDEX(Model_Inputs_Ref_Units,,AQ$51)=$E105),INDEX(Model_Inputs_Ref_Units,,AQ$52)),0)","v":0},{"$f":"IFERROR(SUMPRODUCT(--(INDEX(Model_Inputs_Ref_Units,,AR$51)=$E105),INDEX(Model_Inputs_Ref_Units,,AR$52)),0)","v":0},{"$f":"IFERROR(SUMPRODUCT(--(INDEX(Model_Inputs_Ref_Units,,AS$51)=$E105),INDEX(Model_Inputs_Ref_Units,,AS$52)),0)","v":0},{"$f":"IFERROR(SUMPRODUCT(--(INDEX(Model_Inputs_Ref_Units,,AT$51)=$E105),INDEX(Model_Inputs_Ref_Units,,AT$52)),0)","v":0},{"$f":"IFERROR(SUMPRODUCT(--(INDEX(Model_Inputs_Ref_Units,,AU$51)=$E105),INDEX(Model_Inputs_Ref_Units,,AU$52)),0)","v":0},{"$f":"IFERROR(SUMPRODUCT(--(INDEX(Model_Inputs_Ref_Units,,AV$51)=$E105),INDEX(Model_Inputs_Ref_Units,,AV$52)),0)","v":0},{"$f":"IFERROR(SUMPRODUCT(--(INDEX(Model_Inputs_Ref_Units,,AW$51)=$E105),INDEX(Model_Inputs_Ref_Units,,AW$52)),0)","v":0},{"$f":"IFERROR(SUMPRODUCT(--(INDEX(Model_Inputs_Ref_Units,,AX$51)=$E105),INDEX(Model_Inputs_Ref_Units,,AX$52)),0)","v":0},{"$f":"IFERROR(SUMPRODUCT(--(INDEX(Model_Inputs_Ref_Units,,AY$51)=$E105),INDEX(Model_Inputs_Ref_Units,,AY$52)),0)","v":0},{"$f":"IFERROR(SUMPRODUCT(--(INDEX(Model_Inputs_Ref_Units,,AZ$51)=$E105),INDEX(Model_Inputs_Ref_Units,,AZ$52)),0)","v":0},{"$f":"IFERROR(SUMPRODUCT(--(INDEX(Model_Inputs_Ref_Units,,BA$51)=$E105),INDEX(Model_Inputs_Ref_Units,,BA$52)),0)","v":0},{"$f":"IFERROR(SUMPRODUCT(--(INDEX(Model_Inputs_Ref_Units,,BB$51)=$E105),INDEX(Model_Inputs_Ref_Units,,BB$52)),0)","v":0},{"$f":"IFERROR(SUMPRODUCT(--(INDEX(Model_Inputs_Ref_Units,,BC$51)=$E105),INDEX(Model_Inputs_Ref_Units,,BC$52)),0)","v":0},{"$f":"IFERROR(SUMPRODUCT(--(INDEX(Model_Inputs_Ref_Units,,BD$51)=$E105),INDEX(Model_Inputs_Ref_Units,,BD$52)),0)","v":0},{"$f":"IFERROR(SUMPRODUCT(--(INDEX(Model_Inputs_Ref_Units,,BE$51)=$E105),INDEX(Model_Inputs_Ref_Units,,BE$52)),0)","v":0},{"$f":"IFERROR(SUMPRODUCT(--(INDEX(Model_Inputs_Ref_Units,,BF$51)=$E105),INDEX(Model_Inputs_Ref_Units,,BF$52)),0)","v":0},{"$f":"IFERROR(SUMPRODUCT(--(INDEX(Model_Inputs_Ref_Units,,BG$51)=$E105),INDEX(Model_Inputs_Ref_Units,,BG$52)),0)","v":0},{"$f":"IFERROR(SUMPRODUCT(--(INDEX(Model_Inputs_Ref_Units,,BH$51)=$E105),INDEX(Model_Inputs_Ref_Units,,BH$52)),0)","v":0},{"$f":"IFERROR(SUMPRODUCT(--(INDEX(Model_Inputs_Ref_Units,,BI$51)=$E105),INDEX(Model_Inputs_Ref_Units,,BI$52)),0)","v":0},{"$f":"IFERROR(SUMPRODUCT(--(INDEX(Model_Inputs_Ref_Units,,BJ$51)=$E105),INDEX(Model_Inputs_Ref_Units,,BJ$52)),0)","v":0},{"$f":"IFERROR(SUMPRODUCT(--(INDEX(Model_Inputs_Ref_Units,,BK$51)=$E105),INDEX(Model_Inputs_Ref_Units,,BK$52)),0)","v":0},{"$f":"IFERROR(SUMPRODUCT(--(INDEX(Model_Inputs_Ref_Units,,BL$51)=$E105),INDEX(Model_Inputs_Ref_Units,,BL$52)),0)","v":0},{"$f":"IFERROR(SUMPRODUCT(--(INDEX(Model_Inputs_Ref_Units,,BM$51)=$E105),INDEX(Model_Inputs_Ref_Units,,BM$52)),0)","v":0},{"$f":"IFERROR(SUMPRODUCT(--(INDEX(Model_Inputs_Ref_Units,,BN$51)=$E105),INDEX(Model_Inputs_Ref_Units,,BN$52)),0)","v":0},{"$f":"IFERROR(SUMPRODUCT(--(INDEX(Model_Inputs_Ref_Units,,BO$51)=$E105),INDEX(Model_Inputs_Ref_Units,,BO$52)),0)","v":0},{"$f":"IFERROR(SUMPRODUCT(--(INDEX(Model_Inputs_Ref_Units,,BP$51)=$E105),INDEX(Model_Inputs_Ref_Units,,BP$52)),0)","v":0},{"$f":"IFERROR(SUMPRODUCT(--(INDEX(Model_Inputs_Ref_Units,,BQ$51)=$E105),INDEX(Model_Inputs_Ref_Units,,BQ$52)),0)","v":0},{"$f":"IFERROR(SUMPRODUCT(--(INDEX(Model_Inputs_Ref_Units,,BR$51)=$E105),INDEX(Model_Inputs_Ref_Units,,BR$52)),0)","v":0},{"$f":"IFERROR(SUMPRODUCT(--(INDEX(Model_Inputs_Ref_Units,,BS$51)=$E105),INDEX(Model_Inputs_Ref_Units,,BS$52)),0)","v":0},{"$f":"IFERROR(SUMPRODUCT(--(INDEX(Model_Inputs_Ref_Units,,BT$51)=$E105),INDEX(Model_Inputs_Ref_Units,,BT$52)),0)","v":0},{"$f":"IFERROR(SUMPRODUCT(--(INDEX(Model_Inputs_Ref_Units,,BU$51)=$E105),INDEX(Model_Inputs_Ref_Units,,BU$52)),0)","v":0},{"$f":"IFERROR(SUMPRODUCT(--(INDEX(Model_Inputs_Ref_Units,,BV$51)=$E105),INDEX(Model_Inputs_Ref_Units,,BV$52)),0)","v":0},{"$f":"IFERROR(SUMPRODUCT(--(INDEX(Model_Inputs_Ref_Units,,BW$51)=$E105),INDEX(Model_Inputs_Ref_Units,,BW$52)),0)","v":0},{"$f":"IFERROR(SUMPRODUCT(--(INDEX(Model_Inputs_Ref_Units,,BX$51)=$E105),INDEX(Model_Inputs_Ref_Units,,BX$52)),0)","v":0},{"$f":"IFERROR(SUMPRODUCT(--(INDEX(Model_Inputs_Ref_Units,,BY$51)=$E105),INDEX(Model_Inputs_Ref_Units,,BY$52)),0)","v":0},{"$f":"IFERROR(SUMPRODUCT(--(INDEX(Model_Inputs_Ref_Units,,BZ$51)=$E105),INDEX(Model_Inputs_Ref_Units,,BZ$52)),0)","v":0},{"$f":"IFERROR(SUMPRODUCT(--(INDEX(Model_Inputs_Ref_Units,,CA$51)=$E105),INDEX(Model_Inputs_Ref_Units,,CA$52)),0)","v":0},{"$f":"IFERROR(SUMPRODUCT(--(INDEX(Model_Inputs_Ref_Units,,CB$51)=$E105),INDEX(Model_Inputs_Ref_Units,,CB$52)),0)","v":0},{"$f":"IFERROR(SUMPRODUCT(--(INDEX(Model_Inputs_Ref_Units,,CC$51)=$E105),INDEX(Model_Inputs_Ref_Units,,CC$52)),0)","v":0},{"$f":"IFERROR(SUMPRODUCT(--(INDEX(Model_Inputs_Ref_Units,,CD$51)=$E105),INDEX(Model_Inputs_Ref_Units,,CD$52)),0)","v":0},{"$f":"IFERROR(SUMPRODUCT(--(INDEX(Model_Inputs_Ref_Units,,CE$51)=$E105),INDEX(Model_Inputs_Ref_Units,,CE$52)),0)","v":0},{"$f":"IFERROR(SUMPRODUCT(--(INDEX(Model_Inputs_Ref_Units,,CF$51)=$E105),INDEX(Model_Inputs_Ref_Units,,CF$52)),0)","v":0},{"$f":"IFERROR(SUMPRODUCT(--(INDEX(Model_Inputs_Ref_Units,,CG$51)=$E105),INDEX(Model_Inputs_Ref_Units,,CG$52)),0)","v":0},{"$f":"IFERROR(SUMPRODUCT(--(INDEX(Model_Inputs_Ref_Units,,CH$51)=$E105),INDEX(Model_Inputs_Ref_Units,,CH$52)),0)","v":0},{"$f":"IFERROR(SUMPRODUCT(--(INDEX(Model_Inputs_Ref_Units,,CI$51)=$E105),INDEX(Model_Inputs_Ref_Units,,CI$52)),0)","v":0},{"$f":"IFERROR(SUMPRODUCT(--(INDEX(Model_Inputs_Ref_Units,,CJ$51)=$E105),INDEX(Model_Inputs_Ref_Units,,CJ$52)),0)","v":0},{"$f":"IFERROR(SUMPRODUCT(--(INDEX(Model_Inputs_Ref_Units,,CK$51)=$E105),INDEX(Model_Inputs_Ref_Units,,CK$52)),0)","v":0},{"$f":"IFERROR(SUMPRODUCT(--(INDEX(Model_Inputs_Ref_Units,,CL$51)=$E105),INDEX(Model_Inputs_Ref_Units,,CL$52)),0)","v":0},{"$f":"IFERROR(SUMPRODUCT(--(INDEX(Model_Inputs_Ref_Units,,CM$51)=$E105),INDEX(Model_Inputs_Ref_Units,,CM$52)),0)","v":0},{"$f":"IFERROR(SUMPRODUCT(--(INDEX(Model_Inputs_Ref_Units,,CN$51)=$E105),INDEX(Model_Inputs_Ref_Units,,CN$52)),0)","v":0},{"$f":"IFERROR(SUMPRODUCT(--(INDEX(Model_Inputs_Ref_Units,,CO$51)=$E105),INDEX(Model_Inputs_Ref_Units,,CO$52)),0)","v":0},{"$f":"IFERROR(SUMPRODUCT(--(INDEX(Model_Inputs_Ref_Units,,CP$51)=$E105),INDEX(Model_Inputs_Ref_Units,,CP$52)),0)","v":0},{"$f":"IFERROR(SUMPRODUCT(--(INDEX(Model_Inputs_Ref_Units,,CQ$51)=$E105),INDEX(Model_Inputs_Ref_Units,,CQ$52)),0)","v":0},{"$f":"IFERROR(SUMPRODUCT(--(INDEX(Model_Inputs_Ref_Units,,CR$51)=$E105),INDEX(Model_Inputs_Ref_Units,,CR$52)),0)","v":0},{"$f":"IFERROR(SUMPRODUCT(--(INDEX(Model_Inputs_Ref_Units,,CS$51)=$E105),INDEX(Model_Inputs_Ref_Units,,CS$52)),0)","v":0},{"$f":"IFERROR(SUMPRODUCT(--(INDEX(Model_Inputs_Ref_Units,,CT$51)=$E105),INDEX(Model_Inputs_Ref_Units,,CT$52)),0)","v":0},{"$f":"IFERROR(SUMPRODUCT(--(INDEX(Model_Inputs_Ref_Units,,CU$51)=$E105),INDEX(Model_Inputs_Ref_Units,,CU$52)),0)","v":0},{"$f":"IFERROR(SUMPRODUCT(--(INDEX(Model_Inputs_Ref_Units,,CV$51)=$E105),INDEX(Model_Inputs_Ref_Units,,CV$52)),0)","v":0},{"$f":"IFERROR(SUMPRODUCT(--(INDEX(Model_Inputs_Ref_Units,,CW$51)=$E105),INDEX(Model_Inputs_Ref_Units,,CW$52)),0)","v":0},{"$f":"IFERROR(SUMPRODUCT(--(INDEX(Model_Inputs_Ref_Units,,CX$51)=$E105),INDEX(Model_Inputs_Ref_Units,,CX$52)),0)","v":0},{"$f":"IFERROR(SUMPRODUCT(--(INDEX(Model_Inputs_Ref_Units,,CY$51)=$E105),INDEX(Model_Inputs_Ref_Units,,CY$52)),0)","v":0},{"$f":"IFERROR(SUMPRODUCT(--(INDEX(Model_Inputs_Ref_Units,,CZ$51)=$E105),INDEX(Model_Inputs_Ref_Units,,CZ$52)),0)","v":0},{"$f":"IFERROR(SUMPRODUCT(--(INDEX(Model_Inputs_Ref_Units,,DA$51)=$E105),INDEX(Model_Inputs_Ref_Units,,DA$52)),0)","v":0},{"$f":"IFERROR(SUMPRODUCT(--(INDEX(Model_Inputs_Ref_Units,,DB$51)=$E105),INDEX(Model_Inputs_Ref_Units,,DB$52)),0)","v":0},{"$f":"IFERROR(SUMPRODUCT(--(INDEX(Model_Inputs_Ref_Units,,DC$51)=$E105),INDEX(Model_Inputs_Ref_Units,,DC$52)),0)","v":0},{"$f":"IFERROR(SUMPRODUCT(--(INDEX(Model_Inputs_Ref_Units,,DD$51)=$E105),INDEX(Model_Inputs_Ref_Units,,DD$52)),0)","v":0},{"$f":"IFERROR(SUMPRODUCT(--(INDEX(Model_Inputs_Ref_Units,,DE$51)=$E105),INDEX(Model_Inputs_Ref_Units,,DE$52)),0)","v":0},{"$f":"IFERROR(SUMPRODUCT(--(INDEX(Model_Inputs_Ref_Units,,DF$51)=$E105),INDEX(Model_Inputs_Ref_Units,,DF$52)),0)","v":0}]
[null,null,{"$error":"#DIV/0!"},null,{"$f":"IFERROR(INDEX(Ref_Data,1,F106),\"\")","v":""},53,0,0,0,0,{"$f":"IFERROR(SUMPRODUCT(--(INDEX(Model_Inputs_Ref_Units,,K$51)=$E106),INDEX(Model_Inputs_Ref_Units,,K$52)),0)","v":0},{"$f":"IFERROR(SUMPRODUCT(--(INDEX(Model_Inputs_Ref_Units,,L$51)=$E106),INDEX(Model_Inputs_Ref_Units,,L$52)),0)","v":0},{"$f":"IFERROR(SUMPRODUCT(--(INDEX(Model_Inputs_Ref_Units,,M$51)=$E106),INDEX(Model_Inputs_Ref_Units,,M$52)),0)","v":0},{"$f":"IFERROR(SUMPRODUCT(--(INDEX(Model_Inputs_Ref_Units,,N$51)=$E106),INDEX(Model_Inputs_Ref_Units,,N$52)),0)","v":0},{"$f":"IFERROR(SUMPRODUCT(--(INDEX(Model_Inputs_Ref_Units,,O$51)=$E106),INDEX(Model_Inputs_Ref_Units,,O$52)),0)","v":0},{"$f":"IFERROR(SUMPRODUCT(--(INDEX(Model_Inputs_Ref_Units,,P$51)=$E106),INDEX(Model_Inputs_Ref_Units,,P$52)),0)","v":0},{"$f":"IFERROR(SUMPRODUCT(--(INDEX(Model_Inputs_Ref_Units,,Q$51)=$E106),INDEX(Model_Inputs_Ref_Units,,Q$52)),0)","v":0},{"$f":"IFERROR(SUMPRODUCT(--(INDEX(Model_Inputs_Ref_Units,,R$51)=$E106),INDEX(Model_Inputs_Ref_Units,,R$52)),0)","v":0},{"$f":"IFERROR(SUMPRODUCT(--(INDEX(Model_Inputs_Ref_Units,,S$51)=$E106),INDEX(Model_Inputs_Ref_Units,,S$52)),0)","v":0},{"$f":"IFERROR(SUMPRODUCT(--(INDEX(Model_Inputs_Ref_Units,,T$51)=$E106),INDEX(Model_Inputs_Ref_Units,,T$52)),0)","v":0},{"$f":"IFERROR(SUMPRODUCT(--(INDEX(Model_Inputs_Ref_Units,,U$51)=$E106),INDEX(Model_Inputs_Ref_Units,,U$52)),0)","v":0},{"$f":"IFERROR(SUMPRODUCT(--(INDEX(Model_Inputs_Ref_Units,,V$51)=$E106),INDEX(Model_Inputs_Ref_Units,,V$52)),0)","v":0},{"$f":"IFERROR(SUMPRODUCT(--(INDEX(Model_Inputs_Ref_Units,,W$51)=$E106),INDEX(Model_Inputs_Ref_Units,,W$52)),0)","v":0},{"$f":"IFERROR(SUMPRODUCT(--(INDEX(Model_Inputs_Ref_Units,,X$51)=$E106),INDEX(Model_Inputs_Ref_Units,,X$52)),0)","v":0},{"$f":"IFERROR(SUMPRODUCT(--(INDEX(Model_Inputs_Ref_Units,,Y$51)=$E106),INDEX(Model_Inputs_Ref_Units,,Y$52)),0)","v":0},{"$f":"IFERROR(SUMPRODUCT(--(INDEX(Model_Inputs_Ref_Units,,Z$51)=$E106),INDEX(Model_Inputs_Ref_Units,,Z$52)),0)","v":0},{"$f":"IFERROR(SUMPRODUCT(--(INDEX(Model_Inputs_Ref_Units,,AA$51)=$E106),INDEX(Model_Inputs_Ref_Units,,AA$52)),0)","v":0},{"$f":"IFERROR(SUMPRODUCT(--(INDEX(Model_Inputs_Ref_Units,,AB$51)=$E106),INDEX(Model_Inputs_Ref_Units,,AB$52)),0)","v":0},{"$f":"IFERROR(SUMPRODUCT(--(INDEX(Model_Inputs_Ref_Units,,AC$51)=$E106),INDEX(Model_Inputs_Ref_Units,,AC$52)),0)","v":0},{"$f":"IFERROR(SUMPRODUCT(--(INDEX(Model_Inputs_Ref_Units,,AD$51)=$E106),INDEX(Model_Inputs_Ref_Units,,AD$52)),0)","v":0},{"$f":"IFERROR(SUMPRODUCT(--(INDEX(Model_Inputs_Ref_Units,,AE$51)=$E106),INDEX(Model_Inputs_Ref_Units,,AE$52)),0)","v":0},{"$f":"IFERROR(SUMPRODUCT(--(INDEX(Model_Inputs_Ref_Units,,AF$51)=$E106),INDEX(Model_Inputs_Ref_Units,,AF$52)),0)","v":0},{"$f":"IFERROR(SUMPRODUCT(--(INDEX(Model_Inputs_Ref_Units,,AG$51)=$E106),INDEX(Model_Inputs_Ref_Units,,AG$52)),0)","v":0},{"$f":"IFERROR(SUMPRODUCT(--(INDEX(Model_Inputs_Ref_Units,,AH$51)=$E106),INDEX(Model_Inputs_Ref_Units,,AH$52)),0)","v":0},{"$f":"IFERROR(SUMPRODUCT(--(INDEX(Model_Inputs_Ref_Units,,AI$51)=$E106),INDEX(Model_Inputs_Ref_Units,,AI$52)),0)","v":0},{"$f":"IFERROR(SUMPRODUCT(--(INDEX(Model_Inputs_Ref_Units,,AJ$51)=$E106),INDEX(Model_Inputs_Ref_Units,,AJ$52)),0)","v":0},{"$f":"IFERROR(SUMPRODUCT(--(INDEX(Model_Inputs_Ref_Units,,AK$51)=$E106),INDEX(Model_Inputs_Ref_Units,,AK$52)),0)","v":0},{"$f":"IFERROR(SUMPRODUCT(--(INDEX(Model_Inputs_Ref_Units,,AL$51)=$E106),INDEX(Model_Inputs_Ref_Units,,AL$52)),0)","v":0},{"$f":"IFERROR(SUMPRODUCT(--(INDEX(Model_Inputs_Ref_Units,,AM$51)=$E106),INDEX(Model_Inputs_Ref_Units,,AM$52)),0)","v":0},{"$f":"IFERROR(SUMPRODUCT(--(INDEX(Model_Inputs_Ref_Units,,AN$51)=$E106),INDEX(Model_Inputs_Ref_Units,,AN$52)),0)","v":0},{"$f":"IFERROR(SUMPRODUCT(--(INDEX(Model_Inputs_Ref_Units,,AO$51)=$E106),INDEX(Model_Inputs_Ref_Units,,AO$52)),0)","v":0},{"$f":"IFERROR(SUMPRODUCT(--(INDEX(Model_Inputs_Ref_Units,,AP$51)=$E106),INDEX(Model_Inputs_Ref_Units,,AP$52)),0)","v":0},{"$f":"IFERROR(SUMPRODUCT(--(INDEX(Model_Inputs_Ref_Units,,AQ$51)=$E106),INDEX(Model_Inputs_Ref_Units,,AQ$52)),0)","v":0},{"$f":"IFERROR(SUMPRODUCT(--(INDEX(Model_Inputs_Ref_Units,,AR$51)=$E106),INDEX(Model_Inputs_Ref_Units,,AR$52)),0)","v":0},{"$f":"IFERROR(SUMPRODUCT(--(INDEX(Model_Inputs_Ref_Units,,AS$51)=$E106),INDEX(Model_Inputs_Ref_Units,,AS$52)),0)","v":0},{"$f":"IFERROR(SUMPRODUCT(--(INDEX(Model_Inputs_Ref_Units,,AT$51)=$E106),INDEX(Model_Inputs_Ref_Units,,AT$52)),0)","v":0},{"$f":"IFERROR(SUMPRODUCT(--(INDEX(Model_Inputs_Ref_Units,,AU$51)=$E106),INDEX(Model_Inputs_Ref_Units,,AU$52)),0)","v":0},{"$f":"IFERROR(SUMPRODUCT(--(INDEX(Model_Inputs_Ref_Units,,AV$51)=$E106),INDEX(Model_Inputs_Ref_Units,,AV$52)),0)","v":0},{"$f":"IFERROR(SUMPRODUCT(--(INDEX(Model_Inputs_Ref_Units,,AW$51)=$E106),INDEX(Model_Inputs_Ref_Units,,AW$52)),0)","v":0},{"$f":"IFERROR(SUMPRODUCT(--(INDEX(Model_Inputs_Ref_Units,,AX$51)=$E106),INDEX(Model_Inputs_Ref_Units,,AX$52)),0)","v":0},{"$f":"IFERROR(SUMPRODUCT(--(INDEX(Model_Inputs_Ref_Units,,AY$51)=$E106),INDEX(Model_Inputs_Ref_Units,,AY$52)),0)","v":0},{"$f":"IFERROR(SUMPRODUCT(--(INDEX(Model_Inputs_Ref_Units,,AZ$51)=$E106),INDEX(Model_Inputs_Ref_Units,,AZ$52)),0)","v":0},{"$f":"IFERROR(SUMPRODUCT(--(INDEX(Model_Inputs_Ref_Units,,BA$51)=$E106),INDEX(Model_Inputs_Ref_Units,,BA$52)),0)","v":0},{"$f":"IFERROR(SUMPRODUCT(--(INDEX(Model_Inputs_Ref_Units,,BB$51)=$E106),INDEX(Model_Inputs_Ref_Units,,BB$52)),0)","v":0},{"$f":"IFERROR(SUMPRODUCT(--(INDEX(Model_Inputs_Ref_Units,,BC$51)=$E106),INDEX(Model_Inputs_Ref_Units,,BC$52)),0)","v":0},{"$f":"IFERROR(SUMPRODUCT(--(INDEX(Model_Inputs_Ref_Units,,BD$51)=$E106),INDEX(Model_Inputs_Ref_Units,,BD$52)),0)","v":0},{"$f":"IFERROR(SUMPRODUCT(--(INDEX(Model_Inputs_Ref_Units,,BE$51)=$E106),INDEX(Model_Inputs_Ref_Units,,BE$52)),0)","v":0},{"$f":"IFERROR(SUMPRODUCT(--(INDEX(Model_Inputs_Ref_Units,,BF$51)=$E106),INDEX(Model_Inputs_Ref_Units,,BF$52)),0)","v":0},{"$f":"IFERROR(SUMPRODUCT(--(INDEX(Model_Inputs_Ref_Units,,BG$51)=$E106),INDEX(Model_Inputs_Ref_Units,,BG$52)),0)","v":0},{"$f":"IFERROR(SUMPRODUCT(--(INDEX(Model_Inputs_Ref_Units,,BH$51)=$E106),INDEX(Model_Inputs_Ref_Units,,BH$52)),0)","v":0},{"$f":"IFERROR(SUMPRODUCT(--(INDEX(Model_Inputs_Ref_Units,,BI$51)=$E106),INDEX(Model_Inputs_Ref_Units,,BI$52)),0)","v":0},{"$f":"IFERROR(SUMPRODUCT(--(INDEX(Model_Inputs_Ref_Units,,BJ$51)=$E106),INDEX(Model_Inputs_Ref_Units,,BJ$52)),0)","v":0},{"$f":"IFERROR(SUMPRODUCT(--(INDEX(Model_Inputs_Ref_Units,,BK$51)=$E106),INDEX(Model_Inputs_Ref_Units,,BK$52)),0)","v":0},{"$f":"IFERROR(SUMPRODUCT(--(INDEX(Model_Inputs_Ref_Units,,BL$51)=$E106),INDEX(Model_Inputs_Ref_Units,,BL$52)),0)","v":0},{"$f":"IFERROR(SUMPRODUCT(--(INDEX(Model_Inputs_Ref_Units,,BM$51)=$E106),INDEX(Model_Inputs_Ref_Units,,BM$52)),0)","v":0},{"$f":"IFERROR(SUMPRODUCT(--(INDEX(Model_Inputs_Ref_Units,,BN$51)=$E106),INDEX(Model_Inputs_Ref_Units,,BN$52)),0)","v":0},{"$f":"IFERROR(SUMPRODUCT(--(INDEX(Model_Inputs_Ref_Units,,BO$51)=$E106),INDEX(Model_Inputs_Ref_Units,,BO$52)),0)","v":0},{"$f":"IFERROR(SUMPRODUCT(--(INDEX(Model_Inputs_Ref_Units,,BP$51)=$E106),INDEX(Model_Inputs_Ref_Units,,BP$52)),0)","v":0},{"$f":"IFERROR(SUMPRODUCT(--(INDEX(Model_Inputs_Ref_Units,,BQ$51)=$E106),INDEX(Model_Inputs_Ref_Units,,BQ$52)),0)","v":0},{"$f":"IFERROR(SUMPRODUCT(--(INDEX(Model_Inputs_Ref_Units,,BR$51)=$E106),INDEX(Model_Inputs_Ref_Units,,BR$52)),0)","v":0},{"$f":"IFERROR(SUMPRODUCT(--(INDEX(Model_Inputs_Ref_Units,,BS$51)=$E106),INDEX(Model_Inputs_Ref_Units,,BS$52)),0)","v":0},{"$f":"IFERROR(SUMPRODUCT(--(INDEX(Model_Inputs_Ref_Units,,BT$51)=$E106),INDEX(Model_Inputs_Ref_Units,,BT$52)),0)","v":0},{"$f":"IFERROR(SUMPRODUCT(--(INDEX(Model_Inputs_Ref_Units,,BU$51)=$E106),INDEX(Model_Inputs_Ref_Units,,BU$52)),0)","v":0},{"$f":"IFERROR(SUMPRODUCT(--(INDEX(Model_Inputs_Ref_Units,,BV$51)=$E106),INDEX(Model_Inputs_Ref_Units,,BV$52)),0)","v":0},{"$f":"IFERROR(SUMPRODUCT(--(INDEX(Model_Inputs_Ref_Units,,BW$51)=$E106),INDEX(Model_Inputs_Ref_Units,,BW$52)),0)","v":0},{"$f":"IFERROR(SUMPRODUCT(--(INDEX(Model_Inputs_Ref_Units,,BX$51)=$E106),INDEX(Model_Inputs_Ref_Units,,BX$52)),0)","v":0},{"$f":"IFERROR(SUMPRODUCT(--(INDEX(Model_Inputs_Ref_Units,,BY$51)=$E106),INDEX(Model_Inputs_Ref_Units,,BY$52)),0)","v":0},{"$f":"IFERROR(SUMPRODUCT(--(INDEX(Model_Inputs_Ref_Units,,BZ$51)=$E106),INDEX(Model_Inputs_Ref_Units,,BZ$52)),0)","v":0},{"$f":"IFERROR(SUMPRODUCT(--(INDEX(Model_Inputs_Ref_Units,,CA$51)=$E106),INDEX(Model_Inputs_Ref_Units,,CA$52)),0)","v":0},{"$f":"IFERROR(SUMPRODUCT(--(INDEX(Model_Inputs_Ref_Units,,CB$51)=$E106),INDEX(Model_Inputs_Ref_Units,,CB$52)),0)","v":0},{"$f":"IFERROR(SUMPRODUCT(--(INDEX(Model_Inputs_Ref_Units,,CC$51)=$E106),INDEX(Model_Inputs_Ref_Units,,CC$52)),0)","v":0},{"$f":"IFERROR(SUMPRODUCT(--(INDEX(Model_Inputs_Ref_Units,,CD$51)=$E106),INDEX(Model_Inputs_Ref_Units,,CD$52)),0)","v":0},{"$f":"IFERROR(SUMPRODUCT(--(INDEX(Model_Inputs_Ref_Units,,CE$51)=$E106),INDEX(Model_Inputs_Ref_Units,,CE$52)),0)","v":0},{"$f":"IFERROR(SUMPRODUCT(--(INDEX(Model_Inputs_Ref_Units,,CF$51)=$E106),INDEX(Model_Inputs_Ref_Units,,CF$52)),0)","v":0},{"$f":"IFERROR(SUMPRODUCT(--(INDEX(Model_Inputs_Ref_Units,,CG$51)=$E106),INDEX(Model_Inputs_Ref_Units,,CG$52)),0)","v":0},{"$f":"IFERROR(SUMPRODUCT(--(INDEX(Model_Inputs_Ref_Units,,CH$51)=$E106),INDEX(Model_Inputs_Ref_Units,,CH$52)),0)","v":0},{"$f":"IFERROR(SUMPRODUCT(--(INDEX(Model_Inputs_Ref_Units,,CI$51)=$E106),INDEX(Model_Inputs_Ref_Units,,CI$52)),0)","v":0},{"$f":"IFERROR(SUMPRODUCT(--(INDEX(Model_Inputs_Ref_Units,,CJ$51)=$E106),INDEX(Model_Inputs_Ref_Units,,CJ$52)),0)","v":0},{"$f":"IFERROR(SUMPRODUCT(--(INDEX(Model_Inputs_Ref_Units,,CK$51)=$E106),INDEX(Model_Inputs_Ref_Units,,CK$52)),0)","v":0},{"$f":"IFERROR(SUMPRODUCT(--(INDEX(Model_Inputs_Ref_Units,,CL$51)=$E106),INDEX(Model_Inputs_Ref_Units,,CL$52)),0)","v":0},{"$f":"IFERROR(SUMPRODUCT(--(INDEX(Model_Inputs_Ref_Units,,CM$51)=$E106),INDEX(Model_Inputs_Ref_Units,,CM$52)),0)","v":0},{"$f":"IFERROR(SUMPRODUCT(--(INDEX(Model_Inputs_Ref_Units,,CN$51)=$E106),INDEX(Model_Inputs_Ref_Units,,CN$52)),0)","v":0},{"$f":"IFERROR(SUMPRODUCT(--(INDEX(Model_Inputs_Ref_Units,,CO$51)=$E106),INDEX(Model_Inputs_Ref_Units,,CO$52)),0)","v":0},{"$f":"IFERROR(SUMPRODUCT(--(INDEX(Model_Inputs_Ref_Units,,CP$51)=$E106),INDEX(Model_Inputs_Ref_Units,,CP$52)),0)","v":0},{"$f":"IFERROR(SUMPRODUCT(--(INDEX(Model_Inputs_Ref_Units,,CQ$51)=$E106),INDEX(Model_Inputs_Ref_Units,,CQ$52)),0)","v":0},{"$f":"IFERROR(SUMPRODUCT(--(INDEX(Model_Inputs_Ref_Units,,CR$51)=$E106),INDEX(Model_Inputs_Ref_Units,,CR$52)),0)","v":0},{"$f":"IFERROR(SUMPRODUCT(--(INDEX(Model_Inputs_Ref_Units,,CS$51)=$E106),INDEX(Model_Inputs_Ref_Units,,CS$52)),0)","v":0},{"$f":"IFERROR(SUMPRODUCT(--(INDEX(Model_Inputs_Ref_Units,,CT$51)=$E106),INDEX(Model_Inputs_Ref_Units,,CT$52)),0)","v":0},{"$f":"IFERROR(SUMPRODUCT(--(INDEX(Model_Inputs_Ref_Units,,CU$51)=$E106),INDEX(Model_Inputs_Ref_Units,,CU$52)),0)","v":0},{"$f":"IFERROR(SUMPRODUCT(--(INDEX(Model_Inputs_Ref_Units,,CV$51)=$E106),INDEX(Model_Inputs_Ref_Units,,CV$52)),0)","v":0},{"$f":"IFERROR(SUMPRODUCT(--(INDEX(Model_Inputs_Ref_Units,,CW$51)=$E106),INDEX(Model_Inputs_Ref_Units,,CW$52)),0)","v":0},{"$f":"IFERROR(SUMPRODUCT(--(INDEX(Model_Inputs_Ref_Units,,CX$51)=$E106),INDEX(Model_Inputs_Ref_Units,,CX$52)),0)","v":0},{"$f":"IFERROR(SUMPRODUCT(--(INDEX(Model_Inputs_Ref_Units,,CY$51)=$E106),INDEX(Model_Inputs_Ref_Units,,CY$52)),0)","v":0},{"$f":"IFERROR(SUMPRODUCT(--(INDEX(Model_Inputs_Ref_Units,,CZ$51)=$E106),INDEX(Model_Inputs_Ref_Units,,CZ$52)),0)","v":0},{"$f":"IFERROR(SUMPRODUCT(--(INDEX(Model_Inputs_Ref_Units,,DA$51)=$E106),INDEX(Model_Inputs_Ref_Units,,DA$52)),0)","v":0},{"$f":"IFERROR(SUMPRODUCT(--(INDEX(Model_Inputs_Ref_Units,,DB$51)=$E106),INDEX(Model_Inputs_Ref_Units,,DB$52)),0)","v":0},{"$f":"IFERROR(SUMPRODUCT(--(INDEX(Model_Inputs_Ref_Units,,DC$51)=$E106),INDEX(Model_Inputs_Ref_Units,,DC$52)),0)","v":0},{"$f":"IFERROR(SUMPRODUCT(--(INDEX(Model_Inputs_Ref_Units,,DD$51)=$E106),INDEX(Model_Inputs_Ref_Units,,DD$52)),0)","v":0},{"$f":"IFERROR(SUMPRODUCT(--(INDEX(Model_Inputs_Ref_Units,,DE$51)=$E106),INDEX(Model_Inputs_Ref_Units,,DE$52)),0)","v":0},{"$f":"IFERROR(SUMPRODUCT(--(INDEX(Model_Inputs_Ref_Units,,DF$51)=$E106),INDEX(Model_Inputs_Ref_Units,,DF$52)),0)","v":0}]
[null,null,{"$error":"#DIV/0!"},null,{"$f":"IFERROR(INDEX(Ref_Data,1,F107),\"\")","v":""},54,0,0,0,0,{"$f":"IFERROR(SUMPRODUCT(--(INDEX(Model_Inputs_Ref_Units,,K$51)=$E107),INDEX(Model_Inputs_Ref_Units,,K$52)),0)","v":0},{"$f":"IFERROR(SUMPRODUCT(--(INDEX(Model_Inputs_Ref_Units,,L$51)=$E107),INDEX(Model_Inputs_Ref_Units,,L$52)),0)","v":0},{"$f":"IFERROR(SUMPRODUCT(--(INDEX(Model_Inputs_Ref_Units,,M$51)=$E107),INDEX(Model_Inputs_Ref_Units,,M$52)),0)","v":0},{"$f":"IFERROR(SUMPRODUCT(--(INDEX(Model_Inputs_Ref_Units,,N$51)=$E107),INDEX(Model_Inputs_Ref_Units,,N$52)),0)","v":0},{"$f":"IFERROR(SUMPRODUCT(--(INDEX(Model_Inputs_Ref_Units,,O$51)=$E107),INDEX(Model_Inputs_Ref_Units,,O$52)),0)","v":0},{"$f":"IFERROR(SUMPRODUCT(--(INDEX(Model_Inputs_Ref_Units,,P$51)=$E107),INDEX(Model_Inputs_Ref_Units,,P$52)),0)","v":0},{"$f":"IFERROR(SUMPRODUCT(--(INDEX(Model_Inputs_Ref_Units,,Q$51)=$E107),INDEX(Model_Inputs_Ref_Units,,Q$52)),0)","v":0},{"$f":"IFERROR(SUMPRODUCT(--(INDEX(Model_Inputs_Ref_Units,,R$51)=$E107),INDEX(Model_Inputs_Ref_Units,,R$52)),0)","v":0},{"$f":"IFERROR(SUMPRODUCT(--(INDEX(Model_Inputs_Ref_Units,,S$51)=$E107),INDEX(Model_Inputs_Ref_Units,,S$52)),0)","v":0},{"$f":"IFERROR(SUMPRODUCT(--(INDEX(Model_Inputs_Ref_Units,,T$51)=$E107),INDEX(Model_Inputs_Ref_Units,,T$52)),0)","v":0},{"$f":"IFERROR(SUMPRODUCT(--(INDEX(Model_Inputs_Ref_Units,,U$51)=$E107),INDEX(Model_Inputs_Ref_Units,,U$52)),0)","v":0},{"$f":"IFERROR(SUMPRODUCT(--(INDEX(Model_Inputs_Ref_Units,,V$51)=$E107),INDEX(Model_Inputs_Ref_Units,,V$52)),0)","v":0},{"$f":"IFERROR(SUMPRODUCT(--(INDEX(Model_Inputs_Ref_Units,,W$51)=$E107),INDEX(Model_Inputs_Ref_Units,,W$52)),0)","v":0},{"$f":"IFERROR(SUMPRODUCT(--(INDEX(Model_Inputs_Ref_Units,,X$51)=$E107),INDEX(Model_Inputs_Ref_Units,,X$52)),0)","v":0},{"$f":"IFERROR(SUMPRODUCT(--(INDEX(Model_Inputs_Ref_Units,,Y$51)=$E107),INDEX(Model_Inputs_Ref_Units,,Y$52)),0)","v":0},{"$f":"IFERROR(SUMPRODUCT(--(INDEX(Model_Inputs_Ref_Units,,Z$51)=$E107),INDEX(Model_Inputs_Ref_Units,,Z$52)),0)","v":0},{"$f":"IFERROR(SUMPRODUCT(--(INDEX(Model_Inputs_Ref_Units,,AA$51)=$E107),INDEX(Model_Inputs_Ref_Units,,AA$52)),0)","v":0},{"$f":"IFERROR(SUMPRODUCT(--(INDEX(Model_Inputs_Ref_Units,,AB$51)=$E107),INDEX(Model_Inputs_Ref_Units,,AB$52)),0)","v":0},{"$f":"IFERROR(SUMPRODUCT(--(INDEX(Model_Inputs_Ref_Units,,AC$51)=$E107),INDEX(Model_Inputs_Ref_Units,,AC$52)),0)","v":0},{"$f":"IFERROR(SUMPRODUCT(--(INDEX(Model_Inputs_Ref_Units,,AD$51)=$E107),INDEX(Model_Inputs_Ref_Units,,AD$52)),0)","v":0},{"$f":"IFERROR(SUMPRODUCT(--(INDEX(Model_Inputs_Ref_Units,,AE$51)=$E107),INDEX(Model_Inputs_Ref_Units,,AE$52)),0)","v":0},{"$f":"IFERROR(SUMPRODUCT(--(INDEX(Model_Inputs_Ref_Units,,AF$51)=$E107),INDEX(Model_Inputs_Ref_Units,,AF$52)),0)","v":0},{"$f":"IFERROR(SUMPRODUCT(--(INDEX(Model_Inputs_Ref_Units,,AG$51)=$E107),INDEX(Model_Inputs_Ref_Units,,AG$52)),0)","v":0},{"$f":"IFERROR(SUMPRODUCT(--(INDEX(Model_Inputs_Ref_Units,,AH$51)=$E107),INDEX(Model_Inputs_Ref_Units,,AH$52)),0)","v":0},{"$f":"IFERROR(SUMPRODUCT(--(INDEX(Model_Inputs_Ref_Units,,AI$51)=$E107),INDEX(Model_Inputs_Ref_Units,,AI$52)),0)","v":0},{"$f":"IFERROR(SUMPRODUCT(--(INDEX(Model_Inputs_Ref_Units,,AJ$51)=$E107),INDEX(Model_Inputs_Ref_Units,,AJ$52)),0)","v":0},{"$f":"IFERROR(SUMPRODUCT(--(INDEX(Model_Inputs_Ref_Units,,AK$51)=$E107),INDEX(Model_Inputs_Ref_Units,,AK$52)),0)","v":0},{"$f":"IFERROR(SUMPRODUCT(--(INDEX(Model_Inputs_Ref_Units,,AL$51)=$E107),INDEX(Model_Inputs_Ref_Units,,AL$52)),0)","v":0},{"$f":"IFERROR(SUMPRODUCT(--(INDEX(Model_Inputs_Ref_Units,,AM$51)=$E107),INDEX(Model_Inputs_Ref_Units,,AM$52)),0)","v":0},{"$f":"IFERROR(SUMPRODUCT(--(INDEX(Model_Inputs_Ref_Units,,AN$51)=$E107),INDEX(Model_Inputs_Ref_Units,,AN$52)),0)","v":0},{"$f":"IFERROR(SUMPRODUCT(--(INDEX(Model_Inputs_Ref_Units,,AO$51)=$E107),INDEX(Model_Inputs_Ref_Units,,AO$52)),0)","v":0},{"$f":"IFERROR(SUMPRODUCT(--(INDEX(Model_Inputs_Ref_Units,,AP$51)=$E107),INDEX(Model_Inputs_Ref_Units,,AP$52)),0)","v":0},{"$f":"IFERROR(SUMPRODUCT(--(INDEX(Model_Inputs_Ref_Units,,AQ$51)=$E107),INDEX(Model_Inputs_Ref_Units,,AQ$52)),0)","v":0},{"$f":"IFERROR(SUMPRODUCT(--(INDEX(Model_Inputs_Ref_Units,,AR$51)=$E107),INDEX(Model_Inputs_Ref_Units,,AR$52)),0)","v":0},{"$f":"IFERROR(SUMPRODUCT(--(INDEX(Model_Inputs_Ref_Units,,AS$51)=$E107),INDEX(Model_Inputs_Ref_Units,,AS$52)),0)","v":0},{"$f":"IFERROR(SUMPRODUCT(--(INDEX(Model_Inputs_Ref_Units,,AT$51)=$E107),INDEX(Model_Inputs_Ref_Units,,AT$52)),0)","v":0},{"$f":"IFERROR(SUMPRODUCT(--(INDEX(Model_Inputs_Ref_Units,,AU$51)=$E107),INDEX(Model_Inputs_Ref_Units,,AU$52)),0)","v":0},{"$f":"IFERROR(SUMPRODUCT(--(INDEX(Model_Inputs_Ref_Units,,AV$51)=$E107),INDEX(Model_Inputs_Ref_Units,,AV$52)),0)","v":0},{"$f":"IFERROR(SUMPRODUCT(--(INDEX(Model_Inputs_Ref_Units,,AW$51)=$E107),INDEX(Model_Inputs_Ref_Units,,AW$52)),0)","v":0},{"$f":"IFERROR(SUMPRODUCT(--(INDEX(Model_Inputs_Ref_Units,,AX$51)=$E107),INDEX(Model_Inputs_Ref_Units,,AX$52)),0)","v":0},{"$f":"IFERROR(SUMPRODUCT(--(INDEX(Model_Inputs_Ref_Units,,AY$51)=$E107),INDEX(Model_Inputs_Ref_Units,,AY$52)),0)","v":0},{"$f":"IFERROR(SUMPRODUCT(--(INDEX(Model_Inputs_Ref_Units,,AZ$51)=$E107),INDEX(Model_Inputs_Ref_Units,,AZ$52)),0)","v":0},{"$f":"IFERROR(SUMPRODUCT(--(INDEX(Model_Inputs_Ref_Units,,BA$51)=$E107),INDEX(Model_Inputs_Ref_Units,,BA$52)),0)","v":0},{"$f":"IFERROR(SUMPRODUCT(--(INDEX(Model_Inputs_Ref_Units,,BB$51)=$E107),INDEX(Model_Inputs_Ref_Units,,BB$52)),0)","v":0},{"$f":"IFERROR(SUMPRODUCT(--(INDEX(Model_Inputs_Ref_Units,,BC$51)=$E107),INDEX(Model_Inputs_Ref_Units,,BC$52)),0)","v":0},{"$f":"IFERROR(SUMPRODUCT(--(INDEX(Model_Inputs_Ref_Units,,BD$51)=$E107),INDEX(Model_Inputs_Ref_Units,,BD$52)),0)","v":0},{"$f":"IFERROR(SUMPRODUCT(--(INDEX(Model_Inputs_Ref_Units,,BE$51)=$E107),INDEX(Model_Inputs_Ref_Units,,BE$52)),0)","v":0},{"$f":"IFERROR(SUMPRODUCT(--(INDEX(Model_Inputs_Ref_Units,,BF$51)=$E107),INDEX(Model_Inputs_Ref_Units,,BF$52)),0)","v":0},{"$f":"IFERROR(SUMPRODUCT(--(INDEX(Model_Inputs_Ref_Units,,BG$51)=$E107),INDEX(Model_Inputs_Ref_Units,,BG$52)),0)","v":0},{"$f":"IFERROR(SUMPRODUCT(--(INDEX(Model_Inputs_Ref_Units,,BH$51)=$E107),INDEX(Model_Inputs_Ref_Units,,BH$52)),0)","v":0},{"$f":"IFERROR(SUMPRODUCT(--(INDEX(Model_Inputs_Ref_Units,,BI$51)=$E107),INDEX(Model_Inputs_Ref_Units,,BI$52)),0)","v":0},{"$f":"IFERROR(SUMPRODUCT(--(INDEX(Model_Inputs_Ref_Units,,BJ$51)=$E107),INDEX(Model_Inputs_Ref_Units,,BJ$52)),0)","v":0},{"$f":"IFERROR(SUMPRODUCT(--(INDEX(Model_Inputs_Ref_Units,,BK$51)=$E107),INDEX(Model_Inputs_Ref_Units,,BK$52)),0)","v":0},{"$f":"IFERROR(SUMPRODUCT(--(INDEX(Model_Inputs_Ref_Units,,BL$51)=$E107),INDEX(Model_Inputs_Ref_Units,,BL$52)),0)","v":0},{"$f":"IFERROR(SUMPRODUCT(--(INDEX(Model_Inputs_Ref_Units,,BM$51)=$E107),INDEX(Model_Inputs_Ref_Units,,BM$52)),0)","v":0},{"$f":"IFERROR(SUMPRODUCT(--(INDEX(Model_Inputs_Ref_Units,,BN$51)=$E107),INDEX(Model_Inputs_Ref_Units,,BN$52)),0)","v":0},{"$f":"IFERROR(SUMPRODUCT(--(INDEX(Model_Inputs_Ref_Units,,BO$51)=$E107),INDEX(Model_Inputs_Ref_Units,,BO$52)),0)","v":0},{"$f":"IFERROR(SUMPRODUCT(--(INDEX(Model_Inputs_Ref_Units,,BP$51)=$E107),INDEX(Model_Inputs_Ref_Units,,BP$52)),0)","v":0},{"$f":"IFERROR(SUMPRODUCT(--(INDEX(Model_Inputs_Ref_Units,,BQ$51)=$E107),INDEX(Model_Inputs_Ref_Units,,BQ$52)),0)","v":0},{"$f":"IFERROR(SUMPRODUCT(--(INDEX(Model_Inputs_Ref_Units,,BR$51)=$E107),INDEX(Model_Inputs_Ref_Units,,BR$52)),0)","v":0},{"$f":"IFERROR(SUMPRODUCT(--(INDEX(Model_Inputs_Ref_Units,,BS$51)=$E107),INDEX(Model_Inputs_Ref_Units,,BS$52)),0)","v":0},{"$f":"IFERROR(SUMPRODUCT(--(INDEX(Model_Inputs_Ref_Units,,BT$51)=$E107),INDEX(Model_Inputs_Ref_Units,,BT$52)),0)","v":0},{"$f":"IFERROR(SUMPRODUCT(--(INDEX(Model_Inputs_Ref_Units,,BU$51)=$E107),INDEX(Model_Inputs_Ref_Units,,BU$52)),0)","v":0},{"$f":"IFERROR(SUMPRODUCT(--(INDEX(Model_Inputs_Ref_Units,,BV$51)=$E107),INDEX(Model_Inputs_Ref_Units,,BV$52)),0)","v":0},{"$f":"IFERROR(SUMPRODUCT(--(INDEX(Model_Inputs_Ref_Units,,BW$51)=$E107),INDEX(Model_Inputs_Ref_Units,,BW$52)),0)","v":0},{"$f":"IFERROR(SUMPRODUCT(--(INDEX(Model_Inputs_Ref_Units,,BX$51)=$E107),INDEX(Model_Inputs_Ref_Units,,BX$52)),0)","v":0},{"$f":"IFERROR(SUMPRODUCT(--(INDEX(Model_Inputs_Ref_Units,,BY$51)=$E107),INDEX(Model_Inputs_Ref_Units,,BY$52)),0)","v":0},{"$f":"IFERROR(SUMPRODUCT(--(INDEX(Model_Inputs_Ref_Units,,BZ$51)=$E107),INDEX(Model_Inputs_Ref_Units,,BZ$52)),0)","v":0},{"$f":"IFERROR(SUMPRODUCT(--(INDEX(Model_Inputs_Ref_Units,,CA$51)=$E107),INDEX(Model_Inputs_Ref_Units,,CA$52)),0)","v":0},{"$f":"IFERROR(SUMPRODUCT(--(INDEX(Model_Inputs_Ref_Units,,CB$51)=$E107),INDEX(Model_Inputs_Ref_Units,,CB$52)),0)","v":0},{"$f":"IFERROR(SUMPRODUCT(--(INDEX(Model_Inputs_Ref_Units,,CC$51)=$E107),INDEX(Model_Inputs_Ref_Units,,CC$52)),0)","v":0},{"$f":"IFERROR(SUMPRODUCT(--(INDEX(Model_Inputs_Ref_Units,,CD$51)=$E107),INDEX(Model_Inputs_Ref_Units,,CD$52)),0)","v":0},{"$f":"IFERROR(SUMPRODUCT(--(INDEX(Model_Inputs_Ref_Units,,CE$51)=$E107),INDEX(Model_Inputs_Ref_Units,,CE$52)),0)","v":0},{"$f":"IFERROR(SUMPRODUCT(--(INDEX(Model_Inputs_Ref_Units,,CF$51)=$E107),INDEX(Model_Inputs_Ref_Units,,CF$52)),0)","v":0},{"$f":"IFERROR(SUMPRODUCT(--(INDEX(Model_Inputs_Ref_Units,,CG$51)=$E107),INDEX(Model_Inputs_Ref_Units,,CG$52)),0)","v":0},{"$f":"IFERROR(SUMPRODUCT(--(INDEX(Model_Inputs_Ref_Units,,CH$51)=$E107),INDEX(Model_Inputs_Ref_Units,,CH$52)),0)","v":0},{"$f":"IFERROR(SUMPRODUCT(--(INDEX(Model_Inputs_Ref_Units,,CI$51)=$E107),INDEX(Model_Inputs_Ref_Units,,CI$52)),0)","v":0},{"$f":"IFERROR(SUMPRODUCT(--(INDEX(Model_Inputs_Ref_Units,,CJ$51)=$E107),INDEX(Model_Inputs_Ref_Units,,CJ$52)),0)","v":0},{"$f":"IFERROR(SUMPRODUCT(--(INDEX(Model_Inputs_Ref_Units,,CK$51)=$E107),INDEX(Model_Inputs_Ref_Units,,CK$52)),0)","v":0},{"$f":"IFERROR(SUMPRODUCT(--(INDEX(Model_Inputs_Ref_Units,,CL$51)=$E107),INDEX(Model_Inputs_Ref_Units,,CL$52)),0)","v":0},{"$f":"IFERROR(SUMPRODUCT(--(INDEX(Model_Inputs_Ref_Units,,CM$51)=$E107),INDEX(Model_Inputs_Ref_Units,,CM$52)),0)","v":0},{"$f":"IFERROR(SUMPRODUCT(--(INDEX(Model_Inputs_Ref_Units,,CN$51)=$E107),INDEX(Model_Inputs_Ref_Units,,CN$52)),0)","v":0},{"$f":"IFERROR(SUMPRODUCT(--(INDEX(Model_Inputs_Ref_Units,,CO$51)=$E107),INDEX(Model_Inputs_Ref_Units,,CO$52)),0)","v":0},{"$f":"IFERROR(SUMPRODUCT(--(INDEX(Model_Inputs_Ref_Units,,CP$51)=$E107),INDEX(Model_Inputs_Ref_Units,,CP$52)),0)","v":0},{"$f":"IFERROR(SUMPRODUCT(--(INDEX(Model_Inputs_Ref_Units,,CQ$51)=$E107),INDEX(Model_Inputs_Ref_Units,,CQ$52)),0)","v":0},{"$f":"IFERROR(SUMPRODUCT(--(INDEX(Model_Inputs_Ref_Units,,CR$51)=$E107),INDEX(Model_Inputs_Ref_Units,,CR$52)),0)","v":0},{"$f":"IFERROR(SUMPRODUCT(--(INDEX(Model_Inputs_Ref_Units,,CS$51)=$E107),INDEX(Model_Inputs_Ref_Units,,CS$52)),0)","v":0},{"$f":"IFERROR(SUMPRODUCT(--(INDEX(Model_Inputs_Ref_Units,,CT$51)=$E107),INDEX(Model_Inputs_Ref_Units,,CT$52)),0)","v":0},{"$f":"IFERROR(SUMPRODUCT(--(INDEX(Model_Inputs_Ref_Units,,CU$51)=$E107),INDEX(Model_Inputs_Ref_Units,,CU$52)),0)","v":0},{"$f":"IFERROR(SUMPRODUCT(--(INDEX(Model_Inputs_Ref_Units,,CV$51)=$E107),INDEX(Model_Inputs_Ref_Units,,CV$52)),0)","v":0},{"$f":"IFERROR(SUMPRODUCT(--(INDEX(Model_Inputs_Ref_Units,,CW$51)=$E107),INDEX(Model_Inputs_Ref_Units,,CW$52)),0)","v":0},{"$f":"IFERROR(SUMPRODUCT(--(INDEX(Model_Inputs_Ref_Units,,CX$51)=$E107),INDEX(Model_Inputs_Ref_Units,,CX$52)),0)","v":0},{"$f":"IFERROR(SUMPRODUCT(--(INDEX(Model_Inputs_Ref_Units,,CY$51)=$E107),INDEX(Model_Inputs_Ref_Units,,CY$52)),0)","v":0},{"$f":"IFERROR(SUMPRODUCT(--(INDEX(Model_Inputs_Ref_Units,,CZ$51)=$E107),INDEX(Model_Inputs_Ref_Units,,CZ$52)),0)","v":0},{"$f":"IFERROR(SUMPRODUCT(--(INDEX(Model_Inputs_Ref_Units,,DA$51)=$E107),INDEX(Model_Inputs_Ref_Units,,DA$52)),0)","v":0},{"$f":"IFERROR(SUMPRODUCT(--(INDEX(Model_Inputs_Ref_Units,,DB$51)=$E107),INDEX(Model_Inputs_Ref_Units,,DB$52)),0)","v":0},{"$f":"IFERROR(SUMPRODUCT(--(INDEX(Model_Inputs_Ref_Units,,DC$51)=$E107),INDEX(Model_Inputs_Ref_Units,,DC$52)),0)","v":0},{"$f":"IFERROR(SUMPRODUCT(--(INDEX(Model_Inputs_Ref_Units,,DD$51)=$E107),INDEX(Model_Inputs_Ref_Units,,DD$52)),0)","v":0},{"$f":"IFERROR(SUMPRODUCT(--(INDEX(Model_Inputs_Ref_Units,,DE$51)=$E107),INDEX(Model_Inputs_Ref_Units,,DE$52)),0)","v":0},{"$f":"IFERROR(SUMPRODUCT(--(INDEX(Model_Inputs_Ref_Units,,DF$51)=$E107),INDEX(Model_Inputs_Ref_Units,,DF$52)),0)","v":0}]
[null,null,{"$error":"#DIV/0!"},null,{"$f":"IFERROR(INDEX(Ref_Data,1,F108),\"\")","v":""},55,0,0,0,0,{"$f":"IFERROR(SUMPRODUCT(--(INDEX(Model_Inputs_Ref_Units,,K$51)=$E108),INDEX(Model_Inputs_Ref_Units,,K$52)),0)","v":0},{"$f":"IFERROR(SUMPRODUCT(--(INDEX(Model_Inputs_Ref_Units,,L$51)=$E108),INDEX(Model_Inputs_Ref_Units,,L$52)),0)","v":0},{"$f":"IFERROR(SUMPRODUCT(--(INDEX(Model_Inputs_Ref_Units,,M$51)=$E108),INDEX(Model_Inputs_Ref_Units,,M$52)),0)","v":0},{"$f":"IFERROR(SUMPRODUCT(--(INDEX(Model_Inputs_Ref_Units,,N$51)=$E108),INDEX(Model_Inputs_Ref_Units,,N$52)),0)","v":0},{"$f":"IFERROR(SUMPRODUCT(--(INDEX(Model_Inputs_Ref_Units,,O$51)=$E108),INDEX(Model_Inputs_Ref_Units,,O$52)),0)","v":0},{"$f":"IFERROR(SUMPRODUCT(--(INDEX(Model_Inputs_Ref_Units,,P$51)=$E108),INDEX(Model_Inputs_Ref_Units,,P$52)),0)","v":0},{"$f":"IFERROR(SUMPRODUCT(--(INDEX(Model_Inputs_Ref_Units,,Q$51)=$E108),INDEX(Model_Inputs_Ref_Units,,Q$52)),0)","v":0},{"$f":"IFERROR(SUMPRODUCT(--(INDEX(Model_Inputs_Ref_Units,,R$51)=$E108),INDEX(Model_Inputs_Ref_Units,,R$52)),0)","v":0},{"$f":"IFERROR(SUMPRODUCT(--(INDEX(Model_Inputs_Ref_Units,,S$51)=$E108),INDEX(Model_Inputs_Ref_Units,,S$52)),0)","v":0},{"$f":"IFERROR(SUMPRODUCT(--(INDEX(Model_Inputs_Ref_Units,,T$51)=$E108),INDEX(Model_Inputs_Ref_Units,,T$52)),0)","v":0},{"$f":"IFERROR(SUMPRODUCT(--(INDEX(Model_Inputs_Ref_Units,,U$51)=$E108),INDEX(Model_Inputs_Ref_Units,,U$52)),0)","v":0},{"$f":"IFERROR(SUMPRODUCT(--(INDEX(Model_Inputs_Ref_Units,,V$51)=$E108),INDEX(Model_Inputs_Ref_Units,,V$52)),0)","v":0},{"$f":"IFERROR(SUMPRODUCT(--(INDEX(Model_Inputs_Ref_Units,,W$51)=$E108),INDEX(Model_Inputs_Ref_Units,,W$52)),0)","v":0},{"$f":"IFERROR(SUMPRODUCT(--(INDEX(Model_Inputs_Ref_Units,,X$51)=$E108),INDEX(Model_Inputs_Ref_Units,,X$52)),0)","v":0},{"$f":"IFERROR(SUMPRODUCT(--(INDEX(Model_Inputs_Ref_Units,,Y$51)=$E108),INDEX(Model_Inputs_Ref_Units,,Y$52)),0)","v":0},{"$f":"IFERROR(SUMPRODUCT(--(INDEX(Model_Inputs_Ref_Units,,Z$51)=$E108),INDEX(Model_Inputs_Ref_Units,,Z$52)),0)","v":0},{"$f":"IFERROR(SUMPRODUCT(--(INDEX(Model_Inputs_Ref_Units,,AA$51)=$E108),INDEX(Model_Inputs_Ref_Units,,AA$52)),0)","v":0},{"$f":"IFERROR(SUMPRODUCT(--(INDEX(Model_Inputs_Ref_Units,,AB$51)=$E108),INDEX(Model_Inputs_Ref_Units,,AB$52)),0)","v":0},{"$f":"IFERROR(SUMPRODUCT(--(INDEX(Model_Inputs_Ref_Units,,AC$51)=$E108),INDEX(Model_Inputs_Ref_Units,,AC$52)),0)","v":0},{"$f":"IFERROR(SUMPRODUCT(--(INDEX(Model_Inputs_Ref_Units,,AD$51)=$E108),INDEX(Model_Inputs_Ref_Units,,AD$52)),0)","v":0},{"$f":"IFERROR(SUMPRODUCT(--(INDEX(Model_Inputs_Ref_Units,,AE$51)=$E108),INDEX(Model_Inputs_Ref_Units,,AE$52)),0)","v":0},{"$f":"IFERROR(SUMPRODUCT(--(INDEX(Model_Inputs_Ref_Units,,AF$51)=$E108),INDEX(Model_Inputs_Ref_Units,,AF$52)),0)","v":0},{"$f":"IFERROR(SUMPRODUCT(--(INDEX(Model_Inputs_Ref_Units,,AG$51)=$E108),INDEX(Model_Inputs_Ref_Units,,AG$52)),0)","v":0},{"$f":"IFERROR(SUMPRODUCT(--(INDEX(Model_Inputs_Ref_Units,,AH$51)=$E108),INDEX(Model_Inputs_Ref_Units,,AH$52)),0)","v":0},{"$f":"IFERROR(SUMPRODUCT(--(INDEX(Model_Inputs_Ref_Units,,AI$51)=$E108),INDEX(Model_Inputs_Ref_Units,,AI$52)),0)","v":0},{"$f":"IFERROR(SUMPRODUCT(--(INDEX(Model_Inputs_Ref_Units,,AJ$51)=$E108),INDEX(Model_Inputs_Ref_Units,,AJ$52)),0)","v":0},{"$f":"IFERROR(SUMPRODUCT(--(INDEX(Model_Inputs_Ref_Units,,AK$51)=$E108),INDEX(Model_Inputs_Ref_Units,,AK$52)),0)","v":0},{"$f":"IFERROR(SUMPRODUCT(--(INDEX(Model_Inputs_Ref_Units,,AL$51)=$E108),INDEX(Model_Inputs_Ref_Units,,AL$52)),0)","v":0},{"$f":"IFERROR(SUMPRODUCT(--(INDEX(Model_Inputs_Ref_Units,,AM$51)=$E108),INDEX(Model_Inputs_Ref_Units,,AM$52)),0)","v":0},{"$f":"IFERROR(SUMPRODUCT(--(INDEX(Model_Inputs_Ref_Units,,AN$51)=$E108),INDEX(Model_Inputs_Ref_Units,,AN$52)),0)","v":0},{"$f":"IFERROR(SUMPRODUCT(--(INDEX(Model_Inputs_Ref_Units,,AO$51)=$E108),INDEX(Model_Inputs_Ref_Units,,AO$52)),0)","v":0},{"$f":"IFERROR(SUMPRODUCT(--(INDEX(Model_Inputs_Ref_Units,,AP$51)=$E108),INDEX(Model_Inputs_Ref_Units,,AP$52)),0)","v":0},{"$f":"IFERROR(SUMPRODUCT(--(INDEX(Model_Inputs_Ref_Units,,AQ$51)=$E108),INDEX(Model_Inputs_Ref_Units,,AQ$52)),0)","v":0},{"$f":"IFERROR(SUMPRODUCT(--(INDEX(Model_Inputs_Ref_Units,,AR$51)=$E108),INDEX(Model_Inputs_Ref_Units,,AR$52)),0)","v":0},{"$f":"IFERROR(SUMPRODUCT(--(INDEX(Model_Inputs_Ref_Units,,AS$51)=$E108),INDEX(Model_Inputs_Ref_Units,,AS$52)),0)","v":0},{"$f":"IFERROR(SUMPRODUCT(--(INDEX(Model_Inputs_Ref_Units,,AT$51)=$E108),INDEX(Model_Inputs_Ref_Units,,AT$52)),0)","v":0},{"$f":"IFERROR(SUMPRODUCT(--(INDEX(Model_Inputs_Ref_Units,,AU$51)=$E108),INDEX(Model_Inputs_Ref_Units,,AU$52)),0)","v":0},{"$f":"IFERROR(SUMPRODUCT(--(INDEX(Model_Inputs_Ref_Units,,AV$51)=$E108),INDEX(Model_Inputs_Ref_Units,,AV$52)),0)","v":0},{"$f":"IFERROR(SUMPRODUCT(--(INDEX(Model_Inputs_Ref_Units,,AW$51)=$E108),INDEX(Model_Inputs_Ref_Units,,AW$52)),0)","v":0},{"$f":"IFERROR(SUMPRODUCT(--(INDEX(Model_Inputs_Ref_Units,,AX$51)=$E108),INDEX(Model_Inputs_Ref_Units,,AX$52)),0)","v":0},{"$f":"IFERROR(SUMPRODUCT(--(INDEX(Model_Inputs_Ref_Units,,AY$51)=$E108),INDEX(Model_Inputs_Ref_Units,,AY$52)),0)","v":0},{"$f":"IFERROR(SUMPRODUCT(--(INDEX(Model_Inputs_Ref_Units,,AZ$51)=$E108),INDEX(Model_Inputs_Ref_Units,,AZ$52)),0)","v":0},{"$f":"IFERROR(SUMPRODUCT(--(INDEX(Model_Inputs_Ref_Units,,BA$51)=$E108),INDEX(Model_Inputs_Ref_Units,,BA$52)),0)","v":0},{"$f":"IFERROR(SUMPRODUCT(--(INDEX(Model_Inputs_Ref_Units,,BB$51)=$E108),INDEX(Model_Inputs_Ref_Units,,BB$52)),0)","v":0},{"$f":"IFERROR(SUMPRODUCT(--(INDEX(Model_Inputs_Ref_Units,,BC$51)=$E108),INDEX(Model_Inputs_Ref_Units,,BC$52)),0)","v":0},{"$f":"IFERROR(SUMPRODUCT(--(INDEX(Model_Inputs_Ref_Units,,BD$51)=$E108),INDEX(Model_Inputs_Ref_Units,,BD$52)),0)","v":0},{"$f":"IFERROR(SUMPRODUCT(--(INDEX(Model_Inputs_Ref_Units,,BE$51)=$E108),INDEX(Model_Inputs_Ref_Units,,BE$52)),0)","v":0},{"$f":"IFERROR(SUMPRODUCT(--(INDEX(Model_Inputs_Ref_Units,,BF$51)=$E108),INDEX(Model_Inputs_Ref_Units,,BF$52)),0)","v":0},{"$f":"IFERROR(SUMPRODUCT(--(INDEX(Model_Inputs_Ref_Units,,BG$51)=$E108),INDEX(Model_Inputs_Ref_Units,,BG$52)),0)","v":0},{"$f":"IFERROR(SUMPRODUCT(--(INDEX(Model_Inputs_Ref_Units,,BH$51)=$E108),INDEX(Model_Inputs_Ref_Units,,BH$52)),0)","v":0},{"$f":"IFERROR(SUMPRODUCT(--(INDEX(Model_Inputs_Ref_Units,,BI$51)=$E108),INDEX(Model_Inputs_Ref_Units,,BI$52)),0)","v":0},{"$f":"IFERROR(SUMPRODUCT(--(INDEX(Model_Inputs_Ref_Units,,BJ$51)=$E108),INDEX(Model_Inputs_Ref_Units,,BJ$52)),0)","v":0},{"$f":"IFERROR(SUMPRODUCT(--(INDEX(Model_Inputs_Ref_Units,,BK$51)=$E108),INDEX(Model_Inputs_Ref_Units,,BK$52)),0)","v":0},{"$f":"IFERROR(SUMPRODUCT(--(INDEX(Model_Inputs_Ref_Units,,BL$51)=$E108),INDEX(Model_Inputs_Ref_Units,,BL$52)),0)","v":0},{"$f":"IFERROR(SUMPRODUCT(--(INDEX(Model_Inputs_Ref_Units,,BM$51)=$E108),INDEX(Model_Inputs_Ref_Units,,BM$52)),0)","v":0},{"$f":"IFERROR(SUMPRODUCT(--(INDEX(Model_Inputs_Ref_Units,,BN$51)=$E108),INDEX(Model_Inputs_Ref_Units,,BN$52)),0)","v":0},{"$f":"IFERROR(SUMPRODUCT(--(INDEX(Model_Inputs_Ref_Units,,BO$51)=$E108),INDEX(Model_Inputs_Ref_Units,,BO$52)),0)","v":0},{"$f":"IFERROR(SUMPRODUCT(--(INDEX(Model_Inputs_Ref_Units,,BP$51)=$E108),INDEX(Model_Inputs_Ref_Units,,BP$52)),0)","v":0},{"$f":"IFERROR(SUMPRODUCT(--(INDEX(Model_Inputs_Ref_Units,,BQ$51)=$E108),INDEX(Model_Inputs_Ref_Units,,BQ$52)),0)","v":0},{"$f":"IFERROR(SUMPRODUCT(--(INDEX(Model_Inputs_Ref_Units,,BR$51)=$E108),INDEX(Model_Inputs_Ref_Units,,BR$52)),0)","v":0},{"$f":"IFERROR(SUMPRODUCT(--(INDEX(Model_Inputs_Ref_Units,,BS$51)=$E108),INDEX(Model_Inputs_Ref_Units,,BS$52)),0)","v":0},{"$f":"IFERROR(SUMPRODUCT(--(INDEX(Model_Inputs_Ref_Units,,BT$51)=$E108),INDEX(Model_Inputs_Ref_Units,,BT$52)),0)","v":0},{"$f":"IFERROR(SUMPRODUCT(--(INDEX(Model_Inputs_Ref_Units,,BU$51)=$E108),INDEX(Model_Inputs_Ref_Units,,BU$52)),0)","v":0},{"$f":"IFERROR(SUMPRODUCT(--(INDEX(Model_Inputs_Ref_Units,,BV$51)=$E108),INDEX(Model_Inputs_Ref_Units,,BV$52)),0)","v":0},{"$f":"IFERROR(SUMPRODUCT(--(INDEX(Model_Inputs_Ref_Units,,BW$51)=$E108),INDEX(Model_Inputs_Ref_Units,,BW$52)),0)","v":0},{"$f":"IFERROR(SUMPRODUCT(--(INDEX(Model_Inputs_Ref_Units,,BX$51)=$E108),INDEX(Model_Inputs_Ref_Units,,BX$52)),0)","v":0},{"$f":"IFERROR(SUMPRODUCT(--(INDEX(Model_Inputs_Ref_Units,,BY$51)=$E108),INDEX(Model_Inputs_Ref_Units,,BY$52)),0)","v":0},{"$f":"IFERROR(SUMPRODUCT(--(INDEX(Model_Inputs_Ref_Units,,BZ$51)=$E108),INDEX(Model_Inputs_Ref_Units,,BZ$52)),0)","v":0},{"$f":"IFERROR(SUMPRODUCT(--(INDEX(Model_Inputs_Ref_Units,,CA$51)=$E108),INDEX(Model_Inputs_Ref_Units,,CA$52)),0)","v":0},{"$f":"IFERROR(SUMPRODUCT(--(INDEX(Model_Inputs_Ref_Units,,CB$51)=$E108),INDEX(Model_Inputs_Ref_Units,,CB$52)),0)","v":0},{"$f":"IFERROR(SUMPRODUCT(--(INDEX(Model_Inputs_Ref_Units,,CC$51)=$E108),INDEX(Model_Inputs_Ref_Units,,CC$52)),0)","v":0},{"$f":"IFERROR(SUMPRODUCT(--(INDEX(Model_Inputs_Ref_Units,,CD$51)=$E108),INDEX(Model_Inputs_Ref_Units,,CD$52)),0)","v":0},{"$f":"IFERROR(SUMPRODUCT(--(INDEX(Model_Inputs_Ref_Units,,CE$51)=$E108),INDEX(Model_Inputs_Ref_Units,,CE$52)),0)","v":0},{"$f":"IFERROR(SUMPRODUCT(--(INDEX(Model_Inputs_Ref_Units,,CF$51)=$E108),INDEX(Model_Inputs_Ref_Units,,CF$52)),0)","v":0},{"$f":"IFERROR(SUMPRODUCT(--(INDEX(Model_Inputs_Ref_Units,,CG$51)=$E108),INDEX(Model_Inputs_Ref_Units,,CG$52)),0)","v":0},{"$f":"IFERROR(SUMPRODUCT(--(INDEX(Model_Inputs_Ref_Units,,CH$51)=$E108),INDEX(Model_Inputs_Ref_Units,,CH$52)),0)","v":0},{"$f":"IFERROR(SUMPRODUCT(--(INDEX(Model_Inputs_Ref_Units,,CI$51)=$E108),INDEX(Model_Inputs_Ref_Units,,CI$52)),0)","v":0},{"$f":"IFERROR(SUMPRODUCT(--(INDEX(Model_Inputs_Ref_Units,,CJ$51)=$E108),INDEX(Model_Inputs_Ref_Units,,CJ$52)),0)","v":0},{"$f":"IFERROR(SUMPRODUCT(--(INDEX(Model_Inputs_Ref_Units,,CK$51)=$E108),INDEX(Model_Inputs_Ref_Units,,CK$52)),0)","v":0},{"$f":"IFERROR(SUMPRODUCT(--(INDEX(Model_Inputs_Ref_Units,,CL$51)=$E108),INDEX(Model_Inputs_Ref_Units,,CL$52)),0)","v":0},{"$f":"IFERROR(SUMPRODUCT(--(INDEX(Model_Inputs_Ref_Units,,CM$51)=$E108),INDEX(Model_Inputs_Ref_Units,,CM$52)),0)","v":0},{"$f":"IFERROR(SUMPRODUCT(--(INDEX(Model_Inputs_Ref_Units,,CN$51)=$E108),INDEX(Model_Inputs_Ref_Units,,CN$52)),0)","v":0},{"$f":"IFERROR(SUMPRODUCT(--(INDEX(Model_Inputs_Ref_Units,,CO$51)=$E108),INDEX(Model_Inputs_Ref_Units,,CO$52)),0)","v":0},{"$f":"IFERROR(SUMPRODUCT(--(INDEX(Model_Inputs_Ref_Units,,CP$51)=$E108),INDEX(Model_Inputs_Ref_Units,,CP$52)),0)","v":0},{"$f":"IFERROR(SUMPRODUCT(--(INDEX(Model_Inputs_Ref_Units,,CQ$51)=$E108),INDEX(Model_Inputs_Ref_Units,,CQ$52)),0)","v":0},{"$f":"IFERROR(SUMPRODUCT(--(INDEX(Model_Inputs_Ref_Units,,CR$51)=$E108),INDEX(Model_Inputs_Ref_Units,,CR$52)),0)","v":0},{"$f":"IFERROR(SUMPRODUCT(--(INDEX(Model_Inputs_Ref_Units,,CS$51)=$E108),INDEX(Model_Inputs_Ref_Units,,CS$52)),0)","v":0},{"$f":"IFERROR(SUMPRODUCT(--(INDEX(Model_Inputs_Ref_Units,,CT$51)=$E108),INDEX(Model_Inputs_Ref_Units,,CT$52)),0)","v":0},{"$f":"IFERROR(SUMPRODUCT(--(INDEX(Model_Inputs_Ref_Units,,CU$51)=$E108),INDEX(Model_Inputs_Ref_Units,,CU$52)),0)","v":0},{"$f":"IFERROR(SUMPRODUCT(--(INDEX(Model_Inputs_Ref_Units,,CV$51)=$E108),INDEX(Model_Inputs_Ref_Units,,CV$52)),0)","v":0},{"$f":"IFERROR(SUMPRODUCT(--(INDEX(Model_Inputs_Ref_Units,,CW$51)=$E108),INDEX(Model_Inputs_Ref_Units,,CW$52)),0)","v":0},{"$f":"IFERROR(SUMPRODUCT(--(INDEX(Model_Inputs_Ref_Units,,CX$51)=$E108),INDEX(Model_Inputs_Ref_Units,,CX$52)),0)","v":0},{"$f":"IFERROR(SUMPRODUCT(--(INDEX(Model_Inputs_Ref_Units,,CY$51)=$E108),INDEX(Model_Inputs_Ref_Units,,CY$52)),0)","v":0},{"$f":"IFERROR(SUMPRODUCT(--(INDEX(Model_Inputs_Ref_Units,,CZ$51)=$E108),INDEX(Model_Inputs_Ref_Units,,CZ$52)),0)","v":0},{"$f":"IFERROR(SUMPRODUCT(--(INDEX(Model_Inputs_Ref_Units,,DA$51)=$E108),INDEX(Model_Inputs_Ref_Units,,DA$52)),0)","v":0},{"$f":"IFERROR(SUMPRODUCT(--(INDEX(Model_Inputs_Ref_Units,,DB$51)=$E108),INDEX(Model_Inputs_Ref_Units,,DB$52)),0)","v":0},{"$f":"IFERROR(SUMPRODUCT(--(INDEX(Model_Inputs_Ref_Units,,DC$51)=$E108),INDEX(Model_Inputs_Ref_Units,,DC$52)),0)","v":0},{"$f":"IFERROR(SUMPRODUCT(--(INDEX(Model_Inputs_Ref_Units,,DD$51)=$E108),INDEX(Model_Inputs_Ref_Units,,DD$52)),0)","v":0},{"$f":"IFERROR(SUMPRODUCT(--(INDEX(Model_Inputs_Ref_Units,,DE$51)=$E108),INDEX(Model_Inputs_Ref_Units,,DE$52)),0)","v":0},{"$f":"IFERROR(SUMPRODUCT(--(INDEX(Model_Inputs_Ref_Units,,DF$51)=$E108),INDEX(Model_Inputs_Ref_Units,,DF$52)),0)","v":0}]
[null,null,{"$error":"#DIV/0!"},null,{"$f":"IFERROR(INDEX(Ref_Data,1,F109),\"\")","v":""},56,0,0,0,0,{"$f":"IFERROR(SUMPRODUCT(--(INDEX(Model_Inputs_Ref_Units,,K$51)=$E109),INDEX(Model_Inputs_Ref_Units,,K$52)),0)","v":0},{"$f":"IFERROR(SUMPRODUCT(--(INDEX(Model_Inputs_Ref_Units,,L$51)=$E109),INDEX(Model_Inputs_Ref_Units,,L$52)),0)","v":0},{"$f":"IFERROR(SUMPRODUCT(--(INDEX(Model_Inputs_Ref_Units,,M$51)=$E109),INDEX(Model_Inputs_Ref_Units,,M$52)),0)","v":0},{"$f":"IFERROR(SUMPRODUCT(--(INDEX(Model_Inputs_Ref_Units,,N$51)=$E109),INDEX(Model_Inputs_Ref_Units,,N$52)),0)","v":0},{"$f":"IFERROR(SUMPRODUCT(--(INDEX(Model_Inputs_Ref_Units,,O$51)=$E109),INDEX(Model_Inputs_Ref_Units,,O$52)),0)","v":0},{"$f":"IFERROR(SUMPRODUCT(--(INDEX(Model_Inputs_Ref_Units,,P$51)=$E109),INDEX(Model_Inputs_Ref_Units,,P$52)),0)","v":0},{"$f":"IFERROR(SUMPRODUCT(--(INDEX(Model_Inputs_Ref_Units,,Q$51)=$E109),INDEX(Model_Inputs_Ref_Units,,Q$52)),0)","v":0},{"$f":"IFERROR(SUMPRODUCT(--(INDEX(Model_Inputs_Ref_Units,,R$51)=$E109),INDEX(Model_Inputs_Ref_Units,,R$52)),0)","v":0},{"$f":"IFERROR(SUMPRODUCT(--(INDEX(Model_Inputs_Ref_Units,,S$51)=$E109),INDEX(Model_Inputs_Ref_Units,,S$52)),0)","v":0},{"$f":"IFERROR(SUMPRODUCT(--(INDEX(Model_Inputs_Ref_Units,,T$51)=$E109),INDEX(Model_Inputs_Ref_Units,,T$52)),0)","v":0},{"$f":"IFERROR(SUMPRODUCT(--(INDEX(Model_Inputs_Ref_Units,,U$51)=$E109),INDEX(Model_Inputs_Ref_Units,,U$52)),0)","v":0},{"$f":"IFERROR(SUMPRODUCT(--(INDEX(Model_Inputs_Ref_Units,,V$51)=$E109),INDEX(Model_Inputs_Ref_Units,,V$52)),0)","v":0},{"$f":"IFERROR(SUMPRODUCT(--(INDEX(Model_Inputs_Ref_Units,,W$51)=$E109),INDEX(Model_Inputs_Ref_Units,,W$52)),0)","v":0},{"$f":"IFERROR(SUMPRODUCT(--(INDEX(Model_Inputs_Ref_Units,,X$51)=$E109),INDEX(Model_Inputs_Ref_Units,,X$52)),0)","v":0},{"$f":"IFERROR(SUMPRODUCT(--(INDEX(Model_Inputs_Ref_Units,,Y$51)=$E109),INDEX(Model_Inputs_Ref_Units,,Y$52)),0)","v":0},{"$f":"IFERROR(SUMPRODUCT(--(INDEX(Model_Inputs_Ref_Units,,Z$51)=$E109),INDEX(Model_Inputs_Ref_Units,,Z$52)),0)","v":0},{"$f":"IFERROR(SUMPRODUCT(--(INDEX(Model_Inputs_Ref_Units,,AA$51)=$E109),INDEX(Model_Inputs_Ref_Units,,AA$52)),0)","v":0},{"$f":"IFERROR(SUMPRODUCT(--(INDEX(Model_Inputs_Ref_Units,,AB$51)=$E109),INDEX(Model_Inputs_Ref_Units,,AB$52)),0)","v":0},{"$f":"IFERROR(SUMPRODUCT(--(INDEX(Model_Inputs_Ref_Units,,AC$51)=$E109),INDEX(Model_Inputs_Ref_Units,,AC$52)),0)","v":0},{"$f":"IFERROR(SUMPRODUCT(--(INDEX(Model_Inputs_Ref_Units,,AD$51)=$E109),INDEX(Model_Inputs_Ref_Units,,AD$52)),0)","v":0},{"$f":"IFERROR(SUMPRODUCT(--(INDEX(Model_Inputs_Ref_Units,,AE$51)=$E109),INDEX(Model_Inputs_Ref_Units,,AE$52)),0)","v":0},{"$f":"IFERROR(SUMPRODUCT(--(INDEX(Model_Inputs_Ref_Units,,AF$51)=$E109),INDEX(Model_Inputs_Ref_Units,,AF$52)),0)","v":0},{"$f":"IFERROR(SUMPRODUCT(--(INDEX(Model_Inputs_Ref_Units,,AG$51)=$E109),INDEX(Model_Inputs_Ref_Units,,AG$52)),0)","v":0},{"$f":"IFERROR(SUMPRODUCT(--(INDEX(Model_Inputs_Ref_Units,,AH$51)=$E109),INDEX(Model_Inputs_Ref_Units,,AH$52)),0)","v":0},{"$f":"IFERROR(SUMPRODUCT(--(INDEX(Model_Inputs_Ref_Units,,AI$51)=$E109),INDEX(Model_Inputs_Ref_Units,,AI$52)),0)","v":0},{"$f":"IFERROR(SUMPRODUCT(--(INDEX(Model_Inputs_Ref_Units,,AJ$51)=$E109),INDEX(Model_Inputs_Ref_Units,,AJ$52)),0)","v":0},{"$f":"IFERROR(SUMPRODUCT(--(INDEX(Model_Inputs_Ref_Units,,AK$51)=$E109),INDEX(Model_Inputs_Ref_Units,,AK$52)),0)","v":0},{"$f":"IFERROR(SUMPRODUCT(--(INDEX(Model_Inputs_Ref_Units,,AL$51)=$E109),INDEX(Model_Inputs_Ref_Units,,AL$52)),0)","v":0},{"$f":"IFERROR(SUMPRODUCT(--(INDEX(Model_Inputs_Ref_Units,,AM$51)=$E109),INDEX(Model_Inputs_Ref_Units,,AM$52)),0)","v":0},{"$f":"IFERROR(SUMPRODUCT(--(INDEX(Model_Inputs_Ref_Units,,AN$51)=$E109),INDEX(Model_Inputs_Ref_Units,,AN$52)),0)","v":0},{"$f":"IFERROR(SUMPRODUCT(--(INDEX(Model_Inputs_Ref_Units,,AO$51)=$E109),INDEX(Model_Inputs_Ref_Units,,AO$52)),0)","v":0},{"$f":"IFERROR(SUMPRODUCT(--(INDEX(Model_Inputs_Ref_Units,,AP$51)=$E109),INDEX(Model_Inputs_Ref_Units,,AP$52)),0)","v":0},{"$f":"IFERROR(SUMPRODUCT(--(INDEX(Model_Inputs_Ref_Units,,AQ$51)=$E109),INDEX(Model_Inputs_Ref_Units,,AQ$52)),0)","v":0},{"$f":"IFERROR(SUMPRODUCT(--(INDEX(Model_Inputs_Ref_Units,,AR$51)=$E109),INDEX(Model_Inputs_Ref_Units,,AR$52)),0)","v":0},{"$f":"IFERROR(SUMPRODUCT(--(INDEX(Model_Inputs_Ref_Units,,AS$51)=$E109),INDEX(Model_Inputs_Ref_Units,,AS$52)),0)","v":0},{"$f":"IFERROR(SUMPRODUCT(--(INDEX(Model_Inputs_Ref_Units,,AT$51)=$E109),INDEX(Model_Inputs_Ref_Units,,AT$52)),0)","v":0},{"$f":"IFERROR(SUMPRODUCT(--(INDEX(Model_Inputs_Ref_Units,,AU$51)=$E109),INDEX(Model_Inputs_Ref_Units,,AU$52)),0)","v":0},{"$f":"IFERROR(SUMPRODUCT(--(INDEX(Model_Inputs_Ref_Units,,AV$51)=$E109),INDEX(Model_Inputs_Ref_Units,,AV$52)),0)","v":0},{"$f":"IFERROR(SUMPRODUCT(--(INDEX(Model_Inputs_Ref_Units,,AW$51)=$E109),INDEX(Model_Inputs_Ref_Units,,AW$52)),0)","v":0},{"$f":"IFERROR(SUMPRODUCT(--(INDEX(Model_Inputs_Ref_Units,,AX$51)=$E109),INDEX(Model_Inputs_Ref_Units,,AX$52)),0)","v":0},{"$f":"IFERROR(SUMPRODUCT(--(INDEX(Model_Inputs_Ref_Units,,AY$51)=$E109),INDEX(Model_Inputs_Ref_Units,,AY$52)),0)","v":0},{"$f":"IFERROR(SUMPRODUCT(--(INDEX(Model_Inputs_Ref_Units,,AZ$51)=$E109),INDEX(Model_Inputs_Ref_Units,,AZ$52)),0)","v":0},{"$f":"IFERROR(SUMPRODUCT(--(INDEX(Model_Inputs_Ref_Units,,BA$51)=$E109),INDEX(Model_Inputs_Ref_Units,,BA$52)),0)","v":0},{"$f":"IFERROR(SUMPRODUCT(--(INDEX(Model_Inputs_Ref_Units,,BB$51)=$E109),INDEX(Model_Inputs_Ref_Units,,BB$52)),0)","v":0},{"$f":"IFERROR(SUMPRODUCT(--(INDEX(Model_Inputs_Ref_Units,,BC$51)=$E109),INDEX(Model_Inputs_Ref_Units,,BC$52)),0)","v":0},{"$f":"IFERROR(SUMPRODUCT(--(INDEX(Model_Inputs_Ref_Units,,BD$51)=$E109),INDEX(Model_Inputs_Ref_Units,,BD$52)),0)","v":0},{"$f":"IFERROR(SUMPRODUCT(--(INDEX(Model_Inputs_Ref_Units,,BE$51)=$E109),INDEX(Model_Inputs_Ref_Units,,BE$52)),0)","v":0},{"$f":"IFERROR(SUMPRODUCT(--(INDEX(Model_Inputs_Ref_Units,,BF$51)=$E109),INDEX(Model_Inputs_Ref_Units,,BF$52)),0)","v":0},{"$f":"IFERROR(SUMPRODUCT(--(INDEX(Model_Inputs_Ref_Units,,BG$51)=$E109),INDEX(Model_Inputs_Ref_Units,,BG$52)),0)","v":0},{"$f":"IFERROR(SUMPRODUCT(--(INDEX(Model_Inputs_Ref_Units,,BH$51)=$E109),INDEX(Model_Inputs_Ref_Units,,BH$52)),0)","v":0},{"$f":"IFERROR(SUMPRODUCT(--(INDEX(Model_Inputs_Ref_Units,,BI$51)=$E109),INDEX(Model_Inputs_Ref_Units,,BI$52)),0)","v":0},{"$f":"IFERROR(SUMPRODUCT(--(INDEX(Model_Inputs_Ref_Units,,BJ$51)=$E109),INDEX(Model_Inputs_Ref_Units,,BJ$52)),0)","v":0},{"$f":"IFERROR(SUMPRODUCT(--(INDEX(Model_Inputs_Ref_Units,,BK$51)=$E109),INDEX(Model_Inputs_Ref_Units,,BK$52)),0)","v":0},{"$f":"IFERROR(SUMPRODUCT(--(INDEX(Model_Inputs_Ref_Units,,BL$51)=$E109),INDEX(Model_Inputs_Ref_Units,,BL$52)),0)","v":0},{"$f":"IFERROR(SUMPRODUCT(--(INDEX(Model_Inputs_Ref_Units,,BM$51)=$E109),INDEX(Model_Inputs_Ref_Units,,BM$52)),0)","v":0},{"$f":"IFERROR(SUMPRODUCT(--(INDEX(Model_Inputs_Ref_Units,,BN$51)=$E109),INDEX(Model_Inputs_Ref_Units,,BN$52)),0)","v":0},{"$f":"IFERROR(SUMPRODUCT(--(INDEX(Model_Inputs_Ref_Units,,BO$51)=$E109),INDEX(Model_Inputs_Ref_Units,,BO$52)),0)","v":0},{"$f":"IFERROR(SUMPRODUCT(--(INDEX(Model_Inputs_Ref_Units,,BP$51)=$E109),INDEX(Model_Inputs_Ref_Units,,BP$52)),0)","v":0},{"$f":"IFERROR(SUMPRODUCT(--(INDEX(Model_Inputs_Ref_Units,,BQ$51)=$E109),INDEX(Model_Inputs_Ref_Units,,BQ$52)),0)","v":0},{"$f":"IFERROR(SUMPRODUCT(--(INDEX(Model_Inputs_Ref_Units,,BR$51)=$E109),INDEX(Model_Inputs_Ref_Units,,BR$52)),0)","v":0},{"$f":"IFERROR(SUMPRODUCT(--(INDEX(Model_Inputs_Ref_Units,,BS$51)=$E109),INDEX(Model_Inputs_Ref_Units,,BS$52)),0)","v":0},{"$f":"IFERROR(SUMPRODUCT(--(INDEX(Model_Inputs_Ref_Units,,BT$51)=$E109),INDEX(Model_Inputs_Ref_Units,,BT$52)),0)","v":0},{"$f":"IFERROR(SUMPRODUCT(--(INDEX(Model_Inputs_Ref_Units,,BU$51)=$E109),INDEX(Model_Inputs_Ref_Units,,BU$52)),0)","v":0},{"$f":"IFERROR(SUMPRODUCT(--(INDEX(Model_Inputs_Ref_Units,,BV$51)=$E109),INDEX(Model_Inputs_Ref_Units,,BV$52)),0)","v":0},{"$f":"IFERROR(SUMPRODUCT(--(INDEX(Model_Inputs_Ref_Units,,BW$51)=$E109),INDEX(Model_Inputs_Ref_Units,,BW$52)),0)","v":0},{"$f":"IFERROR(SUMPRODUCT(--(INDEX(Model_Inputs_Ref_Units,,BX$51)=$E109),INDEX(Model_Inputs_Ref_Units,,BX$52)),0)","v":0},{"$f":"IFERROR(SUMPRODUCT(--(INDEX(Model_Inputs_Ref_Units,,BY$51)=$E109),INDEX(Model_Inputs_Ref_Units,,BY$52)),0)","v":0},{"$f":"IFERROR(SUMPRODUCT(--(INDEX(Model_Inputs_Ref_Units,,BZ$51)=$E109),INDEX(Model_Inputs_Ref_Units,,BZ$52)),0)","v":0},{"$f":"IFERROR(SUMPRODUCT(--(INDEX(Model_Inputs_Ref_Units,,CA$51)=$E109),INDEX(Model_Inputs_Ref_Units,,CA$52)),0)","v":0},{"$f":"IFERROR(SUMPRODUCT(--(INDEX(Model_Inputs_Ref_Units,,CB$51)=$E109),INDEX(Model_Inputs_Ref_Units,,CB$52)),0)","v":0},{"$f":"IFERROR(SUMPRODUCT(--(INDEX(Model_Inputs_Ref_Units,,CC$51)=$E109),INDEX(Model_Inputs_Ref_Units,,CC$52)),0)","v":0},{"$f":"IFERROR(SUMPRODUCT(--(INDEX(Model_Inputs_Ref_Units,,CD$51)=$E109),INDEX(Model_Inputs_Ref_Units,,CD$52)),0)","v":0},{"$f":"IFERROR(SUMPRODUCT(--(INDEX(Model_Inputs_Ref_Units,,CE$51)=$E109),INDEX(Model_Inputs_Ref_Units,,CE$52)),0)","v":0},{"$f":"IFERROR(SUMPRODUCT(--(INDEX(Model_Inputs_Ref_Units,,CF$51)=$E109),INDEX(Model_Inputs_Ref_Units,,CF$52)),0)","v":0},{"$f":"IFERROR(SUMPRODUCT(--(INDEX(Model_Inputs_Ref_Units,,CG$51)=$E109),INDEX(Model_Inputs_Ref_Units,,CG$52)),0)","v":0},{"$f":"IFERROR(SUMPRODUCT(--(INDEX(Model_Inputs_Ref_Units,,CH$51)=$E109),INDEX(Model_Inputs_Ref_Units,,CH$52)),0)","v":0},{"$f":"IFERROR(SUMPRODUCT(--(INDEX(Model_Inputs_Ref_Units,,CI$51)=$E109),INDEX(Model_Inputs_Ref_Units,,CI$52)),0)","v":0},{"$f":"IFERROR(SUMPRODUCT(--(INDEX(Model_Inputs_Ref_Units,,CJ$51)=$E109),INDEX(Model_Inputs_Ref_Units,,CJ$52)),0)","v":0},{"$f":"IFERROR(SUMPRODUCT(--(INDEX(Model_Inputs_Ref_Units,,CK$51)=$E109),INDEX(Model_Inputs_Ref_Units,,CK$52)),0)","v":0},{"$f":"IFERROR(SUMPRODUCT(--(INDEX(Model_Inputs_Ref_Units,,CL$51)=$E109),INDEX(Model_Inputs_Ref_Units,,CL$52)),0)","v":0},{"$f":"IFERROR(SUMPRODUCT(--(INDEX(Model_Inputs_Ref_Units,,CM$51)=$E109),INDEX(Model_Inputs_Ref_Units,,CM$52)),0)","v":0},{"$f":"IFERROR(SUMPRODUCT(--(INDEX(Model_Inputs_Ref_Units,,CN$51)=$E109),INDEX(Model_Inputs_Ref_Units,,CN$52)),0)","v":0},{"$f":"IFERROR(SUMPRODUCT(--(INDEX(Model_Inputs_Ref_Units,,CO$51)=$E109),INDEX(Model_Inputs_Ref_Units,,CO$52)),0)","v":0},{"$f":"IFERROR(SUMPRODUCT(--(INDEX(Model_Inputs_Ref_Units,,CP$51)=$E109),INDEX(Model_Inputs_Ref_Units,,CP$52)),0)","v":0},{"$f":"IFERROR(SUMPRODUCT(--(INDEX(Model_Inputs_Ref_Units,,CQ$51)=$E109),INDEX(Model_Inputs_Ref_Units,,CQ$52)),0)","v":0},{"$f":"IFERROR(SUMPRODUCT(--(INDEX(Model_Inputs_Ref_Units,,CR$51)=$E109),INDEX(Model_Inputs_Ref_Units,,CR$52)),0)","v":0},{"$f":"IFERROR(SUMPRODUCT(--(INDEX(Model_Inputs_Ref_Units,,CS$51)=$E109),INDEX(Model_Inputs_Ref_Units,,CS$52)),0)","v":0},{"$f":"IFERROR(SUMPRODUCT(--(INDEX(Model_Inputs_Ref_Units,,CT$51)=$E109),INDEX(Model_Inputs_Ref_Units,,CT$52)),0)","v":0},{"$f":"IFERROR(SUMPRODUCT(--(INDEX(Model_Inputs_Ref_Units,,CU$51)=$E109),INDEX(Model_Inputs_Ref_Units,,CU$52)),0)","v":0},{"$f":"IFERROR(SUMPRODUCT(--(INDEX(Model_Inputs_Ref_Units,,CV$51)=$E109),INDEX(Model_Inputs_Ref_Units,,CV$52)),0)","v":0},{"$f":"IFERROR(SUMPRODUCT(--(INDEX(Model_Inputs_Ref_Units,,CW$51)=$E109),INDEX(Model_Inputs_Ref_Units,,CW$52)),0)","v":0},{"$f":"IFERROR(SUMPRODUCT(--(INDEX(Model_Inputs_Ref_Units,,CX$51)=$E109),INDEX(Model_Inputs_Ref_Units,,CX$52)),0)","v":0},{"$f":"IFERROR(SUMPRODUCT(--(INDEX(Model_Inputs_Ref_Units,,CY$51)=$E109),INDEX(Model_Inputs_Ref_Units,,CY$52)),0)","v":0},{"$f":"IFERROR(SUMPRODUCT(--(INDEX(Model_Inputs_Ref_Units,,CZ$51)=$E109),INDEX(Model_Inputs_Ref_Units,,CZ$52)),0)","v":0},{"$f":"IFERROR(SUMPRODUCT(--(INDEX(Model_Inputs_Ref_Units,,DA$51)=$E109),INDEX(Model_Inputs_Ref_Units,,DA$52)),0)","v":0},{"$f":"IFERROR(SUMPRODUCT(--(INDEX(Model_Inputs_Ref_Units,,DB$51)=$E109),INDEX(Model_Inputs_Ref_Units,,DB$52)),0)","v":0},{"$f":"IFERROR(SUMPRODUCT(--(INDEX(Model_Inputs_Ref_Units,,DC$51)=$E109),INDEX(Model_Inputs_Ref_Units,,DC$52)),0)","v":0},{"$f":"IFERROR(SUMPRODUCT(--(INDEX(Model_Inputs_Ref_Units,,DD$51)=$E109),INDEX(Model_Inputs_Ref_Units,,DD$52)),0)","v":0},{"$f":"IFERROR(SUMPRODUCT(--(INDEX(Model_Inputs_Ref_Units,,DE$51)=$E109),INDEX(Model_Inputs_Ref_Units,,DE$52)),0)","v":0},{"$f":"IFERROR(SUMPRODUCT(--(INDEX(Model_Inputs_Ref_Units,,DF$51)=$E109),INDEX(Model_Inputs_Ref_Units,,DF$52)),0)","v":0}]
[null,null,{"$error":"#DIV/0!"},null,{"$f":"IFERROR(INDEX(Ref_Data,1,F110),\"\")","v":""},57,0,0,0,0,{"$f":"IFERROR(SUMPRODUCT(--(INDEX(Model_Inputs_Ref_Units,,K$51)=$E110),INDEX(Model_Inputs_Ref_Units,,K$52)),0)","v":0},{"$f":"IFERROR(SUMPRODUCT(--(INDEX(Model_Inputs_Ref_Units,,L$51)=$E110),INDEX(Model_Inputs_Ref_Units,,L$52)),0)","v":0},{"$f":"IFERROR(SUMPRODUCT(--(INDEX(Model_Inputs_Ref_Units,,M$51)=$E110),INDEX(Model_Inputs_Ref_Units,,M$52)),0)","v":0},{"$f":"IFERROR(SUMPRODUCT(--(INDEX(Model_Inputs_Ref_Units,,N$51)=$E110),INDEX(Model_Inputs_Ref_Units,,N$52)),0)","v":0},{"$f":"IFERROR(SUMPRODUCT(--(INDEX(Model_Inputs_Ref_Units,,O$51)=$E110),INDEX(Model_Inputs_Ref_Units,,O$52)),0)","v":0},{"$f":"IFERROR(SUMPRODUCT(--(INDEX(Model_Inputs_Ref_Units,,P$51)=$E110),INDEX(Model_Inputs_Ref_Units,,P$52)),0)","v":0},{"$f":"IFERROR(SUMPRODUCT(--(INDEX(Model_Inputs_Ref_Units,,Q$51)=$E110),INDEX(Model_Inputs_Ref_Units,,Q$52)),0)","v":0},{"$f":"IFERROR(SUMPRODUCT(--(INDEX(Model_Inputs_Ref_Units,,R$51)=$E110),INDEX(Model_Inputs_Ref_Units,,R$52)),0)","v":0},{"$f":"IFERROR(SUMPRODUCT(--(INDEX(Model_Inputs_Ref_Units,,S$51)=$E110),INDEX(Model_Inputs_Ref_Units,,S$52)),0)","v":0},{"$f":"IFERROR(SUMPRODUCT(--(INDEX(Model_Inputs_Ref_Units,,T$51)=$E110),INDEX(Model_Inputs_Ref_Units,,T$52)),0)","v":0},{"$f":"IFERROR(SUMPRODUCT(--(INDEX(Model_Inputs_Ref_Units,,U$51)=$E110),INDEX(Model_Inputs_Ref_Units,,U$52)),0)","v":0},{"$f":"IFERROR(SUMPRODUCT(--(INDEX(Model_Inputs_Ref_Units,,V$51)=$E110),INDEX(Model_Inputs_Ref_Units,,V$52)),0)","v":0},{"$f":"IFERROR(SUMPRODUCT(--(INDEX(Model_Inputs_Ref_Units,,W$51)=$E110),INDEX(Model_Inputs_Ref_Units,,W$52)),0)","v":0},{"$f":"IFERROR(SUMPRODUCT(--(INDEX(Model_Inputs_Ref_Units,,X$51)=$E110),INDEX(Model_Inputs_Ref_Units,,X$52)),0)","v":0},{"$f":"IFERROR(SUMPRODUCT(--(INDEX(Model_Inputs_Ref_Units,,Y$51)=$E110),INDEX(Model_Inputs_Ref_Units,,Y$52)),0)","v":0},{"$f":"IFERROR(SUMPRODUCT(--(INDEX(Model_Inputs_Ref_Units,,Z$51)=$E110),INDEX(Model_Inputs_Ref_Units,,Z$52)),0)","v":0},{"$f":"IFERROR(SUMPRODUCT(--(INDEX(Model_Inputs_Ref_Units,,AA$51)=$E110),INDEX(Model_Inputs_Ref_Units,,AA$52)),0)","v":0},{"$f":"IFERROR(SUMPRODUCT(--(INDEX(Model_Inputs_Ref_Units,,AB$51)=$E110),INDEX(Model_Inputs_Ref_Units,,AB$52)),0)","v":0},{"$f":"IFERROR(SUMPRODUCT(--(INDEX(Model_Inputs_Ref_Units,,AC$51)=$E110),INDEX(Model_Inputs_Ref_Units,,AC$52)),0)","v":0},{"$f":"IFERROR(SUMPRODUCT(--(INDEX(Model_Inputs_Ref_Units,,AD$51)=$E110),INDEX(Model_Inputs_Ref_Units,,AD$52)),0)","v":0},{"$f":"IFERROR(SUMPRODUCT(--(INDEX(Model_Inputs_Ref_Units,,AE$51)=$E110),INDEX(Model_Inputs_Ref_Units,,AE$52)),0)","v":0},{"$f":"IFERROR(SUMPRODUCT(--(INDEX(Model_Inputs_Ref_Units,,AF$51)=$E110),INDEX(Model_Inputs_Ref_Units,,AF$52)),0)","v":0},{"$f":"IFERROR(SUMPRODUCT(--(INDEX(Model_Inputs_Ref_Units,,AG$51)=$E110),INDEX(Model_Inputs_Ref_Units,,AG$52)),0)","v":0},{"$f":"IFERROR(SUMPRODUCT(--(INDEX(Model_Inputs_Ref_Units,,AH$51)=$E110),INDEX(Model_Inputs_Ref_Units,,AH$52)),0)","v":0},{"$f":"IFERROR(SUMPRODUCT(--(INDEX(Model_Inputs_Ref_Units,,AI$51)=$E110),INDEX(Model_Inputs_Ref_Units,,AI$52)),0)","v":0},{"$f":"IFERROR(SUMPRODUCT(--(INDEX(Model_Inputs_Ref_Units,,AJ$51)=$E110),INDEX(Model_Inputs_Ref_Units,,AJ$52)),0)","v":0},{"$f":"IFERROR(SUMPRODUCT(--(INDEX(Model_Inputs_Ref_Units,,AK$51)=$E110),INDEX(Model_Inputs_Ref_Units,,AK$52)),0)","v":0},{"$f":"IFERROR(SUMPRODUCT(--(INDEX(Model_Inputs_Ref_Units,,AL$51)=$E110),INDEX(Model_Inputs_Ref_Units,,AL$52)),0)","v":0},{"$f":"IFERROR(SUMPRODUCT(--(INDEX(Model_Inputs_Ref_Units,,AM$51)=$E110),INDEX(Model_Inputs_Ref_Units,,AM$52)),0)","v":0},{"$f":"IFERROR(SUMPRODUCT(--(INDEX(Model_Inputs_Ref_Units,,AN$51)=$E110),INDEX(Model_Inputs_Ref_Units,,AN$52)),0)","v":0},{"$f":"IFERROR(SUMPRODUCT(--(INDEX(Model_Inputs_Ref_Units,,AO$51)=$E110),INDEX(Model_Inputs_Ref_Units,,AO$52)),0)","v":0},{"$f":"IFERROR(SUMPRODUCT(--(INDEX(Model_Inputs_Ref_Units,,AP$51)=$E110),INDEX(Model_Inputs_Ref_Units,,AP$52)),0)","v":0},{"$f":"IFERROR(SUMPRODUCT(--(INDEX(Model_Inputs_Ref_Units,,AQ$51)=$E110),INDEX(Model_Inputs_Ref_Units,,AQ$52)),0)","v":0},{"$f":"IFERROR(SUMPRODUCT(--(INDEX(Model_Inputs_Ref_Units,,AR$51)=$E110),INDEX(Model_Inputs_Ref_Units,,AR$52)),0)","v":0},{"$f":"IFERROR(SUMPRODUCT(--(INDEX(Model_Inputs_Ref_Units,,AS$51)=$E110),INDEX(Model_Inputs_Ref_Units,,AS$52)),0)","v":0},{"$f":"IFERROR(SUMPRODUCT(--(INDEX(Model_Inputs_Ref_Units,,AT$51)=$E110),INDEX(Model_Inputs_Ref_Units,,AT$52)),0)","v":0},{"$f":"IFERROR(SUMPRODUCT(--(INDEX(Model_Inputs_Ref_Units,,AU$51)=$E110),INDEX(Model_Inputs_Ref_Units,,AU$52)),0)","v":0},{"$f":"IFERROR(SUMPRODUCT(--(INDEX(Model_Inputs_Ref_Units,,AV$51)=$E110),INDEX(Model_Inputs_Ref_Units,,AV$52)),0)","v":0},{"$f":"IFERROR(SUMPRODUCT(--(INDEX(Model_Inputs_Ref_Units,,AW$51)=$E110),INDEX(Model_Inputs_Ref_Units,,AW$52)),0)","v":0},{"$f":"IFERROR(SUMPRODUCT(--(INDEX(Model_Inputs_Ref_Units,,AX$51)=$E110),INDEX(Model_Inputs_Ref_Units,,AX$52)),0)","v":0},{"$f":"IFERROR(SUMPRODUCT(--(INDEX(Model_Inputs_Ref_Units,,AY$51)=$E110),INDEX(Model_Inputs_Ref_Units,,AY$52)),0)","v":0},{"$f":"IFERROR(SUMPRODUCT(--(INDEX(Model_Inputs_Ref_Units,,AZ$51)=$E110),INDEX(Model_Inputs_Ref_Units,,AZ$52)),0)","v":0},{"$f":"IFERROR(SUMPRODUCT(--(INDEX(Model_Inputs_Ref_Units,,BA$51)=$E110),INDEX(Model_Inputs_Ref_Units,,BA$52)),0)","v":0},{"$f":"IFERROR(SUMPRODUCT(--(INDEX(Model_Inputs_Ref_Units,,BB$51)=$E110),INDEX(Model_Inputs_Ref_Units,,BB$52)),0)","v":0},{"$f":"IFERROR(SUMPRODUCT(--(INDEX(Model_Inputs_Ref_Units,,BC$51)=$E110),INDEX(Model_Inputs_Ref_Units,,BC$52)),0)","v":0},{"$f":"IFERROR(SUMPRODUCT(--(INDEX(Model_Inputs_Ref_Units,,BD$51)=$E110),INDEX(Model_Inputs_Ref_Units,,BD$52)),0)","v":0},{"$f":"IFERROR(SUMPRODUCT(--(INDEX(Model_Inputs_Ref_Units,,BE$51)=$E110),INDEX(Model_Inputs_Ref_Units,,BE$52)),0)","v":0},{"$f":"IFERROR(SUMPRODUCT(--(INDEX(Model_Inputs_Ref_Units,,BF$51)=$E110),INDEX(Model_Inputs_Ref_Units,,BF$52)),0)","v":0},{"$f":"IFERROR(SUMPRODUCT(--(INDEX(Model_Inputs_Ref_Units,,BG$51)=$E110),INDEX(Model_Inputs_Ref_Units,,BG$52)),0)","v":0},{"$f":"IFERROR(SUMPRODUCT(--(INDEX(Model_Inputs_Ref_Units,,BH$51)=$E110),INDEX(Model_Inputs_Ref_Units,,BH$52)),0)","v":0},{"$f":"IFERROR(SUMPRODUCT(--(INDEX(Model_Inputs_Ref_Units,,BI$51)=$E110),INDEX(Model_Inputs_Ref_Units,,BI$52)),0)","v":0},{"$f":"IFERROR(SUMPRODUCT(--(INDEX(Model_Inputs_Ref_Units,,BJ$51)=$E110),INDEX(Model_Inputs_Ref_Units,,BJ$52)),0)","v":0},{"$f":"IFERROR(SUMPRODUCT(--(INDEX(Model_Inputs_Ref_Units,,BK$51)=$E110),INDEX(Model_Inputs_Ref_Units,,BK$52)),0)","v":0},{"$f":"IFERROR(SUMPRODUCT(--(INDEX(Model_Inputs_Ref_Units,,BL$51)=$E110),INDEX(Model_Inputs_Ref_Units,,BL$52)),0)","v":0},{"$f":"IFERROR(SUMPRODUCT(--(INDEX(Model_Inputs_Ref_Units,,BM$51)=$E110),INDEX(Model_Inputs_Ref_Units,,BM$52)),0)","v":0},{"$f":"IFERROR(SUMPRODUCT(--(INDEX(Model_Inputs_Ref_Units,,BN$51)=$E110),INDEX(Model_Inputs_Ref_Units,,BN$52)),0)","v":0},{"$f":"IFERROR(SUMPRODUCT(--(INDEX(Model_Inputs_Ref_Units,,BO$51)=$E110),INDEX(Model_Inputs_Ref_Units,,BO$52)),0)","v":0},{"$f":"IFERROR(SUMPRODUCT(--(INDEX(Model_Inputs_Ref_Units,,BP$51)=$E110),INDEX(Model_Inputs_Ref_Units,,BP$52)),0)","v":0},{"$f":"IFERROR(SUMPRODUCT(--(INDEX(Model_Inputs_Ref_Units,,BQ$51)=$E110),INDEX(Model_Inputs_Ref_Units,,BQ$52)),0)","v":0},{"$f":"IFERROR(SUMPRODUCT(--(INDEX(Model_Inputs_Ref_Units,,BR$51)=$E110),INDEX(Model_Inputs_Ref_Units,,BR$52)),0)","v":0},{"$f":"IFERROR(SUMPRODUCT(--(INDEX(Model_Inputs_Ref_Units,,BS$51)=$E110),INDEX(Model_Inputs_Ref_Units,,BS$52)),0)","v":0},{"$f":"IFERROR(SUMPRODUCT(--(INDEX(Model_Inputs_Ref_Units,,BT$51)=$E110),INDEX(Model_Inputs_Ref_Units,,BT$52)),0)","v":0},{"$f":"IFERROR(SUMPRODUCT(--(INDEX(Model_Inputs_Ref_Units,,BU$51)=$E110),INDEX(Model_Inputs_Ref_Units,,BU$52)),0)","v":0},{"$f":"IFERROR(SUMPRODUCT(--(INDEX(Model_Inputs_Ref_Units,,BV$51)=$E110),INDEX(Model_Inputs_Ref_Units,,BV$52)),0)","v":0},{"$f":"IFERROR(SUMPRODUCT(--(INDEX(Model_Inputs_Ref_Units,,BW$51)=$E110),INDEX(Model_Inputs_Ref_Units,,BW$52)),0)","v":0},{"$f":"IFERROR(SUMPRODUCT(--(INDEX(Model_Inputs_Ref_Units,,BX$51)=$E110),INDEX(Model_Inputs_Ref_Units,,BX$52)),0)","v":0},{"$f":"IFERROR(SUMPRODUCT(--(INDEX(Model_Inputs_Ref_Units,,BY$51)=$E110),INDEX(Model_Inputs_Ref_Units,,BY$52)),0)","v":0},{"$f":"IFERROR(SUMPRODUCT(--(INDEX(Model_Inputs_Ref_Units,,BZ$51)=$E110),INDEX(Model_Inputs_Ref_Units,,BZ$52)),0)","v":0},{"$f":"IFERROR(SUMPRODUCT(--(INDEX(Model_Inputs_Ref_Units,,CA$51)=$E110),INDEX(Model_Inputs_Ref_Units,,CA$52)),0)","v":0},{"$f":"IFERROR(SUMPRODUCT(--(INDEX(Model_Inputs_Ref_Units,,CB$51)=$E110),INDEX(Model_Inputs_Ref_Units,,CB$52)),0)","v":0},{"$f":"IFERROR(SUMPRODUCT(--(INDEX(Model_Inputs_Ref_Units,,CC$51)=$E110),INDEX(Model_Inputs_Ref_Units,,CC$52)),0)","v":0},{"$f":"IFERROR(SUMPRODUCT(--(INDEX(Model_Inputs_Ref_Units,,CD$51)=$E110),INDEX(Model_Inputs_Ref_Units,,CD$52)),0)","v":0},{"$f":"IFERROR(SUMPRODUCT(--(INDEX(Model_Inputs_Ref_Units,,CE$51)=$E110),INDEX(Model_Inputs_Ref_Units,,CE$52)),0)","v":0},{"$f":"IFERROR(SUMPRODUCT(--(INDEX(Model_Inputs_Ref_Units,,CF$51)=$E110),INDEX(Model_Inputs_Ref_Units,,CF$52)),0)","v":0},{"$f":"IFERROR(SUMPRODUCT(--(INDEX(Model_Inputs_Ref_Units,,CG$51)=$E110),INDEX(Model_Inputs_Ref_Units,,CG$52)),0)","v":0},{"$f":"IFERROR(SUMPRODUCT(--(INDEX(Model_Inputs_Ref_Units,,CH$51)=$E110),INDEX(Model_Inputs_Ref_Units,,CH$52)),0)","v":0},{"$f":"IFERROR(SUMPRODUCT(--(INDEX(Model_Inputs_Ref_Units,,CI$51)=$E110),INDEX(Model_Inputs_Ref_Units,,CI$52)),0)","v":0},{"$f":"IFERROR(SUMPRODUCT(--(INDEX(Model_Inputs_Ref_Units,,CJ$51)=$E110),INDEX(Model_Inputs_Ref_Units,,CJ$52)),0)","v":0},{"$f":"IFERROR(SUMPRODUCT(--(INDEX(Model_Inputs_Ref_Units,,CK$51)=$E110),INDEX(Model_Inputs_Ref_Units,,CK$52)),0)","v":0},{"$f":"IFERROR(SUMPRODUCT(--(INDEX(Model_Inputs_Ref_Units,,CL$51)=$E110),INDEX(Model_Inputs_Ref_Units,,CL$52)),0)","v":0},{"$f":"IFERROR(SUMPRODUCT(--(INDEX(Model_Inputs_Ref_Units,,CM$51)=$E110),INDEX(Model_Inputs_Ref_Units,,CM$52)),0)","v":0},{"$f":"IFERROR(SUMPRODUCT(--(INDEX(Model_Inputs_Ref_Units,,CN$51)=$E110),INDEX(Model_Inputs_Ref_Units,,CN$52)),0)","v":0},{"$f":"IFERROR(SUMPRODUCT(--(INDEX(Model_Inputs_Ref_Units,,CO$51)=$E110),INDEX(Model_Inputs_Ref_Units,,CO$52)),0)","v":0},{"$f":"IFERROR(SUMPRODUCT(--(INDEX(Model_Inputs_Ref_Units,,CP$51)=$E110),INDEX(Model_Inputs_Ref_Units,,CP$52)),0)","v":0},{"$f":"IFERROR(SUMPRODUCT(--(INDEX(Model_Inputs_Ref_Units,,CQ$51)=$E110),INDEX(Model_Inputs_Ref_Units,,CQ$52)),0)","v":0},{"$f":"IFERROR(SUMPRODUCT(--(INDEX(Model_Inputs_Ref_Units,,CR$51)=$E110),INDEX(Model_Inputs_Ref_Units,,CR$52)),0)","v":0},{"$f":"IFERROR(SUMPRODUCT(--(INDEX(Model_Inputs_Ref_Units,,CS$51)=$E110),INDEX(Model_Inputs_Ref_Units,,CS$52)),0)","v":0},{"$f":"IFERROR(SUMPRODUCT(--(INDEX(Model_Inputs_Ref_Units,,CT$51)=$E110),INDEX(Model_Inputs_Ref_Units,,CT$52)),0)","v":0},{"$f":"IFERROR(SUMPRODUCT(--(INDEX(Model_Inputs_Ref_Units,,CU$51)=$E110),INDEX(Model_Inputs_Ref_Units,,CU$52)),0)","v":0},{"$f":"IFERROR(SUMPRODUCT(--(INDEX(Model_Inputs_Ref_Units,,CV$51)=$E110),INDEX(Model_Inputs_Ref_Units,,CV$52)),0)","v":0},{"$f":"IFERROR(SUMPRODUCT(--(INDEX(Model_Inputs_Ref_Units,,CW$51)=$E110),INDEX(Model_Inputs_Ref_Units,,CW$52)),0)","v":0},{"$f":"IFERROR(SUMPRODUCT(--(INDEX(Model_Inputs_Ref_Units,,CX$51)=$E110),INDEX(Model_Inputs_Ref_Units,,CX$52)),0)","v":0},{"$f":"IFERROR(SUMPRODUCT(--(INDEX(Model_Inputs_Ref_Units,,CY$51)=$E110),INDEX(Model_Inputs_Ref_Units,,CY$52)),0)","v":0},{"$f":"IFERROR(SUMPRODUCT(--(INDEX(Model_Inputs_Ref_Units,,CZ$51)=$E110),INDEX(Model_Inputs_Ref_Units,,CZ$52)),0)","v":0},{"$f":"IFERROR(SUMPRODUCT(--(INDEX(Model_Inputs_Ref_Units,,DA$51)=$E110),INDEX(Model_Inputs_Ref_Units,,DA$52)),0)","v":0},{"$f":"IFERROR(SUMPRODUCT(--(INDEX(Model_Inputs_Ref_Units,,DB$51)=$E110),INDEX(Model_Inputs_Ref_Units,,DB$52)),0)","v":0},{"$f":"IFERROR(SUMPRODUCT(--(INDEX(Model_Inputs_Ref_Units,,DC$51)=$E110),INDEX(Model_Inputs_Ref_Units,,DC$52)),0)","v":0},{"$f":"IFERROR(SUMPRODUCT(--(INDEX(Model_Inputs_Ref_Units,,DD$51)=$E110),INDEX(Model_Inputs_Ref_Units,,DD$52)),0)","v":0},{"$f":"IFERROR(SUMPRODUCT(--(INDEX(Model_Inputs_Ref_Units,,DE$51)=$E110),INDEX(Model_Inputs_Ref_Units,,DE$52)),0)","v":0},{"$f":"IFERROR(SUMPRODUCT(--(INDEX(Model_Inputs_Ref_Units,,DF$51)=$E110),INDEX(Model_Inputs_Ref_Units,,DF$52)),0)","v":0}]
[null,null,{"$error":"#DIV/0!"},null,{"$f":"IFERROR(INDEX(Ref_Data,1,F111),\"\")","v":""},58,0,0,0,0,{"$f":"IFERROR(SUMPRODUCT(--(INDEX(Model_Inputs_Ref_Units,,K$51)=$E111),INDEX(Model_Inputs_Ref_Units,,K$52)),0)","v":0},{"$f":"IFERROR(SUMPRODUCT(--(INDEX(Model_Inputs_Ref_Units,,L$51)=$E111),INDEX(Model_Inputs_Ref_Units,,L$52)),0)","v":0},{"$f":"IFERROR(SUMPRODUCT(--(INDEX(Model_Inputs_Ref_Units,,M$51)=$E111),INDEX(Model_Inputs_Ref_Units,,M$52)),0)","v":0},{"$f":"IFERROR(SUMPRODUCT(--(INDEX(Model_Inputs_Ref_Units,,N$51)=$E111),INDEX(Model_Inputs_Ref_Units,,N$52)),0)","v":0},{"$f":"IFERROR(SUMPRODUCT(--(INDEX(Model_Inputs_Ref_Units,,O$51)=$E111),INDEX(Model_Inputs_Ref_Units,,O$52)),0)","v":0},{"$f":"IFERROR(SUMPRODUCT(--(INDEX(Model_Inputs_Ref_Units,,P$51)=$E111),INDEX(Model_Inputs_Ref_Units,,P$52)),0)","v":0},{"$f":"IFERROR(SUMPRODUCT(--(INDEX(Model_Inputs_Ref_Units,,Q$51)=$E111),INDEX(Model_Inputs_Ref_Units,,Q$52)),0)","v":0},{"$f":"IFERROR(SUMPRODUCT(--(INDEX(Model_Inputs_Ref_Units,,R$51)=$E111),INDEX(Model_Inputs_Ref_Units,,R$52)),0)","v":0},{"$f":"IFERROR(SUMPRODUCT(--(INDEX(Model_Inputs_Ref_Units,,S$51)=$E111),INDEX(Model_Inputs_Ref_Units,,S$52)),0)","v":0},{"$f":"IFERROR(SUMPRODUCT(--(INDEX(Model_Inputs_Ref_Units,,T$51)=$E111),INDEX(Model_Inputs_Ref_Units,,T$52)),0)","v":0},{"$f":"IFERROR(SUMPRODUCT(--(INDEX(Model_Inputs_Ref_Units,,U$51)=$E111),INDEX(Model_Inputs_Ref_Units,,U$52)),0)","v":0},{"$f":"IFERROR(SUMPRODUCT(--(INDEX(Model_Inputs_Ref_Units,,V$51)=$E111),INDEX(Model_Inputs_Ref_Units,,V$52)),0)","v":0},{"$f":"IFERROR(SUMPRODUCT(--(INDEX(Model_Inputs_Ref_Units,,W$51)=$E111),INDEX(Model_Inputs_Ref_Units,,W$52)),0)","v":0},{"$f":"IFERROR(SUMPRODUCT(--(INDEX(Model_Inputs_Ref_Units,,X$51)=$E111),INDEX(Model_Inputs_Ref_Units,,X$52)),0)","v":0},{"$f":"IFERROR(SUMPRODUCT(--(INDEX(Model_Inputs_Ref_Units,,Y$51)=$E111),INDEX(Model_Inputs_Ref_Units,,Y$52)),0)","v":0},{"$f":"IFERROR(SUMPRODUCT(--(INDEX(Model_Inputs_Ref_Units,,Z$51)=$E111),INDEX(Model_Inputs_Ref_Units,,Z$52)),0)","v":0},{"$f":"IFERROR(SUMPRODUCT(--(INDEX(Model_Inputs_Ref_Units,,AA$51)=$E111),INDEX(Model_Inputs_Ref_Units,,AA$52)),0)","v":0},{"$f":"IFERROR(SUMPRODUCT(--(INDEX(Model_Inputs_Ref_Units,,AB$51)=$E111),INDEX(Model_Inputs_Ref_Units,,AB$52)),0)","v":0},{"$f":"IFERROR(SUMPRODUCT(--(INDEX(Model_Inputs_Ref_Units,,AC$51)=$E111),INDEX(Model_Inputs_Ref_Units,,AC$52)),0)","v":0},{"$f":"IFERROR(SUMPRODUCT(--(INDEX(Model_Inputs_Ref_Units,,AD$51)=$E111),INDEX(Model_Inputs_Ref_Units,,AD$52)),0)","v":0},{"$f":"IFERROR(SUMPRODUCT(--(INDEX(Model_Inputs_Ref_Units,,AE$51)=$E111),INDEX(Model_Inputs_Ref_Units,,AE$52)),0)","v":0},{"$f":"IFERROR(SUMPRODUCT(--(INDEX(Model_Inputs_Ref_Units,,AF$51)=$E111),INDEX(Model_Inputs_Ref_Units,,AF$52)),0)","v":0},{"$f":"IFERROR(SUMPRODUCT(--(INDEX(Model_Inputs_Ref_Units,,AG$51)=$E111),INDEX(Model_Inputs_Ref_Units,,AG$52)),0)","v":0},{"$f":"IFERROR(SUMPRODUCT(--(INDEX(Model_Inputs_Ref_Units,,AH$51)=$E111),INDEX(Model_Inputs_Ref_Units,,AH$52)),0)","v":0},{"$f":"IFERROR(SUMPRODUCT(--(INDEX(Model_Inputs_Ref_Units,,AI$51)=$E111),INDEX(Model_Inputs_Ref_Units,,AI$52)),0)","v":0},{"$f":"IFERROR(SUMPRODUCT(--(INDEX(Model_Inputs_Ref_Units,,AJ$51)=$E111),INDEX(Model_Inputs_Ref_Units,,AJ$52)),0)","v":0},{"$f":"IFERROR(SUMPRODUCT(--(INDEX(Model_Inputs_Ref_Units,,AK$51)=$E111),INDEX(Model_Inputs_Ref_Units,,AK$52)),0)","v":0},{"$f":"IFERROR(SUMPRODUCT(--(INDEX(Model_Inputs_Ref_Units,,AL$51)=$E111),INDEX(Model_Inputs_Ref_Units,,AL$52)),0)","v":0},{"$f":"IFERROR(SUMPRODUCT(--(INDEX(Model_Inputs_Ref_Units,,AM$51)=$E111),INDEX(Model_Inputs_Ref_Units,,AM$52)),0)","v":0},{"$f":"IFERROR(SUMPRODUCT(--(INDEX(Model_Inputs_Ref_Units,,AN$51)=$E111),INDEX(Model_Inputs_Ref_Units,,AN$52)),0)","v":0},{"$f":"IFERROR(SUMPRODUCT(--(INDEX(Model_Inputs_Ref_Units,,AO$51)=$E111),INDEX(Model_Inputs_Ref_Units,,AO$52)),0)","v":0},{"$f":"IFERROR(SUMPRODUCT(--(INDEX(Model_Inputs_Ref_Units,,AP$51)=$E111),INDEX(Model_Inputs_Ref_Units,,AP$52)),0)","v":0},{"$f":"IFERROR(SUMPRODUCT(--(INDEX(Model_Inputs_Ref_Units,,AQ$51)=$E111),INDEX(Model_Inputs_Ref_Units,,AQ$52)),0)","v":0},{"$f":"IFERROR(SUMPRODUCT(--(INDEX(Model_Inputs_Ref_Units,,AR$51)=$E111),INDEX(Model_Inputs_Ref_Units,,AR$52)),0)","v":0},{"$f":"IFERROR(SUMPRODUCT(--(INDEX(Model_Inputs_Ref_Units,,AS$51)=$E111),INDEX(Model_Inputs_Ref_Units,,AS$52)),0)","v":0},{"$f":"IFERROR(SUMPRODUCT(--(INDEX(Model_Inputs_Ref_Units,,AT$51)=$E111),INDEX(Model_Inputs_Ref_Units,,AT$52)),0)","v":0},{"$f":"IFERROR(SUMPRODUCT(--(INDEX(Model_Inputs_Ref_Units,,AU$51)=$E111),INDEX(Model_Inputs_Ref_Units,,AU$52)),0)","v":0},{"$f":"IFERROR(SUMPRODUCT(--(INDEX(Model_Inputs_Ref_Units,,AV$51)=$E111),INDEX(Model_Inputs_Ref_Units,,AV$52)),0)","v":0},{"$f":"IFERROR(SUMPRODUCT(--(INDEX(Model_Inputs_Ref_Units,,AW$51)=$E111),INDEX(Model_Inputs_Ref_Units,,AW$52)),0)","v":0},{"$f":"IFERROR(SUMPRODUCT(--(INDEX(Model_Inputs_Ref_Units,,AX$51)=$E111),INDEX(Model_Inputs_Ref_Units,,AX$52)),0)","v":0},{"$f":"IFERROR(SUMPRODUCT(--(INDEX(Model_Inputs_Ref_Units,,AY$51)=$E111),INDEX(Model_Inputs_Ref_Units,,AY$52)),0)","v":0},{"$f":"IFERROR(SUMPRODUCT(--(INDEX(Model_Inputs_Ref_Units,,AZ$51)=$E111),INDEX(Model_Inputs_Ref_Units,,AZ$52)),0)","v":0},{"$f":"IFERROR(SUMPRODUCT(--(INDEX(Model_Inputs_Ref_Units,,BA$51)=$E111),INDEX(Model_Inputs_Ref_Units,,BA$52)),0)","v":0},{"$f":"IFERROR(SUMPRODUCT(--(INDEX(Model_Inputs_Ref_Units,,BB$51)=$E111),INDEX(Model_Inputs_Ref_Units,,BB$52)),0)","v":0},{"$f":"IFERROR(SUMPRODUCT(--(INDEX(Model_Inputs_Ref_Units,,BC$51)=$E111),INDEX(Model_Inputs_Ref_Units,,BC$52)),0)","v":0},{"$f":"IFERROR(SUMPRODUCT(--(INDEX(Model_Inputs_Ref_Units,,BD$51)=$E111),INDEX(Model_Inputs_Ref_Units,,BD$52)),0)","v":0},{"$f":"IFERROR(SUMPRODUCT(--(INDEX(Model_Inputs_Ref_Units,,BE$51)=$E111),INDEX(Model_Inputs_Ref_Units,,BE$52)),0)","v":0},{"$f":"IFERROR(SUMPRODUCT(--(INDEX(Model_Inputs_Ref_Units,,BF$51)=$E111),INDEX(Model_Inputs_Ref_Units,,BF$52)),0)","v":0},{"$f":"IFERROR(SUMPRODUCT(--(INDEX(Model_Inputs_Ref_Units,,BG$51)=$E111),INDEX(Model_Inputs_Ref_Units,,BG$52)),0)","v":0},{"$f":"IFERROR(SUMPRODUCT(--(INDEX(Model_Inputs_Ref_Units,,BH$51)=$E111),INDEX(Model_Inputs_Ref_Units,,BH$52)),0)","v":0},{"$f":"IFERROR(SUMPRODUCT(--(INDEX(Model_Inputs_Ref_Units,,BI$51)=$E111),INDEX(Model_Inputs_Ref_Units,,BI$52)),0)","v":0},{"$f":"IFERROR(SUMPRODUCT(--(INDEX(Model_Inputs_Ref_Units,,BJ$51)=$E111),INDEX(Model_Inputs_Ref_Units,,BJ$52)),0)","v":0},{"$f":"IFERROR(SUMPRODUCT(--(INDEX(Model_Inputs_Ref_Units,,BK$51)=$E111),INDEX(Model_Inputs_Ref_Units,,BK$52)),0)","v":0},{"$f":"IFERROR(SUMPRODUCT(--(INDEX(Model_Inputs_Ref_Units,,BL$51)=$E111),INDEX(Model_Inputs_Ref_Units,,BL$52)),0)","v":0},{"$f":"IFERROR(SUMPRODUCT(--(INDEX(Model_Inputs_Ref_Units,,BM$51)=$E111),INDEX(Model_Inputs_Ref_Units,,BM$52)),0)","v":0},{"$f":"IFERROR(SUMPRODUCT(--(INDEX(Model_Inputs_Ref_Units,,BN$51)=$E111),INDEX(Model_Inputs_Ref_Units,,BN$52)),0)","v":0},{"$f":"IFERROR(SUMPRODUCT(--(INDEX(Model_Inputs_Ref_Units,,BO$51)=$E111),INDEX(Model_Inputs_Ref_Units,,BO$52)),0)","v":0},{"$f":"IFERROR(SUMPRODUCT(--(INDEX(Model_Inputs_Ref_Units,,BP$51)=$E111),INDEX(Model_Inputs_Ref_Units,,BP$52)),0)","v":0},{"$f":"IFERROR(SUMPRODUCT(--(INDEX(Model_Inputs_Ref_Units,,BQ$51)=$E111),INDEX(Model_Inputs_Ref_Units,,BQ$52)),0)","v":0},{"$f":"IFERROR(SUMPRODUCT(--(INDEX(Model_Inputs_Ref_Units,,BR$51)=$E111),INDEX(Model_Inputs_Ref_Units,,BR$52)),0)","v":0},{"$f":"IFERROR(SUMPRODUCT(--(INDEX(Model_Inputs_Ref_Units,,BS$51)=$E111),INDEX(Model_Inputs_Ref_Units,,BS$52)),0)","v":0},{"$f":"IFERROR(SUMPRODUCT(--(INDEX(Model_Inputs_Ref_Units,,BT$51)=$E111),INDEX(Model_Inputs_Ref_Units,,BT$52)),0)","v":0},{"$f":"IFERROR(SUMPRODUCT(--(INDEX(Model_Inputs_Ref_Units,,BU$51)=$E111),INDEX(Model_Inputs_Ref_Units,,BU$52)),0)","v":0},{"$f":"IFERROR(SUMPRODUCT(--(INDEX(Model_Inputs_Ref_Units,,BV$51)=$E111),INDEX(Model_Inputs_Ref_Units,,BV$52)),0)","v":0},{"$f":"IFERROR(SUMPRODUCT(--(INDEX(Model_Inputs_Ref_Units,,BW$51)=$E111),INDEX(Model_Inputs_Ref_Units,,BW$52)),0)","v":0},{"$f":"IFERROR(SUMPRODUCT(--(INDEX(Model_Inputs_Ref_Units,,BX$51)=$E111),INDEX(Model_Inputs_Ref_Units,,BX$52)),0)","v":0},{"$f":"IFERROR(SUMPRODUCT(--(INDEX(Model_Inputs_Ref_Units,,BY$51)=$E111),INDEX(Model_Inputs_Ref_Units,,BY$52)),0)","v":0},{"$f":"IFERROR(SUMPRODUCT(--(INDEX(Model_Inputs_Ref_Units,,BZ$51)=$E111),INDEX(Model_Inputs_Ref_Units,,BZ$52)),0)","v":0},{"$f":"IFERROR(SUMPRODUCT(--(INDEX(Model_Inputs_Ref_Units,,CA$51)=$E111),INDEX(Model_Inputs_Ref_Units,,CA$52)),0)","v":0},{"$f":"IFERROR(SUMPRODUCT(--(INDEX(Model_Inputs_Ref_Units,,CB$51)=$E111),INDEX(Model_Inputs_Ref_Units,,CB$52)),0)","v":0},{"$f":"IFERROR(SUMPRODUCT(--(INDEX(Model_Inputs_Ref_Units,,CC$51)=$E111),INDEX(Model_Inputs_Ref_Units,,CC$52)),0)","v":0},{"$f":"IFERROR(SUMPRODUCT(--(INDEX(Model_Inputs_Ref_Units,,CD$51)=$E111),INDEX(Model_Inputs_Ref_Units,,CD$52)),0)","v":0},{"$f":"IFERROR(SUMPRODUCT(--(INDEX(Model_Inputs_Ref_Units,,CE$51)=$E111),INDEX(Model_Inputs_Ref_Units,,CE$52)),0)","v":0},{"$f":"IFERROR(SUMPRODUCT(--(INDEX(Model_Inputs_Ref_Units,,CF$51)=$E111),INDEX(Model_Inputs_Ref_Units,,CF$52)),0)","v":0},{"$f":"IFERROR(SUMPRODUCT(--(INDEX(Model_Inputs_Ref_Units,,CG$51)=$E111),INDEX(Model_Inputs_Ref_Units,,CG$52)),0)","v":0},{"$f":"IFERROR(SUMPRODUCT(--(INDEX(Model_Inputs_Ref_Units,,CH$51)=$E111),INDEX(Model_Inputs_Ref_Units,,CH$52)),0)","v":0},{"$f":"IFERROR(SUMPRODUCT(--(INDEX(Model_Inputs_Ref_Units,,CI$51)=$E111),INDEX(Model_Inputs_Ref_Units,,CI$52)),0)","v":0},{"$f":"IFERROR(SUMPRODUCT(--(INDEX(Model_Inputs_Ref_Units,,CJ$51)=$E111),INDEX(Model_Inputs_Ref_Units,,CJ$52)),0)","v":0},{"$f":"IFERROR(SUMPRODUCT(--(INDEX(Model_Inputs_Ref_Units,,CK$51)=$E111),INDEX(Model_Inputs_Ref_Units,,CK$52)),0)","v":0},{"$f":"IFERROR(SUMPRODUCT(--(INDEX(Model_Inputs_Ref_Units,,CL$51)=$E111),INDEX(Model_Inputs_Ref_Units,,CL$52)),0)","v":0},{"$f":"IFERROR(SUMPRODUCT(--(INDEX(Model_Inputs_Ref_Units,,CM$51)=$E111),INDEX(Model_Inputs_Ref_Units,,CM$52)),0)","v":0},{"$f":"IFERROR(SUMPRODUCT(--(INDEX(Model_Inputs_Ref_Units,,CN$51)=$E111),INDEX(Model_Inputs_Ref_Units,,CN$52)),0)","v":0},{"$f":"IFERROR(SUMPRODUCT(--(INDEX(Model_Inputs_Ref_Units,,CO$51)=$E111),INDEX(Model_Inputs_Ref_Units,,CO$52)),0)","v":0},{"$f":"IFERROR(SUMPRODUCT(--(INDEX(Model_Inputs_Ref_Units,,CP$51)=$E111),INDEX(Model_Inputs_Ref_Units,,CP$52)),0)","v":0},{"$f":"IFERROR(SUMPRODUCT(--(INDEX(Model_Inputs_Ref_Units,,CQ$51)=$E111),INDEX(Model_Inputs_Ref_Units,,CQ$52)),0)","v":0},{"$f":"IFERROR(SUMPRODUCT(--(INDEX(Model_Inputs_Ref_Units,,CR$51)=$E111),INDEX(Model_Inputs_Ref_Units,,CR$52)),0)","v":0},{"$f":"IFERROR(SUMPRODUCT(--(INDEX(Model_Inputs_Ref_Units,,CS$51)=$E111),INDEX(Model_Inputs_Ref_Units,,CS$52)),0)","v":0},{"$f":"IFERROR(SUMPRODUCT(--(INDEX(Model_Inputs_Ref_Units,,CT$51)=$E111),INDEX(Model_Inputs_Ref_Units,,CT$52)),0)","v":0},{"$f":"IFERROR(SUMPRODUCT(--(INDEX(Model_Inputs_Ref_Units,,CU$51)=$E111),INDEX(Model_Inputs_Ref_Units,,CU$52)),0)","v":0},{"$f":"IFERROR(SUMPRODUCT(--(INDEX(Model_Inputs_Ref_Units,,CV$51)=$E111),INDEX(Model_Inputs_Ref_Units,,CV$52)),0)","v":0},{"$f":"IFERROR(SUMPRODUCT(--(INDEX(Model_Inputs_Ref_Units,,CW$51)=$E111),INDEX(Model_Inputs_Ref_Units,,CW$52)),0)","v":0},{"$f":"IFERROR(SUMPRODUCT(--(INDEX(Model_Inputs_Ref_Units,,CX$51)=$E111),INDEX(Model_Inputs_Ref_Units,,CX$52)),0)","v":0},{"$f":"IFERROR(SUMPRODUCT(--(INDEX(Model_Inputs_Ref_Units,,CY$51)=$E111),INDEX(Model_Inputs_Ref_Units,,CY$52)),0)","v":0},{"$f":"IFERROR(SUMPRODUCT(--(INDEX(Model_Inputs_Ref_Units,,CZ$51)=$E111),INDEX(Model_Inputs_Ref_Units,,CZ$52)),0)","v":0},{"$f":"IFERROR(SUMPRODUCT(--(INDEX(Model_Inputs_Ref_Units,,DA$51)=$E111),INDEX(Model_Inputs_Ref_Units,,DA$52)),0)","v":0},{"$f":"IFERROR(SUMPRODUCT(--(INDEX(Model_Inputs_Ref_Units,,DB$51)=$E111),INDEX(Model_Inputs_Ref_Units,,DB$52)),0)","v":0},{"$f":"IFERROR(SUMPRODUCT(--(INDEX(Model_Inputs_Ref_Units,,DC$51)=$E111),INDEX(Model_Inputs_Ref_Units,,DC$52)),0)","v":0},{"$f":"IFERROR(SUMPRODUCT(--(INDEX(Model_Inputs_Ref_Units,,DD$51)=$E111),INDEX(Model_Inputs_Ref_Units,,DD$52)),0)","v":0},{"$f":"IFERROR(SUMPRODUCT(--(INDEX(Model_Inputs_Ref_Units,,DE$51)=$E111),INDEX(Model_Inputs_Ref_Units,,DE$52)),0)","v":0},{"$f":"IFERROR(SUMPRODUCT(--(INDEX(Model_Inputs_Ref_Units,,DF$51)=$E111),INDEX(Model_Inputs_Ref_Units,,DF$52)),0)","v":0}]
[null,null,{"$error":"#DIV/0!"},null,{"$f":"IFERROR(INDEX(Ref_Data,1,F112),\"\")","v":""},59,0,0,0,0,{"$f":"IFERROR(SUMPRODUCT(--(INDEX(Model_Inputs_Ref_Units,,K$51)=$E112),INDEX(Model_Inputs_Ref_Units,,K$52)),0)","v":0},{"$f":"IFERROR(SUMPRODUCT(--(INDEX(Model_Inputs_Ref_Units,,L$51)=$E112),INDEX(Model_Inputs_Ref_Units,,L$52)),0)","v":0},{"$f":"IFERROR(SUMPRODUCT(--(INDEX(Model_Inputs_Ref_Units,,M$51)=$E112),INDEX(Model_Inputs_Ref_Units,,M$52)),0)","v":0},{"$f":"IFERROR(SUMPRODUCT(--(INDEX(Model_Inputs_Ref_Units,,N$51)=$E112),INDEX(Model_Inputs_Ref_Units,,N$52)),0)","v":0},{"$f":"IFERROR(SUMPRODUCT(--(INDEX(Model_Inputs_Ref_Units,,O$51)=$E112),INDEX(Model_Inputs_Ref_Units,,O$52)),0)","v":0},{"$f":"IFERROR(SUMPRODUCT(--(INDEX(Model_Inputs_Ref_Units,,P$51)=$E112),INDEX(Model_Inputs_Ref_Units,,P$52)),0)","v":0},{"$f":"IFERROR(SUMPRODUCT(--(INDEX(Model_Inputs_Ref_Units,,Q$51)=$E112),INDEX(Model_Inputs_Ref_Units,,Q$52)),0)","v":0},{"$f":"IFERROR(SUMPRODUCT(--(INDEX(Model_Inputs_Ref_Units,,R$51)=$E112),INDEX(Model_Inputs_Ref_Units,,R$52)),0)","v":0},{"$f":"IFERROR(SUMPRODUCT(--(INDEX(Model_Inputs_Ref_Units,,S$51)=$E112),INDEX(Model_Inputs_Ref_Units,,S$52)),0)","v":0},{"$f":"IFERROR(SUMPRODUCT(--(INDEX(Model_Inputs_Ref_Units,,T$51)=$E112),INDEX(Model_Inputs_Ref_Units,,T$52)),0)","v":0},{"$f":"IFERROR(SUMPRODUCT(--(INDEX(Model_Inputs_Ref_Units,,U$51)=$E112),INDEX(Model_Inputs_Ref_Units,,U$52)),0)","v":0},{"$f":"IFERROR(SUMPRODUCT(--(INDEX(Model_Inputs_Ref_Units,,V$51)=$E112),INDEX(Model_Inputs_Ref_Units,,V$52)),0)","v":0},{"$f":"IFERROR(SUMPRODUCT(--(INDEX(Model_Inputs_Ref_Units,,W$51)=$E112),INDEX(Model_Inputs_Ref_Units,,W$52)),0)","v":0},{"$f":"IFERROR(SUMPRODUCT(--(INDEX(Model_Inputs_Ref_Units,,X$51)=$E112),INDEX(Model_Inputs_Ref_Units,,X$52)),0)","v":0},{"$f":"IFERROR(SUMPRODUCT(--(INDEX(Model_Inputs_Ref_Units,,Y$51)=$E112),INDEX(Model_Inputs_Ref_Units,,Y$52)),0)","v":0},{"$f":"IFERROR(SUMPRODUCT(--(INDEX(Model_Inputs_Ref_Units,,Z$51)=$E112),INDEX(Model_Inputs_Ref_Units,,Z$52)),0)","v":0},{"$f":"IFERROR(SUMPRODUCT(--(INDEX(Model_Inputs_Ref_Units,,AA$51)=$E112),INDEX(Model_Inputs_Ref_Units,,AA$52)),0)","v":0},{"$f":"IFERROR(SUMPRODUCT(--(INDEX(Model_Inputs_Ref_Units,,AB$51)=$E112),INDEX(Model_Inputs_Ref_Units,,AB$52)),0)","v":0},{"$f":"IFERROR(SUMPRODUCT(--(INDEX(Model_Inputs_Ref_Units,,AC$51)=$E112),INDEX(Model_Inputs_Ref_Units,,AC$52)),0)","v":0},{"$f":"IFERROR(SUMPRODUCT(--(INDEX(Model_Inputs_Ref_Units,,AD$51)=$E112),INDEX(Model_Inputs_Ref_Units,,AD$52)),0)","v":0},{"$f":"IFERROR(SUMPRODUCT(--(INDEX(Model_Inputs_Ref_Units,,AE$51)=$E112),INDEX(Model_Inputs_Ref_Units,,AE$52)),0)","v":0},{"$f":"IFERROR(SUMPRODUCT(--(INDEX(Model_Inputs_Ref_Units,,AF$51)=$E112),INDEX(Model_Inputs_Ref_Units,,AF$52)),0)","v":0},{"$f":"IFERROR(SUMPRODUCT(--(INDEX(Model_Inputs_Ref_Units,,AG$51)=$E112),INDEX(Model_Inputs_Ref_Units,,AG$52)),0)","v":0},{"$f":"IFERROR(SUMPRODUCT(--(INDEX(Model_Inputs_Ref_Units,,AH$51)=$E112),INDEX(Model_Inputs_Ref_Units,,AH$52)),0)","v":0},{"$f":"IFERROR(SUMPRODUCT(--(INDEX(Model_Inputs_Ref_Units,,AI$51)=$E112),INDEX(Model_Inputs_Ref_Units,,AI$52)),0)","v":0},{"$f":"IFERROR(SUMPRODUCT(--(INDEX(Model_Inputs_Ref_Units,,AJ$51)=$E112),INDEX(Model_Inputs_Ref_Units,,AJ$52)),0)","v":0},{"$f":"IFERROR(SUMPRODUCT(--(INDEX(Model_Inputs_Ref_Units,,AK$51)=$E112),INDEX(Model_Inputs_Ref_Units,,AK$52)),0)","v":0},{"$f":"IFERROR(SUMPRODUCT(--(INDEX(Model_Inputs_Ref_Units,,AL$51)=$E112),INDEX(Model_Inputs_Ref_Units,,AL$52)),0)","v":0},{"$f":"IFERROR(SUMPRODUCT(--(INDEX(Model_Inputs_Ref_Units,,AM$51)=$E112),INDEX(Model_Inputs_Ref_Units,,AM$52)),0)","v":0},{"$f":"IFERROR(SUMPRODUCT(--(INDEX(Model_Inputs_Ref_Units,,AN$51)=$E112),INDEX(Model_Inputs_Ref_Units,,AN$52)),0)","v":0},{"$f":"IFERROR(SUMPRODUCT(--(INDEX(Model_Inputs_Ref_Units,,AO$51)=$E112),INDEX(Model_Inputs_Ref_Units,,AO$52)),0)","v":0},{"$f":"IFERROR(SUMPRODUCT(--(INDEX(Model_Inputs_Ref_Units,,AP$51)=$E112),INDEX(Model_Inputs_Ref_Units,,AP$52)),0)","v":0},{"$f":"IFERROR(SUMPRODUCT(--(INDEX(Model_Inputs_Ref_Units,,AQ$51)=$E112),INDEX(Model_Inputs_Ref_Units,,AQ$52)),0)","v":0},{"$f":"IFERROR(SUMPRODUCT(--(INDEX(Model_Inputs_Ref_Units,,AR$51)=$E112),INDEX(Model_Inputs_Ref_Units,,AR$52)),0)","v":0},{"$f":"IFERROR(SUMPRODUCT(--(INDEX(Model_Inputs_Ref_Units,,AS$51)=$E112),INDEX(Model_Inputs_Ref_Units,,AS$52)),0)","v":0},{"$f":"IFERROR(SUMPRODUCT(--(INDEX(Model_Inputs_Ref_Units,,AT$51)=$E112),INDEX(Model_Inputs_Ref_Units,,AT$52)),0)","v":0},{"$f":"IFERROR(SUMPRODUCT(--(INDEX(Model_Inputs_Ref_Units,,AU$51)=$E112),INDEX(Model_Inputs_Ref_Units,,AU$52)),0)","v":0},{"$f":"IFERROR(SUMPRODUCT(--(INDEX(Model_Inputs_Ref_Units,,AV$51)=$E112),INDEX(Model_Inputs_Ref_Units,,AV$52)),0)","v":0},{"$f":"IFERROR(SUMPRODUCT(--(INDEX(Model_Inputs_Ref_Units,,AW$51)=$E112),INDEX(Model_Inputs_Ref_Units,,AW$52)),0)","v":0},{"$f":"IFERROR(SUMPRODUCT(--(INDEX(Model_Inputs_Ref_Units,,AX$51)=$E112),INDEX(Model_Inputs_Ref_Units,,AX$52)),0)","v":0},{"$f":"IFERROR(SUMPRODUCT(--(INDEX(Model_Inputs_Ref_Units,,AY$51)=$E112),INDEX(Model_Inputs_Ref_Units,,AY$52)),0)","v":0},{"$f":"IFERROR(SUMPRODUCT(--(INDEX(Model_Inputs_Ref_Units,,AZ$51)=$E112),INDEX(Model_Inputs_Ref_Units,,AZ$52)),0)","v":0},{"$f":"IFERROR(SUMPRODUCT(--(INDEX(Model_Inputs_Ref_Units,,BA$51)=$E112),INDEX(Model_Inputs_Ref_Units,,BA$52)),0)","v":0},{"$f":"IFERROR(SUMPRODUCT(--(INDEX(Model_Inputs_Ref_Units,,BB$51)=$E112),INDEX(Model_Inputs_Ref_Units,,BB$52)),0)","v":0},{"$f":"IFERROR(SUMPRODUCT(--(INDEX(Model_Inputs_Ref_Units,,BC$51)=$E112),INDEX(Model_Inputs_Ref_Units,,BC$52)),0)","v":0},{"$f":"IFERROR(SUMPRODUCT(--(INDEX(Model_Inputs_Ref_Units,,BD$51)=$E112),INDEX(Model_Inputs_Ref_Units,,BD$52)),0)","v":0},{"$f":"IFERROR(SUMPRODUCT(--(INDEX(Model_Inputs_Ref_Units,,BE$51)=$E112),INDEX(Model_Inputs_Ref_Units,,BE$52)),0)","v":0},{"$f":"IFERROR(SUMPRODUCT(--(INDEX(Model_Inputs_Ref_Units,,BF$51)=$E112),INDEX(Model_Inputs_Ref_Units,,BF$52)),0)","v":0},{"$f":"IFERROR(SUMPRODUCT(--(INDEX(Model_Inputs_Ref_Units,,BG$51)=$E112),INDEX(Model_Inputs_Ref_Units,,BG$52)),0)","v":0},{"$f":"IFERROR(SUMPRODUCT(--(INDEX(Model_Inputs_Ref_Units,,BH$51)=$E112),INDEX(Model_Inputs_Ref_Units,,BH$52)),0)","v":0},{"$f":"IFERROR(SUMPRODUCT(--(INDEX(Model_Inputs_Ref_Units,,BI$51)=$E112),INDEX(Model_Inputs_Ref_Units,,BI$52)),0)","v":0},{"$f":"IFERROR(SUMPRODUCT(--(INDEX(Model_Inputs_Ref_Units,,BJ$51)=$E112),INDEX(Model_Inputs_Ref_Units,,BJ$52)),0)","v":0},{"$f":"IFERROR(SUMPRODUCT(--(INDEX(Model_Inputs_Ref_Units,,BK$51)=$E112),INDEX(Model_Inputs_Ref_Units,,BK$52)),0)","v":0},{"$f":"IFERROR(SUMPRODUCT(--(INDEX(Model_Inputs_Ref_Units,,BL$51)=$E112),INDEX(Model_Inputs_Ref_Units,,BL$52)),0)","v":0},{"$f":"IFERROR(SUMPRODUCT(--(INDEX(Model_Inputs_Ref_Units,,BM$51)=$E112),INDEX(Model_Inputs_Ref_Units,,BM$52)),0)","v":0},{"$f":"IFERROR(SUMPRODUCT(--(INDEX(Model_Inputs_Ref_Units,,BN$51)=$E112),INDEX(Model_Inputs_Ref_Units,,BN$52)),0)","v":0},{"$f":"IFERROR(SUMPRODUCT(--(INDEX(Model_Inputs_Ref_Units,,BO$51)=$E112),INDEX(Model_Inputs_Ref_Units,,BO$52)),0)","v":0},{"$f":"IFERROR(SUMPRODUCT(--(INDEX(Model_Inputs_Ref_Units,,BP$51)=$E112),INDEX(Model_Inputs_Ref_Units,,BP$52)),0)","v":0},{"$f":"IFERROR(SUMPRODUCT(--(INDEX(Model_Inputs_Ref_Units,,BQ$51)=$E112),INDEX(Model_Inputs_Ref_Units,,BQ$52)),0)","v":0},{"$f":"IFERROR(SUMPRODUCT(--(INDEX(Model_Inputs_Ref_Units,,BR$51)=$E112),INDEX(Model_Inputs_Ref_Units,,BR$52)),0)","v":0},{"$f":"IFERROR(SUMPRODUCT(--(INDEX(Model_Inputs_Ref_Units,,BS$51)=$E112),INDEX(Model_Inputs_Ref_Units,,BS$52)),0)","v":0},{"$f":"IFERROR(SUMPRODUCT(--(INDEX(Model_Inputs_Ref_Units,,BT$51)=$E112),INDEX(Model_Inputs_Ref_Units,,BT$52)),0)","v":0},{"$f":"IFERROR(SUMPRODUCT(--(INDEX(Model_Inputs_Ref_Units,,BU$51)=$E112),INDEX(Model_Inputs_Ref_Units,,BU$52)),0)","v":0},{"$f":"IFERROR(SUMPRODUCT(--(INDEX(Model_Inputs_Ref_Units,,BV$51)=$E112),INDEX(Model_Inputs_Ref_Units,,BV$52)),0)","v":0},{"$f":"IFERROR(SUMPRODUCT(--(INDEX(Model_Inputs_Ref_Units,,BW$51)=$E112),INDEX(Model_Inputs_Ref_Units,,BW$52)),0)","v":0},{"$f":"IFERROR(SUMPRODUCT(--(INDEX(Model_Inputs_Ref_Units,,BX$51)=$E112),INDEX(Model_Inputs_Ref_Units,,BX$52)),0)","v":0},{"$f":"IFERROR(SUMPRODUCT(--(INDEX(Model_Inputs_Ref_Units,,BY$51)=$E112),INDEX(Model_Inputs_Ref_Units,,BY$52)),0)","v":0},{"$f":"IFERROR(SUMPRODUCT(--(INDEX(Model_Inputs_Ref_Units,,BZ$51)=$E112),INDEX(Model_Inputs_Ref_Units,,BZ$52)),0)","v":0},{"$f":"IFERROR(SUMPRODUCT(--(INDEX(Model_Inputs_Ref_Units,,CA$51)=$E112),INDEX(Model_Inputs_Ref_Units,,CA$52)),0)","v":0},{"$f":"IFERROR(SUMPRODUCT(--(INDEX(Model_Inputs_Ref_Units,,CB$51)=$E112),INDEX(Model_Inputs_Ref_Units,,CB$52)),0)","v":0},{"$f":"IFERROR(SUMPRODUCT(--(INDEX(Model_Inputs_Ref_Units,,CC$51)=$E112),INDEX(Model_Inputs_Ref_Units,,CC$52)),0)","v":0},{"$f":"IFERROR(SUMPRODUCT(--(INDEX(Model_Inputs_Ref_Units,,CD$51)=$E112),INDEX(Model_Inputs_Ref_Units,,CD$52)),0)","v":0},{"$f":"IFERROR(SUMPRODUCT(--(INDEX(Model_Inputs_Ref_Units,,CE$51)=$E112),INDEX(Model_Inputs_Ref_Units,,CE$52)),0)","v":0},{"$f":"IFERROR(SUMPRODUCT(--(INDEX(Model_Inputs_Ref_Units,,CF$51)=$E112),INDEX(Model_Inputs_Ref_Units,,CF$52)),0)","v":0},{"$f":"IFERROR(SUMPRODUCT(--(INDEX(Model_Inputs_Ref_Units,,CG$51)=$E112),INDEX(Model_Inputs_Ref_Units,,CG$52)),0)","v":0},{"$f":"IFERROR(SUMPRODUCT(--(INDEX(Model_Inputs_Ref_Units,,CH$51)=$E112),INDEX(Model_Inputs_Ref_Units,,CH$52)),0)","v":0},{"$f":"IFERROR(SUMPRODUCT(--(INDEX(Model_Inputs_Ref_Units,,CI$51)=$E112),INDEX(Model_Inputs_Ref_Units,,CI$52)),0)","v":0},{"$f":"IFERROR(SUMPRODUCT(--(INDEX(Model_Inputs_Ref_Units,,CJ$51)=$E112),INDEX(Model_Inputs_Ref_Units,,CJ$52)),0)","v":0},{"$f":"IFERROR(SUMPRODUCT(--(INDEX(Model_Inputs_Ref_Units,,CK$51)=$E112),INDEX(Model_Inputs_Ref_Units,,CK$52)),0)","v":0},{"$f":"IFERROR(SUMPRODUCT(--(INDEX(Model_Inputs_Ref_Units,,CL$51)=$E112),INDEX(Model_Inputs_Ref_Units,,CL$52)),0)","v":0},{"$f":"IFERROR(SUMPRODUCT(--(INDEX(Model_Inputs_Ref_Units,,CM$51)=$E112),INDEX(Model_Inputs_Ref_Units,,CM$52)),0)","v":0},{"$f":"IFERROR(SUMPRODUCT(--(INDEX(Model_Inputs_Ref_Units,,CN$51)=$E112),INDEX(Model_Inputs_Ref_Units,,CN$52)),0)","v":0},{"$f":"IFERROR(SUMPRODUCT(--(INDEX(Model_Inputs_Ref_Units,,CO$51)=$E112),INDEX(Model_Inputs_Ref_Units,,CO$52)),0)","v":0},{"$f":"IFERROR(SUMPRODUCT(--(INDEX(Model_Inputs_Ref_Units,,CP$51)=$E112),INDEX(Model_Inputs_Ref_Units,,CP$52)),0)","v":0},{"$f":"IFERROR(SUMPRODUCT(--(INDEX(Model_Inputs_Ref_Units,,CQ$51)=$E112),INDEX(Model_Inputs_Ref_Units,,CQ$52)),0)","v":0},{"$f":"IFERROR(SUMPRODUCT(--(INDEX(Model_Inputs_Ref_Units,,CR$51)=$E112),INDEX(Model_Inputs_Ref_Units,,CR$52)),0)","v":0},{"$f":"IFERROR(SUMPRODUCT(--(INDEX(Model_Inputs_Ref_Units,,CS$51)=$E112),INDEX(Model_Inputs_Ref_Units,,CS$52)),0)","v":0},{"$f":"IFERROR(SUMPRODUCT(--(INDEX(Model_Inputs_Ref_Units,,CT$51)=$E112),INDEX(Model_Inputs_Ref_Units,,CT$52)),0)","v":0},{"$f":"IFERROR(SUMPRODUCT(--(INDEX(Model_Inputs_Ref_Units,,CU$51)=$E112),INDEX(Model_Inputs_Ref_Units,,CU$52)),0)","v":0},{"$f":"IFERROR(SUMPRODUCT(--(INDEX(Model_Inputs_Ref_Units,,CV$51)=$E112),INDEX(Model_Inputs_Ref_Units,,CV$52)),0)","v":0},{"$f":"IFERROR(SUMPRODUCT(--(INDEX(Model_Inputs_Ref_Units,,CW$51)=$E112),INDEX(Model_Inputs_Ref_Units,,CW$52)),0)","v":0},{"$f":"IFERROR(SUMPRODUCT(--(INDEX(Model_Inputs_Ref_Units,,CX$51)=$E112),INDEX(Model_Inputs_Ref_Units,,CX$52)),0)","v":0},{"$f":"IFERROR(SUMPRODUCT(--(INDEX(Model_Inputs_Ref_Units,,CY$51)=$E112),INDEX(Model_Inputs_Ref_Units,,CY$52)),0)","v":0},{"$f":"IFERROR(SUMPRODUCT(--(INDEX(Model_Inputs_Ref_Units,,CZ$51)=$E112),INDEX(Model_Inputs_Ref_Units,,CZ$52)),0)","v":0},{"$f":"IFERROR(SUMPRODUCT(--(INDEX(Model_Inputs_Ref_Units,,DA$51)=$E112),INDEX(Model_Inputs_Ref_Units,,DA$52)),0)","v":0},{"$f":"IFERROR(SUMPRODUCT(--(INDEX(Model_Inputs_Ref_Units,,DB$51)=$E112),INDEX(Model_Inputs_Ref_Units,,DB$52)),0)","v":0},{"$f":"IFERROR(SUMPRODUCT(--(INDEX(Model_Inputs_Ref_Units,,DC$51)=$E112),INDEX(Model_Inputs_Ref_Units,,DC$52)),0)","v":0},{"$f":"IFERROR(SUMPRODUCT(--(INDEX(Model_Inputs_Ref_Units,,DD$51)=$E112),INDEX(Model_Inputs_Ref_Units,,DD$52)),0)","v":0},{"$f":"IFERROR(SUMPRODUCT(--(INDEX(Model_Inputs_Ref_Units,,DE$51)=$E112),INDEX(Model_Inputs_Ref_Units,,DE$52)),0)","v":0},{"$f":"IFERROR(SUMPRODUCT(--(INDEX(Model_Inputs_Ref_Units,,DF$51)=$E112),INDEX(Model_Inputs_Ref_Units,,DF$52)),0)","v":0}]
[null,null,{"$error":"#DIV/0!"},null,{"$f":"IFERROR(INDEX(Ref_Data,1,F113),\"\")","v":""},60,0,0,0,0,{"$f":"IFERROR(SUMPRODUCT(--(INDEX(Model_Inputs_Ref_Units,,K$51)=$E113),INDEX(Model_Inputs_Ref_Units,,K$52)),0)","v":0},{"$f":"IFERROR(SUMPRODUCT(--(INDEX(Model_Inputs_Ref_Units,,L$51)=$E113),INDEX(Model_Inputs_Ref_Units,,L$52)),0)","v":0},{"$f":"IFERROR(SUMPRODUCT(--(INDEX(Model_Inputs_Ref_Units,,M$51)=$E113),INDEX(Model_Inputs_Ref_Units,,M$52)),0)","v":0},{"$f":"IFERROR(SUMPRODUCT(--(INDEX(Model_Inputs_Ref_Units,,N$51)=$E113),INDEX(Model_Inputs_Ref_Units,,N$52)),0)","v":0},{"$f":"IFERROR(SUMPRODUCT(--(INDEX(Model_Inputs_Ref_Units,,O$51)=$E113),INDEX(Model_Inputs_Ref_Units,,O$52)),0)","v":0},{"$f":"IFERROR(SUMPRODUCT(--(INDEX(Model_Inputs_Ref_Units,,P$51)=$E113),INDEX(Model_Inputs_Ref_Units,,P$52)),0)","v":0},{"$f":"IFERROR(SUMPRODUCT(--(INDEX(Model_Inputs_Ref_Units,,Q$51)=$E113),INDEX(Model_Inputs_Ref_Units,,Q$52)),0)","v":0},{"$f":"IFERROR(SUMPRODUCT(--(INDEX(Model_Inputs_Ref_Units,,R$51)=$E113),INDEX(Model_Inputs_Ref_Units,,R$52)),0)","v":0},{"$f":"IFERROR(SUMPRODUCT(--(INDEX(Model_Inputs_Ref_Units,,S$51)=$E113),INDEX(Model_Inputs_Ref_Units,,S$52)),0)","v":0},{"$f":"IFERROR(SUMPRODUCT(--(INDEX(Model_Inputs_Ref_Units,,T$51)=$E113),INDEX(Model_Inputs_Ref_Units,,T$52)),0)","v":0},{"$f":"IFERROR(SUMPRODUCT(--(INDEX(Model_Inputs_Ref_Units,,U$51)=$E113),INDEX(Model_Inputs_Ref_Units,,U$52)),0)","v":0},{"$f":"IFERROR(SUMPRODUCT(--(INDEX(Model_Inputs_Ref_Units,,V$51)=$E113),INDEX(Model_Inputs_Ref_Units,,V$52)),0)","v":0},{"$f":"IFERROR(SUMPRODUCT(--(INDEX(Model_Inputs_Ref_Units,,W$51)=$E113),INDEX(Model_Inputs_Ref_Units,,W$52)),0)","v":0},{"$f":"IFERROR(SUMPRODUCT(--(INDEX(Model_Inputs_Ref_Units,,X$51)=$E113),INDEX(Model_Inputs_Ref_Units,,X$52)),0)","v":0},{"$f":"IFERROR(SUMPRODUCT(--(INDEX(Model_Inputs_Ref_Units,,Y$51)=$E113),INDEX(Model_Inputs_Ref_Units,,Y$52)),0)","v":0},{"$f":"IFERROR(SUMPRODUCT(--(INDEX(Model_Inputs_Ref_Units,,Z$51)=$E113),INDEX(Model_Inputs_Ref_Units,,Z$52)),0)","v":0},{"$f":"IFERROR(SUMPRODUCT(--(INDEX(Model_Inputs_Ref_Units,,AA$51)=$E113),INDEX(Model_Inputs_Ref_Units,,AA$52)),0)","v":0},{"$f":"IFERROR(SUMPRODUCT(--(INDEX(Model_Inputs_Ref_Units,,AB$51)=$E113),INDEX(Model_Inputs_Ref_Units,,AB$52)),0)","v":0},{"$f":"IFERROR(SUMPRODUCT(--(INDEX(Model_Inputs_Ref_Units,,AC$51)=$E113),INDEX(Model_Inputs_Ref_Units,,AC$52)),0)","v":0},{"$f":"IFERROR(SUMPRODUCT(--(INDEX(Model_Inputs_Ref_Units,,AD$51)=$E113),INDEX(Model_Inputs_Ref_Units,,AD$52)),0)","v":0},{"$f":"IFERROR(SUMPRODUCT(--(INDEX(Model_Inputs_Ref_Units,,AE$51)=$E113),INDEX(Model_Inputs_Ref_Units,,AE$52)),0)","v":0},{"$f":"IFERROR(SUMPRODUCT(--(INDEX(Model_Inputs_Ref_Units,,AF$51)=$E113),INDEX(Model_Inputs_Ref_Units,,AF$52)),0)","v":0},{"$f":"IFERROR(SUMPRODUCT(--(INDEX(Model_Inputs_Ref_Units,,AG$51)=$E113),INDEX(Model_Inputs_Ref_Units,,AG$52)),0)","v":0},{"$f":"IFERROR(SUMPRODUCT(--(INDEX(Model_Inputs_Ref_Units,,AH$51)=$E113),INDEX(Model_Inputs_Ref_Units,,AH$52)),0)","v":0},{"$f":"IFERROR(SUMPRODUCT(--(INDEX(Model_Inputs_Ref_Units,,AI$51)=$E113),INDEX(Model_Inputs_Ref_Units,,AI$52)),0)","v":0},{"$f":"IFERROR(SUMPRODUCT(--(INDEX(Model_Inputs_Ref_Units,,AJ$51)=$E113),INDEX(Model_Inputs_Ref_Units,,AJ$52)),0)","v":0},{"$f":"IFERROR(SUMPRODUCT(--(INDEX(Model_Inputs_Ref_Units,,AK$51)=$E113),INDEX(Model_Inputs_Ref_Units,,AK$52)),0)","v":0},{"$f":"IFERROR(SUMPRODUCT(--(INDEX(Model_Inputs_Ref_Units,,AL$51)=$E113),INDEX(Model_Inputs_Ref_Units,,AL$52)),0)","v":0},{"$f":"IFERROR(SUMPRODUCT(--(INDEX(Model_Inputs_Ref_Units,,AM$51)=$E113),INDEX(Model_Inputs_Ref_Units,,AM$52)),0)","v":0},{"$f":"IFERROR(SUMPRODUCT(--(INDEX(Model_Inputs_Ref_Units,,AN$51)=$E113),INDEX(Model_Inputs_Ref_Units,,AN$52)),0)","v":0},{"$f":"IFERROR(SUMPRODUCT(--(INDEX(Model_Inputs_Ref_Units,,AO$51)=$E113),INDEX(Model_Inputs_Ref_Units,,AO$52)),0)","v":0},{"$f":"IFERROR(SUMPRODUCT(--(INDEX(Model_Inputs_Ref_Units,,AP$51)=$E113),INDEX(Model_Inputs_Ref_Units,,AP$52)),0)","v":0},{"$f":"IFERROR(SUMPRODUCT(--(INDEX(Model_Inputs_Ref_Units,,AQ$51)=$E113),INDEX(Model_Inputs_Ref_Units,,AQ$52)),0)","v":0},{"$f":"IFERROR(SUMPRODUCT(--(INDEX(Model_Inputs_Ref_Units,,AR$51)=$E113),INDEX(Model_Inputs_Ref_Units,,AR$52)),0)","v":0},{"$f":"IFERROR(SUMPRODUCT(--(INDEX(Model_Inputs_Ref_Units,,AS$51)=$E113),INDEX(Model_Inputs_Ref_Units,,AS$52)),0)","v":0},{"$f":"IFERROR(SUMPRODUCT(--(INDEX(Model_Inputs_Ref_Units,,AT$51)=$E113),INDEX(Model_Inputs_Ref_Units,,AT$52)),0)","v":0},{"$f":"IFERROR(SUMPRODUCT(--(INDEX(Model_Inputs_Ref_Units,,AU$51)=$E113),INDEX(Model_Inputs_Ref_Units,,AU$52)),0)","v":0},{"$f":"IFERROR(SUMPRODUCT(--(INDEX(Model_Inputs_Ref_Units,,AV$51)=$E113),INDEX(Model_Inputs_Ref_Units,,AV$52)),0)","v":0},{"$f":"IFERROR(SUMPRODUCT(--(INDEX(Model_Inputs_Ref_Units,,AW$51)=$E113),INDEX(Model_Inputs_Ref_Units,,AW$52)),0)","v":0},{"$f":"IFERROR(SUMPRODUCT(--(INDEX(Model_Inputs_Ref_Units,,AX$51)=$E113),INDEX(Model_Inputs_Ref_Units,,AX$52)),0)","v":0},{"$f":"IFERROR(SUMPRODUCT(--(INDEX(Model_Inputs_Ref_Units,,AY$51)=$E113),INDEX(Model_Inputs_Ref_Units,,AY$52)),0)","v":0},{"$f":"IFERROR(SUMPRODUCT(--(INDEX(Model_Inputs_Ref_Units,,AZ$51)=$E113),INDEX(Model_Inputs_Ref_Units,,AZ$52)),0)","v":0},{"$f":"IFERROR(SUMPRODUCT(--(INDEX(Model_Inputs_Ref_Units,,BA$51)=$E113),INDEX(Model_Inputs_Ref_Units,,BA$52)),0)","v":0},{"$f":"IFERROR(SUMPRODUCT(--(INDEX(Model_Inputs_Ref_Units,,BB$51)=$E113),INDEX(Model_Inputs_Ref_Units,,BB$52)),0)","v":0},{"$f":"IFERROR(SUMPRODUCT(--(INDEX(Model_Inputs_Ref_Units,,BC$51)=$E113),INDEX(Model_Inputs_Ref_Units,,BC$52)),0)","v":0},{"$f":"IFERROR(SUMPRODUCT(--(INDEX(Model_Inputs_Ref_Units,,BD$51)=$E113),INDEX(Model_Inputs_Ref_Units,,BD$52)),0)","v":0},{"$f":"IFERROR(SUMPRODUCT(--(INDEX(Model_Inputs_Ref_Units,,BE$51)=$E113),INDEX(Model_Inputs_Ref_Units,,BE$52)),0)","v":0},{"$f":"IFERROR(SUMPRODUCT(--(INDEX(Model_Inputs_Ref_Units,,BF$51)=$E113),INDEX(Model_Inputs_Ref_Units,,BF$52)),0)","v":0},{"$f":"IFERROR(SUMPRODUCT(--(INDEX(Model_Inputs_Ref_Units,,BG$51)=$E113),INDEX(Model_Inputs_Ref_Units,,BG$52)),0)","v":0},{"$f":"IFERROR(SUMPRODUCT(--(INDEX(Model_Inputs_Ref_Units,,BH$51)=$E113),INDEX(Model_Inputs_Ref_Units,,BH$52)),0)","v":0},{"$f":"IFERROR(SUMPRODUCT(--(INDEX(Model_Inputs_Ref_Units,,BI$51)=$E113),INDEX(Model_Inputs_Ref_Units,,BI$52)),0)","v":0},{"$f":"IFERROR(SUMPRODUCT(--(INDEX(Model_Inputs_Ref_Units,,BJ$51)=$E113),INDEX(Model_Inputs_Ref_Units,,BJ$52)),0)","v":0},{"$f":"IFERROR(SUMPRODUCT(--(INDEX(Model_Inputs_Ref_Units,,BK$51)=$E113),INDEX(Model_Inputs_Ref_Units,,BK$52)),0)","v":0},{"$f":"IFERROR(SUMPRODUCT(--(INDEX(Model_Inputs_Ref_Units,,BL$51)=$E113),INDEX(Model_Inputs_Ref_Units,,BL$52)),0)","v":0},{"$f":"IFERROR(SUMPRODUCT(--(INDEX(Model_Inputs_Ref_Units,,BM$51)=$E113),INDEX(Model_Inputs_Ref_Units,,BM$52)),0)","v":0},{"$f":"IFERROR(SUMPRODUCT(--(INDEX(Model_Inputs_Ref_Units,,BN$51)=$E113),INDEX(Model_Inputs_Ref_Units,,BN$52)),0)","v":0},{"$f":"IFERROR(SUMPRODUCT(--(INDEX(Model_Inputs_Ref_Units,,BO$51)=$E113),INDEX(Model_Inputs_Ref_Units,,BO$52)),0)","v":0},{"$f":"IFERROR(SUMPRODUCT(--(INDEX(Model_Inputs_Ref_Units,,BP$51)=$E113),INDEX(Model_Inputs_Ref_Units,,BP$52)),0)","v":0},{"$f":"IFERROR(SUMPRODUCT(--(INDEX(Model_Inputs_Ref_Units,,BQ$51)=$E113),INDEX(Model_Inputs_Ref_Units,,BQ$52)),0)","v":0},{"$f":"IFERROR(SUMPRODUCT(--(INDEX(Model_Inputs_Ref_Units,,BR$51)=$E113),INDEX(Model_Inputs_Ref_Units,,BR$52)),0)","v":0},{"$f":"IFERROR(SUMPRODUCT(--(INDEX(Model_Inputs_Ref_Units,,BS$51)=$E113),INDEX(Model_Inputs_Ref_Units,,BS$52)),0)","v":0},{"$f":"IFERROR(SUMPRODUCT(--(INDEX(Model_Inputs_Ref_Units,,BT$51)=$E113),INDEX(Model_Inputs_Ref_Units,,BT$52)),0)","v":0},{"$f":"IFERROR(SUMPRODUCT(--(INDEX(Model_Inputs_Ref_Units,,BU$51)=$E113),INDEX(Model_Inputs_Ref_Units,,BU$52)),0)","v":0},{"$f":"IFERROR(SUMPRODUCT(--(INDEX(Model_Inputs_Ref_Units,,BV$51)=$E113),INDEX(Model_Inputs_Ref_Units,,BV$52)),0)","v":0},{"$f":"IFERROR(SUMPRODUCT(--(INDEX(Model_Inputs_Ref_Units,,BW$51)=$E113),INDEX(Model_Inputs_Ref_Units,,BW$52)),0)","v":0},{"$f":"IFERROR(SUMPRODUCT(--(INDEX(Model_Inputs_Ref_Units,,BX$51)=$E113),INDEX(Model_Inputs_Ref_Units,,BX$52)),0)","v":0},{"$f":"IFERROR(SUMPRODUCT(--(INDEX(Model_Inputs_Ref_Units,,BY$51)=$E113),INDEX(Model_Inputs_Ref_Units,,BY$52)),0)","v":0},{"$f":"IFERROR(SUMPRODUCT(--(INDEX(Model_Inputs_Ref_Units,,BZ$51)=$E113),INDEX(Model_Inputs_Ref_Units,,BZ$52)),0)","v":0},{"$f":"IFERROR(SUMPRODUCT(--(INDEX(Model_Inputs_Ref_Units,,CA$51)=$E113),INDEX(Model_Inputs_Ref_Units,,CA$52)),0)","v":0},{"$f":"IFERROR(SUMPRODUCT(--(INDEX(Model_Inputs_Ref_Units,,CB$51)=$E113),INDEX(Model_Inputs_Ref_Units,,CB$52)),0)","v":0},{"$f":"IFERROR(SUMPRODUCT(--(INDEX(Model_Inputs_Ref_Units,,CC$51)=$E113),INDEX(Model_Inputs_Ref_Units,,CC$52)),0)","v":0},{"$f":"IFERROR(SUMPRODUCT(--(INDEX(Model_Inputs_Ref_Units,,CD$51)=$E113),INDEX(Model_Inputs_Ref_Units,,CD$52)),0)","v":0},{"$f":"IFERROR(SUMPRODUCT(--(INDEX(Model_Inputs_Ref_Units,,CE$51)=$E113),INDEX(Model_Inputs_Ref_Units,,CE$52)),0)","v":0},{"$f":"IFERROR(SUMPRODUCT(--(INDEX(Model_Inputs_Ref_Units,,CF$51)=$E113),INDEX(Model_Inputs_Ref_Units,,CF$52)),0)","v":0},{"$f":"IFERROR(SUMPRODUCT(--(INDEX(Model_Inputs_Ref_Units,,CG$51)=$E113),INDEX(Model_Inputs_Ref_Units,,CG$52)),0)","v":0},{"$f":"IFERROR(SUMPRODUCT(--(INDEX(Model_Inputs_Ref_Units,,CH$51)=$E113),INDEX(Model_Inputs_Ref_Units,,CH$52)),0)","v":0},{"$f":"IFERROR(SUMPRODUCT(--(INDEX(Model_Inputs_Ref_Units,,CI$51)=$E113),INDEX(Model_Inputs_Ref_Units,,CI$52)),0)","v":0},{"$f":"IFERROR(SUMPRODUCT(--(INDEX(Model_Inputs_Ref_Units,,CJ$51)=$E113),INDEX(Model_Inputs_Ref_Units,,CJ$52)),0)","v":0},{"$f":"IFERROR(SUMPRODUCT(--(INDEX(Model_Inputs_Ref_Units,,CK$51)=$E113),INDEX(Model_Inputs_Ref_Units,,CK$52)),0)","v":0},{"$f":"IFERROR(SUMPRODUCT(--(INDEX(Model_Inputs_Ref_Units,,CL$51)=$E113),INDEX(Model_Inputs_Ref_Units,,CL$52)),0)","v":0},{"$f":"IFERROR(SUMPRODUCT(--(INDEX(Model_Inputs_Ref_Units,,CM$51)=$E113),INDEX(Model_Inputs_Ref_Units,,CM$52)),0)","v":0},{"$f":"IFERROR(SUMPRODUCT(--(INDEX(Model_Inputs_Ref_Units,,CN$51)=$E113),INDEX(Model_Inputs_Ref_Units,,CN$52)),0)","v":0},{"$f":"IFERROR(SUMPRODUCT(--(INDEX(Model_Inputs_Ref_Units,,CO$51)=$E113),INDEX(Model_Inputs_Ref_Units,,CO$52)),0)","v":0},{"$f":"IFERROR(SUMPRODUCT(--(INDEX(Model_Inputs_Ref_Units,,CP$51)=$E113),INDEX(Model_Inputs_Ref_Units,,CP$52)),0)","v":0},{"$f":"IFERROR(SUMPRODUCT(--(INDEX(Model_Inputs_Ref_Units,,CQ$51)=$E113),INDEX(Model_Inputs_Ref_Units,,CQ$52)),0)","v":0},{"$f":"IFERROR(SUMPRODUCT(--(INDEX(Model_Inputs_Ref_Units,,CR$51)=$E113),INDEX(Model_Inputs_Ref_Units,,CR$52)),0)","v":0},{"$f":"IFERROR(SUMPRODUCT(--(INDEX(Model_Inputs_Ref_Units,,CS$51)=$E113),INDEX(Model_Inputs_Ref_Units,,CS$52)),0)","v":0},{"$f":"IFERROR(SUMPRODUCT(--(INDEX(Model_Inputs_Ref_Units,,CT$51)=$E113),INDEX(Model_Inputs_Ref_Units,,CT$52)),0)","v":0},{"$f":"IFERROR(SUMPRODUCT(--(INDEX(Model_Inputs_Ref_Units,,CU$51)=$E113),INDEX(Model_Inputs_Ref_Units,,CU$52)),0)","v":0},{"$f":"IFERROR(SUMPRODUCT(--(INDEX(Model_Inputs_Ref_Units,,CV$51)=$E113),INDEX(Model_Inputs_Ref_Units,,CV$52)),0)","v":0},{"$f":"IFERROR(SUMPRODUCT(--(INDEX(Model_Inputs_Ref_Units,,CW$51)=$E113),INDEX(Model_Inputs_Ref_Units,,CW$52)),0)","v":0},{"$f":"IFERROR(SUMPRODUCT(--(INDEX(Model_Inputs_Ref_Units,,CX$51)=$E113),INDEX(Model_Inputs_Ref_Units,,CX$52)),0)","v":0},{"$f":"IFERROR(SUMPRODUCT(--(INDEX(Model_Inputs_Ref_Units,,CY$51)=$E113),INDEX(Model_Inputs_Ref_Units,,CY$52)),0)","v":0},{"$f":"IFERROR(SUMPRODUCT(--(INDEX(Model_Inputs_Ref_Units,,CZ$51)=$E113),INDEX(Model_Inputs_Ref_Units,,CZ$52)),0)","v":0},{"$f":"IFERROR(SUMPRODUCT(--(INDEX(Model_Inputs_Ref_Units,,DA$51)=$E113),INDEX(Model_Inputs_Ref_Units,,DA$52)),0)","v":0},{"$f":"IFERROR(SUMPRODUCT(--(INDEX(Model_Inputs_Ref_Units,,DB$51)=$E113),INDEX(Model_Inputs_Ref_Units,,DB$52)),0)","v":0},{"$f":"IFERROR(SUMPRODUCT(--(INDEX(Model_Inputs_Ref_Units,,DC$51)=$E113),INDEX(Model_Inputs_Ref_Units,,DC$52)),0)","v":0},{"$f":"IFERROR(SUMPRODUCT(--(INDEX(Model_Inputs_Ref_Units,,DD$51)=$E113),INDEX(Model_Inputs_Ref_Units,,DD$52)),0)","v":0},{"$f":"IFERROR(SUMPRODUCT(--(INDEX(Model_Inputs_Ref_Units,,DE$51)=$E113),INDEX(Model_Inputs_Ref_Units,,DE$52)),0)","v":0},{"$f":"IFERROR(SUMPRODUCT(--(INDEX(Model_Inputs_Ref_Units,,DF$51)=$E113),INDEX(Model_Inputs_Ref_Units,,DF$52)),0)","v":0}]
[null,null,{"$error":"#DIV/0!"},null,{"$f":"IFERROR(INDEX(Ref_Data,1,F114),\"\")","v":""},61,0,0,0,0,{"$f":"IFERROR(SUMPRODUCT(--(INDEX(Model_Inputs_Ref_Units,,K$51)=$E114),INDEX(Model_Inputs_Ref_Units,,K$52)),0)","v":0},{"$f":"IFERROR(SUMPRODUCT(--(INDEX(Model_Inputs_Ref_Units,,L$51)=$E114),INDEX(Model_Inputs_Ref_Units,,L$52)),0)","v":0},{"$f":"IFERROR(SUMPRODUCT(--(INDEX(Model_Inputs_Ref_Units,,M$51)=$E114),INDEX(Model_Inputs_Ref_Units,,M$52)),0)","v":0},{"$f":"IFERROR(SUMPRODUCT(--(INDEX(Model_Inputs_Ref_Units,,N$51)=$E114),INDEX(Model_Inputs_Ref_Units,,N$52)),0)","v":0},{"$f":"IFERROR(SUMPRODUCT(--(INDEX(Model_Inputs_Ref_Units,,O$51)=$E114),INDEX(Model_Inputs_Ref_Units,,O$52)),0)","v":0},{"$f":"IFERROR(SUMPRODUCT(--(INDEX(Model_Inputs_Ref_Units,,P$51)=$E114),INDEX(Model_Inputs_Ref_Units,,P$52)),0)","v":0},{"$f":"IFERROR(SUMPRODUCT(--(INDEX(Model_Inputs_Ref_Units,,Q$51)=$E114),INDEX(Model_Inputs_Ref_Units,,Q$52)),0)","v":0},{"$f":"IFERROR(SUMPRODUCT(--(INDEX(Model_Inputs_Ref_Units,,R$51)=$E114),INDEX(Model_Inputs_Ref_Units,,R$52)),0)","v":0},{"$f":"IFERROR(SUMPRODUCT(--(INDEX(Model_Inputs_Ref_Units,,S$51)=$E114),INDEX(Model_Inputs_Ref_Units,,S$52)),0)","v":0},{"$f":"IFERROR(SUMPRODUCT(--(INDEX(Model_Inputs_Ref_Units,,T$51)=$E114),INDEX(Model_Inputs_Ref_Units,,T$52)),0)","v":0},{"$f":"IFERROR(SUMPRODUCT(--(INDEX(Model_Inputs_Ref_Units,,U$51)=$E114),INDEX(Model_Inputs_Ref_Units,,U$52)),0)","v":0},{"$f":"IFERROR(SUMPRODUCT(--(INDEX(Model_Inputs_Ref_Units,,V$51)=$E114),INDEX(Model_Inputs_Ref_Units,,V$52)),0)","v":0},{"$f":"IFERROR(SUMPRODUCT(--(INDEX(Model_Inputs_Ref_Units,,W$51)=$E114),INDEX(Model_Inputs_Ref_Units,,W$52)),0)","v":0},{"$f":"IFERROR(SUMPRODUCT(--(INDEX(Model_Inputs_Ref_Units,,X$51)=$E114),INDEX(Model_Inputs_Ref_Units,,X$52)),0)","v":0},{"$f":"IFERROR(SUMPRODUCT(--(INDEX(Model_Inputs_Ref_Units,,Y$51)=$E114),INDEX(Model_Inputs_Ref_Units,,Y$52)),0)","v":0},{"$f":"IFERROR(SUMPRODUCT(--(INDEX(Model_Inputs_Ref_Units,,Z$51)=$E114),INDEX(Model_Inputs_Ref_Units,,Z$52)),0)","v":0},{"$f":"IFERROR(SUMPRODUCT(--(INDEX(Model_Inputs_Ref_Units,,AA$51)=$E114),INDEX(Model_Inputs_Ref_Units,,AA$52)),0)","v":0},{"$f":"IFERROR(SUMPRODUCT(--(INDEX(Model_Inputs_Ref_Units,,AB$51)=$E114),INDEX(Model_Inputs_Ref_Units,,AB$52)),0)","v":0},{"$f":"IFERROR(SUMPRODUCT(--(INDEX(Model_Inputs_Ref_Units,,AC$51)=$E114),INDEX(Model_Inputs_Ref_Units,,AC$52)),0)","v":0},{"$f":"IFERROR(SUMPRODUCT(--(INDEX(Model_Inputs_Ref_Units,,AD$51)=$E114),INDEX(Model_Inputs_Ref_Units,,AD$52)),0)","v":0},{"$f":"IFERROR(SUMPRODUCT(--(INDEX(Model_Inputs_Ref_Units,,AE$51)=$E114),INDEX(Model_Inputs_Ref_Units,,AE$52)),0)","v":0},{"$f":"IFERROR(SUMPRODUCT(--(INDEX(Model_Inputs_Ref_Units,,AF$51)=$E114),INDEX(Model_Inputs_Ref_Units,,AF$52)),0)","v":0},{"$f":"IFERROR(SUMPRODUCT(--(INDEX(Model_Inputs_Ref_Units,,AG$51)=$E114),INDEX(Model_Inputs_Ref_Units,,AG$52)),0)","v":0},{"$f":"IFERROR(SUMPRODUCT(--(INDEX(Model_Inputs_Ref_Units,,AH$51)=$E114),INDEX(Model_Inputs_Ref_Units,,AH$52)),0)","v":0},{"$f":"IFERROR(SUMPRODUCT(--(INDEX(Model_Inputs_Ref_Units,,AI$51)=$E114),INDEX(Model_Inputs_Ref_Units,,AI$52)),0)","v":0},{"$f":"IFERROR(SUMPRODUCT(--(INDEX(Model_Inputs_Ref_Units,,AJ$51)=$E114),INDEX(Model_Inputs_Ref_Units,,AJ$52)),0)","v":0},{"$f":"IFERROR(SUMPRODUCT(--(INDEX(Model_Inputs_Ref_Units,,AK$51)=$E114),INDEX(Model_Inputs_Ref_Units,,AK$52)),0)","v":0},{"$f":"IFERROR(SUMPRODUCT(--(INDEX(Model_Inputs_Ref_Units,,AL$51)=$E114),INDEX(Model_Inputs_Ref_Units,,AL$52)),0)","v":0},{"$f":"IFERROR(SUMPRODUCT(--(INDEX(Model_Inputs_Ref_Units,,AM$51)=$E114),INDEX(Model_Inputs_Ref_Units,,AM$52)),0)","v":0},{"$f":"IFERROR(SUMPRODUCT(--(INDEX(Model_Inputs_Ref_Units,,AN$51)=$E114),INDEX(Model_Inputs_Ref_Units,,AN$52)),0)","v":0},{"$f":"IFERROR(SUMPRODUCT(--(INDEX(Model_Inputs_Ref_Units,,AO$51)=$E114),INDEX(Model_Inputs_Ref_Units,,AO$52)),0)","v":0},{"$f":"IFERROR(SUMPRODUCT(--(INDEX(Model_Inputs_Ref_Units,,AP$51)=$E114),INDEX(Model_Inputs_Ref_Units,,AP$52)),0)","v":0},{"$f":"IFERROR(SUMPRODUCT(--(INDEX(Model_Inputs_Ref_Units,,AQ$51)=$E114),INDEX(Model_Inputs_Ref_Units,,AQ$52)),0)","v":0},{"$f":"IFERROR(SUMPRODUCT(--(INDEX(Model_Inputs_Ref_Units,,AR$51)=$E114),INDEX(Model_Inputs_Ref_Units,,AR$52)),0)","v":0},{"$f":"IFERROR(SUMPRODUCT(--(INDEX(Model_Inputs_Ref_Units,,AS$51)=$E114),INDEX(Model_Inputs_Ref_Units,,AS$52)),0)","v":0},{"$f":"IFERROR(SUMPRODUCT(--(INDEX(Model_Inputs_Ref_Units,,AT$51)=$E114),INDEX(Model_Inputs_Ref_Units,,AT$52)),0)","v":0},{"$f":"IFERROR(SUMPRODUCT(--(INDEX(Model_Inputs_Ref_Units,,AU$51)=$E114),INDEX(Model_Inputs_Ref_Units,,AU$52)),0)","v":0},{"$f":"IFERROR(SUMPRODUCT(--(INDEX(Model_Inputs_Ref_Units,,AV$51)=$E114),INDEX(Model_Inputs_Ref_Units,,AV$52)),0)","v":0},{"$f":"IFERROR(SUMPRODUCT(--(INDEX(Model_Inputs_Ref_Units,,AW$51)=$E114),INDEX(Model_Inputs_Ref_Units,,AW$52)),0)","v":0},{"$f":"IFERROR(SUMPRODUCT(--(INDEX(Model_Inputs_Ref_Units,,AX$51)=$E114),INDEX(Model_Inputs_Ref_Units,,AX$52)),0)","v":0},{"$f":"IFERROR(SUMPRODUCT(--(INDEX(Model_Inputs_Ref_Units,,AY$51)=$E114),INDEX(Model_Inputs_Ref_Units,,AY$52)),0)","v":0},{"$f":"IFERROR(SUMPRODUCT(--(INDEX(Model_Inputs_Ref_Units,,AZ$51)=$E114),INDEX(Model_Inputs_Ref_Units,,AZ$52)),0)","v":0},{"$f":"IFERROR(SUMPRODUCT(--(INDEX(Model_Inputs_Ref_Units,,BA$51)=$E114),INDEX(Model_Inputs_Ref_Units,,BA$52)),0)","v":0},{"$f":"IFERROR(SUMPRODUCT(--(INDEX(Model_Inputs_Ref_Units,,BB$51)=$E114),INDEX(Model_Inputs_Ref_Units,,BB$52)),0)","v":0},{"$f":"IFERROR(SUMPRODUCT(--(INDEX(Model_Inputs_Ref_Units,,BC$51)=$E114),INDEX(Model_Inputs_Ref_Units,,BC$52)),0)","v":0},{"$f":"IFERROR(SUMPRODUCT(--(INDEX(Model_Inputs_Ref_Units,,BD$51)=$E114),INDEX(Model_Inputs_Ref_Units,,BD$52)),0)","v":0},{"$f":"IFERROR(SUMPRODUCT(--(INDEX(Model_Inputs_Ref_Units,,BE$51)=$E114),INDEX(Model_Inputs_Ref_Units,,BE$52)),0)","v":0},{"$f":"IFERROR(SUMPRODUCT(--(INDEX(Model_Inputs_Ref_Units,,BF$51)=$E114),INDEX(Model_Inputs_Ref_Units,,BF$52)),0)","v":0},{"$f":"IFERROR(SUMPRODUCT(--(INDEX(Model_Inputs_Ref_Units,,BG$51)=$E114),INDEX(Model_Inputs_Ref_Units,,BG$52)),0)","v":0},{"$f":"IFERROR(SUMPRODUCT(--(INDEX(Model_Inputs_Ref_Units,,BH$51)=$E114),INDEX(Model_Inputs_Ref_Units,,BH$52)),0)","v":0},{"$f":"IFERROR(SUMPRODUCT(--(INDEX(Model_Inputs_Ref_Units,,BI$51)=$E114),INDEX(Model_Inputs_Ref_Units,,BI$52)),0)","v":0},{"$f":"IFERROR(SUMPRODUCT(--(INDEX(Model_Inputs_Ref_Units,,BJ$51)=$E114),INDEX(Model_Inputs_Ref_Units,,BJ$52)),0)","v":0},{"$f":"IFERROR(SUMPRODUCT(--(INDEX(Model_Inputs_Ref_Units,,BK$51)=$E114),INDEX(Model_Inputs_Ref_Units,,BK$52)),0)","v":0},{"$f":"IFERROR(SUMPRODUCT(--(INDEX(Model_Inputs_Ref_Units,,BL$51)=$E114),INDEX(Model_Inputs_Ref_Units,,BL$52)),0)","v":0},{"$f":"IFERROR(SUMPRODUCT(--(INDEX(Model_Inputs_Ref_Units,,BM$51)=$E114),INDEX(Model_Inputs_Ref_Units,,BM$52)),0)","v":0},{"$f":"IFERROR(SUMPRODUCT(--(INDEX(Model_Inputs_Ref_Units,,BN$51)=$E114),INDEX(Model_Inputs_Ref_Units,,BN$52)),0)","v":0},{"$f":"IFERROR(SUMPRODUCT(--(INDEX(Model_Inputs_Ref_Units,,BO$51)=$E114),INDEX(Model_Inputs_Ref_Units,,BO$52)),0)","v":0},{"$f":"IFERROR(SUMPRODUCT(--(INDEX(Model_Inputs_Ref_Units,,BP$51)=$E114),INDEX(Model_Inputs_Ref_Units,,BP$52)),0)","v":0},{"$f":"IFERROR(SUMPRODUCT(--(INDEX(Model_Inputs_Ref_Units,,BQ$51)=$E114),INDEX(Model_Inputs_Ref_Units,,BQ$52)),0)","v":0},{"$f":"IFERROR(SUMPRODUCT(--(INDEX(Model_Inputs_Ref_Units,,BR$51)=$E114),INDEX(Model_Inputs_Ref_Units,,BR$52)),0)","v":0},{"$f":"IFERROR(SUMPRODUCT(--(INDEX(Model_Inputs_Ref_Units,,BS$51)=$E114),INDEX(Model_Inputs_Ref_Units,,BS$52)),0)","v":0},{"$f":"IFERROR(SUMPRODUCT(--(INDEX(Model_Inputs_Ref_Units,,BT$51)=$E114),INDEX(Model_Inputs_Ref_Units,,BT$52)),0)","v":0},{"$f":"IFERROR(SUMPRODUCT(--(INDEX(Model_Inputs_Ref_Units,,BU$51)=$E114),INDEX(Model_Inputs_Ref_Units,,BU$52)),0)","v":0},{"$f":"IFERROR(SUMPRODUCT(--(INDEX(Model_Inputs_Ref_Units,,BV$51)=$E114),INDEX(Model_Inputs_Ref_Units,,BV$52)),0)","v":0},{"$f":"IFERROR(SUMPRODUCT(--(INDEX(Model_Inputs_Ref_Units,,BW$51)=$E114),INDEX(Model_Inputs_Ref_Units,,BW$52)),0)","v":0},{"$f":"IFERROR(SUMPRODUCT(--(INDEX(Model_Inputs_Ref_Units,,BX$51)=$E114),INDEX(Model_Inputs_Ref_Units,,BX$52)),0)","v":0},{"$f":"IFERROR(SUMPRODUCT(--(INDEX(Model_Inputs_Ref_Units,,BY$51)=$E114),INDEX(Model_Inputs_Ref_Units,,BY$52)),0)","v":0},{"$f":"IFERROR(SUMPRODUCT(--(INDEX(Model_Inputs_Ref_Units,,BZ$51)=$E114),INDEX(Model_Inputs_Ref_Units,,BZ$52)),0)","v":0},{"$f":"IFERROR(SUMPRODUCT(--(INDEX(Model_Inputs_Ref_Units,,CA$51)=$E114),INDEX(Model_Inputs_Ref_Units,,CA$52)),0)","v":0},{"$f":"IFERROR(SUMPRODUCT(--(INDEX(Model_Inputs_Ref_Units,,CB$51)=$E114),INDEX(Model_Inputs_Ref_Units,,CB$52)),0)","v":0},{"$f":"IFERROR(SUMPRODUCT(--(INDEX(Model_Inputs_Ref_Units,,CC$51)=$E114),INDEX(Model_Inputs_Ref_Units,,CC$52)),0)","v":0},{"$f":"IFERROR(SUMPRODUCT(--(INDEX(Model_Inputs_Ref_Units,,CD$51)=$E114),INDEX(Model_Inputs_Ref_Units,,CD$52)),0)","v":0},{"$f":"IFERROR(SUMPRODUCT(--(INDEX(Model_Inputs_Ref_Units,,CE$51)=$E114),INDEX(Model_Inputs_Ref_Units,,CE$52)),0)","v":0},{"$f":"IFERROR(SUMPRODUCT(--(INDEX(Model_Inputs_Ref_Units,,CF$51)=$E114),INDEX(Model_Inputs_Ref_Units,,CF$52)),0)","v":0},{"$f":"IFERROR(SUMPRODUCT(--(INDEX(Model_Inputs_Ref_Units,,CG$51)=$E114),INDEX(Model_Inputs_Ref_Units,,CG$52)),0)","v":0},{"$f":"IFERROR(SUMPRODUCT(--(INDEX(Model_Inputs_Ref_Units,,CH$51)=$E114),INDEX(Model_Inputs_Ref_Units,,CH$52)),0)","v":0},{"$f":"IFERROR(SUMPRODUCT(--(INDEX(Model_Inputs_Ref_Units,,CI$51)=$E114),INDEX(Model_Inputs_Ref_Units,,CI$52)),0)","v":0},{"$f":"IFERROR(SUMPRODUCT(--(INDEX(Model_Inputs_Ref_Units,,CJ$51)=$E114),INDEX(Model_Inputs_Ref_Units,,CJ$52)),0)","v":0},{"$f":"IFERROR(SUMPRODUCT(--(INDEX(Model_Inputs_Ref_Units,,CK$51)=$E114),INDEX(Model_Inputs_Ref_Units,,CK$52)),0)","v":0},{"$f":"IFERROR(SUMPRODUCT(--(INDEX(Model_Inputs_Ref_Units,,CL$51)=$E114),INDEX(Model_Inputs_Ref_Units,,CL$52)),0)","v":0},{"$f":"IFERROR(SUMPRODUCT(--(INDEX(Model_Inputs_Ref_Units,,CM$51)=$E114),INDEX(Model_Inputs_Ref_Units,,CM$52)),0)","v":0},{"$f":"IFERROR(SUMPRODUCT(--(INDEX(Model_Inputs_Ref_Units,,CN$51)=$E114),INDEX(Model_Inputs_Ref_Units,,CN$52)),0)","v":0},{"$f":"IFERROR(SUMPRODUCT(--(INDEX(Model_Inputs_Ref_Units,,CO$51)=$E114),INDEX(Model_Inputs_Ref_Units,,CO$52)),0)","v":0},{"$f":"IFERROR(SUMPRODUCT(--(INDEX(Model_Inputs_Ref_Units,,CP$51)=$E114),INDEX(Model_Inputs_Ref_Units,,CP$52)),0)","v":0},{"$f":"IFERROR(SUMPRODUCT(--(INDEX(Model_Inputs_Ref_Units,,CQ$51)=$E114),INDEX(Model_Inputs_Ref_Units,,CQ$52)),0)","v":0},{"$f":"IFERROR(SUMPRODUCT(--(INDEX(Model_Inputs_Ref_Units,,CR$51)=$E114),INDEX(Model_Inputs_Ref_Units,,CR$52)),0)","v":0},{"$f":"IFERROR(SUMPRODUCT(--(INDEX(Model_Inputs_Ref_Units,,CS$51)=$E114),INDEX(Model_Inputs_Ref_Units,,CS$52)),0)","v":0},{"$f":"IFERROR(SUMPRODUCT(--(INDEX(Model_Inputs_Ref_Units,,CT$51)=$E114),INDEX(Model_Inputs_Ref_Units,,CT$52)),0)","v":0},{"$f":"IFERROR(SUMPRODUCT(--(INDEX(Model_Inputs_Ref_Units,,CU$51)=$E114),INDEX(Model_Inputs_Ref_Units,,CU$52)),0)","v":0},{"$f":"IFERROR(SUMPRODUCT(--(INDEX(Model_Inputs_Ref_Units,,CV$51)=$E114),INDEX(Model_Inputs_Ref_Units,,CV$52)),0)","v":0},{"$f":"IFERROR(SUMPRODUCT(--(INDEX(Model_Inputs_Ref_Units,,CW$51)=$E114),INDEX(Model_Inputs_Ref_Units,,CW$52)),0)","v":0},{"$f":"IFERROR(SUMPRODUCT(--(INDEX(Model_Inputs_Ref_Units,,CX$51)=$E114),INDEX(Model_Inputs_Ref_Units,,CX$52)),0)","v":0},{"$f":"IFERROR(SUMPRODUCT(--(INDEX(Model_Inputs_Ref_Units,,CY$51)=$E114),INDEX(Model_Inputs_Ref_Units,,CY$52)),0)","v":0},{"$f":"IFERROR(SUMPRODUCT(--(INDEX(Model_Inputs_Ref_Units,,CZ$51)=$E114),INDEX(Model_Inputs_Ref_Units,,CZ$52)),0)","v":0},{"$f":"IFERROR(SUMPRODUCT(--(INDEX(Model_Inputs_Ref_Units,,DA$51)=$E114),INDEX(Model_Inputs_Ref_Units,,DA$52)),0)","v":0},{"$f":"IFERROR(SUMPRODUCT(--(INDEX(Model_Inputs_Ref_Units,,DB$51)=$E114),INDEX(Model_Inputs_Ref_Units,,DB$52)),0)","v":0},{"$f":"IFERROR(SUMPRODUCT(--(INDEX(Model_Inputs_Ref_Units,,DC$51)=$E114),INDEX(Model_Inputs_Ref_Units,,DC$52)),0)","v":0},{"$f":"IFERROR(SUMPRODUCT(--(INDEX(Model_Inputs_Ref_Units,,DD$51)=$E114),INDEX(Model_Inputs_Ref_Units,,DD$52)),0)","v":0},{"$f":"IFERROR(SUMPRODUCT(--(INDEX(Model_Inputs_Ref_Units,,DE$51)=$E114),INDEX(Model_Inputs_Ref_Units,,DE$52)),0)","v":0},{"$f":"IFERROR(SUMPRODUCT(--(INDEX(Model_Inputs_Ref_Units,,DF$51)=$E114),INDEX(Model_Inputs_Ref_Units,,DF$52)),0)","v":0}]
[null,null,{"$error":"#DIV/0!"},null,{"$f":"IFERROR(INDEX(Ref_Data,1,F115),\"\")","v":""},62,0,0,0,0,{"$f":"IFERROR(SUMPRODUCT(--(INDEX(Model_Inputs_Ref_Units,,K$51)=$E115),INDEX(Model_Inputs_Ref_Units,,K$52)),0)","v":0},{"$f":"IFERROR(SUMPRODUCT(--(INDEX(Model_Inputs_Ref_Units,,L$51)=$E115),INDEX(Model_Inputs_Ref_Units,,L$52)),0)","v":0},{"$f":"IFERROR(SUMPRODUCT(--(INDEX(Model_Inputs_Ref_Units,,M$51)=$E115),INDEX(Model_Inputs_Ref_Units,,M$52)),0)","v":0},{"$f":"IFERROR(SUMPRODUCT(--(INDEX(Model_Inputs_Ref_Units,,N$51)=$E115),INDEX(Model_Inputs_Ref_Units,,N$52)),0)","v":0},{"$f":"IFERROR(SUMPRODUCT(--(INDEX(Model_Inputs_Ref_Units,,O$51)=$E115),INDEX(Model_Inputs_Ref_Units,,O$52)),0)","v":0},{"$f":"IFERROR(SUMPRODUCT(--(INDEX(Model_Inputs_Ref_Units,,P$51)=$E115),INDEX(Model_Inputs_Ref_Units,,P$52)),0)","v":0},{"$f":"IFERROR(SUMPRODUCT(--(INDEX(Model_Inputs_Ref_Units,,Q$51)=$E115),INDEX(Model_Inputs_Ref_Units,,Q$52)),0)","v":0},{"$f":"IFERROR(SUMPRODUCT(--(INDEX(Model_Inputs_Ref_Units,,R$51)=$E115),INDEX(Model_Inputs_Ref_Units,,R$52)),0)","v":0},{"$f":"IFERROR(SUMPRODUCT(--(INDEX(Model_Inputs_Ref_Units,,S$51)=$E115),INDEX(Model_Inputs_Ref_Units,,S$52)),0)","v":0},{"$f":"IFERROR(SUMPRODUCT(--(INDEX(Model_Inputs_Ref_Units,,T$51)=$E115),INDEX(Model_Inputs_Ref_Units,,T$52)),0)","v":0},{"$f":"IFERROR(SUMPRODUCT(--(INDEX(Model_Inputs_Ref_Units,,U$51)=$E115),INDEX(Model_Inputs_Ref_Units,,U$52)),0)","v":0},{"$f":"IFERROR(SUMPRODUCT(--(INDEX(Model_Inputs_Ref_Units,,V$51)=$E115),INDEX(Model_Inputs_Ref_Units,,V$52)),0)","v":0},{"$f":"IFERROR(SUMPRODUCT(--(INDEX(Model_Inputs_Ref_Units,,W$51)=$E115),INDEX(Model_Inputs_Ref_Units,,W$52)),0)","v":0},{"$f":"IFERROR(SUMPRODUCT(--(INDEX(Model_Inputs_Ref_Units,,X$51)=$E115),INDEX(Model_Inputs_Ref_Units,,X$52)),0)","v":0},{"$f":"IFERROR(SUMPRODUCT(--(INDEX(Model_Inputs_Ref_Units,,Y$51)=$E115),INDEX(Model_Inputs_Ref_Units,,Y$52)),0)","v":0},{"$f":"IFERROR(SUMPRODUCT(--(INDEX(Model_Inputs_Ref_Units,,Z$51)=$E115),INDEX(Model_Inputs_Ref_Units,,Z$52)),0)","v":0},{"$f":"IFERROR(SUMPRODUCT(--(INDEX(Model_Inputs_Ref_Units,,AA$51)=$E115),INDEX(Model_Inputs_Ref_Units,,AA$52)),0)","v":0},{"$f":"IFERROR(SUMPRODUCT(--(INDEX(Model_Inputs_Ref_Units,,AB$51)=$E115),INDEX(Model_Inputs_Ref_Units,,AB$52)),0)","v":0},{"$f":"IFERROR(SUMPRODUCT(--(INDEX(Model_Inputs_Ref_Units,,AC$51)=$E115),INDEX(Model_Inputs_Ref_Units,,AC$52)),0)","v":0},{"$f":"IFERROR(SUMPRODUCT(--(INDEX(Model_Inputs_Ref_Units,,AD$51)=$E115),INDEX(Model_Inputs_Ref_Units,,AD$52)),0)","v":0},{"$f":"IFERROR(SUMPRODUCT(--(INDEX(Model_Inputs_Ref_Units,,AE$51)=$E115),INDEX(Model_Inputs_Ref_Units,,AE$52)),0)","v":0},{"$f":"IFERROR(SUMPRODUCT(--(INDEX(Model_Inputs_Ref_Units,,AF$51)=$E115),INDEX(Model_Inputs_Ref_Units,,AF$52)),0)","v":0},{"$f":"IFERROR(SUMPRODUCT(--(INDEX(Model_Inputs_Ref_Units,,AG$51)=$E115),INDEX(Model_Inputs_Ref_Units,,AG$52)),0)","v":0},{"$f":"IFERROR(SUMPRODUCT(--(INDEX(Model_Inputs_Ref_Units,,AH$51)=$E115),INDEX(Model_Inputs_Ref_Units,,AH$52)),0)","v":0},{"$f":"IFERROR(SUMPRODUCT(--(INDEX(Model_Inputs_Ref_Units,,AI$51)=$E115),INDEX(Model_Inputs_Ref_Units,,AI$52)),0)","v":0},{"$f":"IFERROR(SUMPRODUCT(--(INDEX(Model_Inputs_Ref_Units,,AJ$51)=$E115),INDEX(Model_Inputs_Ref_Units,,AJ$52)),0)","v":0},{"$f":"IFERROR(SUMPRODUCT(--(INDEX(Model_Inputs_Ref_Units,,AK$51)=$E115),INDEX(Model_Inputs_Ref_Units,,AK$52)),0)","v":0},{"$f":"IFERROR(SUMPRODUCT(--(INDEX(Model_Inputs_Ref_Units,,AL$51)=$E115),INDEX(Model_Inputs_Ref_Units,,AL$52)),0)","v":0},{"$f":"IFERROR(SUMPRODUCT(--(INDEX(Model_Inputs_Ref_Units,,AM$51)=$E115),INDEX(Model_Inputs_Ref_Units,,AM$52)),0)","v":0},{"$f":"IFERROR(SUMPRODUCT(--(INDEX(Model_Inputs_Ref_Units,,AN$51)=$E115),INDEX(Model_Inputs_Ref_Units,,AN$52)),0)","v":0},{"$f":"IFERROR(SUMPRODUCT(--(INDEX(Model_Inputs_Ref_Units,,AO$51)=$E115),INDEX(Model_Inputs_Ref_Units,,AO$52)),0)","v":0},{"$f":"IFERROR(SUMPRODUCT(--(INDEX(Model_Inputs_Ref_Units,,AP$51)=$E115),INDEX(Model_Inputs_Ref_Units,,AP$52)),0)","v":0},{"$f":"IFERROR(SUMPRODUCT(--(INDEX(Model_Inputs_Ref_Units,,AQ$51)=$E115),INDEX(Model_Inputs_Ref_Units,,AQ$52)),0)","v":0},{"$f":"IFERROR(SUMPRODUCT(--(INDEX(Model_Inputs_Ref_Units,,AR$51)=$E115),INDEX(Model_Inputs_Ref_Units,,AR$52)),0)","v":0},{"$f":"IFERROR(SUMPRODUCT(--(INDEX(Model_Inputs_Ref_Units,,AS$51)=$E115),INDEX(Model_Inputs_Ref_Units,,AS$52)),0)","v":0},{"$f":"IFERROR(SUMPRODUCT(--(INDEX(Model_Inputs_Ref_Units,,AT$51)=$E115),INDEX(Model_Inputs_Ref_Units,,AT$52)),0)","v":0},{"$f":"IFERROR(SUMPRODUCT(--(INDEX(Model_Inputs_Ref_Units,,AU$51)=$E115),INDEX(Model_Inputs_Ref_Units,,AU$52)),0)","v":0},{"$f":"IFERROR(SUMPRODUCT(--(INDEX(Model_Inputs_Ref_Units,,AV$51)=$E115),INDEX(Model_Inputs_Ref_Units,,AV$52)),0)","v":0},{"$f":"IFERROR(SUMPRODUCT(--(INDEX(Model_Inputs_Ref_Units,,AW$51)=$E115),INDEX(Model_Inputs_Ref_Units,,AW$52)),0)","v":0},{"$f":"IFERROR(SUMPRODUCT(--(INDEX(Model_Inputs_Ref_Units,,AX$51)=$E115),INDEX(Model_Inputs_Ref_Units,,AX$52)),0)","v":0},{"$f":"IFERROR(SUMPRODUCT(--(INDEX(Model_Inputs_Ref_Units,,AY$51)=$E115),INDEX(Model_Inputs_Ref_Units,,AY$52)),0)","v":0},{"$f":"IFERROR(SUMPRODUCT(--(INDEX(Model_Inputs_Ref_Units,,AZ$51)=$E115),INDEX(Model_Inputs_Ref_Units,,AZ$52)),0)","v":0},{"$f":"IFERROR(SUMPRODUCT(--(INDEX(Model_Inputs_Ref_Units,,BA$51)=$E115),INDEX(Model_Inputs_Ref_Units,,BA$52)),0)","v":0},{"$f":"IFERROR(SUMPRODUCT(--(INDEX(Model_Inputs_Ref_Units,,BB$51)=$E115),INDEX(Model_Inputs_Ref_Units,,BB$52)),0)","v":0},{"$f":"IFERROR(SUMPRODUCT(--(INDEX(Model_Inputs_Ref_Units,,BC$51)=$E115),INDEX(Model_Inputs_Ref_Units,,BC$52)),0)","v":0},{"$f":"IFERROR(SUMPRODUCT(--(INDEX(Model_Inputs_Ref_Units,,BD$51)=$E115),INDEX(Model_Inputs_Ref_Units,,BD$52)),0)","v":0},{"$f":"IFERROR(SUMPRODUCT(--(INDEX(Model_Inputs_Ref_Units,,BE$51)=$E115),INDEX(Model_Inputs_Ref_Units,,BE$52)),0)","v":0},{"$f":"IFERROR(SUMPRODUCT(--(INDEX(Model_Inputs_Ref_Units,,BF$51)=$E115),INDEX(Model_Inputs_Ref_Units,,BF$52)),0)","v":0},{"$f":"IFERROR(SUMPRODUCT(--(INDEX(Model_Inputs_Ref_Units,,BG$51)=$E115),INDEX(Model_Inputs_Ref_Units,,BG$52)),0)","v":0},{"$f":"IFERROR(SUMPRODUCT(--(INDEX(Model_Inputs_Ref_Units,,BH$51)=$E115),INDEX(Model_Inputs_Ref_Units,,BH$52)),0)","v":0},{"$f":"IFERROR(SUMPRODUCT(--(INDEX(Model_Inputs_Ref_Units,,BI$51)=$E115),INDEX(Model_Inputs_Ref_Units,,BI$52)),0)","v":0},{"$f":"IFERROR(SUMPRODUCT(--(INDEX(Model_Inputs_Ref_Units,,BJ$51)=$E115),INDEX(Model_Inputs_Ref_Units,,BJ$52)),0)","v":0},{"$f":"IFERROR(SUMPRODUCT(--(INDEX(Model_Inputs_Ref_Units,,BK$51)=$E115),INDEX(Model_Inputs_Ref_Units,,BK$52)),0)","v":0},{"$f":"IFERROR(SUMPRODUCT(--(INDEX(Model_Inputs_Ref_Units,,BL$51)=$E115),INDEX(Model_Inputs_Ref_Units,,BL$52)),0)","v":0},{"$f":"IFERROR(SUMPRODUCT(--(INDEX(Model_Inputs_Ref_Units,,BM$51)=$E115),INDEX(Model_Inputs_Ref_Units,,BM$52)),0)","v":0},{"$f":"IFERROR(SUMPRODUCT(--(INDEX(Model_Inputs_Ref_Units,,BN$51)=$E115),INDEX(Model_Inputs_Ref_Units,,BN$52)),0)","v":0},{"$f":"IFERROR(SUMPRODUCT(--(INDEX(Model_Inputs_Ref_Units,,BO$51)=$E115),INDEX(Model_Inputs_Ref_Units,,BO$52)),0)","v":0},{"$f":"IFERROR(SUMPRODUCT(--(INDEX(Model_Inputs_Ref_Units,,BP$51)=$E115),INDEX(Model_Inputs_Ref_Units,,BP$52)),0)","v":0},{"$f":"IFERROR(SUMPRODUCT(--(INDEX(Model_Inputs_Ref_Units,,BQ$51)=$E115),INDEX(Model_Inputs_Ref_Units,,BQ$52)),0)","v":0},{"$f":"IFERROR(SUMPRODUCT(--(INDEX(Model_Inputs_Ref_Units,,BR$51)=$E115),INDEX(Model_Inputs_Ref_Units,,BR$52)),0)","v":0},{"$f":"IFERROR(SUMPRODUCT(--(INDEX(Model_Inputs_Ref_Units,,BS$51)=$E115),INDEX(Model_Inputs_Ref_Units,,BS$52)),0)","v":0},{"$f":"IFERROR(SUMPRODUCT(--(INDEX(Model_Inputs_Ref_Units,,BT$51)=$E115),INDEX(Model_Inputs_Ref_Units,,BT$52)),0)","v":0},{"$f":"IFERROR(SUMPRODUCT(--(INDEX(Model_Inputs_Ref_Units,,BU$51)=$E115),INDEX(Model_Inputs_Ref_Units,,BU$52)),0)","v":0},{"$f":"IFERROR(SUMPRODUCT(--(INDEX(Model_Inputs_Ref_Units,,BV$51)=$E115),INDEX(Model_Inputs_Ref_Units,,BV$52)),0)","v":0},{"$f":"IFERROR(SUMPRODUCT(--(INDEX(Model_Inputs_Ref_Units,,BW$51)=$E115),INDEX(Model_Inputs_Ref_Units,,BW$52)),0)","v":0},{"$f":"IFERROR(SUMPRODUCT(--(INDEX(Model_Inputs_Ref_Units,,BX$51)=$E115),INDEX(Model_Inputs_Ref_Units,,BX$52)),0)","v":0},{"$f":"IFERROR(SUMPRODUCT(--(INDEX(Model_Inputs_Ref_Units,,BY$51)=$E115),INDEX(Model_Inputs_Ref_Units,,BY$52)),0)","v":0},{"$f":"IFERROR(SUMPRODUCT(--(INDEX(Model_Inputs_Ref_Units,,BZ$51)=$E115),INDEX(Model_Inputs_Ref_Units,,BZ$52)),0)","v":0},{"$f":"IFERROR(SUMPRODUCT(--(INDEX(Model_Inputs_Ref_Units,,CA$51)=$E115),INDEX(Model_Inputs_Ref_Units,,CA$52)),0)","v":0},{"$f":"IFERROR(SUMPRODUCT(--(INDEX(Model_Inputs_Ref_Units,,CB$51)=$E115),INDEX(Model_Inputs_Ref_Units,,CB$52)),0)","v":0},{"$f":"IFERROR(SUMPRODUCT(--(INDEX(Model_Inputs_Ref_Units,,CC$51)=$E115),INDEX(Model_Inputs_Ref_Units,,CC$52)),0)","v":0},{"$f":"IFERROR(SUMPRODUCT(--(INDEX(Model_Inputs_Ref_Units,,CD$51)=$E115),INDEX(Model_Inputs_Ref_Units,,CD$52)),0)","v":0},{"$f":"IFERROR(SUMPRODUCT(--(INDEX(Model_Inputs_Ref_Units,,CE$51)=$E115),INDEX(Model_Inputs_Ref_Units,,CE$52)),0)","v":0},{"$f":"IFERROR(SUMPRODUCT(--(INDEX(Model_Inputs_Ref_Units,,CF$51)=$E115),INDEX(Model_Inputs_Ref_Units,,CF$52)),0)","v":0},{"$f":"IFERROR(SUMPRODUCT(--(INDEX(Model_Inputs_Ref_Units,,CG$51)=$E115),INDEX(Model_Inputs_Ref_Units,,CG$52)),0)","v":0},{"$f":"IFERROR(SUMPRODUCT(--(INDEX(Model_Inputs_Ref_Units,,CH$51)=$E115),INDEX(Model_Inputs_Ref_Units,,CH$52)),0)","v":0},{"$f":"IFERROR(SUMPRODUCT(--(INDEX(Model_Inputs_Ref_Units,,CI$51)=$E115),INDEX(Model_Inputs_Ref_Units,,CI$52)),0)","v":0},{"$f":"IFERROR(SUMPRODUCT(--(INDEX(Model_Inputs_Ref_Units,,CJ$51)=$E115),INDEX(Model_Inputs_Ref_Units,,CJ$52)),0)","v":0},{"$f":"IFERROR(SUMPRODUCT(--(INDEX(Model_Inputs_Ref_Units,,CK$51)=$E115),INDEX(Model_Inputs_Ref_Units,,CK$52)),0)","v":0},{"$f":"IFERROR(SUMPRODUCT(--(INDEX(Model_Inputs_Ref_Units,,CL$51)=$E115),INDEX(Model_Inputs_Ref_Units,,CL$52)),0)","v":0},{"$f":"IFERROR(SUMPRODUCT(--(INDEX(Model_Inputs_Ref_Units,,CM$51)=$E115),INDEX(Model_Inputs_Ref_Units,,CM$52)),0)","v":0},{"$f":"IFERROR(SUMPRODUCT(--(INDEX(Model_Inputs_Ref_Units,,CN$51)=$E115),INDEX(Model_Inputs_Ref_Units,,CN$52)),0)","v":0},{"$f":"IFERROR(SUMPRODUCT(--(INDEX(Model_Inputs_Ref_Units,,CO$51)=$E115),INDEX(Model_Inputs_Ref_Units,,CO$52)),0)","v":0},{"$f":"IFERROR(SUMPRODUCT(--(INDEX(Model_Inputs_Ref_Units,,CP$51)=$E115),INDEX(Model_Inputs_Ref_Units,,CP$52)),0)","v":0},{"$f":"IFERROR(SUMPRODUCT(--(INDEX(Model_Inputs_Ref_Units,,CQ$51)=$E115),INDEX(Model_Inputs_Ref_Units,,CQ$52)),0)","v":0},{"$f":"IFERROR(SUMPRODUCT(--(INDEX(Model_Inputs_Ref_Units,,CR$51)=$E115),INDEX(Model_Inputs_Ref_Units,,CR$52)),0)","v":0},{"$f":"IFERROR(SUMPRODUCT(--(INDEX(Model_Inputs_Ref_Units,,CS$51)=$E115),INDEX(Model_Inputs_Ref_Units,,CS$52)),0)","v":0},{"$f":"IFERROR(SUMPRODUCT(--(INDEX(Model_Inputs_Ref_Units,,CT$51)=$E115),INDEX(Model_Inputs_Ref_Units,,CT$52)),0)","v":0},{"$f":"IFERROR(SUMPRODUCT(--(INDEX(Model_Inputs_Ref_Units,,CU$51)=$E115),INDEX(Model_Inputs_Ref_Units,,CU$52)),0)","v":0},{"$f":"IFERROR(SUMPRODUCT(--(INDEX(Model_Inputs_Ref_Units,,CV$51)=$E115),INDEX(Model_Inputs_Ref_Units,,CV$52)),0)","v":0},{"$f":"IFERROR(SUMPRODUCT(--(INDEX(Model_Inputs_Ref_Units,,CW$51)=$E115),INDEX(Model_Inputs_Ref_Units,,CW$52)),0)","v":0},{"$f":"IFERROR(SUMPRODUCT(--(INDEX(Model_Inputs_Ref_Units,,CX$51)=$E115),INDEX(Model_Inputs_Ref_Units,,CX$52)),0)","v":0},{"$f":"IFERROR(SUMPRODUCT(--(INDEX(Model_Inputs_Ref_Units,,CY$51)=$E115),INDEX(Model_Inputs_Ref_Units,,CY$52)),0)","v":0},{"$f":"IFERROR(SUMPRODUCT(--(INDEX(Model_Inputs_Ref_Units,,CZ$51)=$E115),INDEX(Model_Inputs_Ref_Units,,CZ$52)),0)","v":0},{"$f":"IFERROR(SUMPRODUCT(--(INDEX(Model_Inputs_Ref_Units,,DA$51)=$E115),INDEX(Model_Inputs_Ref_Units,,DA$52)),0)","v":0},{"$f":"IFERROR(SUMPRODUCT(--(INDEX(Model_Inputs_Ref_Units,,DB$51)=$E115),INDEX(Model_Inputs_Ref_Units,,DB$52)),0)","v":0},{"$f":"IFERROR(SUMPRODUCT(--(INDEX(Model_Inputs_Ref_Units,,DC$51)=$E115),INDEX(Model_Inputs_Ref_Units,,DC$52)),0)","v":0},{"$f":"IFERROR(SUMPRODUCT(--(INDEX(Model_Inputs_Ref_Units,,DD$51)=$E115),INDEX(Model_Inputs_Ref_Units,,DD$52)),0)","v":0},{"$f":"IFERROR(SUMPRODUCT(--(INDEX(Model_Inputs_Ref_Units,,DE$51)=$E115),INDEX(Model_Inputs_Ref_Units,,DE$52)),0)","v":0},{"$f":"IFERROR(SUMPRODUCT(--(INDEX(Model_Inputs_Ref_Units,,DF$51)=$E115),INDEX(Model_Inputs_Ref_Units,,DF$52)),0)","v":0}]
[null,null,{"$error":"#DIV/0!"},null,{"$f":"IFERROR(INDEX(Ref_Data,1,F116),\"\")","v":""},63,0,0,0,0,{"$f":"IFERROR(SUMPRODUCT(--(INDEX(Model_Inputs_Ref_Units,,K$51)=$E116),INDEX(Model_Inputs_Ref_Units,,K$52)),0)","v":0},{"$f":"IFERROR(SUMPRODUCT(--(INDEX(Model_Inputs_Ref_Units,,L$51)=$E116),INDEX(Model_Inputs_Ref_Units,,L$52)),0)","v":0},{"$f":"IFERROR(SUMPRODUCT(--(INDEX(Model_Inputs_Ref_Units,,M$51)=$E116),INDEX(Model_Inputs_Ref_Units,,M$52)),0)","v":0},{"$f":"IFERROR(SUMPRODUCT(--(INDEX(Model_Inputs_Ref_Units,,N$51)=$E116),INDEX(Model_Inputs_Ref_Units,,N$52)),0)","v":0},{"$f":"IFERROR(SUMPRODUCT(--(INDEX(Model_Inputs_Ref_Units,,O$51)=$E116),INDEX(Model_Inputs_Ref_Units,,O$52)),0)","v":0},{"$f":"IFERROR(SUMPRODUCT(--(INDEX(Model_Inputs_Ref_Units,,P$51)=$E116),INDEX(Model_Inputs_Ref_Units,,P$52)),0)","v":0},{"$f":"IFERROR(SUMPRODUCT(--(INDEX(Model_Inputs_Ref_Units,,Q$51)=$E116),INDEX(Model_Inputs_Ref_Units,,Q$52)),0)","v":0},{"$f":"IFERROR(SUMPRODUCT(--(INDEX(Model_Inputs_Ref_Units,,R$51)=$E116),INDEX(Model_Inputs_Ref_Units,,R$52)),0)","v":0},{"$f":"IFERROR(SUMPRODUCT(--(INDEX(Model_Inputs_Ref_Units,,S$51)=$E116),INDEX(Model_Inputs_Ref_Units,,S$52)),0)","v":0},{"$f":"IFERROR(SUMPRODUCT(--(INDEX(Model_Inputs_Ref_Units,,T$51)=$E116),INDEX(Model_Inputs_Ref_Units,,T$52)),0)","v":0},{"$f":"IFERROR(SUMPRODUCT(--(INDEX(Model_Inputs_Ref_Units,,U$51)=$E116),INDEX(Model_Inputs_Ref_Units,,U$52)),0)","v":0},{"$f":"IFERROR(SUMPRODUCT(--(INDEX(Model_Inputs_Ref_Units,,V$51)=$E116),INDEX(Model_Inputs_Ref_Units,,V$52)),0)","v":0},{"$f":"IFERROR(SUMPRODUCT(--(INDEX(Model_Inputs_Ref_Units,,W$51)=$E116),INDEX(Model_Inputs_Ref_Units,,W$52)),0)","v":0},{"$f":"IFERROR(SUMPRODUCT(--(INDEX(Model_Inputs_Ref_Units,,X$51)=$E116),INDEX(Model_Inputs_Ref_Units,,X$52)),0)","v":0},{"$f":"IFERROR(SUMPRODUCT(--(INDEX(Model_Inputs_Ref_Units,,Y$51)=$E116),INDEX(Model_Inputs_Ref_Units,,Y$52)),0)","v":0},{"$f":"IFERROR(SUMPRODUCT(--(INDEX(Model_Inputs_Ref_Units,,Z$51)=$E116),INDEX(Model_Inputs_Ref_Units,,Z$52)),0)","v":0},{"$f":"IFERROR(SUMPRODUCT(--(INDEX(Model_Inputs_Ref_Units,,AA$51)=$E116),INDEX(Model_Inputs_Ref_Units,,AA$52)),0)","v":0},{"$f":"IFERROR(SUMPRODUCT(--(INDEX(Model_Inputs_Ref_Units,,AB$51)=$E116),INDEX(Model_Inputs_Ref_Units,,AB$52)),0)","v":0},{"$f":"IFERROR(SUMPRODUCT(--(INDEX(Model_Inputs_Ref_Units,,AC$51)=$E116),INDEX(Model_Inputs_Ref_Units,,AC$52)),0)","v":0},{"$f":"IFERROR(SUMPRODUCT(--(INDEX(Model_Inputs_Ref_Units,,AD$51)=$E116),INDEX(Model_Inputs_Ref_Units,,AD$52)),0)","v":0},{"$f":"IFERROR(SUMPRODUCT(--(INDEX(Model_Inputs_Ref_Units,,AE$51)=$E116),INDEX(Model_Inputs_Ref_Units,,AE$52)),0)","v":0},{"$f":"IFERROR(SUMPRODUCT(--(INDEX(Model_Inputs_Ref_Units,,AF$51)=$E116),INDEX(Model_Inputs_Ref_Units,,AF$52)),0)","v":0},{"$f":"IFERROR(SUMPRODUCT(--(INDEX(Model_Inputs_Ref_Units,,AG$51)=$E116),INDEX(Model_Inputs_Ref_Units,,AG$52)),0)","v":0},{"$f":"IFERROR(SUMPRODUCT(--(INDEX(Model_Inputs_Ref_Units,,AH$51)=$E116),INDEX(Model_Inputs_Ref_Units,,AH$52)),0)","v":0},{"$f":"IFERROR(SUMPRODUCT(--(INDEX(Model_Inputs_Ref_Units,,AI$51)=$E116),INDEX(Model_Inputs_Ref_Units,,AI$52)),0)","v":0},{"$f":"IFERROR(SUMPRODUCT(--(INDEX(Model_Inputs_Ref_Units,,AJ$51)=$E116),INDEX(Model_Inputs_Ref_Units,,AJ$52)),0)","v":0},{"$f":"IFERROR(SUMPRODUCT(--(INDEX(Model_Inputs_Ref_Units,,AK$51)=$E116),INDEX(Model_Inputs_Ref_Units,,AK$52)),0)","v":0},{"$f":"IFERROR(SUMPRODUCT(--(INDEX(Model_Inputs_Ref_Units,,AL$51)=$E116),INDEX(Model_Inputs_Ref_Units,,AL$52)),0)","v":0},{"$f":"IFERROR(SUMPRODUCT(--(INDEX(Model_Inputs_Ref_Units,,AM$51)=$E116),INDEX(Model_Inputs_Ref_Units,,AM$52)),0)","v":0},{"$f":"IFERROR(SUMPRODUCT(--(INDEX(Model_Inputs_Ref_Units,,AN$51)=$E116),INDEX(Model_Inputs_Ref_Units,,AN$52)),0)","v":0},{"$f":"IFERROR(SUMPRODUCT(--(INDEX(Model_Inputs_Ref_Units,,AO$51)=$E116),INDEX(Model_Inputs_Ref_Units,,AO$52)),0)","v":0},{"$f":"IFERROR(SUMPRODUCT(--(INDEX(Model_Inputs_Ref_Units,,AP$51)=$E116),INDEX(Model_Inputs_Ref_Units,,AP$52)),0)","v":0},{"$f":"IFERROR(SUMPRODUCT(--(INDEX(Model_Inputs_Ref_Units,,AQ$51)=$E116),INDEX(Model_Inputs_Ref_Units,,AQ$52)),0)","v":0},{"$f":"IFERROR(SUMPRODUCT(--(INDEX(Model_Inputs_Ref_Units,,AR$51)=$E116),INDEX(Model_Inputs_Ref_Units,,AR$52)),0)","v":0},{"$f":"IFERROR(SUMPRODUCT(--(INDEX(Model_Inputs_Ref_Units,,AS$51)=$E116),INDEX(Model_Inputs_Ref_Units,,AS$52)),0)","v":0},{"$f":"IFERROR(SUMPRODUCT(--(INDEX(Model_Inputs_Ref_Units,,AT$51)=$E116),INDEX(Model_Inputs_Ref_Units,,AT$52)),0)","v":0},{"$f":"IFERROR(SUMPRODUCT(--(INDEX(Model_Inputs_Ref_Units,,AU$51)=$E116),INDEX(Model_Inputs_Ref_Units,,AU$52)),0)","v":0},{"$f":"IFERROR(SUMPRODUCT(--(INDEX(Model_Inputs_Ref_Units,,AV$51)=$E116),INDEX(Model_Inputs_Ref_Units,,AV$52)),0)","v":0},{"$f":"IFERROR(SUMPRODUCT(--(INDEX(Model_Inputs_Ref_Units,,AW$51)=$E116),INDEX(Model_Inputs_Ref_Units,,AW$52)),0)","v":0},{"$f":"IFERROR(SUMPRODUCT(--(INDEX(Model_Inputs_Ref_Units,,AX$51)=$E116),INDEX(Model_Inputs_Ref_Units,,AX$52)),0)","v":0},{"$f":"IFERROR(SUMPRODUCT(--(INDEX(Model_Inputs_Ref_Units,,AY$51)=$E116),INDEX(Model_Inputs_Ref_Units,,AY$52)),0)","v":0},{"$f":"IFERROR(SUMPRODUCT(--(INDEX(Model_Inputs_Ref_Units,,AZ$51)=$E116),INDEX(Model_Inputs_Ref_Units,,AZ$52)),0)","v":0},{"$f":"IFERROR(SUMPRODUCT(--(INDEX(Model_Inputs_Ref_Units,,BA$51)=$E116),INDEX(Model_Inputs_Ref_Units,,BA$52)),0)","v":0},{"$f":"IFERROR(SUMPRODUCT(--(INDEX(Model_Inputs_Ref_Units,,BB$51)=$E116),INDEX(Model_Inputs_Ref_Units,,BB$52)),0)","v":0},{"$f":"IFERROR(SUMPRODUCT(--(INDEX(Model_Inputs_Ref_Units,,BC$51)=$E116),INDEX(Model_Inputs_Ref_Units,,BC$52)),0)","v":0},{"$f":"IFERROR(SUMPRODUCT(--(INDEX(Model_Inputs_Ref_Units,,BD$51)=$E116),INDEX(Model_Inputs_Ref_Units,,BD$52)),0)","v":0},{"$f":"IFERROR(SUMPRODUCT(--(INDEX(Model_Inputs_Ref_Units,,BE$51)=$E116),INDEX(Model_Inputs_Ref_Units,,BE$52)),0)","v":0},{"$f":"IFERROR(SUMPRODUCT(--(INDEX(Model_Inputs_Ref_Units,,BF$51)=$E116),INDEX(Model_Inputs_Ref_Units,,BF$52)),0)","v":0},{"$f":"IFERROR(SUMPRODUCT(--(INDEX(Model_Inputs_Ref_Units,,BG$51)=$E116),INDEX(Model_Inputs_Ref_Units,,BG$52)),0)","v":0},{"$f":"IFERROR(SUMPRODUCT(--(INDEX(Model_Inputs_Ref_Units,,BH$51)=$E116),INDEX(Model_Inputs_Ref_Units,,BH$52)),0)","v":0},{"$f":"IFERROR(SUMPRODUCT(--(INDEX(Model_Inputs_Ref_Units,,BI$51)=$E116),INDEX(Model_Inputs_Ref_Units,,BI$52)),0)","v":0},{"$f":"IFERROR(SUMPRODUCT(--(INDEX(Model_Inputs_Ref_Units,,BJ$51)=$E116),INDEX(Model_Inputs_Ref_Units,,BJ$52)),0)","v":0},{"$f":"IFERROR(SUMPRODUCT(--(INDEX(Model_Inputs_Ref_Units,,BK$51)=$E116),INDEX(Model_Inputs_Ref_Units,,BK$52)),0)","v":0},{"$f":"IFERROR(SUMPRODUCT(--(INDEX(Model_Inputs_Ref_Units,,BL$51)=$E116),INDEX(Model_Inputs_Ref_Units,,BL$52)),0)","v":0},{"$f":"IFERROR(SUMPRODUCT(--(INDEX(Model_Inputs_Ref_Units,,BM$51)=$E116),INDEX(Model_Inputs_Ref_Units,,BM$52)),0)","v":0},{"$f":"IFERROR(SUMPRODUCT(--(INDEX(Model_Inputs_Ref_Units,,BN$51)=$E116),INDEX(Model_Inputs_Ref_Units,,BN$52)),0)","v":0},{"$f":"IFERROR(SUMPRODUCT(--(INDEX(Model_Inputs_Ref_Units,,BO$51)=$E116),INDEX(Model_Inputs_Ref_Units,,BO$52)),0)","v":0},{"$f":"IFERROR(SUMPRODUCT(--(INDEX(Model_Inputs_Ref_Units,,BP$51)=$E116),INDEX(Model_Inputs_Ref_Units,,BP$52)),0)","v":0},{"$f":"IFERROR(SUMPRODUCT(--(INDEX(Model_Inputs_Ref_Units,,BQ$51)=$E116),INDEX(Model_Inputs_Ref_Units,,BQ$52)),0)","v":0},{"$f":"IFERROR(SUMPRODUCT(--(INDEX(Model_Inputs_Ref_Units,,BR$51)=$E116),INDEX(Model_Inputs_Ref_Units,,BR$52)),0)","v":0},{"$f":"IFERROR(SUMPRODUCT(--(INDEX(Model_Inputs_Ref_Units,,BS$51)=$E116),INDEX(Model_Inputs_Ref_Units,,BS$52)),0)","v":0},{"$f":"IFERROR(SUMPRODUCT(--(INDEX(Model_Inputs_Ref_Units,,BT$51)=$E116),INDEX(Model_Inputs_Ref_Units,,BT$52)),0)","v":0},{"$f":"IFERROR(SUMPRODUCT(--(INDEX(Model_Inputs_Ref_Units,,BU$51)=$E116),INDEX(Model_Inputs_Ref_Units,,BU$52)),0)","v":0},{"$f":"IFERROR(SUMPRODUCT(--(INDEX(Model_Inputs_Ref_Units,,BV$51)=$E116),INDEX(Model_Inputs_Ref_Units,,BV$52)),0)","v":0},{"$f":"IFERROR(SUMPRODUCT(--(INDEX(Model_Inputs_Ref_Units,,BW$51)=$E116),INDEX(Model_Inputs_Ref_Units,,BW$52)),0)","v":0},{"$f":"IFERROR(SUMPRODUCT(--(INDEX(Model_Inputs_Ref_Units,,BX$51)=$E116),INDEX(Model_Inputs_Ref_Units,,BX$52)),0)","v":0},{"$f":"IFERROR(SUMPRODUCT(--(INDEX(Model_Inputs_Ref_Units,,BY$51)=$E116),INDEX(Model_Inputs_Ref_Units,,BY$52)),0)","v":0},{"$f":"IFERROR(SUMPRODUCT(--(INDEX(Model_Inputs_Ref_Units,,BZ$51)=$E116),INDEX(Model_Inputs_Ref_Units,,BZ$52)),0)","v":0},{"$f":"IFERROR(SUMPRODUCT(--(INDEX(Model_Inputs_Ref_Units,,CA$51)=$E116),INDEX(Model_Inputs_Ref_Units,,CA$52)),0)","v":0},{"$f":"IFERROR(SUMPRODUCT(--(INDEX(Model_Inputs_Ref_Units,,CB$51)=$E116),INDEX(Model_Inputs_Ref_Units,,CB$52)),0)","v":0},{"$f":"IFERROR(SUMPRODUCT(--(INDEX(Model_Inputs_Ref_Units,,CC$51)=$E116),INDEX(Model_Inputs_Ref_Units,,CC$52)),0)","v":0},{"$f":"IFERROR(SUMPRODUCT(--(INDEX(Model_Inputs_Ref_Units,,CD$51)=$E116),INDEX(Model_Inputs_Ref_Units,,CD$52)),0)","v":0},{"$f":"IFERROR(SUMPRODUCT(--(INDEX(Model_Inputs_Ref_Units,,CE$51)=$E116),INDEX(Model_Inputs_Ref_Units,,CE$52)),0)","v":0},{"$f":"IFERROR(SUMPRODUCT(--(INDEX(Model_Inputs_Ref_Units,,CF$51)=$E116),INDEX(Model_Inputs_Ref_Units,,CF$52)),0)","v":0},{"$f":"IFERROR(SUMPRODUCT(--(INDEX(Model_Inputs_Ref_Units,,CG$51)=$E116),INDEX(Model_Inputs_Ref_Units,,CG$52)),0)","v":0},{"$f":"IFERROR(SUMPRODUCT(--(INDEX(Model_Inputs_Ref_Units,,CH$51)=$E116),INDEX(Model_Inputs_Ref_Units,,CH$52)),0)","v":0},{"$f":"IFERROR(SUMPRODUCT(--(INDEX(Model_Inputs_Ref_Units,,CI$51)=$E116),INDEX(Model_Inputs_Ref_Units,,CI$52)),0)","v":0},{"$f":"IFERROR(SUMPRODUCT(--(INDEX(Model_Inputs_Ref_Units,,CJ$51)=$E116),INDEX(Model_Inputs_Ref_Units,,CJ$52)),0)","v":0},{"$f":"IFERROR(SUMPRODUCT(--(INDEX(Model_Inputs_Ref_Units,,CK$51)=$E116),INDEX(Model_Inputs_Ref_Units,,CK$52)),0)","v":0},{"$f":"IFERROR(SUMPRODUCT(--(INDEX(Model_Inputs_Ref_Units,,CL$51)=$E116),INDEX(Model_Inputs_Ref_Units,,CL$52)),0)","v":0},{"$f":"IFERROR(SUMPRODUCT(--(INDEX(Model_Inputs_Ref_Units,,CM$51)=$E116),INDEX(Model_Inputs_Ref_Units,,CM$52)),0)","v":0},{"$f":"IFERROR(SUMPRODUCT(--(INDEX(Model_Inputs_Ref_Units,,CN$51)=$E116),INDEX(Model_Inputs_Ref_Units,,CN$52)),0)","v":0},{"$f":"IFERROR(SUMPRODUCT(--(INDEX(Model_Inputs_Ref_Units,,CO$51)=$E116),INDEX(Model_Inputs_Ref_Units,,CO$52)),0)","v":0},{"$f":"IFERROR(SUMPRODUCT(--(INDEX(Model_Inputs_Ref_Units,,CP$51)=$E116),INDEX(Model_Inputs_Ref_Units,,CP$52)),0)","v":0},{"$f":"IFERROR(SUMPRODUCT(--(INDEX(Model_Inputs_Ref_Units,,CQ$51)=$E116),INDEX(Model_Inputs_Ref_Units,,CQ$52)),0)","v":0},{"$f":"IFERROR(SUMPRODUCT(--(INDEX(Model_Inputs_Ref_Units,,CR$51)=$E116),INDEX(Model_Inputs_Ref_Units,,CR$52)),0)","v":0},{"$f":"IFERROR(SUMPRODUCT(--(INDEX(Model_Inputs_Ref_Units,,CS$51)=$E116),INDEX(Model_Inputs_Ref_Units,,CS$52)),0)","v":0},{"$f":"IFERROR(SUMPRODUCT(--(INDEX(Model_Inputs_Ref_Units,,CT$51)=$E116),INDEX(Model_Inputs_Ref_Units,,CT$52)),0)","v":0},{"$f":"IFERROR(SUMPRODUCT(--(INDEX(Model_Inputs_Ref_Units,,CU$51)=$E116),INDEX(Model_Inputs_Ref_Units,,CU$52)),0)","v":0},{"$f":"IFERROR(SUMPRODUCT(--(INDEX(Model_Inputs_Ref_Units,,CV$51)=$E116),INDEX(Model_Inputs_Ref_Units,,CV$52)),0)","v":0},{"$f":"IFERROR(SUMPRODUCT(--(INDEX(Model_Inputs_Ref_Units,,CW$51)=$E116),INDEX(Model_Inputs_Ref_Units,,CW$52)),0)","v":0},{"$f":"IFERROR(SUMPRODUCT(--(INDEX(Model_Inputs_Ref_Units,,CX$51)=$E116),INDEX(Model_Inputs_Ref_Units,,CX$52)),0)","v":0},{"$f":"IFERROR(SUMPRODUCT(--(INDEX(Model_Inputs_Ref_Units,,CY$51)=$E116),INDEX(Model_Inputs_Ref_Units,,CY$52)),0)","v":0},{"$f":"IFERROR(SUMPRODUCT(--(INDEX(Model_Inputs_Ref_Units,,CZ$51)=$E116),INDEX(Model_Inputs_Ref_Units,,CZ$52)),0)","v":0},{"$f":"IFERROR(SUMPRODUCT(--(INDEX(Model_Inputs_Ref_Units,,DA$51)=$E116),INDEX(Model_Inputs_Ref_Units,,DA$52)),0)","v":0},{"$f":"IFERROR(SUMPRODUCT(--(INDEX(Model_Inputs_Ref_Units,,DB$51)=$E116),INDEX(Model_Inputs_Ref_Units,,DB$52)),0)","v":0},{"$f":"IFERROR(SUMPRODUCT(--(INDEX(Model_Inputs_Ref_Units,,DC$51)=$E116),INDEX(Model_Inputs_Ref_Units,,DC$52)),0)","v":0},{"$f":"IFERROR(SUMPRODUCT(--(INDEX(Model_Inputs_Ref_Units,,DD$51)=$E116),INDEX(Model_Inputs_Ref_Units,,DD$52)),0)","v":0},{"$f":"IFERROR(SUMPRODUCT(--(INDEX(Model_Inputs_Ref_Units,,DE$51)=$E116),INDEX(Model_Inputs_Ref_Units,,DE$52)),0)","v":0},{"$f":"IFERROR(SUMPRODUCT(--(INDEX(Model_Inputs_Ref_Units,,DF$51)=$E116),INDEX(Model_Inputs_Ref_Units,,DF$52)),0)","v":0}]
[null,null,{"$error":"#DIV/0!"},null,{"$f":"IFERROR(INDEX(Ref_Data,1,F117),\"\")","v":""},64,0,0,0,0,{"$f":"IFERROR(SUMPRODUCT(--(INDEX(Model_Inputs_Ref_Units,,K$51)=$E117),INDEX(Model_Inputs_Ref_Units,,K$52)),0)","v":0},{"$f":"IFERROR(SUMPRODUCT(--(INDEX(Model_Inputs_Ref_Units,,L$51)=$E117),INDEX(Model_Inputs_Ref_Units,,L$52)),0)","v":0},{"$f":"IFERROR(SUMPRODUCT(--(INDEX(Model_Inputs_Ref_Units,,M$51)=$E117),INDEX(Model_Inputs_Ref_Units,,M$52)),0)","v":0},{"$f":"IFERROR(SUMPRODUCT(--(INDEX(Model_Inputs_Ref_Units,,N$51)=$E117),INDEX(Model_Inputs_Ref_Units,,N$52)),0)","v":0},{"$f":"IFERROR(SUMPRODUCT(--(INDEX(Model_Inputs_Ref_Units,,O$51)=$E117),INDEX(Model_Inputs_Ref_Units,,O$52)),0)","v":0},{"$f":"IFERROR(SUMPRODUCT(--(INDEX(Model_Inputs_Ref_Units,,P$51)=$E117),INDEX(Model_Inputs_Ref_Units,,P$52)),0)","v":0},{"$f":"IFERROR(SUMPRODUCT(--(INDEX(Model_Inputs_Ref_Units,,Q$51)=$E117),INDEX(Model_Inputs_Ref_Units,,Q$52)),0)","v":0},{"$f":"IFERROR(SUMPRODUCT(--(INDEX(Model_Inputs_Ref_Units,,R$51)=$E117),INDEX(Model_Inputs_Ref_Units,,R$52)),0)","v":0},{"$f":"IFERROR(SUMPRODUCT(--(INDEX(Model_Inputs_Ref_Units,,S$51)=$E117),INDEX(Model_Inputs_Ref_Units,,S$52)),0)","v":0},{"$f":"IFERROR(SUMPRODUCT(--(INDEX(Model_Inputs_Ref_Units,,T$51)=$E117),INDEX(Model_Inputs_Ref_Units,,T$52)),0)","v":0},{"$f":"IFERROR(SUMPRODUCT(--(INDEX(Model_Inputs_Ref_Units,,U$51)=$E117),INDEX(Model_Inputs_Ref_Units,,U$52)),0)","v":0},{"$f":"IFERROR(SUMPRODUCT(--(INDEX(Model_Inputs_Ref_Units,,V$51)=$E117),INDEX(Model_Inputs_Ref_Units,,V$52)),0)","v":0},{"$f":"IFERROR(SUMPRODUCT(--(INDEX(Model_Inputs_Ref_Units,,W$51)=$E117),INDEX(Model_Inputs_Ref_Units,,W$52)),0)","v":0},{"$f":"IFERROR(SUMPRODUCT(--(INDEX(Model_Inputs_Ref_Units,,X$51)=$E117),INDEX(Model_Inputs_Ref_Units,,X$52)),0)","v":0},{"$f":"IFERROR(SUMPRODUCT(--(INDEX(Model_Inputs_Ref_Units,,Y$51)=$E117),INDEX(Model_Inputs_Ref_Units,,Y$52)),0)","v":0},{"$f":"IFERROR(SUMPRODUCT(--(INDEX(Model_Inputs_Ref_Units,,Z$51)=$E117),INDEX(Model_Inputs_Ref_Units,,Z$52)),0)","v":0},{"$f":"IFERROR(SUMPRODUCT(--(INDEX(Model_Inputs_Ref_Units,,AA$51)=$E117),INDEX(Model_Inputs_Ref_Units,,AA$52)),0)","v":0},{"$f":"IFERROR(SUMPRODUCT(--(INDEX(Model_Inputs_Ref_Units,,AB$51)=$E117),INDEX(Model_Inputs_Ref_Units,,AB$52)),0)","v":0},{"$f":"IFERROR(SUMPRODUCT(--(INDEX(Model_Inputs_Ref_Units,,AC$51)=$E117),INDEX(Model_Inputs_Ref_Units,,AC$52)),0)","v":0},{"$f":"IFERROR(SUMPRODUCT(--(INDEX(Model_Inputs_Ref_Units,,AD$51)=$E117),INDEX(Model_Inputs_Ref_Units,,AD$52)),0)","v":0},{"$f":"IFERROR(SUMPRODUCT(--(INDEX(Model_Inputs_Ref_Units,,AE$51)=$E117),INDEX(Model_Inputs_Ref_Units,,AE$52)),0)","v":0},{"$f":"IFERROR(SUMPRODUCT(--(INDEX(Model_Inputs_Ref_Units,,AF$51)=$E117),INDEX(Model_Inputs_Ref_Units,,AF$52)),0)","v":0},{"$f":"IFERROR(SUMPRODUCT(--(INDEX(Model_Inputs_Ref_Units,,AG$51)=$E117),INDEX(Model_Inputs_Ref_Units,,AG$52)),0)","v":0},{"$f":"IFERROR(SUMPRODUCT(--(INDEX(Model_Inputs_Ref_Units,,AH$51)=$E117),INDEX(Model_Inputs_Ref_Units,,AH$52)),0)","v":0},{"$f":"IFERROR(SUMPRODUCT(--(INDEX(Model_Inputs_Ref_Units,,AI$51)=$E117),INDEX(Model_Inputs_Ref_Units,,AI$52)),0)","v":0},{"$f":"IFERROR(SUMPRODUCT(--(INDEX(Model_Inputs_Ref_Units,,AJ$51)=$E117),INDEX(Model_Inputs_Ref_Units,,AJ$52)),0)","v":0},{"$f":"IFERROR(SUMPRODUCT(--(INDEX(Model_Inputs_Ref_Units,,AK$51)=$E117),INDEX(Model_Inputs_Ref_Units,,AK$52)),0)","v":0},{"$f":"IFERROR(SUMPRODUCT(--(INDEX(Model_Inputs_Ref_Units,,AL$51)=$E117),INDEX(Model_Inputs_Ref_Units,,AL$52)),0)","v":0},{"$f":"IFERROR(SUMPRODUCT(--(INDEX(Model_Inputs_Ref_Units,,AM$51)=$E117),INDEX(Model_Inputs_Ref_Units,,AM$52)),0)","v":0},{"$f":"IFERROR(SUMPRODUCT(--(INDEX(Model_Inputs_Ref_Units,,AN$51)=$E117),INDEX(Model_Inputs_Ref_Units,,AN$52)),0)","v":0},{"$f":"IFERROR(SUMPRODUCT(--(INDEX(Model_Inputs_Ref_Units,,AO$51)=$E117),INDEX(Model_Inputs_Ref_Units,,AO$52)),0)","v":0},{"$f":"IFERROR(SUMPRODUCT(--(INDEX(Model_Inputs_Ref_Units,,AP$51)=$E117),INDEX(Model_Inputs_Ref_Units,,AP$52)),0)","v":0},{"$f":"IFERROR(SUMPRODUCT(--(INDEX(Model_Inputs_Ref_Units,,AQ$51)=$E117),INDEX(Model_Inputs_Ref_Units,,AQ$52)),0)","v":0},{"$f":"IFERROR(SUMPRODUCT(--(INDEX(Model_Inputs_Ref_Units,,AR$51)=$E117),INDEX(Model_Inputs_Ref_Units,,AR$52)),0)","v":0},{"$f":"IFERROR(SUMPRODUCT(--(INDEX(Model_Inputs_Ref_Units,,AS$51)=$E117),INDEX(Model_Inputs_Ref_Units,,AS$52)),0)","v":0},{"$f":"IFERROR(SUMPRODUCT(--(INDEX(Model_Inputs_Ref_Units,,AT$51)=$E117),INDEX(Model_Inputs_Ref_Units,,AT$52)),0)","v":0},{"$f":"IFERROR(SUMPRODUCT(--(INDEX(Model_Inputs_Ref_Units,,AU$51)=$E117),INDEX(Model_Inputs_Ref_Units,,AU$52)),0)","v":0},{"$f":"IFERROR(SUMPRODUCT(--(INDEX(Model_Inputs_Ref_Units,,AV$51)=$E117),INDEX(Model_Inputs_Ref_Units,,AV$52)),0)","v":0},{"$f":"IFERROR(SUMPRODUCT(--(INDEX(Model_Inputs_Ref_Units,,AW$51)=$E117),INDEX(Model_Inputs_Ref_Units,,AW$52)),0)","v":0},{"$f":"IFERROR(SUMPRODUCT(--(INDEX(Model_Inputs_Ref_Units,,AX$51)=$E117),INDEX(Model_Inputs_Ref_Units,,AX$52)),0)","v":0},{"$f":"IFERROR(SUMPRODUCT(--(INDEX(Model_Inputs_Ref_Units,,AY$51)=$E117),INDEX(Model_Inputs_Ref_Units,,AY$52)),0)","v":0},{"$f":"IFERROR(SUMPRODUCT(--(INDEX(Model_Inputs_Ref_Units,,AZ$51)=$E117),INDEX(Model_Inputs_Ref_Units,,AZ$52)),0)","v":0},{"$f":"IFERROR(SUMPRODUCT(--(INDEX(Model_Inputs_Ref_Units,,BA$51)=$E117),INDEX(Model_Inputs_Ref_Units,,BA$52)),0)","v":0},{"$f":"IFERROR(SUMPRODUCT(--(INDEX(Model_Inputs_Ref_Units,,BB$51)=$E117),INDEX(Model_Inputs_Ref_Units,,BB$52)),0)","v":0},{"$f":"IFERROR(SUMPRODUCT(--(INDEX(Model_Inputs_Ref_Units,,BC$51)=$E117),INDEX(Model_Inputs_Ref_Units,,BC$52)),0)","v":0},{"$f":"IFERROR(SUMPRODUCT(--(INDEX(Model_Inputs_Ref_Units,,BD$51)=$E117),INDEX(Model_Inputs_Ref_Units,,BD$52)),0)","v":0},{"$f":"IFERROR(SUMPRODUCT(--(INDEX(Model_Inputs_Ref_Units,,BE$51)=$E117),INDEX(Model_Inputs_Ref_Units,,BE$52)),0)","v":0},{"$f":"IFERROR(SUMPRODUCT(--(INDEX(Model_Inputs_Ref_Units,,BF$51)=$E117),INDEX(Model_Inputs_Ref_Units,,BF$52)),0)","v":0},{"$f":"IFERROR(SUMPRODUCT(--(INDEX(Model_Inputs_Ref_Units,,BG$51)=$E117),INDEX(Model_Inputs_Ref_Units,,BG$52)),0)","v":0},{"$f":"IFERROR(SUMPRODUCT(--(INDEX(Model_Inputs_Ref_Units,,BH$51)=$E117),INDEX(Model_Inputs_Ref_Units,,BH$52)),0)","v":0},{"$f":"IFERROR(SUMPRODUCT(--(INDEX(Model_Inputs_Ref_Units,,BI$51)=$E117),INDEX(Model_Inputs_Ref_Units,,BI$52)),0)","v":0},{"$f":"IFERROR(SUMPRODUCT(--(INDEX(Model_Inputs_Ref_Units,,BJ$51)=$E117),INDEX(Model_Inputs_Ref_Units,,BJ$52)),0)","v":0},{"$f":"IFERROR(SUMPRODUCT(--(INDEX(Model_Inputs_Ref_Units,,BK$51)=$E117),INDEX(Model_Inputs_Ref_Units,,BK$52)),0)","v":0},{"$f":"IFERROR(SUMPRODUCT(--(INDEX(Model_Inputs_Ref_Units,,BL$51)=$E117),INDEX(Model_Inputs_Ref_Units,,BL$52)),0)","v":0},{"$f":"IFERROR(SUMPRODUCT(--(INDEX(Model_Inputs_Ref_Units,,BM$51)=$E117),INDEX(Model_Inputs_Ref_Units,,BM$52)),0)","v":0},{"$f":"IFERROR(SUMPRODUCT(--(INDEX(Model_Inputs_Ref_Units,,BN$51)=$E117),INDEX(Model_Inputs_Ref_Units,,BN$52)),0)","v":0},{"$f":"IFERROR(SUMPRODUCT(--(INDEX(Model_Inputs_Ref_Units,,BO$51)=$E117),INDEX(Model_Inputs_Ref_Units,,BO$52)),0)","v":0},{"$f":"IFERROR(SUMPRODUCT(--(INDEX(Model_Inputs_Ref_Units,,BP$51)=$E117),INDEX(Model_Inputs_Ref_Units,,BP$52)),0)","v":0},{"$f":"IFERROR(SUMPRODUCT(--(INDEX(Model_Inputs_Ref_Units,,BQ$51)=$E117),INDEX(Model_Inputs_Ref_Units,,BQ$52)),0)","v":0},{"$f":"IFERROR(SUMPRODUCT(--(INDEX(Model_Inputs_Ref_Units,,BR$51)=$E117),INDEX(Model_Inputs_Ref_Units,,BR$52)),0)","v":0},{"$f":"IFERROR(SUMPRODUCT(--(INDEX(Model_Inputs_Ref_Units,,BS$51)=$E117),INDEX(Model_Inputs_Ref_Units,,BS$52)),0)","v":0},{"$f":"IFERROR(SUMPRODUCT(--(INDEX(Model_Inputs_Ref_Units,,BT$51)=$E117),INDEX(Model_Inputs_Ref_Units,,BT$52)),0)","v":0},{"$f":"IFERROR(SUMPRODUCT(--(INDEX(Model_Inputs_Ref_Units,,BU$51)=$E117),INDEX(Model_Inputs_Ref_Units,,BU$52)),0)","v":0},{"$f":"IFERROR(SUMPRODUCT(--(INDEX(Model_Inputs_Ref_Units,,BV$51)=$E117),INDEX(Model_Inputs_Ref_Units,,BV$52)),0)","v":0},{"$f":"IFERROR(SUMPRODUCT(--(INDEX(Model_Inputs_Ref_Units,,BW$51)=$E117),INDEX(Model_Inputs_Ref_Units,,BW$52)),0)","v":0},{"$f":"IFERROR(SUMPRODUCT(--(INDEX(Model_Inputs_Ref_Units,,BX$51)=$E117),INDEX(Model_Inputs_Ref_Units,,BX$52)),0)","v":0},{"$f":"IFERROR(SUMPRODUCT(--(INDEX(Model_Inputs_Ref_Units,,BY$51)=$E117),INDEX(Model_Inputs_Ref_Units,,BY$52)),0)","v":0},{"$f":"IFERROR(SUMPRODUCT(--(INDEX(Model_Inputs_Ref_Units,,BZ$51)=$E117),INDEX(Model_Inputs_Ref_Units,,BZ$52)),0)","v":0},{"$f":"IFERROR(SUMPRODUCT(--(INDEX(Model_Inputs_Ref_Units,,CA$51)=$E117),INDEX(Model_Inputs_Ref_Units,,CA$52)),0)","v":0},{"$f":"IFERROR(SUMPRODUCT(--(INDEX(Model_Inputs_Ref_Units,,CB$51)=$E117),INDEX(Model_Inputs_Ref_Units,,CB$52)),0)","v":0},{"$f":"IFERROR(SUMPRODUCT(--(INDEX(Model_Inputs_Ref_Units,,CC$51)=$E117),INDEX(Model_Inputs_Ref_Units,,CC$52)),0)","v":0},{"$f":"IFERROR(SUMPRODUCT(--(INDEX(Model_Inputs_Ref_Units,,CD$51)=$E117),INDEX(Model_Inputs_Ref_Units,,CD$52)),0)","v":0},{"$f":"IFERROR(SUMPRODUCT(--(INDEX(Model_Inputs_Ref_Units,,CE$51)=$E117),INDEX(Model_Inputs_Ref_Units,,CE$52)),0)","v":0},{"$f":"IFERROR(SUMPRODUCT(--(INDEX(Model_Inputs_Ref_Units,,CF$51)=$E117),INDEX(Model_Inputs_Ref_Units,,CF$52)),0)","v":0},{"$f":"IFERROR(SUMPRODUCT(--(INDEX(Model_Inputs_Ref_Units,,CG$51)=$E117),INDEX(Model_Inputs_Ref_Units,,CG$52)),0)","v":0},{"$f":"IFERROR(SUMPRODUCT(--(INDEX(Model_Inputs_Ref_Units,,CH$51)=$E117),INDEX(Model_Inputs_Ref_Units,,CH$52)),0)","v":0},{"$f":"IFERROR(SUMPRODUCT(--(INDEX(Model_Inputs_Ref_Units,,CI$51)=$E117),INDEX(Model_Inputs_Ref_Units,,CI$52)),0)","v":0},{"$f":"IFERROR(SUMPRODUCT(--(INDEX(Model_Inputs_Ref_Units,,CJ$51)=$E117),INDEX(Model_Inputs_Ref_Units,,CJ$52)),0)","v":0},{"$f":"IFERROR(SUMPRODUCT(--(INDEX(Model_Inputs_Ref_Units,,CK$51)=$E117),INDEX(Model_Inputs_Ref_Units,,CK$52)),0)","v":0},{"$f":"IFERROR(SUMPRODUCT(--(INDEX(Model_Inputs_Ref_Units,,CL$51)=$E117),INDEX(Model_Inputs_Ref_Units,,CL$52)),0)","v":0},{"$f":"IFERROR(SUMPRODUCT(--(INDEX(Model_Inputs_Ref_Units,,CM$51)=$E117),INDEX(Model_Inputs_Ref_Units,,CM$52)),0)","v":0},{"$f":"IFERROR(SUMPRODUCT(--(INDEX(Model_Inputs_Ref_Units,,CN$51)=$E117),INDEX(Model_Inputs_Ref_Units,,CN$52)),0)","v":0},{"$f":"IFERROR(SUMPRODUCT(--(INDEX(Model_Inputs_Ref_Units,,CO$51)=$E117),INDEX(Model_Inputs_Ref_Units,,CO$52)),0)","v":0},{"$f":"IFERROR(SUMPRODUCT(--(INDEX(Model_Inputs_Ref_Units,,CP$51)=$E117),INDEX(Model_Inputs_Ref_Units,,CP$52)),0)","v":0},{"$f":"IFERROR(SUMPRODUCT(--(INDEX(Model_Inputs_Ref_Units,,CQ$51)=$E117),INDEX(Model_Inputs_Ref_Units,,CQ$52)),0)","v":0},{"$f":"IFERROR(SUMPRODUCT(--(INDEX(Model_Inputs_Ref_Units,,CR$51)=$E117),INDEX(Model_Inputs_Ref_Units,,CR$52)),0)","v":0},{"$f":"IFERROR(SUMPRODUCT(--(INDEX(Model_Inputs_Ref_Units,,CS$51)=$E117),INDEX(Model_Inputs_Ref_Units,,CS$52)),0)","v":0},{"$f":"IFERROR(SUMPRODUCT(--(INDEX(Model_Inputs_Ref_Units,,CT$51)=$E117),INDEX(Model_Inputs_Ref_Units,,CT$52)),0)","v":0},{"$f":"IFERROR(SUMPRODUCT(--(INDEX(Model_Inputs_Ref_Units,,CU$51)=$E117),INDEX(Model_Inputs_Ref_Units,,CU$52)),0)","v":0},{"$f":"IFERROR(SUMPRODUCT(--(INDEX(Model_Inputs_Ref_Units,,CV$51)=$E117),INDEX(Model_Inputs_Ref_Units,,CV$52)),0)","v":0},{"$f":"IFERROR(SUMPRODUCT(--(INDEX(Model_Inputs_Ref_Units,,CW$51)=$E117),INDEX(Model_Inputs_Ref_Units,,CW$52)),0)","v":0},{"$f":"IFERROR(SUMPRODUCT(--(INDEX(Model_Inputs_Ref_Units,,CX$51)=$E117),INDEX(Model_Inputs_Ref_Units,,CX$52)),0)","v":0},{"$f":"IFERROR(SUMPRODUCT(--(INDEX(Model_Inputs_Ref_Units,,CY$51)=$E117),INDEX(Model_Inputs_Ref_Units,,CY$52)),0)","v":0},{"$f":"IFERROR(SUMPRODUCT(--(INDEX(Model_Inputs_Ref_Units,,CZ$51)=$E117),INDEX(Model_Inputs_Ref_Units,,CZ$52)),0)","v":0},{"$f":"IFERROR(SUMPRODUCT(--(INDEX(Model_Inputs_Ref_Units,,DA$51)=$E117),INDEX(Model_Inputs_Ref_Units,,DA$52)),0)","v":0},{"$f":"IFERROR(SUMPRODUCT(--(INDEX(Model_Inputs_Ref_Units,,DB$51)=$E117),INDEX(Model_Inputs_Ref_Units,,DB$52)),0)","v":0},{"$f":"IFERROR(SUMPRODUCT(--(INDEX(Model_Inputs_Ref_Units,,DC$51)=$E117),INDEX(Model_Inputs_Ref_Units,,DC$52)),0)","v":0},{"$f":"IFERROR(SUMPRODUCT(--(INDEX(Model_Inputs_Ref_Units,,DD$51)=$E117),INDEX(Model_Inputs_Ref_Units,,DD$52)),0)","v":0},{"$f":"IFERROR(SUMPRODUCT(--(INDEX(Model_Inputs_Ref_Units,,DE$51)=$E117),INDEX(Model_Inputs_Ref_Units,,DE$52)),0)","v":0},{"$f":"IFERROR(SUMPRODUCT(--(INDEX(Model_Inputs_Ref_Units,,DF$51)=$E117),INDEX(Model_Inputs_Ref_Units,,DF$52)),0)","v":0}]
[null,null,{"$error":"#DIV/0!"},null,{"$f":"IFERROR(INDEX(Ref_Data,1,F118),\"\")","v":""},65,{"$f":"IFERROR(INDEX(Ref_Data,6,MATCH(E118,INDEX(Ref_Data,1,0),0)),0)","v":0},{"$f":"SUM(K118:DF118)","v":0},0,0,{"$f":"IFERROR(SUMPRODUCT(--(INDEX(Model_Inputs_Ref_Units,,K$51)=$E118),INDEX(Model_Inputs_Ref_Units,,K$52)),0)","v":0},{"$f":"IFERROR(SUMPRODUCT(--(INDEX(Model_Inputs_Ref_Units,,L$51)=$E118),INDEX(Model_Inputs_Ref_Units,,L$52)),0)","v":0},{"$f":"IFERROR(SUMPRODUCT(--(INDEX(Model_Inputs_Ref_Units,,M$51)=$E118),INDEX(Model_Inputs_Ref_Units,,M$52)),0)","v":0},{"$f":"IFERROR(SUMPRODUCT(--(INDEX(Model_Inputs_Ref_Units,,N$51)=$E118),INDEX(Model_Inputs_Ref_Units,,N$52)),0)","v":0},{"$f":"IFERROR(SUMPRODUCT(--(INDEX(Model_Inputs_Ref_Units,,O$51)=$E118),INDEX(Model_Inputs_Ref_Units,,O$52)),0)","v":0},{"$f":"IFERROR(SUMPRODUCT(--(INDEX(Model_Inputs_Ref_Units,,P$51)=$E118),INDEX(Model_Inputs_Ref_Units,,P$52)),0)","v":0},{"$f":"IFERROR(SUMPRODUCT(--(INDEX(Model_Inputs_Ref_Units,,Q$51)=$E118),INDEX(Model_Inputs_Ref_Units,,Q$52)),0)","v":0},{"$f":"IFERROR(SUMPRODUCT(--(INDEX(Model_Inputs_Ref_Units,,R$51)=$E118),INDEX(Model_Inputs_Ref_Units,,R$52)),0)","v":0},{"$f":"IFERROR(SUMPRODUCT(--(INDEX(Model_Inputs_Ref_Units,,S$51)=$E118),INDEX(Model_Inputs_Ref_Units,,S$52)),0)","v":0},{"$f":"IFERROR(SUMPRODUCT(--(INDEX(Model_Inputs_Ref_Units,,T$51)=$E118),INDEX(Model_Inputs_Ref_Units,,T$52)),0)","v":0},{"$f":"IFERROR(SUMPRODUCT(--(INDEX(Model_Inputs_Ref_Units,,U$51)=$E118),INDEX(Model_Inputs_Ref_Units,,U$52)),0)","v":0},{"$f":"IFERROR(SUMPRODUCT(--(INDEX(Model_Inputs_Ref_Units,,V$51)=$E118),INDEX(Model_Inputs_Ref_Units,,V$52)),0)","v":0},{"$f":"IFERROR(SUMPRODUCT(--(INDEX(Model_Inputs_Ref_Units,,W$51)=$E118),INDEX(Model_Inputs_Ref_Units,,W$52)),0)","v":0},{"$f":"IFERROR(SUMPRODUCT(--(INDEX(Model_Inputs_Ref_Units,,X$51)=$E118),INDEX(Model_Inputs_Ref_Units,,X$52)),0)","v":0},{"$f":"IFERROR(SUMPRODUCT(--(INDEX(Model_Inputs_Ref_Units,,Y$51)=$E118),INDEX(Model_Inputs_Ref_Units,,Y$52)),0)","v":0},{"$f":"IFERROR(SUMPRODUCT(--(INDEX(Model_Inputs_Ref_Units,,Z$51)=$E118),INDEX(Model_Inputs_Ref_Units,,Z$52)),0)","v":0},{"$f":"IFERROR(SUMPRODUCT(--(INDEX(Model_Inputs_Ref_Units,,AA$51)=$E118),INDEX(Model_Inputs_Ref_Units,,AA$52)),0)","v":0},{"$f":"IFERROR(SUMPRODUCT(--(INDEX(Model_Inputs_Ref_Units,,AB$51)=$E118),INDEX(Model_Inputs_Ref_Units,,AB$52)),0)","v":0},{"$f":"IFERROR(SUMPRODUCT(--(INDEX(Model_Inputs_Ref_Units,,AC$51)=$E118),INDEX(Model_Inputs_Ref_Units,,AC$52)),0)","v":0},{"$f":"IFERROR(SUMPRODUCT(--(INDEX(Model_Inputs_Ref_Units,,AD$51)=$E118),INDEX(Model_Inputs_Ref_Units,,AD$52)),0)","v":0},{"$f":"IFERROR(SUMPRODUCT(--(INDEX(Model_Inputs_Ref_Units,,AE$51)=$E118),INDEX(Model_Inputs_Ref_Units,,AE$52)),0)","v":0},{"$f":"IFERROR(SUMPRODUCT(--(INDEX(Model_Inputs_Ref_Units,,AF$51)=$E118),INDEX(Model_Inputs_Ref_Units,,AF$52)),0)","v":0},{"$f":"IFERROR(SUMPRODUCT(--(INDEX(Model_Inputs_Ref_Units,,AG$51)=$E118),INDEX(Model_Inputs_Ref_Units,,AG$52)),0)","v":0},{"$f":"IFERROR(SUMPRODUCT(--(INDEX(Model_Inputs_Ref_Units,,AH$51)=$E118),INDEX(Model_Inputs_Ref_Units,,AH$52)),0)","v":0},{"$f":"IFERROR(SUMPRODUCT(--(INDEX(Model_Inputs_Ref_Units,,AI$51)=$E118),INDEX(Model_Inputs_Ref_Units,,AI$52)),0)","v":0},{"$f":"IFERROR(SUMPRODUCT(--(INDEX(Model_Inputs_Ref_Units,,AJ$51)=$E118),INDEX(Model_Inputs_Ref_Units,,AJ$52)),0)","v":0},{"$f":"IFERROR(SUMPRODUCT(--(INDEX(Model_Inputs_Ref_Units,,AK$51)=$E118),INDEX(Model_Inputs_Ref_Units,,AK$52)),0)","v":0},{"$f":"IFERROR(SUMPRODUCT(--(INDEX(Model_Inputs_Ref_Units,,AL$51)=$E118),INDEX(Model_Inputs_Ref_Units,,AL$52)),0)","v":0},{"$f":"IFERROR(SUMPRODUCT(--(INDEX(Model_Inputs_Ref_Units,,AM$51)=$E118),INDEX(Model_Inputs_Ref_Units,,AM$52)),0)","v":0},{"$f":"IFERROR(SUMPRODUCT(--(INDEX(Model_Inputs_Ref_Units,,AN$51)=$E118),INDEX(Model_Inputs_Ref_Units,,AN$52)),0)","v":0},{"$f":"IFERROR(SUMPRODUCT(--(INDEX(Model_Inputs_Ref_Units,,AO$51)=$E118),INDEX(Model_Inputs_Ref_Units,,AO$52)),0)","v":0},{"$f":"IFERROR(SUMPRODUCT(--(INDEX(Model_Inputs_Ref_Units,,AP$51)=$E118),INDEX(Model_Inputs_Ref_Units,,AP$52)),0)","v":0},{"$f":"IFERROR(SUMPRODUCT(--(INDEX(Model_Inputs_Ref_Units,,AQ$51)=$E118),INDEX(Model_Inputs_Ref_Units,,AQ$52)),0)","v":0},{"$f":"IFERROR(SUMPRODUCT(--(INDEX(Model_Inputs_Ref_Units,,AR$51)=$E118),INDEX(Model_Inputs_Ref_Units,,AR$52)),0)","v":0},{"$f":"IFERROR(SUMPRODUCT(--(INDEX(Model_Inputs_Ref_Units,,AS$51)=$E118),INDEX(Model_Inputs_Ref_Units,,AS$52)),0)","v":0},{"$f":"IFERROR(SUMPRODUCT(--(INDEX(Model_Inputs_Ref_Units,,AT$51)=$E118),INDEX(Model_Inputs_Ref_Units,,AT$52)),0)","v":0},{"$f":"IFERROR(SUMPRODUCT(--(INDEX(Model_Inputs_Ref_Units,,AU$51)=$E118),INDEX(Model_Inputs_Ref_Units,,AU$52)),0)","v":0},{"$f":"IFERROR(SUMPRODUCT(--(INDEX(Model_Inputs_Ref_Units,,AV$51)=$E118),INDEX(Model_Inputs_Ref_Units,,AV$52)),0)","v":0},{"$f":"IFERROR(SUMPRODUCT(--(INDEX(Model_Inputs_Ref_Units,,AW$51)=$E118),INDEX(Model_Inputs_Ref_Units,,AW$52)),0)","v":0},{"$f":"IFERROR(SUMPRODUCT(--(INDEX(Model_Inputs_Ref_Units,,AX$51)=$E118),INDEX(Model_Inputs_Ref_Units,,AX$52)),0)","v":0},{"$f":"IFERROR(SUMPRODUCT(--(INDEX(Model_Inputs_Ref_Units,,AY$51)=$E118),INDEX(Model_Inputs_Ref_Units,,AY$52)),0)","v":0},{"$f":"IFERROR(SUMPRODUCT(--(INDEX(Model_Inputs_Ref_Units,,AZ$51)=$E118),INDEX(Model_Inputs_Ref_Units,,AZ$52)),0)","v":0},{"$f":"IFERROR(SUMPRODUCT(--(INDEX(Model_Inputs_Ref_Units,,BA$51)=$E118),INDEX(Model_Inputs_Ref_Units,,BA$52)),0)","v":0},{"$f":"IFERROR(SUMPRODUCT(--(INDEX(Model_Inputs_Ref_Units,,BB$51)=$E118),INDEX(Model_Inputs_Ref_Units,,BB$52)),0)","v":0},{"$f":"IFERROR(SUMPRODUCT(--(INDEX(Model_Inputs_Ref_Units,,BC$51)=$E118),INDEX(Model_Inputs_Ref_Units,,BC$52)),0)","v":0},{"$f":"IFERROR(SUMPRODUCT(--(INDEX(Model_Inputs_Ref_Units,,BD$51)=$E118),INDEX(Model_Inputs_Ref_Units,,BD$52)),0)","v":0},{"$f":"IFERROR(SUMPRODUCT(--(INDEX(Model_Inputs_Ref_Units,,BE$51)=$E118),INDEX(Model_Inputs_Ref_Units,,BE$52)),0)","v":0},{"$f":"IFERROR(SUMPRODUCT(--(INDEX(Model_Inputs_Ref_Units,,BF$51)=$E118),INDEX(Model_Inputs_Ref_Units,,BF$52)),0)","v":0},{"$f":"IFERROR(SUMPRODUCT(--(INDEX(Model_Inputs_Ref_Units,,BG$51)=$E118),INDEX(Model_Inputs_Ref_Units,,BG$52)),0)","v":0},{"$f":"IFERROR(SUMPRODUCT(--(INDEX(Model_Inputs_Ref_Units,,BH$51)=$E118),INDEX(Model_Inputs_Ref_Units,,BH$52)),0)","v":0},{"$f":"IFERROR(SUMPRODUCT(--(INDEX(Model_Inputs_Ref_Units,,BI$51)=$E118),INDEX(Model_Inputs_Ref_Units,,BI$52)),0)","v":0},{"$f":"IFERROR(SUMPRODUCT(--(INDEX(Model_Inputs_Ref_Units,,BJ$51)=$E118),INDEX(Model_Inputs_Ref_Units,,BJ$52)),0)","v":0},{"$f":"IFERROR(SUMPRODUCT(--(INDEX(Model_Inputs_Ref_Units,,BK$51)=$E118),INDEX(Model_Inputs_Ref_Units,,BK$52)),0)","v":0},{"$f":"IFERROR(SUMPRODUCT(--(INDEX(Model_Inputs_Ref_Units,,BL$51)=$E118),INDEX(Model_Inputs_Ref_Units,,BL$52)),0)","v":0},{"$f":"IFERROR(SUMPRODUCT(--(INDEX(Model_Inputs_Ref_Units,,BM$51)=$E118),INDEX(Model_Inputs_Ref_Units,,BM$52)),0)","v":0},{"$f":"IFERROR(SUMPRODUCT(--(INDEX(Model_Inputs_Ref_Units,,BN$51)=$E118),INDEX(Model_Inputs_Ref_Units,,BN$52)),0)","v":0},{"$f":"IFERROR(SUMPRODUCT(--(INDEX(Model_Inputs_Ref_Units,,BO$51)=$E118),INDEX(Model_Inputs_Ref_Units,,BO$52)),0)","v":0},{"$f":"IFERROR(SUMPRODUCT(--(INDEX(Model_Inputs_Ref_Units,,BP$51)=$E118),INDEX(Model_Inputs_Ref_Units,,BP$52)),0)","v":0},{"$f":"IFERROR(SUMPRODUCT(--(INDEX(Model_Inputs_Ref_Units,,BQ$51)=$E118),INDEX(Model_Inputs_Ref_Units,,BQ$52)),0)","v":0},{"$f":"IFERROR(SUMPRODUCT(--(INDEX(Model_Inputs_Ref_Units,,BR$51)=$E118),INDEX(Model_Inputs_Ref_Units,,BR$52)),0)","v":0},{"$f":"IFERROR(SUMPRODUCT(--(INDEX(Model_Inputs_Ref_Units,,BS$51)=$E118),INDEX(Model_Inputs_Ref_Units,,BS$52)),0)","v":0},{"$f":"IFERROR(SUMPRODUCT(--(INDEX(Model_Inputs_Ref_Units,,BT$51)=$E118),INDEX(Model_Inputs_Ref_Units,,BT$52)),0)","v":0},{"$f":"IFERROR(SUMPRODUCT(--(INDEX(Model_Inputs_Ref_Units,,BU$51)=$E118),INDEX(Model_Inputs_Ref_Units,,BU$52)),0)","v":0},{"$f":"IFERROR(SUMPRODUCT(--(INDEX(Model_Inputs_Ref_Units,,BV$51)=$E118),INDEX(Model_Inputs_Ref_Units,,BV$52)),0)","v":0},{"$f":"IFERROR(SUMPRODUCT(--(INDEX(Model_Inputs_Ref_Units,,BW$51)=$E118),INDEX(Model_Inputs_Ref_Units,,BW$52)),0)","v":0},{"$f":"IFERROR(SUMPRODUCT(--(INDEX(Model_Inputs_Ref_Units,,BX$51)=$E118),INDEX(Model_Inputs_Ref_Units,,BX$52)),0)","v":0},{"$f":"IFERROR(SUMPRODUCT(--(INDEX(Model_Inputs_Ref_Units,,BY$51)=$E118),INDEX(Model_Inputs_Ref_Units,,BY$52)),0)","v":0},{"$f":"IFERROR(SUMPRODUCT(--(INDEX(Model_Inputs_Ref_Units,,BZ$51)=$E118),INDEX(Model_Inputs_Ref_Units,,BZ$52)),0)","v":0},{"$f":"IFERROR(SUMPRODUCT(--(INDEX(Model_Inputs_Ref_Units,,CA$51)=$E118),INDEX(Model_Inputs_Ref_Units,,CA$52)),0)","v":0},{"$f":"IFERROR(SUMPRODUCT(--(INDEX(Model_Inputs_Ref_Units,,CB$51)=$E118),INDEX(Model_Inputs_Ref_Units,,CB$52)),0)","v":0},{"$f":"IFERROR(SUMPRODUCT(--(INDEX(Model_Inputs_Ref_Units,,CC$51)=$E118),INDEX(Model_Inputs_Ref_Units,,CC$52)),0)","v":0},{"$f":"IFERROR(SUMPRODUCT(--(INDEX(Model_Inputs_Ref_Units,,CD$51)=$E118),INDEX(Model_Inputs_Ref_Units,,CD$52)),0)","v":0},{"$f":"IFERROR(SUMPRODUCT(--(INDEX(Model_Inputs_Ref_Units,,CE$51)=$E118),INDEX(Model_Inputs_Ref_Units,,CE$52)),0)","v":0},{"$f":"IFERROR(SUMPRODUCT(--(INDEX(Model_Inputs_Ref_Units,,CF$51)=$E118),INDEX(Model_Inputs_Ref_Units,,CF$52)),0)","v":0},{"$f":"IFERROR(SUMPRODUCT(--(INDEX(Model_Inputs_Ref_Units,,CG$51)=$E118),INDEX(Model_Inputs_Ref_Units,,CG$52)),0)","v":0},{"$f":"IFERROR(SUMPRODUCT(--(INDEX(Model_Inputs_Ref_Units,,CH$51)=$E118),INDEX(Model_Inputs_Ref_Units,,CH$52)),0)","v":0},{"$f":"IFERROR(SUMPRODUCT(--(INDEX(Model_Inputs_Ref_Units,,CI$51)=$E118),INDEX(Model_Inputs_Ref_Units,,CI$52)),0)","v":0},{"$f":"IFERROR(SUMPRODUCT(--(INDEX(Model_Inputs_Ref_Units,,CJ$51)=$E118),INDEX(Model_Inputs_Ref_Units,,CJ$52)),0)","v":0},{"$f":"IFERROR(SUMPRODUCT(--(INDEX(Model_Inputs_Ref_Units,,CK$51)=$E118),INDEX(Model_Inputs_Ref_Units,,CK$52)),0)","v":0},{"$f":"IFERROR(SUMPRODUCT(--(INDEX(Model_Inputs_Ref_Units,,CL$51)=$E118),INDEX(Model_Inputs_Ref_Units,,CL$52)),0)","v":0},{"$f":"IFERROR(SUMPRODUCT(--(INDEX(Model_Inputs_Ref_Units,,CM$51)=$E118),INDEX(Model_Inputs_Ref_Units,,CM$52)),0)","v":0},{"$f":"IFERROR(SUMPRODUCT(--(INDEX(Model_Inputs_Ref_Units,,CN$51)=$E118),INDEX(Model_Inputs_Ref_Units,,CN$52)),0)","v":0},{"$f":"IFERROR(SUMPRODUCT(--(INDEX(Model_Inputs_Ref_Units,,CO$51)=$E118),INDEX(Model_Inputs_Ref_Units,,CO$52)),0)","v":0},{"$f":"IFERROR(SUMPRODUCT(--(INDEX(Model_Inputs_Ref_Units,,CP$51)=$E118),INDEX(Model_Inputs_Ref_Units,,CP$52)),0)","v":0},{"$f":"IFERROR(SUMPRODUCT(--(INDEX(Model_Inputs_Ref_Units,,CQ$51)=$E118),INDEX(Model_Inputs_Ref_Units,,CQ$52)),0)","v":0},{"$f":"IFERROR(SUMPRODUCT(--(INDEX(Model_Inputs_Ref_Units,,CR$51)=$E118),INDEX(Model_Inputs_Ref_Units,,CR$52)),0)","v":0},{"$f":"IFERROR(SUMPRODUCT(--(INDEX(Model_Inputs_Ref_Units,,CS$51)=$E118),INDEX(Model_Inputs_Ref_Units,,CS$52)),0)","v":0},{"$f":"IFERROR(SUMPRODUCT(--(INDEX(Model_Inputs_Ref_Units,,CT$51)=$E118),INDEX(Model_Inputs_Ref_Units,,CT$52)),0)","v":0},{"$f":"IFERROR(SUMPRODUCT(--(INDEX(Model_Inputs_Ref_Units,,CU$51)=$E118),INDEX(Model_Inputs_Ref_Units,,CU$52)),0)","v":0},{"$f":"IFERROR(SUMPRODUCT(--(INDEX(Model_Inputs_Ref_Units,,CV$51)=$E118),INDEX(Model_Inputs_Ref_Units,,CV$52)),0)","v":0},{"$f":"IFERROR(SUMPRODUCT(--(INDEX(Model_Inputs_Ref_Units,,CW$51)=$E118),INDEX(Model_Inputs_Ref_Units,,CW$52)),0)","v":0},{"$f":"IFERROR(SUMPRODUCT(--(INDEX(Model_Inputs_Ref_Units,,CX$51)=$E118),INDEX(Model_Inputs_Ref_Units,,CX$52)),0)","v":0},{"$f":"IFERROR(SUMPRODUCT(--(INDEX(Model_Inputs_Ref_Units,,CY$51)=$E118),INDEX(Model_Inputs_Ref_Units,,CY$52)),0)","v":0},{"$f":"IFERROR(SUMPRODUCT(--(INDEX(Model_Inputs_Ref_Units,,CZ$51)=$E118),INDEX(Model_Inputs_Ref_Units,,CZ$52)),0)","v":0},{"$f":"IFERROR(SUMPRODUCT(--(INDEX(Model_Inputs_Ref_Units,,DA$51)=$E118),INDEX(Model_Inputs_Ref_Units,,DA$52)),0)","v":0},{"$f":"IFERROR(SUMPRODUCT(--(INDEX(Model_Inputs_Ref_Units,,DB$51)=$E118),INDEX(Model_Inputs_Ref_Units,,DB$52)),0)","v":0},{"$f":"IFERROR(SUMPRODUCT(--(INDEX(Model_Inputs_Ref_Units,,DC$51)=$E118),INDEX(Model_Inputs_Ref_Units,,DC$52)),0)","v":0},{"$f":"IFERROR(SUMPRODUCT(--(INDEX(Model_Inputs_Ref_Units,,DD$51)=$E118),INDEX(Model_Inputs_Ref_Units,,DD$52)),0)","v":0},{"$f":"IFERROR(SUMPRODUCT(--(INDEX(Model_Inputs_Ref_Units,,DE$51)=$E118),INDEX(Model_Inputs_Ref_Units,,DE$52)),0)","v":0},{"$f":"IFERROR(SUMPRODUCT(--(INDEX(Model_Inputs_Ref_Units,,DF$51)=$E118),INDEX(Model_Inputs_Ref_Units,,DF$52)),0)","v":0}]
[null,null,{"$f":"5/0","v":{"$error":"#DIV/0!"}},null,{"$f":"IFERROR(INDEX(Ref_Data,1,F119),\"\")","v":""},66,0,0,{"$f":"IF(H119>G119,1,0)","v":0},{"$f":"IF(H119<G119,1,0)","v":0},{"$f":"IFERROR(SUMPRODUCT(--(INDEX(Model_Inputs_Ref_Units,,K$51)=$E119),INDEX(Model_Inputs_Ref_Units,,K$52)),0)","v":0},{"$f":"IFERROR(SUMPRODUCT(--(INDEX(Model_Inputs_Ref_Units,,L$51)=$E119),INDEX(Model_Inputs_Ref_Units,,L$52)),0)","v":0},{"$f":"IFERROR(SUMPRODUCT(--(INDEX(Model_Inputs_Ref_Units,,M$51)=$E119),INDEX(Model_Inputs_Ref_Units,,M$52)),0)","v":0},{"$f":"IFERROR(SUMPRODUCT(--(INDEX(Model_Inputs_Ref_Units,,N$51)=$E119),INDEX(Model_Inputs_Ref_Units,,N$52)),0)","v":0},{"$f":"IFERROR(SUMPRODUCT(--(INDEX(Model_Inputs_Ref_Units,,O$51)=$E119),INDEX(Model_Inputs_Ref_Units,,O$52)),0)","v":0},{"$f":"IFERROR(SUMPRODUCT(--(INDEX(Model_Inputs_Ref_Units,,P$51)=$E119),INDEX(Model_Inputs_Ref_Units,,P$52)),0)","v":0},{"$f":"IFERROR(SUMPRODUCT(--(INDEX(Model_Inputs_Ref_Units,,Q$51)=$E119),INDEX(Model_Inputs_Ref_Units,,Q$52)),0)","v":0},{"$f":"IFERROR(SUMPRODUCT(--(INDEX(Model_Inputs_Ref_Units,,R$51)=$E119),INDEX(Model_Inputs_Ref_Units,,R$52)),0)","v":0},{"$f":"IFERROR(SUMPRODUCT(--(INDEX(Model_Inputs_Ref_Units,,S$51)=$E119),INDEX(Model_Inputs_Ref_Units,,S$52)),0)","v":0},{"$f":"IFERROR(SUMPRODUCT(--(INDEX(Model_Inputs_Ref_Units,,T$51)=$E119),INDEX(Model_Inputs_Ref_Units,,T$52)),0)","v":0},{"$f":"IFERROR(SUMPRODUCT(--(INDEX(Model_Inputs_Ref_Units,,U$51)=$E119),INDEX(Model_Inputs_Ref_Units,,U$52)),0)","v":0},{"$f":"IFERROR(SUMPRODUCT(--(INDEX(Model_Inputs_Ref_Units,,V$51)=$E119),INDEX(Model_Inputs_Ref_Units,,V$52)),0)","v":0},{"$f":"IFERROR(SUMPRODUCT(--(INDEX(Model_Inputs_Ref_Units,,W$51)=$E119),INDEX(Model_Inputs_Ref_Units,,W$52)),0)","v":0},{"$f":"IFERROR(SUMPRODUCT(--(INDEX(Model_Inputs_Ref_Units,,X$51)=$E119),INDEX(Model_Inputs_Ref_Units,,X$52)),0)","v":0},{"$f":"IFERROR(SUMPRODUCT(--(INDEX(Model_Inputs_Ref_Units,,Y$51)=$E119),INDEX(Model_Inputs_Ref_Units,,Y$52)),0)","v":0},{"$f":"IFERROR(SUMPRODUCT(--(INDEX(Model_Inputs_Ref_Units,,Z$51)=$E119),INDEX(Model_Inputs_Ref_Units,,Z$52)),0)","v":0},{"$f":"IFERROR(SUMPRODUCT(--(INDEX(Model_Inputs_Ref_Units,,AA$51)=$E119),INDEX(Model_Inputs_Ref_Units,,AA$52)),0)","v":0},{"$f":"IFERROR(SUMPRODUCT(--(INDEX(Model_Inputs_Ref_Units,,AB$51)=$E119),INDEX(Model_Inputs_Ref_Units,,AB$52)),0)","v":0},{"$f":"IFERROR(SUMPRODUCT(--(INDEX(Model_Inputs_Ref_Units,,AC$51)=$E119),INDEX(Model_Inputs_Ref_Units,,AC$52)),0)","v":0},{"$f":"IFERROR(SUMPRODUCT(--(INDEX(Model_Inputs_Ref_Units,,AD$51)=$E119),INDEX(Model_Inputs_Ref_Units,,AD$52)),0)","v":0},{"$f":"IFERROR(SUMPRODUCT(--(INDEX(Model_Inputs_Ref_Units,,AE$51)=$E119),INDEX(Model_Inputs_Ref_Units,,AE$52)),0)","v":0},{"$f":"IFERROR(SUMPRODUCT(--(INDEX(Model_Inputs_Ref_Units,,AF$51)=$E119),INDEX(Model_Inputs_Ref_Units,,AF$52)),0)","v":0},{"$f":"IFERROR(SUMPRODUCT(--(INDEX(Model_Inputs_Ref_Units,,AG$51)=$E119),INDEX(Model_Inputs_Ref_Units,,AG$52)),0)","v":0},{"$f":"IFERROR(SUMPRODUCT(--(INDEX(Model_Inputs_Ref_Units,,AH$51)=$E119),INDEX(Model_Inputs_Ref_Units,,AH$52)),0)","v":0},{"$f":"IFERROR(SUMPRODUCT(--(INDEX(Model_Inputs_Ref_Units,,AI$51)=$E119),INDEX(Model_Inputs_Ref_Units,,AI$52)),0)","v":0},{"$f":"IFERROR(SUMPRODUCT(--(INDEX(Model_Inputs_Ref_Units,,AJ$51)=$E119),INDEX(Model_Inputs_Ref_Units,,AJ$52)),0)","v":0},{"$f":"IFERROR(SUMPRODUCT(--(INDEX(Model_Inputs_Ref_Units,,AK$51)=$E119),INDEX(Model_Inputs_Ref_Units,,AK$52)),0)","v":0},{"$f":"IFERROR(SUMPRODUCT(--(INDEX(Model_Inputs_Ref_Units,,AL$51)=$E119),INDEX(Model_Inputs_Ref_Units,,AL$52)),0)","v":0},{"$f":"IFERROR(SUMPRODUCT(--(INDEX(Model_Inputs_Ref_Units,,AM$51)=$E119),INDEX(Model_Inputs_Ref_Units,,AM$52)),0)","v":0},{"$f":"IFERROR(SUMPRODUCT(--(INDEX(Model_Inputs_Ref_Units,,AN$51)=$E119),INDEX(Model_Inputs_Ref_Units,,AN$52)),0)","v":0},{"$f":"IFERROR(SUMPRODUCT(--(INDEX(Model_Inputs_Ref_Units,,AO$51)=$E119),INDEX(Model_Inputs_Ref_Units,,AO$52)),0)","v":0},{"$f":"IFERROR(SUMPRODUCT(--(INDEX(Model_Inputs_Ref_Units,,AP$51)=$E119),INDEX(Model_Inputs_Ref_Units,,AP$52)),0)","v":0},{"$f":"IFERROR(SUMPRODUCT(--(INDEX(Model_Inputs_Ref_Units,,AQ$51)=$E119),INDEX(Model_Inputs_Ref_Units,,AQ$52)),0)","v":0},{"$f":"IFERROR(SUMPRODUCT(--(INDEX(Model_Inputs_Ref_Units,,AR$51)=$E119),INDEX(Model_Inputs_Ref_Units,,AR$52)),0)","v":0},{"$f":"IFERROR(SUMPRODUCT(--(INDEX(Model_Inputs_Ref_Units,,AS$51)=$E119),INDEX(Model_Inputs_Ref_Units,,AS$52)),0)","v":0},{"$f":"IFERROR(SUMPRODUCT(--(INDEX(Model_Inputs_Ref_Units,,AT$51)=$E119),INDEX(Model_Inputs_Ref_Units,,AT$52)),0)","v":0},{"$f":"IFERROR(SUMPRODUCT(--(INDEX(Model_Inputs_Ref_Units,,AU$51)=$E119),INDEX(Model_Inputs_Ref_Units,,AU$52)),0)","v":0},{"$f":"IFERROR(SUMPRODUCT(--(INDEX(Model_Inputs_Ref_Units,,AV$51)=$E119),INDEX(Model_Inputs_Ref_Units,,AV$52)),0)","v":0},{"$f":"IFERROR(SUMPRODUCT(--(INDEX(Model_Inputs_Ref_Units,,AW$51)=$E119),INDEX(Model_Inputs_Ref_Units,,AW$52)),0)","v":0},{"$f":"IFERROR(SUMPRODUCT(--(INDEX(Model_Inputs_Ref_Units,,AX$51)=$E119),INDEX(Model_Inputs_Ref_Units,,AX$52)),0)","v":0},{"$f":"IFERROR(SUMPRODUCT(--(INDEX(Model_Inputs_Ref_Units,,AY$51)=$E119),INDEX(Model_Inputs_Ref_Units,,AY$52)),0)","v":0},{"$f":"IFERROR(SUMPRODUCT(--(INDEX(Model_Inputs_Ref_Units,,AZ$51)=$E119),INDEX(Model_Inputs_Ref_Units,,AZ$52)),0)","v":0},{"$f":"IFERROR(SUMPRODUCT(--(INDEX(Model_Inputs_Ref_Units,,BA$51)=$E119),INDEX(Model_Inputs_Ref_Units,,BA$52)),0)","v":0},{"$f":"IFERROR(SUMPRODUCT(--(INDEX(Model_Inputs_Ref_Units,,BB$51)=$E119),INDEX(Model_Inputs_Ref_Units,,BB$52)),0)","v":0},{"$f":"IFERROR(SUMPRODUCT(--(INDEX(Model_Inputs_Ref_Units,,BC$51)=$E119),INDEX(Model_Inputs_Ref_Units,,BC$52)),0)","v":0},{"$f":"IFERROR(SUMPRODUCT(--(INDEX(Model_Inputs_Ref_Units,,BD$51)=$E119),INDEX(Model_Inputs_Ref_Units,,BD$52)),0)","v":0},{"$f":"IFERROR(SUMPRODUCT(--(INDEX(Model_Inputs_Ref_Units,,BE$51)=$E119),INDEX(Model_Inputs_Ref_Units,,BE$52)),0)","v":0},{"$f":"IFERROR(SUMPRODUCT(--(INDEX(Model_Inputs_Ref_Units,,BF$51)=$E119),INDEX(Model_Inputs_Ref_Units,,BF$52)),0)","v":0},{"$f":"IFERROR(SUMPRODUCT(--(INDEX(Model_Inputs_Ref_Units,,BG$51)=$E119),INDEX(Model_Inputs_Ref_Units,,BG$52)),0)","v":0},{"$f":"IFERROR(SUMPRODUCT(--(INDEX(Model_Inputs_Ref_Units,,BH$51)=$E119),INDEX(Model_Inputs_Ref_Units,,BH$52)),0)","v":0},{"$f":"IFERROR(SUMPRODUCT(--(INDEX(Model_Inputs_Ref_Units,,BI$51)=$E119),INDEX(Model_Inputs_Ref_Units,,BI$52)),0)","v":0},{"$f":"IFERROR(SUMPRODUCT(--(INDEX(Model_Inputs_Ref_Units,,BJ$51)=$E119),INDEX(Model_Inputs_Ref_Units,,BJ$52)),0)","v":0},{"$f":"IFERROR(SUMPRODUCT(--(INDEX(Model_Inputs_Ref_Units,,BK$51)=$E119),INDEX(Model_Inputs_Ref_Units,,BK$52)),0)","v":0},{"$f":"IFERROR(SUMPRODUCT(--(INDEX(Model_Inputs_Ref_Units,,BL$51)=$E119),INDEX(Model_Inputs_Ref_Units,,BL$52)),0)","v":0},{"$f":"IFERROR(SUMPRODUCT(--(INDEX(Model_Inputs_Ref_Units,,BM$51)=$E119),INDEX(Model_Inputs_Ref_Units,,BM$52)),0)","v":0},{"$f":"IFERROR(SUMPRODUCT(--(INDEX(Model_Inputs_Ref_Units,,BN$51)=$E119),INDEX(Model_Inputs_Ref_Units,,BN$52)),0)","v":0},{"$f":"IFERROR(SUMPRODUCT(--(INDEX(Model_Inputs_Ref_Units,,BO$51)=$E119),INDEX(Model_Inputs_Ref_Units,,BO$52)),0)","v":0},{"$f":"IFERROR(SUMPRODUCT(--(INDEX(Model_Inputs_Ref_Units,,BP$51)=$E119),INDEX(Model_Inputs_Ref_Units,,BP$52)),0)","v":0},{"$f":"IFERROR(SUMPRODUCT(--(INDEX(Model_Inputs_Ref_Units,,BQ$51)=$E119),INDEX(Model_Inputs_Ref_Units,,BQ$52)),0)","v":0},{"$f":"IFERROR(SUMPRODUCT(--(INDEX(Model_Inputs_Ref_Units,,BR$51)=$E119),INDEX(Model_Inputs_Ref_Units,,BR$52)),0)","v":0},{"$f":"IFERROR(SUMPRODUCT(--(INDEX(Model_Inputs_Ref_Units,,BS$51)=$E119),INDEX(Model_Inputs_Ref_Units,,BS$52)),0)","v":0},{"$f":"IFERROR(SUMPRODUCT(--(INDEX(Model_Inputs_Ref_Units,,BT$51)=$E119),INDEX(Model_Inputs_Ref_Units,,BT$52)),0)","v":0},{"$f":"IFERROR(SUMPRODUCT(--(INDEX(Model_Inputs_Ref_Units,,BU$51)=$E119),INDEX(Model_Inputs_Ref_Units,,BU$52)),0)","v":0},{"$f":"IFERROR(SUMPRODUCT(--(INDEX(Model_Inputs_Ref_Units,,BV$51)=$E119),INDEX(Model_Inputs_Ref_Units,,BV$52)),0)","v":0},{"$f":"IFERROR(SUMPRODUCT(--(INDEX(Model_Inputs_Ref_Units,,BW$51)=$E119),INDEX(Model_Inputs_Ref_Units,,BW$52)),0)","v":0},{"$f":"IFERROR(SUMPRODUCT(--(INDEX(Model_Inputs_Ref_Units,,BX$51)=$E119),INDEX(Model_Inputs_Ref_Units,,BX$52)),0)","v":0},{"$f":"IFERROR(SUMPRODUCT(--(INDEX(Model_Inputs_Ref_Units,,BY$51)=$E119),INDEX(Model_Inputs_Ref_Units,,BY$52)),0)","v":0},{"$f":"IFERROR(SUMPRODUCT(--(INDEX(Model_Inputs_Ref_Units,,BZ$51)=$E119),INDEX(Model_Inputs_Ref_Units,,BZ$52)),0)","v":0},{"$f":"IFERROR(SUMPRODUCT(--(INDEX(Model_Inputs_Ref_Units,,CA$51)=$E119),INDEX(Model_Inputs_Ref_Units,,CA$52)),0)","v":0},{"$f":"IFERROR(SUMPRODUCT(--(INDEX(Model_Inputs_Ref_Units,,CB$51)=$E119),INDEX(Model_Inputs_Ref_Units,,CB$52)),0)","v":0},{"$f":"IFERROR(SUMPRODUCT(--(INDEX(Model_Inputs_Ref_Units,,CC$51)=$E119),INDEX(Model_Inputs_Ref_Units,,CC$52)),0)","v":0},{"$f":"IFERROR(SUMPRODUCT(--(INDEX(Model_Inputs_Ref_Units,,CD$51)=$E119),INDEX(Model_Inputs_Ref_Units,,CD$52)),0)","v":0},{"$f":"IFERROR(SUMPRODUCT(--(INDEX(Model_Inputs_Ref_Units,,CE$51)=$E119),INDEX(Model_Inputs_Ref_Units,,CE$52)),0)","v":0},{"$f":"IFERROR(SUMPRODUCT(--(INDEX(Model_Inputs_Ref_Units,,CF$51)=$E119),INDEX(Model_Inputs_Ref_Units,,CF$52)),0)","v":0},{"$f":"IFERROR(SUMPRODUCT(--(INDEX(Model_Inputs_Ref_Units,,CG$51)=$E119),INDEX(Model_Inputs_Ref_Units,,CG$52)),0)","v":0},{"$f":"IFERROR(SUMPRODUCT(--(INDEX(Model_Inputs_Ref_Units,,CH$51)=$E119),INDEX(Model_Inputs_Ref_Units,,CH$52)),0)","v":0},{"$f":"IFERROR(SUMPRODUCT(--(INDEX(Model_Inputs_Ref_Units,,CI$51)=$E119),INDEX(Model_Inputs_Ref_Units,,CI$52)),0)","v":0},{"$f":"IFERROR(SUMPRODUCT(--(INDEX(Model_Inputs_Ref_Units,,CJ$51)=$E119),INDEX(Model_Inputs_Ref_Units,,CJ$52)),0)","v":0},{"$f":"IFERROR(SUMPRODUCT(--(INDEX(Model_Inputs_Ref_Units,,CK$51)=$E119),INDEX(Model_Inputs_Ref_Units,,CK$52)),0)","v":0},{"$f":"IFERROR(SUMPRODUCT(--(INDEX(Model_Inputs_Ref_Units,,CL$51)=$E119),INDEX(Model_Inputs_Ref_Units,,CL$52)),0)","v":0},{"$f":"IFERROR(SUMPRODUCT(--(INDEX(Model_Inputs_Ref_Units,,CM$51)=$E119),INDEX(Model_Inputs_Ref_Units,,CM$52)),0)","v":0},{"$f":"IFERROR(SUMPRODUCT(--(INDEX(Model_Inputs_Ref_Units,,CN$51)=$E119),INDEX(Model_Inputs_Ref_Units,,CN$52)),0)","v":0},{"$f":"IFERROR(SUMPRODUCT(--(INDEX(Model_Inputs_Ref_Units,,CO$51)=$E119),INDEX(Model_Inputs_Ref_Units,,CO$52)),0)","v":0},{"$f":"IFERROR(SUMPRODUCT(--(INDEX(Model_Inputs_Ref_Units,,CP$51)=$E119),INDEX(Model_Inputs_Ref_Units,,CP$52)),0)","v":0},{"$f":"IFERROR(SUMPRODUCT(--(INDEX(Model_Inputs_Ref_Units,,CQ$51)=$E119),INDEX(Model_Inputs_Ref_Units,,CQ$52)),0)","v":0},{"$f":"IFERROR(SUMPRODUCT(--(INDEX(Model_Inputs_Ref_Units,,CR$51)=$E119),INDEX(Model_Inputs_Ref_Units,,CR$52)),0)","v":0},{"$f":"IFERROR(SUMPRODUCT(--(INDEX(Model_Inputs_Ref_Units,,CS$51)=$E119),INDEX(Model_Inputs_Ref_Units,,CS$52)),0)","v":0},{"$f":"IFERROR(SUMPRODUCT(--(INDEX(Model_Inputs_Ref_Units,,CT$51)=$E119),INDEX(Model_Inputs_Ref_Units,,CT$52)),0)","v":0},{"$f":"IFERROR(SUMPRODUCT(--(INDEX(Model_Inputs_Ref_Units,,CU$51)=$E119),INDEX(Model_Inputs_Ref_Units,,CU$52)),0)","v":0},{"$f":"IFERROR(SUMPRODUCT(--(INDEX(Model_Inputs_Ref_Units,,CV$51)=$E119),INDEX(Model_Inputs_Ref_Units,,CV$52)),0)","v":0},{"$f":"IFERROR(SUMPRODUCT(--(INDEX(Model_Inputs_Ref_Units,,CW$51)=$E119),INDEX(Model_Inputs_Ref_Units,,CW$52)),0)","v":0},{"$f":"IFERROR(SUMPRODUCT(--(INDEX(Model_Inputs_Ref_Units,,CX$51)=$E119),INDEX(Model_Inputs_Ref_Units,,CX$52)),0)","v":0},{"$f":"IFERROR(SUMPRODUCT(--(INDEX(Model_Inputs_Ref_Units,,CY$51)=$E119),INDEX(Model_Inputs_Ref_Units,,CY$52)),0)","v":0},{"$f":"IFERROR(SUMPRODUCT(--(INDEX(Model_Inputs_Ref_Units,,CZ$51)=$E119),INDEX(Model_Inputs_Ref_Units,,CZ$52)),0)","v":0},{"$f":"IFERROR(SUMPRODUCT(--(INDEX(Model_Inputs_Ref_Units,,DA$51)=$E119),INDEX(Model_Inputs_Ref_Units,,DA$52)),0)","v":0},{"$f":"IFERROR(SUMPRODUCT(--(INDEX(Model_Inputs_Ref_Units,,DB$51)=$E119),INDEX(Model_Inputs_Ref_Units,,DB$52)),0)","v":0},{"$f":"IFERROR(SUMPRODUCT(--(INDEX(Model_Inputs_Ref_Units,,DC$51)=$E119),INDEX(Model_Inputs_Ref_Units,,DC$52)),0)","v":0},{"$f":"IFERROR(SUMPRODUCT(--(INDEX(Model_Inputs_Ref_Units,,DD$51)=$E119),INDEX(Model_Inputs_Ref_Units,,DD$52)),0)","v":0},{"$f":"IFERROR(SUMPRODUCT(--(INDEX(Model_Inputs_Ref_Units,,DE$51)=$E119),INDEX(Model_Inputs_Ref_Units,,DE$52)),0)","v":0},{"$f":"IFERROR(SUMPRODUCT(--(INDEX(Model_Inputs_Ref_Units,,DF$51)=$E119),INDEX(Model_Inputs_Ref_Units,,DF$52)),0)","v":0}]
[null,null,{"$error":"#DIV/0!"},null,{"$f":"IFERROR(INDEX(Ref_Data,1,F120),\"\")","v":""},67,0,0,0,0,{"$f":"IFERROR(SUMPRODUCT(--(INDEX(Model_Inputs_Ref_Units,,K$51)=$E120),INDEX(Model_Inputs_Ref_Units,,K$52)),0)","v":0},{"$f":"IFERROR(SUMPRODUCT(--(INDEX(Model_Inputs_Ref_Units,,L$51)=$E120),INDEX(Model_Inputs_Ref_Units,,L$52)),0)","v":0},{"$f":"IFERROR(SUMPRODUCT(--(INDEX(Model_Inputs_Ref_Units,,M$51)=$E120),INDEX(Model_Inputs_Ref_Units,,M$52)),0)","v":0},{"$f":"IFERROR(SUMPRODUCT(--(INDEX(Model_Inputs_Ref_Units,,N$51)=$E120),INDEX(Model_Inputs_Ref_Units,,N$52)),0)","v":0},{"$f":"IFERROR(SUMPRODUCT(--(INDEX(Model_Inputs_Ref_Units,,O$51)=$E120),INDEX(Model_Inputs_Ref_Units,,O$52)),0)","v":0},{"$f":"IFERROR(SUMPRODUCT(--(INDEX(Model_Inputs_Ref_Units,,P$51)=$E120),INDEX(Model_Inputs_Ref_Units,,P$52)),0)","v":0},{"$f":"IFERROR(SUMPRODUCT(--(INDEX(Model_Inputs_Ref_Units,,Q$51)=$E120),INDEX(Model_Inputs_Ref_Units,,Q$52)),0)","v":0},{"$f":"IFERROR(SUMPRODUCT(--(INDEX(Model_Inputs_Ref_Units,,R$51)=$E120),INDEX(Model_Inputs_Ref_Units,,R$52)),0)","v":0},{"$f":"IFERROR(SUMPRODUCT(--(INDEX(Model_Inputs_Ref_Units,,S$51)=$E120),INDEX(Model_Inputs_Ref_Units,,S$52)),0)","v":0},{"$f":"IFERROR(SUMPRODUCT(--(INDEX(Model_Inputs_Ref_Units,,T$51)=$E120),INDEX(Model_Inputs_Ref_Units,,T$52)),0)","v":0},{"$f":"IFERROR(SUMPRODUCT(--(INDEX(Model_Inputs_Ref_Units,,U$51)=$E120),INDEX(Model_Inputs_Ref_Units,,U$52)),0)","v":0},{"$f":"IFERROR(SUMPRODUCT(--(INDEX(Model_Inputs_Ref_Units,,V$51)=$E120),INDEX(Model_Inputs_Ref_Units,,V$52)),0)","v":0},{"$f":"IFERROR(SUMPRODUCT(--(INDEX(Model_Inputs_Ref_Units,,W$51)=$E120),INDEX(Model_Inputs_Ref_Units,,W$52)),0)","v":0},{"$f":"IFERROR(SUMPRODUCT(--(INDEX(Model_Inputs_Ref_Units,,X$51)=$E120),INDEX(Model_Inputs_Ref_Units,,X$52)),0)","v":0},{"$f":"IFERROR(SUMPRODUCT(--(INDEX(Model_Inputs_Ref_Units,,Y$51)=$E120),INDEX(Model_Inputs_Ref_Units,,Y$52)),0)","v":0},{"$f":"IFERROR(SUMPRODUCT(--(INDEX(Model_Inputs_Ref_Units,,Z$51)=$E120),INDEX(Model_Inputs_Ref_Units,,Z$52)),0)","v":0},{"$f":"IFERROR(SUMPRODUCT(--(INDEX(Model_Inputs_Ref_Units,,AA$51)=$E120),INDEX(Model_Inputs_Ref_Units,,AA$52)),0)","v":0},{"$f":"IFERROR(SUMPRODUCT(--(INDEX(Model_Inputs_Ref_Units,,AB$51)=$E120),INDEX(Model_Inputs_Ref_Units,,AB$52)),0)","v":0},{"$f":"IFERROR(SUMPRODUCT(--(INDEX(Model_Inputs_Ref_Units,,AC$51)=$E120),INDEX(Model_Inputs_Ref_Units,,AC$52)),0)","v":0},{"$f":"IFERROR(SUMPRODUCT(--(INDEX(Model_Inputs_Ref_Units,,AD$51)=$E120),INDEX(Model_Inputs_Ref_Units,,AD$52)),0)","v":0},{"$f":"IFERROR(SUMPRODUCT(--(INDEX(Model_Inputs_Ref_Units,,AE$51)=$E120),INDEX(Model_Inputs_Ref_Units,,AE$52)),0)","v":0},{"$f":"IFERROR(SUMPRODUCT(--(INDEX(Model_Inputs_Ref_Units,,AF$51)=$E120),INDEX(Model_Inputs_Ref_Units,,AF$52)),0)","v":0},{"$f":"IFERROR(SUMPRODUCT(--(INDEX(Model_Inputs_Ref_Units,,AG$51)=$E120),INDEX(Model_Inputs_Ref_Units,,AG$52)),0)","v":0},{"$f":"IFERROR(SUMPRODUCT(--(INDEX(Model_Inputs_Ref_Units,,AH$51)=$E120),INDEX(Model_Inputs_Ref_Units,,AH$52)),0)","v":0},{"$f":"IFERROR(SUMPRODUCT(--(INDEX(Model_Inputs_Ref_Units,,AI$51)=$E120),INDEX(Model_Inputs_Ref_Units,,AI$52)),0)","v":0},{"$f":"IFERROR(SUMPRODUCT(--(INDEX(Model_Inputs_Ref_Units,,AJ$51)=$E120),INDEX(Model_Inputs_Ref_Units,,AJ$52)),0)","v":0},{"$f":"IFERROR(SUMPRODUCT(--(INDEX(Model_Inputs_Ref_Units,,AK$51)=$E120),INDEX(Model_Inputs_Ref_Units,,AK$52)),0)","v":0},{"$f":"IFERROR(SUMPRODUCT(--(INDEX(Model_Inputs_Ref_Units,,AL$51)=$E120),INDEX(Model_Inputs_Ref_Units,,AL$52)),0)","v":0},{"$f":"IFERROR(SUMPRODUCT(--(INDEX(Model_Inputs_Ref_Units,,AM$51)=$E120),INDEX(Model_Inputs_Ref_Units,,AM$52)),0)","v":0},{"$f":"IFERROR(SUMPRODUCT(--(INDEX(Model_Inputs_Ref_Units,,AN$51)=$E120),INDEX(Model_Inputs_Ref_Units,,AN$52)),0)","v":0},{"$f":"IFERROR(SUMPRODUCT(--(INDEX(Model_Inputs_Ref_Units,,AO$51)=$E120),INDEX(Model_Inputs_Ref_Units,,AO$52)),0)","v":0},{"$f":"IFERROR(SUMPRODUCT(--(INDEX(Model_Inputs_Ref_Units,,AP$51)=$E120),INDEX(Model_Inputs_Ref_Units,,AP$52)),0)","v":0},{"$f":"IFERROR(SUMPRODUCT(--(INDEX(Model_Inputs_Ref_Units,,AQ$51)=$E120),INDEX(Model_Inputs_Ref_Units,,AQ$52)),0)","v":0},{"$f":"IFERROR(SUMPRODUCT(--(INDEX(Model_Inputs_Ref_Units,,AR$51)=$E120),INDEX(Model_Inputs_Ref_Units,,AR$52)),0)","v":0},{"$f":"IFERROR(SUMPRODUCT(--(INDEX(Model_Inputs_Ref_Units,,AS$51)=$E120),INDEX(Model_Inputs_Ref_Units,,AS$52)),0)","v":0},{"$f":"IFERROR(SUMPRODUCT(--(INDEX(Model_Inputs_Ref_Units,,AT$51)=$E120),INDEX(Model_Inputs_Ref_Units,,AT$52)),0)","v":0},{"$f":"IFERROR(SUMPRODUCT(--(INDEX(Model_Inputs_Ref_Units,,AU$51)=$E120),INDEX(Model_Inputs_Ref_Units,,AU$52)),0)","v":0},{"$f":"IFERROR(SUMPRODUCT(--(INDEX(Model_Inputs_Ref_Units,,AV$51)=$E120),INDEX(Model_Inputs_Ref_Units,,AV$52)),0)","v":0},{"$f":"IFERROR(SUMPRODUCT(--(INDEX(Model_Inputs_Ref_Units,,AW$51)=$E120),INDEX(Model_Inputs_Ref_Units,,AW$52)),0)","v":0},{"$f":"IFERROR(SUMPRODUCT(--(INDEX(Model_Inputs_Ref_Units,,AX$51)=$E120),INDEX(Model_Inputs_Ref_Units,,AX$52)),0)","v":0},{"$f":"IFERROR(SUMPRODUCT(--(INDEX(Model_Inputs_Ref_Units,,AY$51)=$E120),INDEX(Model_Inputs_Ref_Units,,AY$52)),0)","v":0},{"$f":"IFERROR(SUMPRODUCT(--(INDEX(Model_Inputs_Ref_Units,,AZ$51)=$E120),INDEX(Model_Inputs_Ref_Units,,AZ$52)),0)","v":0},{"$f":"IFERROR(SUMPRODUCT(--(INDEX(Model_Inputs_Ref_Units,,BA$51)=$E120),INDEX(Model_Inputs_Ref_Units,,BA$52)),0)","v":0},{"$f":"IFERROR(SUMPRODUCT(--(INDEX(Model_Inputs_Ref_Units,,BB$51)=$E120),INDEX(Model_Inputs_Ref_Units,,BB$52)),0)","v":0},{"$f":"IFERROR(SUMPRODUCT(--(INDEX(Model_Inputs_Ref_Units,,BC$51)=$E120),INDEX(Model_Inputs_Ref_Units,,BC$52)),0)","v":0},{"$f":"IFERROR(SUMPRODUCT(--(INDEX(Model_Inputs_Ref_Units,,BD$51)=$E120),INDEX(Model_Inputs_Ref_Units,,BD$52)),0)","v":0},{"$f":"IFERROR(SUMPRODUCT(--(INDEX(Model_Inputs_Ref_Units,,BE$51)=$E120),INDEX(Model_Inputs_Ref_Units,,BE$52)),0)","v":0},{"$f":"IFERROR(SUMPRODUCT(--(INDEX(Model_Inputs_Ref_Units,,BF$51)=$E120),INDEX(Model_Inputs_Ref_Units,,BF$52)),0)","v":0},{"$f":"IFERROR(SUMPRODUCT(--(INDEX(Model_Inputs_Ref_Units,,BG$51)=$E120),INDEX(Model_Inputs_Ref_Units,,BG$52)),0)","v":0},{"$f":"IFERROR(SUMPRODUCT(--(INDEX(Model_Inputs_Ref_Units,,BH$51)=$E120),INDEX(Model_Inputs_Ref_Units,,BH$52)),0)","v":0},{"$f":"IFERROR(SUMPRODUCT(--(INDEX(Model_Inputs_Ref_Units,,BI$51)=$E120),INDEX(Model_Inputs_Ref_Units,,BI$52)),0)","v":0},{"$f":"IFERROR(SUMPRODUCT(--(INDEX(Model_Inputs_Ref_Units,,BJ$51)=$E120),INDEX(Model_Inputs_Ref_Units,,BJ$52)),0)","v":0},{"$f":"IFERROR(SUMPRODUCT(--(INDEX(Model_Inputs_Ref_Units,,BK$51)=$E120),INDEX(Model_Inputs_Ref_Units,,BK$52)),0)","v":0},{"$f":"IFERROR(SUMPRODUCT(--(INDEX(Model_Inputs_Ref_Units,,BL$51)=$E120),INDEX(Model_Inputs_Ref_Units,,BL$52)),0)","v":0},{"$f":"IFERROR(SUMPRODUCT(--(INDEX(Model_Inputs_Ref_Units,,BM$51)=$E120),INDEX(Model_Inputs_Ref_Units,,BM$52)),0)","v":0},{"$f":"IFERROR(SUMPRODUCT(--(INDEX(Model_Inputs_Ref_Units,,BN$51)=$E120),INDEX(Model_Inputs_Ref_Units,,BN$52)),0)","v":0},{"$f":"IFERROR(SUMPRODUCT(--(INDEX(Model_Inputs_Ref_Units,,BO$51)=$E120),INDEX(Model_Inputs_Ref_Units,,BO$52)),0)","v":0},{"$f":"IFERROR(SUMPRODUCT(--(INDEX(Model_Inputs_Ref_Units,,BP$51)=$E120),INDEX(Model_Inputs_Ref_Units,,BP$52)),0)","v":0},{"$f":"IFERROR(SUMPRODUCT(--(INDEX(Model_Inputs_Ref_Units,,BQ$51)=$E120),INDEX(Model_Inputs_Ref_Units,,BQ$52)),0)","v":0},{"$f":"IFERROR(SUMPRODUCT(--(INDEX(Model_Inputs_Ref_Units,,BR$51)=$E120),INDEX(Model_Inputs_Ref_Units,,BR$52)),0)","v":0},{"$f":"IFERROR(SUMPRODUCT(--(INDEX(Model_Inputs_Ref_Units,,BS$51)=$E120),INDEX(Model_Inputs_Ref_Units,,BS$52)),0)","v":0},{"$f":"IFERROR(SUMPRODUCT(--(INDEX(Model_Inputs_Ref_Units,,BT$51)=$E120),INDEX(Model_Inputs_Ref_Units,,BT$52)),0)","v":0},{"$f":"IFERROR(SUMPRODUCT(--(INDEX(Model_Inputs_Ref_Units,,BU$51)=$E120),INDEX(Model_Inputs_Ref_Units,,BU$52)),0)","v":0},{"$f":"IFERROR(SUMPRODUCT(--(INDEX(Model_Inputs_Ref_Units,,BV$51)=$E120),INDEX(Model_Inputs_Ref_Units,,BV$52)),0)","v":0},{"$f":"IFERROR(SUMPRODUCT(--(INDEX(Model_Inputs_Ref_Units,,BW$51)=$E120),INDEX(Model_Inputs_Ref_Units,,BW$52)),0)","v":0},{"$f":"IFERROR(SUMPRODUCT(--(INDEX(Model_Inputs_Ref_Units,,BX$51)=$E120),INDEX(Model_Inputs_Ref_Units,,BX$52)),0)","v":0},{"$f":"IFERROR(SUMPRODUCT(--(INDEX(Model_Inputs_Ref_Units,,BY$51)=$E120),INDEX(Model_Inputs_Ref_Units,,BY$52)),0)","v":0},{"$f":"IFERROR(SUMPRODUCT(--(INDEX(Model_Inputs_Ref_Units,,BZ$51)=$E120),INDEX(Model_Inputs_Ref_Units,,BZ$52)),0)","v":0},{"$f":"IFERROR(SUMPRODUCT(--(INDEX(Model_Inputs_Ref_Units,,CA$51)=$E120),INDEX(Model_Inputs_Ref_Units,,CA$52)),0)","v":0},{"$f":"IFERROR(SUMPRODUCT(--(INDEX(Model_Inputs_Ref_Units,,CB$51)=$E120),INDEX(Model_Inputs_Ref_Units,,CB$52)),0)","v":0},{"$f":"IFERROR(SUMPRODUCT(--(INDEX(Model_Inputs_Ref_Units,,CC$51)=$E120),INDEX(Model_Inputs_Ref_Units,,CC$52)),0)","v":0},{"$f":"IFERROR(SUMPRODUCT(--(INDEX(Model_Inputs_Ref_Units,,CD$51)=$E120),INDEX(Model_Inputs_Ref_Units,,CD$52)),0)","v":0},{"$f":"IFERROR(SUMPRODUCT(--(INDEX(Model_Inputs_Ref_Units,,CE$51)=$E120),INDEX(Model_Inputs_Ref_Units,,CE$52)),0)","v":0},{"$f":"IFERROR(SUMPRODUCT(--(INDEX(Model_Inputs_Ref_Units,,CF$51)=$E120),INDEX(Model_Inputs_Ref_Units,,CF$52)),0)","v":0},{"$f":"IFERROR(SUMPRODUCT(--(INDEX(Model_Inputs_Ref_Units,,CG$51)=$E120),INDEX(Model_Inputs_Ref_Units,,CG$52)),0)","v":0},{"$f":"IFERROR(SUMPRODUCT(--(INDEX(Model_Inputs_Ref_Units,,CH$51)=$E120),INDEX(Model_Inputs_Ref_Units,,CH$52)),0)","v":0},{"$f":"IFERROR(SUMPRODUCT(--(INDEX(Model_Inputs_Ref_Units,,CI$51)=$E120),INDEX(Model_Inputs_Ref_Units,,CI$52)),0)","v":0},{"$f":"IFERROR(SUMPRODUCT(--(INDEX(Model_Inputs_Ref_Units,,CJ$51)=$E120),INDEX(Model_Inputs_Ref_Units,,CJ$52)),0)","v":0},{"$f":"IFERROR(SUMPRODUCT(--(INDEX(Model_Inputs_Ref_Units,,CK$51)=$E120),INDEX(Model_Inputs_Ref_Units,,CK$52)),0)","v":0},{"$f":"IFERROR(SUMPRODUCT(--(INDEX(Model_Inputs_Ref_Units,,CL$51)=$E120),INDEX(Model_Inputs_Ref_Units,,CL$52)),0)","v":0},{"$f":"IFERROR(SUMPRODUCT(--(INDEX(Model_Inputs_Ref_Units,,CM$51)=$E120),INDEX(Model_Inputs_Ref_Units,,CM$52)),0)","v":0},{"$f":"IFERROR(SUMPRODUCT(--(INDEX(Model_Inputs_Ref_Units,,CN$51)=$E120),INDEX(Model_Inputs_Ref_Units,,CN$52)),0)","v":0},{"$f":"IFERROR(SUMPRODUCT(--(INDEX(Model_Inputs_Ref_Units,,CO$51)=$E120),INDEX(Model_Inputs_Ref_Units,,CO$52)),0)","v":0},{"$f":"IFERROR(SUMPRODUCT(--(INDEX(Model_Inputs_Ref_Units,,CP$51)=$E120),INDEX(Model_Inputs_Ref_Units,,CP$52)),0)","v":0},{"$f":"IFERROR(SUMPRODUCT(--(INDEX(Model_Inputs_Ref_Units,,CQ$51)=$E120),INDEX(Model_Inputs_Ref_Units,,CQ$52)),0)","v":0},{"$f":"IFERROR(SUMPRODUCT(--(INDEX(Model_Inputs_Ref_Units,,CR$51)=$E120),INDEX(Model_Inputs_Ref_Units,,CR$52)),0)","v":0},{"$f":"IFERROR(SUMPRODUCT(--(INDEX(Model_Inputs_Ref_Units,,CS$51)=$E120),INDEX(Model_Inputs_Ref_Units,,CS$52)),0)","v":0},{"$f":"IFERROR(SUMPRODUCT(--(INDEX(Model_Inputs_Ref_Units,,CT$51)=$E120),INDEX(Model_Inputs_Ref_Units,,CT$52)),0)","v":0},{"$f":"IFERROR(SUMPRODUCT(--(INDEX(Model_Inputs_Ref_Units,,CU$51)=$E120),INDEX(Model_Inputs_Ref_Units,,CU$52)),0)","v":0},{"$f":"IFERROR(SUMPRODUCT(--(INDEX(Model_Inputs_Ref_Units,,CV$51)=$E120),INDEX(Model_Inputs_Ref_Units,,CV$52)),0)","v":0},{"$f":"IFERROR(SUMPRODUCT(--(INDEX(Model_Inputs_Ref_Units,,CW$51)=$E120),INDEX(Model_Inputs_Ref_Units,,CW$52)),0)","v":0},{"$f":"IFERROR(SUMPRODUCT(--(INDEX(Model_Inputs_Ref_Units,,CX$51)=$E120),INDEX(Model_Inputs_Ref_Units,,CX$52)),0)","v":0},{"$f":"IFERROR(SUMPRODUCT(--(INDEX(Model_Inputs_Ref_Units,,CY$51)=$E120),INDEX(Model_Inputs_Ref_Units,,CY$52)),0)","v":0},{"$f":"IFERROR(SUMPRODUCT(--(INDEX(Model_Inputs_Ref_Units,,CZ$51)=$E120),INDEX(Model_Inputs_Ref_Units,,CZ$52)),0)","v":0},{"$f":"IFERROR(SUMPRODUCT(--(INDEX(Model_Inputs_Ref_Units,,DA$51)=$E120),INDEX(Model_Inputs_Ref_Units,,DA$52)),0)","v":0},{"$f":"IFERROR(SUMPRODUCT(--(INDEX(Model_Inputs_Ref_Units,,DB$51)=$E120),INDEX(Model_Inputs_Ref_Units,,DB$52)),0)","v":0},{"$f":"IFERROR(SUMPRODUCT(--(INDEX(Model_Inputs_Ref_Units,,DC$51)=$E120),INDEX(Model_Inputs_Ref_Units,,DC$52)),0)","v":0},{"$f":"IFERROR(SUMPRODUCT(--(INDEX(Model_Inputs_Ref_Units,,DD$51)=$E120),INDEX(Model_Inputs_Ref_Units,,DD$52)),0)","v":0},{"$f":"IFERROR(SUMPRODUCT(--(INDEX(Model_Inputs_Ref_Units,,DE$51)=$E120),INDEX(Model_Inputs_Ref_Units,,DE$52)),0)","v":0},{"$f":"IFERROR(SUMPRODUCT(--(INDEX(Model_Inputs_Ref_Units,,DF$51)=$E120),INDEX(Model_Inputs_Ref_Units,,DF$52)),0)","v":0}]
[null,null,{"$error":"#DIV/0!"},null,{"$f":"IFERROR(INDEX(Ref_Data,1,F121),\"\")","v":""},68,0,0,0,0,{"$f":"IFERROR(SUMPRODUCT(--(INDEX(Model_Inputs_Ref_Units,,K$51)=$E121),INDEX(Model_Inputs_Ref_Units,,K$52)),0)","v":0},{"$f":"IFERROR(SUMPRODUCT(--(INDEX(Model_Inputs_Ref_Units,,L$51)=$E121),INDEX(Model_Inputs_Ref_Units,,L$52)),0)","v":0},{"$f":"IFERROR(SUMPRODUCT(--(INDEX(Model_Inputs_Ref_Units,,M$51)=$E121),INDEX(Model_Inputs_Ref_Units,,M$52)),0)","v":0},{"$f":"IFERROR(SUMPRODUCT(--(INDEX(Model_Inputs_Ref_Units,,N$51)=$E121),INDEX(Model_Inputs_Ref_Units,,N$52)),0)","v":0},{"$f":"IFERROR(SUMPRODUCT(--(INDEX(Model_Inputs_Ref_Units,,O$51)=$E121),INDEX(Model_Inputs_Ref_Units,,O$52)),0)","v":0},{"$f":"IFERROR(SUMPRODUCT(--(INDEX(Model_Inputs_Ref_Units,,P$51)=$E121),INDEX(Model_Inputs_Ref_Units,,P$52)),0)","v":0},{"$f":"IFERROR(SUMPRODUCT(--(INDEX(Model_Inputs_Ref_Units,,Q$51)=$E121),INDEX(Model_Inputs_Ref_Units,,Q$52)),0)","v":0},{"$f":"IFERROR(SUMPRODUCT(--(INDEX(Model_Inputs_Ref_Units,,R$51)=$E121),INDEX(Model_Inputs_Ref_Units,,R$52)),0)","v":0},{"$f":"IFERROR(SUMPRODUCT(--(INDEX(Model_Inputs_Ref_Units,,S$51)=$E121),INDEX(Model_Inputs_Ref_Units,,S$52)),0)","v":0},{"$f":"IFERROR(SUMPRODUCT(--(INDEX(Model_Inputs_Ref_Units,,T$51)=$E121),INDEX(Model_Inputs_Ref_Units,,T$52)),0)","v":0},{"$f":"IFERROR(SUMPRODUCT(--(INDEX(Model_Inputs_Ref_Units,,U$51)=$E121),INDEX(Model_Inputs_Ref_Units,,U$52)),0)","v":0},{"$f":"IFERROR(SUMPRODUCT(--(INDEX(Model_Inputs_Ref_Units,,V$51)=$E121),INDEX(Model_Inputs_Ref_Units,,V$52)),0)","v":0},{"$f":"IFERROR(SUMPRODUCT(--(INDEX(Model_Inputs_Ref_Units,,W$51)=$E121),INDEX(Model_Inputs_Ref_Units,,W$52)),0)","v":0},{"$f":"IFERROR(SUMPRODUCT(--(INDEX(Model_Inputs_Ref_Units,,X$51)=$E121),INDEX(Model_Inputs_Ref_Units,,X$52)),0)","v":0},{"$f":"IFERROR(SUMPRODUCT(--(INDEX(Model_Inputs_Ref_Units,,Y$51)=$E121),INDEX(Model_Inputs_Ref_Units,,Y$52)),0)","v":0},{"$f":"IFERROR(SUMPRODUCT(--(INDEX(Model_Inputs_Ref_Units,,Z$51)=$E121),INDEX(Model_Inputs_Ref_Units,,Z$52)),0)","v":0},{"$f":"IFERROR(SUMPRODUCT(--(INDEX(Model_Inputs_Ref_Units,,AA$51)=$E121),INDEX(Model_Inputs_Ref_Units,,AA$52)),0)","v":0},{"$f":"IFERROR(SUMPRODUCT(--(INDEX(Model_Inputs_Ref_Units,,AB$51)=$E121),INDEX(Model_Inputs_Ref_Units,,AB$52)),0)","v":0},{"$f":"IFERROR(SUMPRODUCT(--(INDEX(Model_Inputs_Ref_Units,,AC$51)=$E121),INDEX(Model_Inputs_Ref_Units,,AC$52)),0)","v":0},{"$f":"IFERROR(SUMPRODUCT(--(INDEX(Model_Inputs_Ref_Units,,AD$51)=$E121),INDEX(Model_Inputs_Ref_Units,,AD$52)),0)","v":0},{"$f":"IFERROR(SUMPRODUCT(--(INDEX(Model_Inputs_Ref_Units,,AE$51)=$E121),INDEX(Model_Inputs_Ref_Units,,AE$52)),0)","v":0},{"$f":"IFERROR(SUMPRODUCT(--(INDEX(Model_Inputs_Ref_Units,,AF$51)=$E121),INDEX(Model_Inputs_Ref_Units,,AF$52)),0)","v":0},{"$f":"IFERROR(SUMPRODUCT(--(INDEX(Model_Inputs_Ref_Units,,AG$51)=$E121),INDEX(Model_Inputs_Ref_Units,,AG$52)),0)","v":0},{"$f":"IFERROR(SUMPRODUCT(--(INDEX(Model_Inputs_Ref_Units,,AH$51)=$E121),INDEX(Model_Inputs_Ref_Units,,AH$52)),0)","v":0},{"$f":"IFERROR(SUMPRODUCT(--(INDEX(Model_Inputs_Ref_Units,,AI$51)=$E121),INDEX(Model_Inputs_Ref_Units,,AI$52)),0)","v":0},{"$f":"IFERROR(SUMPRODUCT(--(INDEX(Model_Inputs_Ref_Units,,AJ$51)=$E121),INDEX(Model_Inputs_Ref_Units,,AJ$52)),0)","v":0},{"$f":"IFERROR(SUMPRODUCT(--(INDEX(Model_Inputs_Ref_Units,,AK$51)=$E121),INDEX(Model_Inputs_Ref_Units,,AK$52)),0)","v":0},{"$f":"IFERROR(SUMPRODUCT(--(INDEX(Model_Inputs_Ref_Units,,AL$51)=$E121),INDEX(Model_Inputs_Ref_Units,,AL$52)),0)","v":0},{"$f":"IFERROR(SUMPRODUCT(--(INDEX(Model_Inputs_Ref_Units,,AM$51)=$E121),INDEX(Model_Inputs_Ref_Units,,AM$52)),0)","v":0},{"$f":"IFERROR(SUMPRODUCT(--(INDEX(Model_Inputs_Ref_Units,,AN$51)=$E121),INDEX(Model_Inputs_Ref_Units,,AN$52)),0)","v":0},{"$f":"IFERROR(SUMPRODUCT(--(INDEX(Model_Inputs_Ref_Units,,AO$51)=$E121),INDEX(Model_Inputs_Ref_Units,,AO$52)),0)","v":0},{"$f":"IFERROR(SUMPRODUCT(--(INDEX(Model_Inputs_Ref_Units,,AP$51)=$E121),INDEX(Model_Inputs_Ref_Units,,AP$52)),0)","v":0},{"$f":"IFERROR(SUMPRODUCT(--(INDEX(Model_Inputs_Ref_Units,,AQ$51)=$E121),INDEX(Model_Inputs_Ref_Units,,AQ$52)),0)","v":0},{"$f":"IFERROR(SUMPRODUCT(--(INDEX(Model_Inputs_Ref_Units,,AR$51)=$E121),INDEX(Model_Inputs_Ref_Units,,AR$52)),0)","v":0},{"$f":"IFERROR(SUMPRODUCT(--(INDEX(Model_Inputs_Ref_Units,,AS$51)=$E121),INDEX(Model_Inputs_Ref_Units,,AS$52)),0)","v":0},{"$f":"IFERROR(SUMPRODUCT(--(INDEX(Model_Inputs_Ref_Units,,AT$51)=$E121),INDEX(Model_Inputs_Ref_Units,,AT$52)),0)","v":0},{"$f":"IFERROR(SUMPRODUCT(--(INDEX(Model_Inputs_Ref_Units,,AU$51)=$E121),INDEX(Model_Inputs_Ref_Units,,AU$52)),0)","v":0},{"$f":"IFERROR(SUMPRODUCT(--(INDEX(Model_Inputs_Ref_Units,,AV$51)=$E121),INDEX(Model_Inputs_Ref_Units,,AV$52)),0)","v":0},{"$f":"IFERROR(SUMPRODUCT(--(INDEX(Model_Inputs_Ref_Units,,AW$51)=$E121),INDEX(Model_Inputs_Ref_Units,,AW$52)),0)","v":0},{"$f":"IFERROR(SUMPRODUCT(--(INDEX(Model_Inputs_Ref_Units,,AX$51)=$E121),INDEX(Model_Inputs_Ref_Units,,AX$52)),0)","v":0},{"$f":"IFERROR(SUMPRODUCT(--(INDEX(Model_Inputs_Ref_Units,,AY$51)=$E121),INDEX(Model_Inputs_Ref_Units,,AY$52)),0)","v":0},{"$f":"IFERROR(SUMPRODUCT(--(INDEX(Model_Inputs_Ref_Units,,AZ$51)=$E121),INDEX(Model_Inputs_Ref_Units,,AZ$52)),0)","v":0},{"$f":"IFERROR(SUMPRODUCT(--(INDEX(Model_Inputs_Ref_Units,,BA$51)=$E121),INDEX(Model_Inputs_Ref_Units,,BA$52)),0)","v":0},{"$f":"IFERROR(SUMPRODUCT(--(INDEX(Model_Inputs_Ref_Units,,BB$51)=$E121),INDEX(Model_Inputs_Ref_Units,,BB$52)),0)","v":0},{"$f":"IFERROR(SUMPRODUCT(--(INDEX(Model_Inputs_Ref_Units,,BC$51)=$E121),INDEX(Model_Inputs_Ref_Units,,BC$52)),0)","v":0},{"$f":"IFERROR(SUMPRODUCT(--(INDEX(Model_Inputs_Ref_Units,,BD$51)=$E121),INDEX(Model_Inputs_Ref_Units,,BD$52)),0)","v":0},{"$f":"IFERROR(SUMPRODUCT(--(INDEX(Model_Inputs_Ref_Units,,BE$51)=$E121),INDEX(Model_Inputs_Ref_Units,,BE$52)),0)","v":0},{"$f":"IFERROR(SUMPRODUCT(--(INDEX(Model_Inputs_Ref_Units,,BF$51)=$E121),INDEX(Model_Inputs_Ref_Units,,BF$52)),0)","v":0},{"$f":"IFERROR(SUMPRODUCT(--(INDEX(Model_Inputs_Ref_Units,,BG$51)=$E121),INDEX(Model_Inputs_Ref_Units,,BG$52)),0)","v":0},{"$f":"IFERROR(SUMPRODUCT(--(INDEX(Model_Inputs_Ref_Units,,BH$51)=$E121),INDEX(Model_Inputs_Ref_Units,,BH$52)),0)","v":0},{"$f":"IFERROR(SUMPRODUCT(--(INDEX(Model_Inputs_Ref_Units,,BI$51)=$E121),INDEX(Model_Inputs_Ref_Units,,BI$52)),0)","v":0},{"$f":"IFERROR(SUMPRODUCT(--(INDEX(Model_Inputs_Ref_Units,,BJ$51)=$E121),INDEX(Model_Inputs_Ref_Units,,BJ$52)),0)","v":0},{"$f":"IFERROR(SUMPRODUCT(--(INDEX(Model_Inputs_Ref_Units,,BK$51)=$E121),INDEX(Model_Inputs_Ref_Units,,BK$52)),0)","v":0},{"$f":"IFERROR(SUMPRODUCT(--(INDEX(Model_Inputs_Ref_Units,,BL$51)=$E121),INDEX(Model_Inputs_Ref_Units,,BL$52)),0)","v":0},{"$f":"IFERROR(SUMPRODUCT(--(INDEX(Model_Inputs_Ref_Units,,BM$51)=$E121),INDEX(Model_Inputs_Ref_Units,,BM$52)),0)","v":0},{"$f":"IFERROR(SUMPRODUCT(--(INDEX(Model_Inputs_Ref_Units,,BN$51)=$E121),INDEX(Model_Inputs_Ref_Units,,BN$52)),0)","v":0},{"$f":"IFERROR(SUMPRODUCT(--(INDEX(Model_Inputs_Ref_Units,,BO$51)=$E121),INDEX(Model_Inputs_Ref_Units,,BO$52)),0)","v":0},{"$f":"IFERROR(SUMPRODUCT(--(INDEX(Model_Inputs_Ref_Units,,BP$51)=$E121),INDEX(Model_Inputs_Ref_Units,,BP$52)),0)","v":0},{"$f":"IFERROR(SUMPRODUCT(--(INDEX(Model_Inputs_Ref_Units,,BQ$51)=$E121),INDEX(Model_Inputs_Ref_Units,,BQ$52)),0)","v":0},{"$f":"IFERROR(SUMPRODUCT(--(INDEX(Model_Inputs_Ref_Units,,BR$51)=$E121),INDEX(Model_Inputs_Ref_Units,,BR$52)),0)","v":0},{"$f":"IFERROR(SUMPRODUCT(--(INDEX(Model_Inputs_Ref_Units,,BS$51)=$E121),INDEX(Model_Inputs_Ref_Units,,BS$52)),0)","v":0},{"$f":"IFERROR(SUMPRODUCT(--(INDEX(Model_Inputs_Ref_Units,,BT$51)=$E121),INDEX(Model_Inputs_Ref_Units,,BT$52)),0)","v":0},{"$f":"IFERROR(SUMPRODUCT(--(INDEX(Model_Inputs_Ref_Units,,BU$51)=$E121),INDEX(Model_Inputs_Ref_Units,,BU$52)),0)","v":0},{"$f":"IFERROR(SUMPRODUCT(--(INDEX(Model_Inputs_Ref_Units,,BV$51)=$E121),INDEX(Model_Inputs_Ref_Units,,BV$52)),0)","v":0},{"$f":"IFERROR(SUMPRODUCT(--(INDEX(Model_Inputs_Ref_Units,,BW$51)=$E121),INDEX(Model_Inputs_Ref_Units,,BW$52)),0)","v":0},{"$f":"IFERROR(SUMPRODUCT(--(INDEX(Model_Inputs_Ref_Units,,BX$51)=$E121),INDEX(Model_Inputs_Ref_Units,,BX$52)),0)","v":0},{"$f":"IFERROR(SUMPRODUCT(--(INDEX(Model_Inputs_Ref_Units,,BY$51)=$E121),INDEX(Model_Inputs_Ref_Units,,BY$52)),0)","v":0},{"$f":"IFERROR(SUMPRODUCT(--(INDEX(Model_Inputs_Ref_Units,,BZ$51)=$E121),INDEX(Model_Inputs_Ref_Units,,BZ$52)),0)","v":0},{"$f":"IFERROR(SUMPRODUCT(--(INDEX(Model_Inputs_Ref_Units,,CA$51)=$E121),INDEX(Model_Inputs_Ref_Units,,CA$52)),0)","v":0},{"$f":"IFERROR(SUMPRODUCT(--(INDEX(Model_Inputs_Ref_Units,,CB$51)=$E121),INDEX(Model_Inputs_Ref_Units,,CB$52)),0)","v":0},{"$f":"IFERROR(SUMPRODUCT(--(INDEX(Model_Inputs_Ref_Units,,CC$51)=$E121),INDEX(Model_Inputs_Ref_Units,,CC$52)),0)","v":0},{"$f":"IFERROR(SUMPRODUCT(--(INDEX(Model_Inputs_Ref_Units,,CD$51)=$E121),INDEX(Model_Inputs_Ref_Units,,CD$52)),0)","v":0},{"$f":"IFERROR(SUMPRODUCT(--(INDEX(Model_Inputs_Ref_Units,,CE$51)=$E121),INDEX(Model_Inputs_Ref_Units,,CE$52)),0)","v":0},{"$f":"IFERROR(SUMPRODUCT(--(INDEX(Model_Inputs_Ref_Units,,CF$51)=$E121),INDEX(Model_Inputs_Ref_Units,,CF$52)),0)","v":0},{"$f":"IFERROR(SUMPRODUCT(--(INDEX(Model_Inputs_Ref_Units,,CG$51)=$E121),INDEX(Model_Inputs_Ref_Units,,CG$52)),0)","v":0},{"$f":"IFERROR(SUMPRODUCT(--(INDEX(Model_Inputs_Ref_Units,,CH$51)=$E121),INDEX(Model_Inputs_Ref_Units,,CH$52)),0)","v":0},{"$f":"IFERROR(SUMPRODUCT(--(INDEX(Model_Inputs_Ref_Units,,CI$51)=$E121),INDEX(Model_Inputs_Ref_Units,,CI$52)),0)","v":0},{"$f":"IFERROR(SUMPRODUCT(--(INDEX(Model_Inputs_Ref_Units,,CJ$51)=$E121),INDEX(Model_Inputs_Ref_Units,,CJ$52)),0)","v":0},{"$f":"IFERROR(SUMPRODUCT(--(INDEX(Model_Inputs_Ref_Units,,CK$51)=$E121),INDEX(Model_Inputs_Ref_Units,,CK$52)),0)","v":0},{"$f":"IFERROR(SUMPRODUCT(--(INDEX(Model_Inputs_Ref_Units,,CL$51)=$E121),INDEX(Model_Inputs_Ref_Units,,CL$52)),0)","v":0},{"$f":"IFERROR(SUMPRODUCT(--(INDEX(Model_Inputs_Ref_Units,,CM$51)=$E121),INDEX(Model_Inputs_Ref_Units,,CM$52)),0)","v":0},{"$f":"IFERROR(SUMPRODUCT(--(INDEX(Model_Inputs_Ref_Units,,CN$51)=$E121),INDEX(Model_Inputs_Ref_Units,,CN$52)),0)","v":0},{"$f":"IFERROR(SUMPRODUCT(--(INDEX(Model_Inputs_Ref_Units,,CO$51)=$E121),INDEX(Model_Inputs_Ref_Units,,CO$52)),0)","v":0},{"$f":"IFERROR(SUMPRODUCT(--(INDEX(Model_Inputs_Ref_Units,,CP$51)=$E121),INDEX(Model_Inputs_Ref_Units,,CP$52)),0)","v":0},{"$f":"IFERROR(SUMPRODUCT(--(INDEX(Model_Inputs_Ref_Units,,CQ$51)=$E121),INDEX(Model_Inputs_Ref_Units,,CQ$52)),0)","v":0},{"$f":"IFERROR(SUMPRODUCT(--(INDEX(Model_Inputs_Ref_Units,,CR$51)=$E121),INDEX(Model_Inputs_Ref_Units,,CR$52)),0)","v":0},{"$f":"IFERROR(SUMPRODUCT(--(INDEX(Model_Inputs_Ref_Units,,CS$51)=$E121),INDEX(Model_Inputs_Ref_Units,,CS$52)),0)","v":0},{"$f":"IFERROR(SUMPRODUCT(--(INDEX(Model_Inputs_Ref_Units,,CT$51)=$E121),INDEX(Model_Inputs_Ref_Units,,CT$52)),0)","v":0},{"$f":"IFERROR(SUMPRODUCT(--(INDEX(Model_Inputs_Ref_Units,,CU$51)=$E121),INDEX(Model_Inputs_Ref_Units,,CU$52)),0)","v":0},{"$f":"IFERROR(SUMPRODUCT(--(INDEX(Model_Inputs_Ref_Units,,CV$51)=$E121),INDEX(Model_Inputs_Ref_Units,,CV$52)),0)","v":0},{"$f":"IFERROR(SUMPRODUCT(--(INDEX(Model_Inputs_Ref_Units,,CW$51)=$E121),INDEX(Model_Inputs_Ref_Units,,CW$52)),0)","v":0},{"$f":"IFERROR(SUMPRODUCT(--(INDEX(Model_Inputs_Ref_Units,,CX$51)=$E121),INDEX(Model_Inputs_Ref_Units,,CX$52)),0)","v":0},{"$f":"IFERROR(SUMPRODUCT(--(INDEX(Model_Inputs_Ref_Units,,CY$51)=$E121),INDEX(Model_Inputs_Ref_Units,,CY$52)),0)","v":0},{"$f":"IFERROR(SUMPRODUCT(--(INDEX(Model_Inputs_Ref_Units,,CZ$51)=$E121),INDEX(Model_Inputs_Ref_Units,,CZ$52)),0)","v":0},{"$f":"IFERROR(SUMPRODUCT(--(INDEX(Model_Inputs_Ref_Units,,DA$51)=$E121),INDEX(Model_Inputs_Ref_Units,,DA$52)),0)","v":0},{"$f":"IFERROR(SUMPRODUCT(--(INDEX(Model_Inputs_Ref_Units,,DB$51)=$E121),INDEX(Model_Inputs_Ref_Units,,DB$52)),0)","v":0},{"$f":"IFERROR(SUMPRODUCT(--(INDEX(Model_Inputs_Ref_Units,,DC$51)=$E121),INDEX(Model_Inputs_Ref_Units,,DC$52)),0)","v":0},{"$f":"IFERROR(SUMPRODUCT(--(INDEX(Model_Inputs_Ref_Units,,DD$51)=$E121),INDEX(Model_Inputs_Ref_Units,,DD$52)),0)","v":0},{"$f":"IFERROR(SUMPRODUCT(--(INDEX(Model_Inputs_Ref_Units,,DE$51)=$E121),INDEX(Model_Inputs_Ref_Units,,DE$52)),0)","v":0},{"$f":"IFERROR(SUMPRODUCT(--(INDEX(Model_Inputs_Ref_Units,,DF$51)=$E121),INDEX(Model_Inputs_Ref_Units,,DF$52)),0)","v":0}]
[null,null,{"$error":"#DIV/0!"},null,{"$f":"IFERROR(INDEX(Ref_Data,1,F122),\"\")","v":""},69,0,0,0,0,{"$f":"IFERROR(SUMPRODUCT(--(INDEX(Model_Inputs_Ref_Units,,K$51)=$E122),INDEX(Model_Inputs_Ref_Units,,K$52)),0)","v":0},{"$f":"IFERROR(SUMPRODUCT(--(INDEX(Model_Inputs_Ref_Units,,L$51)=$E122),INDEX(Model_Inputs_Ref_Units,,L$52)),0)","v":0},{"$f":"IFERROR(SUMPRODUCT(--(INDEX(Model_Inputs_Ref_Units,,M$51)=$E122),INDEX(Model_Inputs_Ref_Units,,M$52)),0)","v":0},{"$f":"IFERROR(SUMPRODUCT(--(INDEX(Model_Inputs_Ref_Units,,N$51)=$E122),INDEX(Model_Inputs_Ref_Units,,N$52)),0)","v":0},{"$f":"IFERROR(SUMPRODUCT(--(INDEX(Model_Inputs_Ref_Units,,O$51)=$E122),INDEX(Model_Inputs_Ref_Units,,O$52)),0)","v":0},{"$f":"IFERROR(SUMPRODUCT(--(INDEX(Model_Inputs_Ref_Units,,P$51)=$E122),INDEX(Model_Inputs_Ref_Units,,P$52)),0)","v":0},{"$f":"IFERROR(SUMPRODUCT(--(INDEX(Model_Inputs_Ref_Units,,Q$51)=$E122),INDEX(Model_Inputs_Ref_Units,,Q$52)),0)","v":0},{"$f":"IFERROR(SUMPRODUCT(--(INDEX(Model_Inputs_Ref_Units,,R$51)=$E122),INDEX(Model_Inputs_Ref_Units,,R$52)),0)","v":0},{"$f":"IFERROR(SUMPRODUCT(--(INDEX(Model_Inputs_Ref_Units,,S$51)=$E122),INDEX(Model_Inputs_Ref_Units,,S$52)),0)","v":0},{"$f":"IFERROR(SUMPRODUCT(--(INDEX(Model_Inputs_Ref_Units,,T$51)=$E122),INDEX(Model_Inputs_Ref_Units,,T$52)),0)","v":0},{"$f":"IFERROR(SUMPRODUCT(--(INDEX(Model_Inputs_Ref_Units,,U$51)=$E122),INDEX(Model_Inputs_Ref_Units,,U$52)),0)","v":0},{"$f":"IFERROR(SUMPRODUCT(--(INDEX(Model_Inputs_Ref_Units,,V$51)=$E122),INDEX(Model_Inputs_Ref_Units,,V$52)),0)","v":0},{"$f":"IFERROR(SUMPRODUCT(--(INDEX(Model_Inputs_Ref_Units,,W$51)=$E122),INDEX(Model_Inputs_Ref_Units,,W$52)),0)","v":0},{"$f":"IFERROR(SUMPRODUCT(--(INDEX(Model_Inputs_Ref_Units,,X$51)=$E122),INDEX(Model_Inputs_Ref_Units,,X$52)),0)","v":0},{"$f":"IFERROR(SUMPRODUCT(--(INDEX(Model_Inputs_Ref_Units,,Y$51)=$E122),INDEX(Model_Inputs_Ref_Units,,Y$52)),0)","v":0},{"$f":"IFERROR(SUMPRODUCT(--(INDEX(Model_Inputs_Ref_Units,,Z$51)=$E122),INDEX(Model_Inputs_Ref_Units,,Z$52)),0)","v":0},{"$f":"IFERROR(SUMPRODUCT(--(INDEX(Model_Inputs_Ref_Units,,AA$51)=$E122),INDEX(Model_Inputs_Ref_Units,,AA$52)),0)","v":0},{"$f":"IFERROR(SUMPRODUCT(--(INDEX(Model_Inputs_Ref_Units,,AB$51)=$E122),INDEX(Model_Inputs_Ref_Units,,AB$52)),0)","v":0},{"$f":"IFERROR(SUMPRODUCT(--(INDEX(Model_Inputs_Ref_Units,,AC$51)=$E122),INDEX(Model_Inputs_Ref_Units,,AC$52)),0)","v":0},{"$f":"IFERROR(SUMPRODUCT(--(INDEX(Model_Inputs_Ref_Units,,AD$51)=$E122),INDEX(Model_Inputs_Ref_Units,,AD$52)),0)","v":0},{"$f":"IFERROR(SUMPRODUCT(--(INDEX(Model_Inputs_Ref_Units,,AE$51)=$E122),INDEX(Model_Inputs_Ref_Units,,AE$52)),0)","v":0},{"$f":"IFERROR(SUMPRODUCT(--(INDEX(Model_Inputs_Ref_Units,,AF$51)=$E122),INDEX(Model_Inputs_Ref_Units,,AF$52)),0)","v":0},{"$f":"IFERROR(SUMPRODUCT(--(INDEX(Model_Inputs_Ref_Units,,AG$51)=$E122),INDEX(Model_Inputs_Ref_Units,,AG$52)),0)","v":0},{"$f":"IFERROR(SUMPRODUCT(--(INDEX(Model_Inputs_Ref_Units,,AH$51)=$E122),INDEX(Model_Inputs_Ref_Units,,AH$52)),0)","v":0},{"$f":"IFERROR(SUMPRODUCT(--(INDEX(Model_Inputs_Ref_Units,,AI$51)=$E122),INDEX(Model_Inputs_Ref_Units,,AI$52)),0)","v":0},{"$f":"IFERROR(SUMPRODUCT(--(INDEX(Model_Inputs_Ref_Units,,AJ$51)=$E122),INDEX(Model_Inputs_Ref_Units,,AJ$52)),0)","v":0},{"$f":"IFERROR(SUMPRODUCT(--(INDEX(Model_Inputs_Ref_Units,,AK$51)=$E122),INDEX(Model_Inputs_Ref_Units,,AK$52)),0)","v":0},{"$f":"IFERROR(SUMPRODUCT(--(INDEX(Model_Inputs_Ref_Units,,AL$51)=$E122),INDEX(Model_Inputs_Ref_Units,,AL$52)),0)","v":0},{"$f":"IFERROR(SUMPRODUCT(--(INDEX(Model_Inputs_Ref_Units,,AM$51)=$E122),INDEX(Model_Inputs_Ref_Units,,AM$52)),0)","v":0},{"$f":"IFERROR(SUMPRODUCT(--(INDEX(Model_Inputs_Ref_Units,,AN$51)=$E122),INDEX(Model_Inputs_Ref_Units,,AN$52)),0)","v":0},{"$f":"IFERROR(SUMPRODUCT(--(INDEX(Model_Inputs_Ref_Units,,AO$51)=$E122),INDEX(Model_Inputs_Ref_Units,,AO$52)),0)","v":0},{"$f":"IFERROR(SUMPRODUCT(--(INDEX(Model_Inputs_Ref_Units,,AP$51)=$E122),INDEX(Model_Inputs_Ref_Units,,AP$52)),0)","v":0},{"$f":"IFERROR(SUMPRODUCT(--(INDEX(Model_Inputs_Ref_Units,,AQ$51)=$E122),INDEX(Model_Inputs_Ref_Units,,AQ$52)),0)","v":0},{"$f":"IFERROR(SUMPRODUCT(--(INDEX(Model_Inputs_Ref_Units,,AR$51)=$E122),INDEX(Model_Inputs_Ref_Units,,AR$52)),0)","v":0},{"$f":"IFERROR(SUMPRODUCT(--(INDEX(Model_Inputs_Ref_Units,,AS$51)=$E122),INDEX(Model_Inputs_Ref_Units,,AS$52)),0)","v":0},{"$f":"IFERROR(SUMPRODUCT(--(INDEX(Model_Inputs_Ref_Units,,AT$51)=$E122),INDEX(Model_Inputs_Ref_Units,,AT$52)),0)","v":0},{"$f":"IFERROR(SUMPRODUCT(--(INDEX(Model_Inputs_Ref_Units,,AU$51)=$E122),INDEX(Model_Inputs_Ref_Units,,AU$52)),0)","v":0},{"$f":"IFERROR(SUMPRODUCT(--(INDEX(Model_Inputs_Ref_Units,,AV$51)=$E122),INDEX(Model_Inputs_Ref_Units,,AV$52)),0)","v":0},{"$f":"IFERROR(SUMPRODUCT(--(INDEX(Model_Inputs_Ref_Units,,AW$51)=$E122),INDEX(Model_Inputs_Ref_Units,,AW$52)),0)","v":0},{"$f":"IFERROR(SUMPRODUCT(--(INDEX(Model_Inputs_Ref_Units,,AX$51)=$E122),INDEX(Model_Inputs_Ref_Units,,AX$52)),0)","v":0},{"$f":"IFERROR(SUMPRODUCT(--(INDEX(Model_Inputs_Ref_Units,,AY$51)=$E122),INDEX(Model_Inputs_Ref_Units,,AY$52)),0)","v":0},{"$f":"IFERROR(SUMPRODUCT(--(INDEX(Model_Inputs_Ref_Units,,AZ$51)=$E122),INDEX(Model_Inputs_Ref_Units,,AZ$52)),0)","v":0},{"$f":"IFERROR(SUMPRODUCT(--(INDEX(Model_Inputs_Ref_Units,,BA$51)=$E122),INDEX(Model_Inputs_Ref_Units,,BA$52)),0)","v":0},{"$f":"IFERROR(SUMPRODUCT(--(INDEX(Model_Inputs_Ref_Units,,BB$51)=$E122),INDEX(Model_Inputs_Ref_Units,,BB$52)),0)","v":0},{"$f":"IFERROR(SUMPRODUCT(--(INDEX(Model_Inputs_Ref_Units,,BC$51)=$E122),INDEX(Model_Inputs_Ref_Units,,BC$52)),0)","v":0},{"$f":"IFERROR(SUMPRODUCT(--(INDEX(Model_Inputs_Ref_Units,,BD$51)=$E122),INDEX(Model_Inputs_Ref_Units,,BD$52)),0)","v":0},{"$f":"IFERROR(SUMPRODUCT(--(INDEX(Model_Inputs_Ref_Units,,BE$51)=$E122),INDEX(Model_Inputs_Ref_Units,,BE$52)),0)","v":0},{"$f":"IFERROR(SUMPRODUCT(--(INDEX(Model_Inputs_Ref_Units,,BF$51)=$E122),INDEX(Model_Inputs_Ref_Units,,BF$52)),0)","v":0},{"$f":"IFERROR(SUMPRODUCT(--(INDEX(Model_Inputs_Ref_Units,,BG$51)=$E122),INDEX(Model_Inputs_Ref_Units,,BG$52)),0)","v":0},{"$f":"IFERROR(SUMPRODUCT(--(INDEX(Model_Inputs_Ref_Units,,BH$51)=$E122),INDEX(Model_Inputs_Ref_Units,,BH$52)),0)","v":0},{"$f":"IFERROR(SUMPRODUCT(--(INDEX(Model_Inputs_Ref_Units,,BI$51)=$E122),INDEX(Model_Inputs_Ref_Units,,BI$52)),0)","v":0},{"$f":"IFERROR(SUMPRODUCT(--(INDEX(Model_Inputs_Ref_Units,,BJ$51)=$E122),INDEX(Model_Inputs_Ref_Units,,BJ$52)),0)","v":0},{"$f":"IFERROR(SUMPRODUCT(--(INDEX(Model_Inputs_Ref_Units,,BK$51)=$E122),INDEX(Model_Inputs_Ref_Units,,BK$52)),0)","v":0},{"$f":"IFERROR(SUMPRODUCT(--(INDEX(Model_Inputs_Ref_Units,,BL$51)=$E122),INDEX(Model_Inputs_Ref_Units,,BL$52)),0)","v":0},{"$f":"IFERROR(SUMPRODUCT(--(INDEX(Model_Inputs_Ref_Units,,BM$51)=$E122),INDEX(Model_Inputs_Ref_Units,,BM$52)),0)","v":0},{"$f":"IFERROR(SUMPRODUCT(--(INDEX(Model_Inputs_Ref_Units,,BN$51)=$E122),INDEX(Model_Inputs_Ref_Units,,BN$52)),0)","v":0},{"$f":"IFERROR(SUMPRODUCT(--(INDEX(Model_Inputs_Ref_Units,,BO$51)=$E122),INDEX(Model_Inputs_Ref_Units,,BO$52)),0)","v":0},{"$f":"IFERROR(SUMPRODUCT(--(INDEX(Model_Inputs_Ref_Units,,BP$51)=$E122),INDEX(Model_Inputs_Ref_Units,,BP$52)),0)","v":0},{"$f":"IFERROR(SUMPRODUCT(--(INDEX(Model_Inputs_Ref_Units,,BQ$51)=$E122),INDEX(Model_Inputs_Ref_Units,,BQ$52)),0)","v":0},{"$f":"IFERROR(SUMPRODUCT(--(INDEX(Model_Inputs_Ref_Units,,BR$51)=$E122),INDEX(Model_Inputs_Ref_Units,,BR$52)),0)","v":0},{"$f":"IFERROR(SUMPRODUCT(--(INDEX(Model_Inputs_Ref_Units,,BS$51)=$E122),INDEX(Model_Inputs_Ref_Units,,BS$52)),0)","v":0},{"$f":"IFERROR(SUMPRODUCT(--(INDEX(Model_Inputs_Ref_Units,,BT$51)=$E122),INDEX(Model_Inputs_Ref_Units,,BT$52)),0)","v":0},{"$f":"IFERROR(SUMPRODUCT(--(INDEX(Model_Inputs_Ref_Units,,BU$51)=$E122),INDEX(Model_Inputs_Ref_Units,,BU$52)),0)","v":0},{"$f":"IFERROR(SUMPRODUCT(--(INDEX(Model_Inputs_Ref_Units,,BV$51)=$E122),INDEX(Model_Inputs_Ref_Units,,BV$52)),0)","v":0},{"$f":"IFERROR(SUMPRODUCT(--(INDEX(Model_Inputs_Ref_Units,,BW$51)=$E122),INDEX(Model_Inputs_Ref_Units,,BW$52)),0)","v":0},{"$f":"IFERROR(SUMPRODUCT(--(INDEX(Model_Inputs_Ref_Units,,BX$51)=$E122),INDEX(Model_Inputs_Ref_Units,,BX$52)),0)","v":0},{"$f":"IFERROR(SUMPRODUCT(--(INDEX(Model_Inputs_Ref_Units,,BY$51)=$E122),INDEX(Model_Inputs_Ref_Units,,BY$52)),0)","v":0},{"$f":"IFERROR(SUMPRODUCT(--(INDEX(Model_Inputs_Ref_Units,,BZ$51)=$E122),INDEX(Model_Inputs_Ref_Units,,BZ$52)),0)","v":0},{"$f":"IFERROR(SUMPRODUCT(--(INDEX(Model_Inputs_Ref_Units,,CA$51)=$E122),INDEX(Model_Inputs_Ref_Units,,CA$52)),0)","v":0},{"$f":"IFERROR(SUMPRODUCT(--(INDEX(Model_Inputs_Ref_Units,,CB$51)=$E122),INDEX(Model_Inputs_Ref_Units,,CB$52)),0)","v":0},{"$f":"IFERROR(SUMPRODUCT(--(INDEX(Model_Inputs_Ref_Units,,CC$51)=$E122),INDEX(Model_Inputs_Ref_Units,,CC$52)),0)","v":0},{"$f":"IFERROR(SUMPRODUCT(--(INDEX(Model_Inputs_Ref_Units,,CD$51)=$E122),INDEX(Model_Inputs_Ref_Units,,CD$52)),0)","v":0},{"$f":"IFERROR(SUMPRODUCT(--(INDEX(Model_Inputs_Ref_Units,,CE$51)=$E122),INDEX(Model_Inputs_Ref_Units,,CE$52)),0)","v":0},{"$f":"IFERROR(SUMPRODUCT(--(INDEX(Model_Inputs_Ref_Units,,CF$51)=$E122),INDEX(Model_Inputs_Ref_Units,,CF$52)),0)","v":0},{"$f":"IFERROR(SUMPRODUCT(--(INDEX(Model_Inputs_Ref_Units,,CG$51)=$E122),INDEX(Model_Inputs_Ref_Units,,CG$52)),0)","v":0},{"$f":"IFERROR(SUMPRODUCT(--(INDEX(Model_Inputs_Ref_Units,,CH$51)=$E122),INDEX(Model_Inputs_Ref_Units,,CH$52)),0)","v":0},{"$f":"IFERROR(SUMPRODUCT(--(INDEX(Model_Inputs_Ref_Units,,CI$51)=$E122),INDEX(Model_Inputs_Ref_Units,,CI$52)),0)","v":0},{"$f":"IFERROR(SUMPRODUCT(--(INDEX(Model_Inputs_Ref_Units,,CJ$51)=$E122),INDEX(Model_Inputs_Ref_Units,,CJ$52)),0)","v":0},{"$f":"IFERROR(SUMPRODUCT(--(INDEX(Model_Inputs_Ref_Units,,CK$51)=$E122),INDEX(Model_Inputs_Ref_Units,,CK$52)),0)","v":0},{"$f":"IFERROR(SUMPRODUCT(--(INDEX(Model_Inputs_Ref_Units,,CL$51)=$E122),INDEX(Model_Inputs_Ref_Units,,CL$52)),0)","v":0},{"$f":"IFERROR(SUMPRODUCT(--(INDEX(Model_Inputs_Ref_Units,,CM$51)=$E122),INDEX(Model_Inputs_Ref_Units,,CM$52)),0)","v":0},{"$f":"IFERROR(SUMPRODUCT(--(INDEX(Model_Inputs_Ref_Units,,CN$51)=$E122),INDEX(Model_Inputs_Ref_Units,,CN$52)),0)","v":0},{"$f":"IFERROR(SUMPRODUCT(--(INDEX(Model_Inputs_Ref_Units,,CO$51)=$E122),INDEX(Model_Inputs_Ref_Units,,CO$52)),0)","v":0},{"$f":"IFERROR(SUMPRODUCT(--(INDEX(Model_Inputs_Ref_Units,,CP$51)=$E122),INDEX(Model_Inputs_Ref_Units,,CP$52)),0)","v":0},{"$f":"IFERROR(SUMPRODUCT(--(INDEX(Model_Inputs_Ref_Units,,CQ$51)=$E122),INDEX(Model_Inputs_Ref_Units,,CQ$52)),0)","v":0},{"$f":"IFERROR(SUMPRODUCT(--(INDEX(Model_Inputs_Ref_Units,,CR$51)=$E122),INDEX(Model_Inputs_Ref_Units,,CR$52)),0)","v":0},{"$f":"IFERROR(SUMPRODUCT(--(INDEX(Model_Inputs_Ref_Units,,CS$51)=$E122),INDEX(Model_Inputs_Ref_Units,,CS$52)),0)","v":0},{"$f":"IFERROR(SUMPRODUCT(--(INDEX(Model_Inputs_Ref_Units,,CT$51)=$E122),INDEX(Model_Inputs_Ref_Units,,CT$52)),0)","v":0},{"$f":"IFERROR(SUMPRODUCT(--(INDEX(Model_Inputs_Ref_Units,,CU$51)=$E122),INDEX(Model_Inputs_Ref_Units,,CU$52)),0)","v":0},{"$f":"IFERROR(SUMPRODUCT(--(INDEX(Model_Inputs_Ref_Units,,CV$51)=$E122),INDEX(Model_Inputs_Ref_Units,,CV$52)),0)","v":0},{"$f":"IFERROR(SUMPRODUCT(--(INDEX(Model_Inputs_Ref_Units,,CW$51)=$E122),INDEX(Model_Inputs_Ref_Units,,CW$52)),0)","v":0},{"$f":"IFERROR(SUMPRODUCT(--(INDEX(Model_Inputs_Ref_Units,,CX$51)=$E122),INDEX(Model_Inputs_Ref_Units,,CX$52)),0)","v":0},{"$f":"IFERROR(SUMPRODUCT(--(INDEX(Model_Inputs_Ref_Units,,CY$51)=$E122),INDEX(Model_Inputs_Ref_Units,,CY$52)),0)","v":0},{"$f":"IFERROR(SUMPRODUCT(--(INDEX(Model_Inputs_Ref_Units,,CZ$51)=$E122),INDEX(Model_Inputs_Ref_Units,,CZ$52)),0)","v":0},{"$f":"IFERROR(SUMPRODUCT(--(INDEX(Model_Inputs_Ref_Units,,DA$51)=$E122),INDEX(Model_Inputs_Ref_Units,,DA$52)),0)","v":0},{"$f":"IFERROR(SUMPRODUCT(--(INDEX(Model_Inputs_Ref_Units,,DB$51)=$E122),INDEX(Model_Inputs_Ref_Units,,DB$52)),0)","v":0},{"$f":"IFERROR(SUMPRODUCT(--(INDEX(Model_Inputs_Ref_Units,,DC$51)=$E122),INDEX(Model_Inputs_Ref_Units,,DC$52)),0)","v":0},{"$f":"IFERROR(SUMPRODUCT(--(INDEX(Model_Inputs_Ref_Units,,DD$51)=$E122),INDEX(Model_Inputs_Ref_Units,,DD$52)),0)","v":0},{"$f":"IFERROR(SUMPRODUCT(--(INDEX(Model_Inputs_Ref_Units,,DE$51)=$E122),INDEX(Model_Inputs_Ref_Units,,DE$52)),0)","v":0},{"$f":"IFERROR(SUMPRODUCT(--(INDEX(Model_Inputs_Ref_Units,,DF$51)=$E122),INDEX(Model_Inputs_Ref_Units,,DF$52)),0)","v":0}]
[null,null,{"$error":"#DIV/0!"},null,{"$f":"IFERROR(INDEX(Ref_Data,1,F123),\"\")","v":""},70,0,0,0,0,{"$f":"IFERROR(SUMPRODUCT(--(INDEX(Model_Inputs_Ref_Units,,K$51)=$E123),INDEX(Model_Inputs_Ref_Units,,K$52)),0)","v":0},{"$f":"IFERROR(SUMPRODUCT(--(INDEX(Model_Inputs_Ref_Units,,L$51)=$E123),INDEX(Model_Inputs_Ref_Units,,L$52)),0)","v":0},{"$f":"IFERROR(SUMPRODUCT(--(INDEX(Model_Inputs_Ref_Units,,M$51)=$E123),INDEX(Model_Inputs_Ref_Units,,M$52)),0)","v":0},{"$f":"IFERROR(SUMPRODUCT(--(INDEX(Model_Inputs_Ref_Units,,N$51)=$E123),INDEX(Model_Inputs_Ref_Units,,N$52)),0)","v":0},{"$f":"IFERROR(SUMPRODUCT(--(INDEX(Model_Inputs_Ref_Units,,O$51)=$E123),INDEX(Model_Inputs_Ref_Units,,O$52)),0)","v":0},{"$f":"IFERROR(SUMPRODUCT(--(INDEX(Model_Inputs_Ref_Units,,P$51)=$E123),INDEX(Model_Inputs_Ref_Units,,P$52)),0)","v":0},{"$f":"IFERROR(SUMPRODUCT(--(INDEX(Model_Inputs_Ref_Units,,Q$51)=$E123),INDEX(Model_Inputs_Ref_Units,,Q$52)),0)","v":0},{"$f":"IFERROR(SUMPRODUCT(--(INDEX(Model_Inputs_Ref_Units,,R$51)=$E123),INDEX(Model_Inputs_Ref_Units,,R$52)),0)","v":0},{"$f":"IFERROR(SUMPRODUCT(--(INDEX(Model_Inputs_Ref_Units,,S$51)=$E123),INDEX(Model_Inputs_Ref_Units,,S$52)),0)","v":0},{"$f":"IFERROR(SUMPRODUCT(--(INDEX(Model_Inputs_Ref_Units,,T$51)=$E123),INDEX(Model_Inputs_Ref_Units,,T$52)),0)","v":0},{"$f":"IFERROR(SUMPRODUCT(--(INDEX(Model_Inputs_Ref_Units,,U$51)=$E123),INDEX(Model_Inputs_Ref_Units,,U$52)),0)","v":0},{"$f":"IFERROR(SUMPRODUCT(--(INDEX(Model_Inputs_Ref_Units,,V$51)=$E123),INDEX(Model_Inputs_Ref_Units,,V$52)),0)","v":0},{"$f":"IFERROR(SUMPRODUCT(--(INDEX(Model_Inputs_Ref_Units,,W$51)=$E123),INDEX(Model_Inputs_Ref_Units,,W$52)),0)","v":0},{"$f":"IFERROR(SUMPRODUCT(--(INDEX(Model_Inputs_Ref_Units,,X$51)=$E123),INDEX(Model_Inputs_Ref_Units,,X$52)),0)","v":0},{"$f":"IFERROR(SUMPRODUCT(--(INDEX(Model_Inputs_Ref_Units,,Y$51)=$E123),INDEX(Model_Inputs_Ref_Units,,Y$52)),0)","v":0},{"$f":"IFERROR(SUMPRODUCT(--(INDEX(Model_Inputs_Ref_Units,,Z$51)=$E123),INDEX(Model_Inputs_Ref_Units,,Z$52)),0)","v":0},{"$f":"IFERROR(SUMPRODUCT(--(INDEX(Model_Inputs_Ref_Units,,AA$51)=$E123),INDEX(Model_Inputs_Ref_Units,,AA$52)),0)","v":0},{"$f":"IFERROR(SUMPRODUCT(--(INDEX(Model_Inputs_Ref_Units,,AB$51)=$E123),INDEX(Model_Inputs_Ref_Units,,AB$52)),0)","v":0},{"$f":"IFERROR(SUMPRODUCT(--(INDEX(Model_Inputs_Ref_Units,,AC$51)=$E123),INDEX(Model_Inputs_Ref_Units,,AC$52)),0)","v":0},{"$f":"IFERROR(SUMPRODUCT(--(INDEX(Model_Inputs_Ref_Units,,AD$51)=$E123),INDEX(Model_Inputs_Ref_Units,,AD$52)),0)","v":0},{"$f":"IFERROR(SUMPRODUCT(--(INDEX(Model_Inputs_Ref_Units,,AE$51)=$E123),INDEX(Model_Inputs_Ref_Units,,AE$52)),0)","v":0},{"$f":"IFERROR(SUMPRODUCT(--(INDEX(Model_Inputs_Ref_Units,,AF$51)=$E123),INDEX(Model_Inputs_Ref_Units,,AF$52)),0)","v":0},{"$f":"IFERROR(SUMPRODUCT(--(INDEX(Model_Inputs_Ref_Units,,AG$51)=$E123),INDEX(Model_Inputs_Ref_Units,,AG$52)),0)","v":0},{"$f":"IFERROR(SUMPRODUCT(--(INDEX(Model_Inputs_Ref_Units,,AH$51)=$E123),INDEX(Model_Inputs_Ref_Units,,AH$52)),0)","v":0},{"$f":"IFERROR(SUMPRODUCT(--(INDEX(Model_Inputs_Ref_Units,,AI$51)=$E123),INDEX(Model_Inputs_Ref_Units,,AI$52)),0)","v":0},{"$f":"IFERROR(SUMPRODUCT(--(INDEX(Model_Inputs_Ref_Units,,AJ$51)=$E123),INDEX(Model_Inputs_Ref_Units,,AJ$52)),0)","v":0},{"$f":"IFERROR(SUMPRODUCT(--(INDEX(Model_Inputs_Ref_Units,,AK$51)=$E123),INDEX(Model_Inputs_Ref_Units,,AK$52)),0)","v":0},{"$f":"IFERROR(SUMPRODUCT(--(INDEX(Model_Inputs_Ref_Units,,AL$51)=$E123),INDEX(Model_Inputs_Ref_Units,,AL$52)),0)","v":0},{"$f":"IFERROR(SUMPRODUCT(--(INDEX(Model_Inputs_Ref_Units,,AM$51)=$E123),INDEX(Model_Inputs_Ref_Units,,AM$52)),0)","v":0},{"$f":"IFERROR(SUMPRODUCT(--(INDEX(Model_Inputs_Ref_Units,,AN$51)=$E123),INDEX(Model_Inputs_Ref_Units,,AN$52)),0)","v":0},{"$f":"IFERROR(SUMPRODUCT(--(INDEX(Model_Inputs_Ref_Units,,AO$51)=$E123),INDEX(Model_Inputs_Ref_Units,,AO$52)),0)","v":0},{"$f":"IFERROR(SUMPRODUCT(--(INDEX(Model_Inputs_Ref_Units,,AP$51)=$E123),INDEX(Model_Inputs_Ref_Units,,AP$52)),0)","v":0},{"$f":"IFERROR(SUMPRODUCT(--(INDEX(Model_Inputs_Ref_Units,,AQ$51)=$E123),INDEX(Model_Inputs_Ref_Units,,AQ$52)),0)","v":0},{"$f":"IFERROR(SUMPRODUCT(--(INDEX(Model_Inputs_Ref_Units,,AR$51)=$E123),INDEX(Model_Inputs_Ref_Units,,AR$52)),0)","v":0},{"$f":"IFERROR(SUMPRODUCT(--(INDEX(Model_Inputs_Ref_Units,,AS$51)=$E123),INDEX(Model_Inputs_Ref_Units,,AS$52)),0)","v":0},{"$f":"IFERROR(SUMPRODUCT(--(INDEX(Model_Inputs_Ref_Units,,AT$51)=$E123),INDEX(Model_Inputs_Ref_Units,,AT$52)),0)","v":0},{"$f":"IFERROR(SUMPRODUCT(--(INDEX(Model_Inputs_Ref_Units,,AU$51)=$E123),INDEX(Model_Inputs_Ref_Units,,AU$52)),0)","v":0},{"$f":"IFERROR(SUMPRODUCT(--(INDEX(Model_Inputs_Ref_Units,,AV$51)=$E123),INDEX(Model_Inputs_Ref_Units,,AV$52)),0)","v":0},{"$f":"IFERROR(SUMPRODUCT(--(INDEX(Model_Inputs_Ref_Units,,AW$51)=$E123),INDEX(Model_Inputs_Ref_Units,,AW$52)),0)","v":0},{"$f":"IFERROR(SUMPRODUCT(--(INDEX(Model_Inputs_Ref_Units,,AX$51)=$E123),INDEX(Model_Inputs_Ref_Units,,AX$52)),0)","v":0},{"$f":"IFERROR(SUMPRODUCT(--(INDEX(Model_Inputs_Ref_Units,,AY$51)=$E123),INDEX(Model_Inputs_Ref_Units,,AY$52)),0)","v":0},{"$f":"IFERROR(SUMPRODUCT(--(INDEX(Model_Inputs_Ref_Units,,AZ$51)=$E123),INDEX(Model_Inputs_Ref_Units,,AZ$52)),0)","v":0},{"$f":"IFERROR(SUMPRODUCT(--(INDEX(Model_Inputs_Ref_Units,,BA$51)=$E123),INDEX(Model_Inputs_Ref_Units,,BA$52)),0)","v":0},{"$f":"IFERROR(SUMPRODUCT(--(INDEX(Model_Inputs_Ref_Units,,BB$51)=$E123),INDEX(Model_Inputs_Ref_Units,,BB$52)),0)","v":0},{"$f":"IFERROR(SUMPRODUCT(--(INDEX(Model_Inputs_Ref_Units,,BC$51)=$E123),INDEX(Model_Inputs_Ref_Units,,BC$52)),0)","v":0},{"$f":"IFERROR(SUMPRODUCT(--(INDEX(Model_Inputs_Ref_Units,,BD$51)=$E123),INDEX(Model_Inputs_Ref_Units,,BD$52)),0)","v":0},{"$f":"IFERROR(SUMPRODUCT(--(INDEX(Model_Inputs_Ref_Units,,BE$51)=$E123),INDEX(Model_Inputs_Ref_Units,,BE$52)),0)","v":0},{"$f":"IFERROR(SUMPRODUCT(--(INDEX(Model_Inputs_Ref_Units,,BF$51)=$E123),INDEX(Model_Inputs_Ref_Units,,BF$52)),0)","v":0},{"$f":"IFERROR(SUMPRODUCT(--(INDEX(Model_Inputs_Ref_Units,,BG$51)=$E123),INDEX(Model_Inputs_Ref_Units,,BG$52)),0)","v":0},{"$f":"IFERROR(SUMPRODUCT(--(INDEX(Model_Inputs_Ref_Units,,BH$51)=$E123),INDEX(Model_Inputs_Ref_Units,,BH$52)),0)","v":0},{"$f":"IFERROR(SUMPRODUCT(--(INDEX(Model_Inputs_Ref_Units,,BI$51)=$E123),INDEX(Model_Inputs_Ref_Units,,BI$52)),0)","v":0},{"$f":"IFERROR(SUMPRODUCT(--(INDEX(Model_Inputs_Ref_Units,,BJ$51)=$E123),INDEX(Model_Inputs_Ref_Units,,BJ$52)),0)","v":0},{"$f":"IFERROR(SUMPRODUCT(--(INDEX(Model_Inputs_Ref_Units,,BK$51)=$E123),INDEX(Model_Inputs_Ref_Units,,BK$52)),0)","v":0},{"$f":"IFERROR(SUMPRODUCT(--(INDEX(Model_Inputs_Ref_Units,,BL$51)=$E123),INDEX(Model_Inputs_Ref_Units,,BL$52)),0)","v":0},{"$f":"IFERROR(SUMPRODUCT(--(INDEX(Model_Inputs_Ref_Units,,BM$51)=$E123),INDEX(Model_Inputs_Ref_Units,,BM$52)),0)","v":0},{"$f":"IFERROR(SUMPRODUCT(--(INDEX(Model_Inputs_Ref_Units,,BN$51)=$E123),INDEX(Model_Inputs_Ref_Units,,BN$52)),0)","v":0},{"$f":"IFERROR(SUMPRODUCT(--(INDEX(Model_Inputs_Ref_Units,,BO$51)=$E123),INDEX(Model_Inputs_Ref_Units,,BO$52)),0)","v":0},{"$f":"IFERROR(SUMPRODUCT(--(INDEX(Model_Inputs_Ref_Units,,BP$51)=$E123),INDEX(Model_Inputs_Ref_Units,,BP$52)),0)","v":0},{"$f":"IFERROR(SUMPRODUCT(--(INDEX(Model_Inputs_Ref_Units,,BQ$51)=$E123),INDEX(Model_Inputs_Ref_Units,,BQ$52)),0)","v":0},{"$f":"IFERROR(SUMPRODUCT(--(INDEX(Model_Inputs_Ref_Units,,BR$51)=$E123),INDEX(Model_Inputs_Ref_Units,,BR$52)),0)","v":0},{"$f":"IFERROR(SUMPRODUCT(--(INDEX(Model_Inputs_Ref_Units,,BS$51)=$E123),INDEX(Model_Inputs_Ref_Units,,BS$52)),0)","v":0},{"$f":"IFERROR(SUMPRODUCT(--(INDEX(Model_Inputs_Ref_Units,,BT$51)=$E123),INDEX(Model_Inputs_Ref_Units,,BT$52)),0)","v":0},{"$f":"IFERROR(SUMPRODUCT(--(INDEX(Model_Inputs_Ref_Units,,BU$51)=$E123),INDEX(Model_Inputs_Ref_Units,,BU$52)),0)","v":0},{"$f":"IFERROR(SUMPRODUCT(--(INDEX(Model_Inputs_Ref_Units,,BV$51)=$E123),INDEX(Model_Inputs_Ref_Units,,BV$52)),0)","v":0},{"$f":"IFERROR(SUMPRODUCT(--(INDEX(Model_Inputs_Ref_Units,,BW$51)=$E123),INDEX(Model_Inputs_Ref_Units,,BW$52)),0)","v":0},{"$f":"IFERROR(SUMPRODUCT(--(INDEX(Model_Inputs_Ref_Units,,BX$51)=$E123),INDEX(Model_Inputs_Ref_Units,,BX$52)),0)","v":0},{"$f":"IFERROR(SUMPRODUCT(--(INDEX(Model_Inputs_Ref_Units,,BY$51)=$E123),INDEX(Model_Inputs_Ref_Units,,BY$52)),0)","v":0},{"$f":"IFERROR(SUMPRODUCT(--(INDEX(Model_Inputs_Ref_Units,,BZ$51)=$E123),INDEX(Model_Inputs_Ref_Units,,BZ$52)),0)","v":0},{"$f":"IFERROR(SUMPRODUCT(--(INDEX(Model_Inputs_Ref_Units,,CA$51)=$E123),INDEX(Model_Inputs_Ref_Units,,CA$52)),0)","v":0},{"$f":"IFERROR(SUMPRODUCT(--(INDEX(Model_Inputs_Ref_Units,,CB$51)=$E123),INDEX(Model_Inputs_Ref_Units,,CB$52)),0)","v":0},{"$f":"IFERROR(SUMPRODUCT(--(INDEX(Model_Inputs_Ref_Units,,CC$51)=$E123),INDEX(Model_Inputs_Ref_Units,,CC$52)),0)","v":0},{"$f":"IFERROR(SUMPRODUCT(--(INDEX(Model_Inputs_Ref_Units,,CD$51)=$E123),INDEX(Model_Inputs_Ref_Units,,CD$52)),0)","v":0},{"$f":"IFERROR(SUMPRODUCT(--(INDEX(Model_Inputs_Ref_Units,,CE$51)=$E123),INDEX(Model_Inputs_Ref_Units,,CE$52)),0)","v":0},{"$f":"IFERROR(SUMPRODUCT(--(INDEX(Model_Inputs_Ref_Units,,CF$51)=$E123),INDEX(Model_Inputs_Ref_Units,,CF$52)),0)","v":0},{"$f":"IFERROR(SUMPRODUCT(--(INDEX(Model_Inputs_Ref_Units,,CG$51)=$E123),INDEX(Model_Inputs_Ref_Units,,CG$52)),0)","v":0},{"$f":"IFERROR(SUMPRODUCT(--(INDEX(Model_Inputs_Ref_Units,,CH$51)=$E123),INDEX(Model_Inputs_Ref_Units,,CH$52)),0)","v":0},{"$f":"IFERROR(SUMPRODUCT(--(INDEX(Model_Inputs_Ref_Units,,CI$51)=$E123),INDEX(Model_Inputs_Ref_Units,,CI$52)),0)","v":0},{"$f":"IFERROR(SUMPRODUCT(--(INDEX(Model_Inputs_Ref_Units,,CJ$51)=$E123),INDEX(Model_Inputs_Ref_Units,,CJ$52)),0)","v":0},{"$f":"IFERROR(SUMPRODUCT(--(INDEX(Model_Inputs_Ref_Units,,CK$51)=$E123),INDEX(Model_Inputs_Ref_Units,,CK$52)),0)","v":0},{"$f":"IFERROR(SUMPRODUCT(--(INDEX(Model_Inputs_Ref_Units,,CL$51)=$E123),INDEX(Model_Inputs_Ref_Units,,CL$52)),0)","v":0},{"$f":"IFERROR(SUMPRODUCT(--(INDEX(Model_Inputs_Ref_Units,,CM$51)=$E123),INDEX(Model_Inputs_Ref_Units,,CM$52)),0)","v":0},{"$f":"IFERROR(SUMPRODUCT(--(INDEX(Model_Inputs_Ref_Units,,CN$51)=$E123),INDEX(Model_Inputs_Ref_Units,,CN$52)),0)","v":0},{"$f":"IFERROR(SUMPRODUCT(--(INDEX(Model_Inputs_Ref_Units,,CO$51)=$E123),INDEX(Model_Inputs_Ref_Units,,CO$52)),0)","v":0},{"$f":"IFERROR(SUMPRODUCT(--(INDEX(Model_Inputs_Ref_Units,,CP$51)=$E123),INDEX(Model_Inputs_Ref_Units,,CP$52)),0)","v":0},{"$f":"IFERROR(SUMPRODUCT(--(INDEX(Model_Inputs_Ref_Units,,CQ$51)=$E123),INDEX(Model_Inputs_Ref_Units,,CQ$52)),0)","v":0},{"$f":"IFERROR(SUMPRODUCT(--(INDEX(Model_Inputs_Ref_Units,,CR$51)=$E123),INDEX(Model_Inputs_Ref_Units,,CR$52)),0)","v":0},{"$f":"IFERROR(SUMPRODUCT(--(INDEX(Model_Inputs_Ref_Units,,CS$51)=$E123),INDEX(Model_Inputs_Ref_Units,,CS$52)),0)","v":0},{"$f":"IFERROR(SUMPRODUCT(--(INDEX(Model_Inputs_Ref_Units,,CT$51)=$E123),INDEX(Model_Inputs_Ref_Units,,CT$52)),0)","v":0},{"$f":"IFERROR(SUMPRODUCT(--(INDEX(Model_Inputs_Ref_Units,,CU$51)=$E123),INDEX(Model_Inputs_Ref_Units,,CU$52)),0)","v":0},{"$f":"IFERROR(SUMPRODUCT(--(INDEX(Model_Inputs_Ref_Units,,CV$51)=$E123),INDEX(Model_Inputs_Ref_Units,,CV$52)),0)","v":0},{"$f":"IFERROR(SUMPRODUCT(--(INDEX(Model_Inputs_Ref_Units,,CW$51)=$E123),INDEX(Model_Inputs_Ref_Units,,CW$52)),0)","v":0},{"$f":"IFERROR(SUMPRODUCT(--(INDEX(Model_Inputs_Ref_Units,,CX$51)=$E123),INDEX(Model_Inputs_Ref_Units,,CX$52)),0)","v":0},{"$f":"IFERROR(SUMPRODUCT(--(INDEX(Model_Inputs_Ref_Units,,CY$51)=$E123),INDEX(Model_Inputs_Ref_Units,,CY$52)),0)","v":0},{"$f":"IFERROR(SUMPRODUCT(--(INDEX(Model_Inputs_Ref_Units,,CZ$51)=$E123),INDEX(Model_Inputs_Ref_Units,,CZ$52)),0)","v":0},{"$f":"IFERROR(SUMPRODUCT(--(INDEX(Model_Inputs_Ref_Units,,DA$51)=$E123),INDEX(Model_Inputs_Ref_Units,,DA$52)),0)","v":0},{"$f":"IFERROR(SUMPRODUCT(--(INDEX(Model_Inputs_Ref_Units,,DB$51)=$E123),INDEX(Model_Inputs_Ref_Units,,DB$52)),0)","v":0},{"$f":"IFERROR(SUMPRODUCT(--(INDEX(Model_Inputs_Ref_Units,,DC$51)=$E123),INDEX(Model_Inputs_Ref_Units,,DC$52)),0)","v":0},{"$f":"IFERROR(SUMPRODUCT(--(INDEX(Model_Inputs_Ref_Units,,DD$51)=$E123),INDEX(Model_Inputs_Ref_Units,,DD$52)),0)","v":0},{"$f":"IFERROR(SUMPRODUCT(--(INDEX(Model_Inputs_Ref_Units,,DE$51)=$E123),INDEX(Model_Inputs_Ref_Units,,DE$52)),0)","v":0},{"$f":"IFERROR(SUMPRODUCT(--(INDEX(Model_Inputs_Ref_Units,,DF$51)=$E123),INDEX(Model_Inputs_Ref_Units,,DF$52)),0)","v":0}]
[null,null,{"$error":"#DIV/0!"},null,{"$f":"IFERROR(INDEX(Ref_Data,1,F124),\"\")","v":""},71,0,0,0,0,{"$f":"IFERROR(SUMPRODUCT(--(INDEX(Model_Inputs_Ref_Units,,K$51)=$E124),INDEX(Model_Inputs_Ref_Units,,K$52)),0)","v":0},{"$f":"IFERROR(SUMPRODUCT(--(INDEX(Model_Inputs_Ref_Units,,L$51)=$E124),INDEX(Model_Inputs_Ref_Units,,L$52)),0)","v":0},{"$f":"IFERROR(SUMPRODUCT(--(INDEX(Model_Inputs_Ref_Units,,M$51)=$E124),INDEX(Model_Inputs_Ref_Units,,M$52)),0)","v":0},{"$f":"IFERROR(SUMPRODUCT(--(INDEX(Model_Inputs_Ref_Units,,N$51)=$E124),INDEX(Model_Inputs_Ref_Units,,N$52)),0)","v":0},{"$f":"IFERROR(SUMPRODUCT(--(INDEX(Model_Inputs_Ref_Units,,O$51)=$E124),INDEX(Model_Inputs_Ref_Units,,O$52)),0)","v":0},{"$f":"IFERROR(SUMPRODUCT(--(INDEX(Model_Inputs_Ref_Units,,P$51)=$E124),INDEX(Model_Inputs_Ref_Units,,P$52)),0)","v":0},{"$f":"IFERROR(SUMPRODUCT(--(INDEX(Model_Inputs_Ref_Units,,Q$51)=$E124),INDEX(Model_Inputs_Ref_Units,,Q$52)),0)","v":0},{"$f":"IFERROR(SUMPRODUCT(--(INDEX(Model_Inputs_Ref_Units,,R$51)=$E124),INDEX(Model_Inputs_Ref_Units,,R$52)),0)","v":0},{"$f":"IFERROR(SUMPRODUCT(--(INDEX(Model_Inputs_Ref_Units,,S$51)=$E124),INDEX(Model_Inputs_Ref_Units,,S$52)),0)","v":0},{"$f":"IFERROR(SUMPRODUCT(--(INDEX(Model_Inputs_Ref_Units,,T$51)=$E124),INDEX(Model_Inputs_Ref_Units,,T$52)),0)","v":0},{"$f":"IFERROR(SUMPRODUCT(--(INDEX(Model_Inputs_Ref_Units,,U$51)=$E124),INDEX(Model_Inputs_Ref_Units,,U$52)),0)","v":0},{"$f":"IFERROR(SUMPRODUCT(--(INDEX(Model_Inputs_Ref_Units,,V$51)=$E124),INDEX(Model_Inputs_Ref_Units,,V$52)),0)","v":0},{"$f":"IFERROR(SUMPRODUCT(--(INDEX(Model_Inputs_Ref_Units,,W$51)=$E124),INDEX(Model_Inputs_Ref_Units,,W$52)),0)","v":0},{"$f":"IFERROR(SUMPRODUCT(--(INDEX(Model_Inputs_Ref_Units,,X$51)=$E124),INDEX(Model_Inputs_Ref_Units,,X$52)),0)","v":0},{"$f":"IFERROR(SUMPRODUCT(--(INDEX(Model_Inputs_Ref_Units,,Y$51)=$E124),INDEX(Model_Inputs_Ref_Units,,Y$52)),0)","v":0},{"$f":"IFERROR(SUMPRODUCT(--(INDEX(Model_Inputs_Ref_Units,,Z$51)=$E124),INDEX(Model_Inputs_Ref_Units,,Z$52)),0)","v":0},{"$f":"IFERROR(SUMPRODUCT(--(INDEX(Model_Inputs_Ref_Units,,AA$51)=$E124),INDEX(Model_Inputs_Ref_Units,,AA$52)),0)","v":0},{"$f":"IFERROR(SUMPRODUCT(--(INDEX(Model_Inputs_Ref_Units,,AB$51)=$E124),INDEX(Model_Inputs_Ref_Units,,AB$52)),0)","v":0},{"$f":"IFERROR(SUMPRODUCT(--(INDEX(Model_Inputs_Ref_Units,,AC$51)=$E124),INDEX(Model_Inputs_Ref_Units,,AC$52)),0)","v":0},{"$f":"IFERROR(SUMPRODUCT(--(INDEX(Model_Inputs_Ref_Units,,AD$51)=$E124),INDEX(Model_Inputs_Ref_Units,,AD$52)),0)","v":0},{"$f":"IFERROR(SUMPRODUCT(--(INDEX(Model_Inputs_Ref_Units,,AE$51)=$E124),INDEX(Model_Inputs_Ref_Units,,AE$52)),0)","v":0},{"$f":"IFERROR(SUMPRODUCT(--(INDEX(Model_Inputs_Ref_Units,,AF$51)=$E124),INDEX(Model_Inputs_Ref_Units,,AF$52)),0)","v":0},{"$f":"IFERROR(SUMPRODUCT(--(INDEX(Model_Inputs_Ref_Units,,AG$51)=$E124),INDEX(Model_Inputs_Ref_Units,,AG$52)),0)","v":0},{"$f":"IFERROR(SUMPRODUCT(--(INDEX(Model_Inputs_Ref_Units,,AH$51)=$E124),INDEX(Model_Inputs_Ref_Units,,AH$52)),0)","v":0},{"$f":"IFERROR(SUMPRODUCT(--(INDEX(Model_Inputs_Ref_Units,,AI$51)=$E124),INDEX(Model_Inputs_Ref_Units,,AI$52)),0)","v":0},{"$f":"IFERROR(SUMPRODUCT(--(INDEX(Model_Inputs_Ref_Units,,AJ$51)=$E124),INDEX(Model_Inputs_Ref_Units,,AJ$52)),0)","v":0},{"$f":"IFERROR(SUMPRODUCT(--(INDEX(Model_Inputs_Ref_Units,,AK$51)=$E124),INDEX(Model_Inputs_Ref_Units,,AK$52)),0)","v":0},{"$f":"IFERROR(SUMPRODUCT(--(INDEX(Model_Inputs_Ref_Units,,AL$51)=$E124),INDEX(Model_Inputs_Ref_Units,,AL$52)),0)","v":0},{"$f":"IFERROR(SUMPRODUCT(--(INDEX(Model_Inputs_Ref_Units,,AM$51)=$E124),INDEX(Model_Inputs_Ref_Units,,AM$52)),0)","v":0},{"$f":"IFERROR(SUMPRODUCT(--(INDEX(Model_Inputs_Ref_Units,,AN$51)=$E124),INDEX(Model_Inputs_Ref_Units,,AN$52)),0)","v":0},{"$f":"IFERROR(SUMPRODUCT(--(INDEX(Model_Inputs_Ref_Units,,AO$51)=$E124),INDEX(Model_Inputs_Ref_Units,,AO$52)),0)","v":0},{"$f":"IFERROR(SUMPRODUCT(--(INDEX(Model_Inputs_Ref_Units,,AP$51)=$E124),INDEX(Model_Inputs_Ref_Units,,AP$52)),0)","v":0},{"$f":"IFERROR(SUMPRODUCT(--(INDEX(Model_Inputs_Ref_Units,,AQ$51)=$E124),INDEX(Model_Inputs_Ref_Units,,AQ$52)),0)","v":0},{"$f":"IFERROR(SUMPRODUCT(--(INDEX(Model_Inputs_Ref_Units,,AR$51)=$E124),INDEX(Model_Inputs_Ref_Units,,AR$52)),0)","v":0},{"$f":"IFERROR(SUMPRODUCT(--(INDEX(Model_Inputs_Ref_Units,,AS$51)=$E124),INDEX(Model_Inputs_Ref_Units,,AS$52)),0)","v":0},{"$f":"IFERROR(SUMPRODUCT(--(INDEX(Model_Inputs_Ref_Units,,AT$51)=$E124),INDEX(Model_Inputs_Ref_Units,,AT$52)),0)","v":0},{"$f":"IFERROR(SUMPRODUCT(--(INDEX(Model_Inputs_Ref_Units,,AU$51)=$E124),INDEX(Model_Inputs_Ref_Units,,AU$52)),0)","v":0},{"$f":"IFERROR(SUMPRODUCT(--(INDEX(Model_Inputs_Ref_Units,,AV$51)=$E124),INDEX(Model_Inputs_Ref_Units,,AV$52)),0)","v":0},{"$f":"IFERROR(SUMPRODUCT(--(INDEX(Model_Inputs_Ref_Units,,AW$51)=$E124),INDEX(Model_Inputs_Ref_Units,,AW$52)),0)","v":0},{"$f":"IFERROR(SUMPRODUCT(--(INDEX(Model_Inputs_Ref_Units,,AX$51)=$E124),INDEX(Model_Inputs_Ref_Units,,AX$52)),0)","v":0},{"$f":"IFERROR(SUMPRODUCT(--(INDEX(Model_Inputs_Ref_Units,,AY$51)=$E124),INDEX(Model_Inputs_Ref_Units,,AY$52)),0)","v":0},{"$f":"IFERROR(SUMPRODUCT(--(INDEX(Model_Inputs_Ref_Units,,AZ$51)=$E124),INDEX(Model_Inputs_Ref_Units,,AZ$52)),0)","v":0},{"$f":"IFERROR(SUMPRODUCT(--(INDEX(Model_Inputs_Ref_Units,,BA$51)=$E124),INDEX(Model_Inputs_Ref_Units,,BA$52)),0)","v":0},{"$f":"IFERROR(SUMPRODUCT(--(INDEX(Model_Inputs_Ref_Units,,BB$51)=$E124),INDEX(Model_Inputs_Ref_Units,,BB$52)),0)","v":0},{"$f":"IFERROR(SUMPRODUCT(--(INDEX(Model_Inputs_Ref_Units,,BC$51)=$E124),INDEX(Model_Inputs_Ref_Units,,BC$52)),0)","v":0},{"$f":"IFERROR(SUMPRODUCT(--(INDEX(Model_Inputs_Ref_Units,,BD$51)=$E124),INDEX(Model_Inputs_Ref_Units,,BD$52)),0)","v":0},{"$f":"IFERROR(SUMPRODUCT(--(INDEX(Model_Inputs_Ref_Units,,BE$51)=$E124),INDEX(Model_Inputs_Ref_Units,,BE$52)),0)","v":0},{"$f":"IFERROR(SUMPRODUCT(--(INDEX(Model_Inputs_Ref_Units,,BF$51)=$E124),INDEX(Model_Inputs_Ref_Units,,BF$52)),0)","v":0},{"$f":"IFERROR(SUMPRODUCT(--(INDEX(Model_Inputs_Ref_Units,,BG$51)=$E124),INDEX(Model_Inputs_Ref_Units,,BG$52)),0)","v":0},{"$f":"IFERROR(SUMPRODUCT(--(INDEX(Model_Inputs_Ref_Units,,BH$51)=$E124),INDEX(Model_Inputs_Ref_Units,,BH$52)),0)","v":0},{"$f":"IFERROR(SUMPRODUCT(--(INDEX(Model_Inputs_Ref_Units,,BI$51)=$E124),INDEX(Model_Inputs_Ref_Units,,BI$52)),0)","v":0},{"$f":"IFERROR(SUMPRODUCT(--(INDEX(Model_Inputs_Ref_Units,,BJ$51)=$E124),INDEX(Model_Inputs_Ref_Units,,BJ$52)),0)","v":0},{"$f":"IFERROR(SUMPRODUCT(--(INDEX(Model_Inputs_Ref_Units,,BK$51)=$E124),INDEX(Model_Inputs_Ref_Units,,BK$52)),0)","v":0},{"$f":"IFERROR(SUMPRODUCT(--(INDEX(Model_Inputs_Ref_Units,,BL$51)=$E124),INDEX(Model_Inputs_Ref_Units,,BL$52)),0)","v":0},{"$f":"IFERROR(SUMPRODUCT(--(INDEX(Model_Inputs_Ref_Units,,BM$51)=$E124),INDEX(Model_Inputs_Ref_Units,,BM$52)),0)","v":0},{"$f":"IFERROR(SUMPRODUCT(--(INDEX(Model_Inputs_Ref_Units,,BN$51)=$E124),INDEX(Model_Inputs_Ref_Units,,BN$52)),0)","v":0},{"$f":"IFERROR(SUMPRODUCT(--(INDEX(Model_Inputs_Ref_Units,,BO$51)=$E124),INDEX(Model_Inputs_Ref_Units,,BO$52)),0)","v":0},{"$f":"IFERROR(SUMPRODUCT(--(INDEX(Model_Inputs_Ref_Units,,BP$51)=$E124),INDEX(Model_Inputs_Ref_Units,,BP$52)),0)","v":0},{"$f":"IFERROR(SUMPRODUCT(--(INDEX(Model_Inputs_Ref_Units,,BQ$51)=$E124),INDEX(Model_Inputs_Ref_Units,,BQ$52)),0)","v":0},{"$f":"IFERROR(SUMPRODUCT(--(INDEX(Model_Inputs_Ref_Units,,BR$51)=$E124),INDEX(Model_Inputs_Ref_Units,,BR$52)),0)","v":0},{"$f":"IFERROR(SUMPRODUCT(--(INDEX(Model_Inputs_Ref_Units,,BS$51)=$E124),INDEX(Model_Inputs_Ref_Units,,BS$52)),0)","v":0},{"$f":"IFERROR(SUMPRODUCT(--(INDEX(Model_Inputs_Ref_Units,,BT$51)=$E124),INDEX(Model_Inputs_Ref_Units,,BT$52)),0)","v":0},{"$f":"IFERROR(SUMPRODUCT(--(INDEX(Model_Inputs_Ref_Units,,BU$51)=$E124),INDEX(Model_Inputs_Ref_Units,,BU$52)),0)","v":0},{"$f":"IFERROR(SUMPRODUCT(--(INDEX(Model_Inputs_Ref_Units,,BV$51)=$E124),INDEX(Model_Inputs_Ref_Units,,BV$52)),0)","v":0},{"$f":"IFERROR(SUMPRODUCT(--(INDEX(Model_Inputs_Ref_Units,,BW$51)=$E124),INDEX(Model_Inputs_Ref_Units,,BW$52)),0)","v":0},{"$f":"IFERROR(SUMPRODUCT(--(INDEX(Model_Inputs_Ref_Units,,BX$51)=$E124),INDEX(Model_Inputs_Ref_Units,,BX$52)),0)","v":0},{"$f":"IFERROR(SUMPRODUCT(--(INDEX(Model_Inputs_Ref_Units,,BY$51)=$E124),INDEX(Model_Inputs_Ref_Units,,BY$52)),0)","v":0},{"$f":"IFERROR(SUMPRODUCT(--(INDEX(Model_Inputs_Ref_Units,,BZ$51)=$E124),INDEX(Model_Inputs_Ref_Units,,BZ$52)),0)","v":0},{"$f":"IFERROR(SUMPRODUCT(--(INDEX(Model_Inputs_Ref_Units,,CA$51)=$E124),INDEX(Model_Inputs_Ref_Units,,CA$52)),0)","v":0},{"$f":"IFERROR(SUMPRODUCT(--(INDEX(Model_Inputs_Ref_Units,,CB$51)=$E124),INDEX(Model_Inputs_Ref_Units,,CB$52)),0)","v":0},{"$f":"IFERROR(SUMPRODUCT(--(INDEX(Model_Inputs_Ref_Units,,CC$51)=$E124),INDEX(Model_Inputs_Ref_Units,,CC$52)),0)","v":0},{"$f":"IFERROR(SUMPRODUCT(--(INDEX(Model_Inputs_Ref_Units,,CD$51)=$E124),INDEX(Model_Inputs_Ref_Units,,CD$52)),0)","v":0},{"$f":"IFERROR(SUMPRODUCT(--(INDEX(Model_Inputs_Ref_Units,,CE$51)=$E124),INDEX(Model_Inputs_Ref_Units,,CE$52)),0)","v":0},{"$f":"IFERROR(SUMPRODUCT(--(INDEX(Model_Inputs_Ref_Units,,CF$51)=$E124),INDEX(Model_Inputs_Ref_Units,,CF$52)),0)","v":0},{"$f":"IFERROR(SUMPRODUCT(--(INDEX(Model_Inputs_Ref_Units,,CG$51)=$E124),INDEX(Model_Inputs_Ref_Units,,CG$52)),0)","v":0},{"$f":"IFERROR(SUMPRODUCT(--(INDEX(Model_Inputs_Ref_Units,,CH$51)=$E124),INDEX(Model_Inputs_Ref_Units,,CH$52)),0)","v":0},{"$f":"IFERROR(SUMPRODUCT(--(INDEX(Model_Inputs_Ref_Units,,CI$51)=$E124),INDEX(Model_Inputs_Ref_Units,,CI$52)),0)","v":0},{"$f":"IFERROR(SUMPRODUCT(--(INDEX(Model_Inputs_Ref_Units,,CJ$51)=$E124),INDEX(Model_Inputs_Ref_Units,,CJ$52)),0)","v":0},{"$f":"IFERROR(SUMPRODUCT(--(INDEX(Model_Inputs_Ref_Units,,CK$51)=$E124),INDEX(Model_Inputs_Ref_Units,,CK$52)),0)","v":0},{"$f":"IFERROR(SUMPRODUCT(--(INDEX(Model_Inputs_Ref_Units,,CL$51)=$E124),INDEX(Model_Inputs_Ref_Units,,CL$52)),0)","v":0},{"$f":"IFERROR(SUMPRODUCT(--(INDEX(Model_Inputs_Ref_Units,,CM$51)=$E124),INDEX(Model_Inputs_Ref_Units,,CM$52)),0)","v":0},{"$f":"IFERROR(SUMPRODUCT(--(INDEX(Model_Inputs_Ref_Units,,CN$51)=$E124),INDEX(Model_Inputs_Ref_Units,,CN$52)),0)","v":0},{"$f":"IFERROR(SUMPRODUCT(--(INDEX(Model_Inputs_Ref_Units,,CO$51)=$E124),INDEX(Model_Inputs_Ref_Units,,CO$52)),0)","v":0},{"$f":"IFERROR(SUMPRODUCT(--(INDEX(Model_Inputs_Ref_Units,,CP$51)=$E124),INDEX(Model_Inputs_Ref_Units,,CP$52)),0)","v":0},{"$f":"IFERROR(SUMPRODUCT(--(INDEX(Model_Inputs_Ref_Units,,CQ$51)=$E124),INDEX(Model_Inputs_Ref_Units,,CQ$52)),0)","v":0},{"$f":"IFERROR(SUMPRODUCT(--(INDEX(Model_Inputs_Ref_Units,,CR$51)=$E124),INDEX(Model_Inputs_Ref_Units,,CR$52)),0)","v":0},{"$f":"IFERROR(SUMPRODUCT(--(INDEX(Model_Inputs_Ref_Units,,CS$51)=$E124),INDEX(Model_Inputs_Ref_Units,,CS$52)),0)","v":0},{"$f":"IFERROR(SUMPRODUCT(--(INDEX(Model_Inputs_Ref_Units,,CT$51)=$E124),INDEX(Model_Inputs_Ref_Units,,CT$52)),0)","v":0},{"$f":"IFERROR(SUMPRODUCT(--(INDEX(Model_Inputs_Ref_Units,,CU$51)=$E124),INDEX(Model_Inputs_Ref_Units,,CU$52)),0)","v":0},{"$f":"IFERROR(SUMPRODUCT(--(INDEX(Model_Inputs_Ref_Units,,CV$51)=$E124),INDEX(Model_Inputs_Ref_Units,,CV$52)),0)","v":0},{"$f":"IFERROR(SUMPRODUCT(--(INDEX(Model_Inputs_Ref_Units,,CW$51)=$E124),INDEX(Model_Inputs_Ref_Units,,CW$52)),0)","v":0},{"$f":"IFERROR(SUMPRODUCT(--(INDEX(Model_Inputs_Ref_Units,,CX$51)=$E124),INDEX(Model_Inputs_Ref_Units,,CX$52)),0)","v":0},{"$f":"IFERROR(SUMPRODUCT(--(INDEX(Model_Inputs_Ref_Units,,CY$51)=$E124),INDEX(Model_Inputs_Ref_Units,,CY$52)),0)","v":0},{"$f":"IFERROR(SUMPRODUCT(--(INDEX(Model_Inputs_Ref_Units,,CZ$51)=$E124),INDEX(Model_Inputs_Ref_Units,,CZ$52)),0)","v":0},{"$f":"IFERROR(SUMPRODUCT(--(INDEX(Model_Inputs_Ref_Units,,DA$51)=$E124),INDEX(Model_Inputs_Ref_Units,,DA$52)),0)","v":0},{"$f":"IFERROR(SUMPRODUCT(--(INDEX(Model_Inputs_Ref_Units,,DB$51)=$E124),INDEX(Model_Inputs_Ref_Units,,DB$52)),0)","v":0},{"$f":"IFERROR(SUMPRODUCT(--(INDEX(Model_Inputs_Ref_Units,,DC$51)=$E124),INDEX(Model_Inputs_Ref_Units,,DC$52)),0)","v":0},{"$f":"IFERROR(SUMPRODUCT(--(INDEX(Model_Inputs_Ref_Units,,DD$51)=$E124),INDEX(Model_Inputs_Ref_Units,,DD$52)),0)","v":0},{"$f":"IFERROR(SUMPRODUCT(--(INDEX(Model_Inputs_Ref_Units,,DE$51)=$E124),INDEX(Model_Inputs_Ref_Units,,DE$52)),0)","v":0},{"$f":"IFERROR(SUMPRODUCT(--(INDEX(Model_Inputs_Ref_Units,,DF$51)=$E124),INDEX(Model_Inputs_Ref_Units,,DF$52)),0)","v":0}]
[null,null,{"$error":"#DIV/0!"},null,{"$f":"IFERROR(INDEX(Ref_Data,1,F125),\"\")","v":""},72,0,0,0,0,{"$f":"IFERROR(SUMPRODUCT(--(INDEX(Model_Inputs_Ref_Units,,K$51)=$E125),INDEX(Model_Inputs_Ref_Units,,K$52)),0)","v":0},{"$f":"IFERROR(SUMPRODUCT(--(INDEX(Model_Inputs_Ref_Units,,L$51)=$E125),INDEX(Model_Inputs_Ref_Units,,L$52)),0)","v":0},{"$f":"IFERROR(SUMPRODUCT(--(INDEX(Model_Inputs_Ref_Units,,M$51)=$E125),INDEX(Model_Inputs_Ref_Units,,M$52)),0)","v":0},{"$f":"IFERROR(SUMPRODUCT(--(INDEX(Model_Inputs_Ref_Units,,N$51)=$E125),INDEX(Model_Inputs_Ref_Units,,N$52)),0)","v":0},{"$f":"IFERROR(SUMPRODUCT(--(INDEX(Model_Inputs_Ref_Units,,O$51)=$E125),INDEX(Model_Inputs_Ref_Units,,O$52)),0)","v":0},{"$f":"IFERROR(SUMPRODUCT(--(INDEX(Model_Inputs_Ref_Units,,P$51)=$E125),INDEX(Model_Inputs_Ref_Units,,P$52)),0)","v":0},{"$f":"IFERROR(SUMPRODUCT(--(INDEX(Model_Inputs_Ref_Units,,Q$51)=$E125),INDEX(Model_Inputs_Ref_Units,,Q$52)),0)","v":0},{"$f":"IFERROR(SUMPRODUCT(--(INDEX(Model_Inputs_Ref_Units,,R$51)=$E125),INDEX(Model_Inputs_Ref_Units,,R$52)),0)","v":0},{"$f":"IFERROR(SUMPRODUCT(--(INDEX(Model_Inputs_Ref_Units,,S$51)=$E125),INDEX(Model_Inputs_Ref_Units,,S$52)),0)","v":0},{"$f":"IFERROR(SUMPRODUCT(--(INDEX(Model_Inputs_Ref_Units,,T$51)=$E125),INDEX(Model_Inputs_Ref_Units,,T$52)),0)","v":0},{"$f":"IFERROR(SUMPRODUCT(--(INDEX(Model_Inputs_Ref_Units,,U$51)=$E125),INDEX(Model_Inputs_Ref_Units,,U$52)),0)","v":0},{"$f":"IFERROR(SUMPRODUCT(--(INDEX(Model_Inputs_Ref_Units,,V$51)=$E125),INDEX(Model_Inputs_Ref_Units,,V$52)),0)","v":0},{"$f":"IFERROR(SUMPRODUCT(--(INDEX(Model_Inputs_Ref_Units,,W$51)=$E125),INDEX(Model_Inputs_Ref_Units,,W$52)),0)","v":0},{"$f":"IFERROR(SUMPRODUCT(--(INDEX(Model_Inputs_Ref_Units,,X$51)=$E125),INDEX(Model_Inputs_Ref_Units,,X$52)),0)","v":0},{"$f":"IFERROR(SUMPRODUCT(--(INDEX(Model_Inputs_Ref_Units,,Y$51)=$E125),INDEX(Model_Inputs_Ref_Units,,Y$52)),0)","v":0},{"$f":"IFERROR(SUMPRODUCT(--(INDEX(Model_Inputs_Ref_Units,,Z$51)=$E125),INDEX(Model_Inputs_Ref_Units,,Z$52)),0)","v":0},{"$f":"IFERROR(SUMPRODUCT(--(INDEX(Model_Inputs_Ref_Units,,AA$51)=$E125),INDEX(Model_Inputs_Ref_Units,,AA$52)),0)","v":0},{"$f":"IFERROR(SUMPRODUCT(--(INDEX(Model_Inputs_Ref_Units,,AB$51)=$E125),INDEX(Model_Inputs_Ref_Units,,AB$52)),0)","v":0},{"$f":"IFERROR(SUMPRODUCT(--(INDEX(Model_Inputs_Ref_Units,,AC$51)=$E125),INDEX(Model_Inputs_Ref_Units,,AC$52)),0)","v":0},{"$f":"IFERROR(SUMPRODUCT(--(INDEX(Model_Inputs_Ref_Units,,AD$51)=$E125),INDEX(Model_Inputs_Ref_Units,,AD$52)),0)","v":0},{"$f":"IFERROR(SUMPRODUCT(--(INDEX(Model_Inputs_Ref_Units,,AE$51)=$E125),INDEX(Model_Inputs_Ref_Units,,AE$52)),0)","v":0},{"$f":"IFERROR(SUMPRODUCT(--(INDEX(Model_Inputs_Ref_Units,,AF$51)=$E125),INDEX(Model_Inputs_Ref_Units,,AF$52)),0)","v":0},{"$f":"IFERROR(SUMPRODUCT(--(INDEX(Model_Inputs_Ref_Units,,AG$51)=$E125),INDEX(Model_Inputs_Ref_Units,,AG$52)),0)","v":0},{"$f":"IFERROR(SUMPRODUCT(--(INDEX(Model_Inputs_Ref_Units,,AH$51)=$E125),INDEX(Model_Inputs_Ref_Units,,AH$52)),0)","v":0},{"$f":"IFERROR(SUMPRODUCT(--(INDEX(Model_Inputs_Ref_Units,,AI$51)=$E125),INDEX(Model_Inputs_Ref_Units,,AI$52)),0)","v":0},{"$f":"IFERROR(SUMPRODUCT(--(INDEX(Model_Inputs_Ref_Units,,AJ$51)=$E125),INDEX(Model_Inputs_Ref_Units,,AJ$52)),0)","v":0},{"$f":"IFERROR(SUMPRODUCT(--(INDEX(Model_Inputs_Ref_Units,,AK$51)=$E125),INDEX(Model_Inputs_Ref_Units,,AK$52)),0)","v":0},{"$f":"IFERROR(SUMPRODUCT(--(INDEX(Model_Inputs_Ref_Units,,AL$51)=$E125),INDEX(Model_Inputs_Ref_Units,,AL$52)),0)","v":0},{"$f":"IFERROR(SUMPRODUCT(--(INDEX(Model_Inputs_Ref_Units,,AM$51)=$E125),INDEX(Model_Inputs_Ref_Units,,AM$52)),0)","v":0},{"$f":"IFERROR(SUMPRODUCT(--(INDEX(Model_Inputs_Ref_Units,,AN$51)=$E125),INDEX(Model_Inputs_Ref_Units,,AN$52)),0)","v":0},{"$f":"IFERROR(SUMPRODUCT(--(INDEX(Model_Inputs_Ref_Units,,AO$51)=$E125),INDEX(Model_Inputs_Ref_Units,,AO$52)),0)","v":0},{"$f":"IFERROR(SUMPRODUCT(--(INDEX(Model_Inputs_Ref_Units,,AP$51)=$E125),INDEX(Model_Inputs_Ref_Units,,AP$52)),0)","v":0},{"$f":"IFERROR(SUMPRODUCT(--(INDEX(Model_Inputs_Ref_Units,,AQ$51)=$E125),INDEX(Model_Inputs_Ref_Units,,AQ$52)),0)","v":0},{"$f":"IFERROR(SUMPRODUCT(--(INDEX(Model_Inputs_Ref_Units,,AR$51)=$E125),INDEX(Model_Inputs_Ref_Units,,AR$52)),0)","v":0},{"$f":"IFERROR(SUMPRODUCT(--(INDEX(Model_Inputs_Ref_Units,,AS$51)=$E125),INDEX(Model_Inputs_Ref_Units,,AS$52)),0)","v":0},{"$f":"IFERROR(SUMPRODUCT(--(INDEX(Model_Inputs_Ref_Units,,AT$51)=$E125),INDEX(Model_Inputs_Ref_Units,,AT$52)),0)","v":0},{"$f":"IFERROR(SUMPRODUCT(--(INDEX(Model_Inputs_Ref_Units,,AU$51)=$E125),INDEX(Model_Inputs_Ref_Units,,AU$52)),0)","v":0},{"$f":"IFERROR(SUMPRODUCT(--(INDEX(Model_Inputs_Ref_Units,,AV$51)=$E125),INDEX(Model_Inputs_Ref_Units,,AV$52)),0)","v":0},{"$f":"IFERROR(SUMPRODUCT(--(INDEX(Model_Inputs_Ref_Units,,AW$51)=$E125),INDEX(Model_Inputs_Ref_Units,,AW$52)),0)","v":0},{"$f":"IFERROR(SUMPRODUCT(--(INDEX(Model_Inputs_Ref_Units,,AX$51)=$E125),INDEX(Model_Inputs_Ref_Units,,AX$52)),0)","v":0},{"$f":"IFERROR(SUMPRODUCT(--(INDEX(Model_Inputs_Ref_Units,,AY$51)=$E125),INDEX(Model_Inputs_Ref_Units,,AY$52)),0)","v":0},{"$f":"IFERROR(SUMPRODUCT(--(INDEX(Model_Inputs_Ref_Units,,AZ$51)=$E125),INDEX(Model_Inputs_Ref_Units,,AZ$52)),0)","v":0},{"$f":"IFERROR(SUMPRODUCT(--(INDEX(Model_Inputs_Ref_Units,,BA$51)=$E125),INDEX(Model_Inputs_Ref_Units,,BA$52)),0)","v":0},{"$f":"IFERROR(SUMPRODUCT(--(INDEX(Model_Inputs_Ref_Units,,BB$51)=$E125),INDEX(Model_Inputs_Ref_Units,,BB$52)),0)","v":0},{"$f":"IFERROR(SUMPRODUCT(--(INDEX(Model_Inputs_Ref_Units,,BC$51)=$E125),INDEX(Model_Inputs_Ref_Units,,BC$52)),0)","v":0},{"$f":"IFERROR(SUMPRODUCT(--(INDEX(Model_Inputs_Ref_Units,,BD$51)=$E125),INDEX(Model_Inputs_Ref_Units,,BD$52)),0)","v":0},{"$f":"IFERROR(SUMPRODUCT(--(INDEX(Model_Inputs_Ref_Units,,BE$51)=$E125),INDEX(Model_Inputs_Ref_Units,,BE$52)),0)","v":0},{"$f":"IFERROR(SUMPRODUCT(--(INDEX(Model_Inputs_Ref_Units,,BF$51)=$E125),INDEX(Model_Inputs_Ref_Units,,BF$52)),0)","v":0},{"$f":"IFERROR(SUMPRODUCT(--(INDEX(Model_Inputs_Ref_Units,,BG$51)=$E125),INDEX(Model_Inputs_Ref_Units,,BG$52)),0)","v":0},{"$f":"IFERROR(SUMPRODUCT(--(INDEX(Model_Inputs_Ref_Units,,BH$51)=$E125),INDEX(Model_Inputs_Ref_Units,,BH$52)),0)","v":0},{"$f":"IFERROR(SUMPRODUCT(--(INDEX(Model_Inputs_Ref_Units,,BI$51)=$E125),INDEX(Model_Inputs_Ref_Units,,BI$52)),0)","v":0},{"$f":"IFERROR(SUMPRODUCT(--(INDEX(Model_Inputs_Ref_Units,,BJ$51)=$E125),INDEX(Model_Inputs_Ref_Units,,BJ$52)),0)","v":0},{"$f":"IFERROR(SUMPRODUCT(--(INDEX(Model_Inputs_Ref_Units,,BK$51)=$E125),INDEX(Model_Inputs_Ref_Units,,BK$52)),0)","v":0},{"$f":"IFERROR(SUMPRODUCT(--(INDEX(Model_Inputs_Ref_Units,,BL$51)=$E125),INDEX(Model_Inputs_Ref_Units,,BL$52)),0)","v":0},{"$f":"IFERROR(SUMPRODUCT(--(INDEX(Model_Inputs_Ref_Units,,BM$51)=$E125),INDEX(Model_Inputs_Ref_Units,,BM$52)),0)","v":0},{"$f":"IFERROR(SUMPRODUCT(--(INDEX(Model_Inputs_Ref_Units,,BN$51)=$E125),INDEX(Model_Inputs_Ref_Units,,BN$52)),0)","v":0},{"$f":"IFERROR(SUMPRODUCT(--(INDEX(Model_Inputs_Ref_Units,,BO$51)=$E125),INDEX(Model_Inputs_Ref_Units,,BO$52)),0)","v":0},{"$f":"IFERROR(SUMPRODUCT(--(INDEX(Model_Inputs_Ref_Units,,BP$51)=$E125),INDEX(Model_Inputs_Ref_Units,,BP$52)),0)","v":0},{"$f":"IFERROR(SUMPRODUCT(--(INDEX(Model_Inputs_Ref_Units,,BQ$51)=$E125),INDEX(Model_Inputs_Ref_Units,,BQ$52)),0)","v":0},{"$f":"IFERROR(SUMPRODUCT(--(INDEX(Model_Inputs_Ref_Units,,BR$51)=$E125),INDEX(Model_Inputs_Ref_Units,,BR$52)),0)","v":0},{"$f":"IFERROR(SUMPRODUCT(--(INDEX(Model_Inputs_Ref_Units,,BS$51)=$E125),INDEX(Model_Inputs_Ref_Units,,BS$52)),0)","v":0},{"$f":"IFERROR(SUMPRODUCT(--(INDEX(Model_Inputs_Ref_Units,,BT$51)=$E125),INDEX(Model_Inputs_Ref_Units,,BT$52)),0)","v":0},{"$f":"IFERROR(SUMPRODUCT(--(INDEX(Model_Inputs_Ref_Units,,BU$51)=$E125),INDEX(Model_Inputs_Ref_Units,,BU$52)),0)","v":0},{"$f":"IFERROR(SUMPRODUCT(--(INDEX(Model_Inputs_Ref_Units,,BV$51)=$E125),INDEX(Model_Inputs_Ref_Units,,BV$52)),0)","v":0},{"$f":"IFERROR(SUMPRODUCT(--(INDEX(Model_Inputs_Ref_Units,,BW$51)=$E125),INDEX(Model_Inputs_Ref_Units,,BW$52)),0)","v":0},{"$f":"IFERROR(SUMPRODUCT(--(INDEX(Model_Inputs_Ref_Units,,BX$51)=$E125),INDEX(Model_Inputs_Ref_Units,,BX$52)),0)","v":0},{"$f":"IFERROR(SUMPRODUCT(--(INDEX(Model_Inputs_Ref_Units,,BY$51)=$E125),INDEX(Model_Inputs_Ref_Units,,BY$52)),0)","v":0},{"$f":"IFERROR(SUMPRODUCT(--(INDEX(Model_Inputs_Ref_Units,,BZ$51)=$E125),INDEX(Model_Inputs_Ref_Units,,BZ$52)),0)","v":0},{"$f":"IFERROR(SUMPRODUCT(--(INDEX(Model_Inputs_Ref_Units,,CA$51)=$E125),INDEX(Model_Inputs_Ref_Units,,CA$52)),0)","v":0},{"$f":"IFERROR(SUMPRODUCT(--(INDEX(Model_Inputs_Ref_Units,,CB$51)=$E125),INDEX(Model_Inputs_Ref_Units,,CB$52)),0)","v":0},{"$f":"IFERROR(SUMPRODUCT(--(INDEX(Model_Inputs_Ref_Units,,CC$51)=$E125),INDEX(Model_Inputs_Ref_Units,,CC$52)),0)","v":0},{"$f":"IFERROR(SUMPRODUCT(--(INDEX(Model_Inputs_Ref_Units,,CD$51)=$E125),INDEX(Model_Inputs_Ref_Units,,CD$52)),0)","v":0},{"$f":"IFERROR(SUMPRODUCT(--(INDEX(Model_Inputs_Ref_Units,,CE$51)=$E125),INDEX(Model_Inputs_Ref_Units,,CE$52)),0)","v":0},{"$f":"IFERROR(SUMPRODUCT(--(INDEX(Model_Inputs_Ref_Units,,CF$51)=$E125),INDEX(Model_Inputs_Ref_Units,,CF$52)),0)","v":0},{"$f":"IFERROR(SUMPRODUCT(--(INDEX(Model_Inputs_Ref_Units,,CG$51)=$E125),INDEX(Model_Inputs_Ref_Units,,CG$52)),0)","v":0},{"$f":"IFERROR(SUMPRODUCT(--(INDEX(Model_Inputs_Ref_Units,,CH$51)=$E125),INDEX(Model_Inputs_Ref_Units,,CH$52)),0)","v":0},{"$f":"IFERROR(SUMPRODUCT(--(INDEX(Model_Inputs_Ref_Units,,CI$51)=$E125),INDEX(Model_Inputs_Ref_Units,,CI$52)),0)","v":0},{"$f":"IFERROR(SUMPRODUCT(--(INDEX(Model_Inputs_Ref_Units,,CJ$51)=$E125),INDEX(Model_Inputs_Ref_Units,,CJ$52)),0)","v":0},{"$f":"IFERROR(SUMPRODUCT(--(INDEX(Model_Inputs_Ref_Units,,CK$51)=$E125),INDEX(Model_Inputs_Ref_Units,,CK$52)),0)","v":0},{"$f":"IFERROR(SUMPRODUCT(--(INDEX(Model_Inputs_Ref_Units,,CL$51)=$E125),INDEX(Model_Inputs_Ref_Units,,CL$52)),0)","v":0},{"$f":"IFERROR(SUMPRODUCT(--(INDEX(Model_Inputs_Ref_Units,,CM$51)=$E125),INDEX(Model_Inputs_Ref_Units,,CM$52)),0)","v":0},{"$f":"IFERROR(SUMPRODUCT(--(INDEX(Model_Inputs_Ref_Units,,CN$51)=$E125),INDEX(Model_Inputs_Ref_Units,,CN$52)),0)","v":0},{"$f":"IFERROR(SUMPRODUCT(--(INDEX(Model_Inputs_Ref_Units,,CO$51)=$E125),INDEX(Model_Inputs_Ref_Units,,CO$52)),0)","v":0},{"$f":"IFERROR(SUMPRODUCT(--(INDEX(Model_Inputs_Ref_Units,,CP$51)=$E125),INDEX(Model_Inputs_Ref_Units,,CP$52)),0)","v":0},{"$f":"IFERROR(SUMPRODUCT(--(INDEX(Model_Inputs_Ref_Units,,CQ$51)=$E125),INDEX(Model_Inputs_Ref_Units,,CQ$52)),0)","v":0},{"$f":"IFERROR(SUMPRODUCT(--(INDEX(Model_Inputs_Ref_Units,,CR$51)=$E125),INDEX(Model_Inputs_Ref_Units,,CR$52)),0)","v":0},{"$f":"IFERROR(SUMPRODUCT(--(INDEX(Model_Inputs_Ref_Units,,CS$51)=$E125),INDEX(Model_Inputs_Ref_Units,,CS$52)),0)","v":0},{"$f":"IFERROR(SUMPRODUCT(--(INDEX(Model_Inputs_Ref_Units,,CT$51)=$E125),INDEX(Model_Inputs_Ref_Units,,CT$52)),0)","v":0},{"$f":"IFERROR(SUMPRODUCT(--(INDEX(Model_Inputs_Ref_Units,,CU$51)=$E125),INDEX(Model_Inputs_Ref_Units,,CU$52)),0)","v":0},{"$f":"IFERROR(SUMPRODUCT(--(INDEX(Model_Inputs_Ref_Units,,CV$51)=$E125),INDEX(Model_Inputs_Ref_Units,,CV$52)),0)","v":0},{"$f":"IFERROR(SUMPRODUCT(--(INDEX(Model_Inputs_Ref_Units,,CW$51)=$E125),INDEX(Model_Inputs_Ref_Units,,CW$52)),0)","v":0},{"$f":"IFERROR(SUMPRODUCT(--(INDEX(Model_Inputs_Ref_Units,,CX$51)=$E125),INDEX(Model_Inputs_Ref_Units,,CX$52)),0)","v":0},{"$f":"IFERROR(SUMPRODUCT(--(INDEX(Model_Inputs_Ref_Units,,CY$51)=$E125),INDEX(Model_Inputs_Ref_Units,,CY$52)),0)","v":0},{"$f":"IFERROR(SUMPRODUCT(--(INDEX(Model_Inputs_Ref_Units,,CZ$51)=$E125),INDEX(Model_Inputs_Ref_Units,,CZ$52)),0)","v":0},{"$f":"IFERROR(SUMPRODUCT(--(INDEX(Model_Inputs_Ref_Units,,DA$51)=$E125),INDEX(Model_Inputs_Ref_Units,,DA$52)),0)","v":0},{"$f":"IFERROR(SUMPRODUCT(--(INDEX(Model_Inputs_Ref_Units,,DB$51)=$E125),INDEX(Model_Inputs_Ref_Units,,DB$52)),0)","v":0},{"$f":"IFERROR(SUMPRODUCT(--(INDEX(Model_Inputs_Ref_Units,,DC$51)=$E125),INDEX(Model_Inputs_Ref_Units,,DC$52)),0)","v":0},{"$f":"IFERROR(SUMPRODUCT(--(INDEX(Model_Inputs_Ref_Units,,DD$51)=$E125),INDEX(Model_Inputs_Ref_Units,,DD$52)),0)","v":0},{"$f":"IFERROR(SUMPRODUCT(--(INDEX(Model_Inputs_Ref_Units,,DE$51)=$E125),INDEX(Model_Inputs_Ref_Units,,DE$52)),0)","v":0},{"$f":"IFERROR(SUMPRODUCT(--(INDEX(Model_Inputs_Ref_Units,,DF$51)=$E125),INDEX(Model_Inputs_Ref_Units,,DF$52)),0)","v":0}]
[null,null,{"$error":"#DIV/0!"},null,{"$f":"IFERROR(INDEX(Ref_Data,1,F126),\"\")","v":""},73,0,0,0,0,{"$f":"IFERROR(SUMPRODUCT(--(INDEX(Model_Inputs_Ref_Units,,K$51)=$E126),INDEX(Model_Inputs_Ref_Units,,K$52)),0)","v":0},{"$f":"IFERROR(SUMPRODUCT(--(INDEX(Model_Inputs_Ref_Units,,L$51)=$E126),INDEX(Model_Inputs_Ref_Units,,L$52)),0)","v":0},{"$f":"IFERROR(SUMPRODUCT(--(INDEX(Model_Inputs_Ref_Units,,M$51)=$E126),INDEX(Model_Inputs_Ref_Units,,M$52)),0)","v":0},{"$f":"IFERROR(SUMPRODUCT(--(INDEX(Model_Inputs_Ref_Units,,N$51)=$E126),INDEX(Model_Inputs_Ref_Units,,N$52)),0)","v":0},{"$f":"IFERROR(SUMPRODUCT(--(INDEX(Model_Inputs_Ref_Units,,O$51)=$E126),INDEX(Model_Inputs_Ref_Units,,O$52)),0)","v":0},{"$f":"IFERROR(SUMPRODUCT(--(INDEX(Model_Inputs_Ref_Units,,P$51)=$E126),INDEX(Model_Inputs_Ref_Units,,P$52)),0)","v":0},{"$f":"IFERROR(SUMPRODUCT(--(INDEX(Model_Inputs_Ref_Units,,Q$51)=$E126),INDEX(Model_Inputs_Ref_Units,,Q$52)),0)","v":0},{"$f":"IFERROR(SUMPRODUCT(--(INDEX(Model_Inputs_Ref_Units,,R$51)=$E126),INDEX(Model_Inputs_Ref_Units,,R$52)),0)","v":0},{"$f":"IFERROR(SUMPRODUCT(--(INDEX(Model_Inputs_Ref_Units,,S$51)=$E126),INDEX(Model_Inputs_Ref_Units,,S$52)),0)","v":0},{"$f":"IFERROR(SUMPRODUCT(--(INDEX(Model_Inputs_Ref_Units,,T$51)=$E126),INDEX(Model_Inputs_Ref_Units,,T$52)),0)","v":0},{"$f":"IFERROR(SUMPRODUCT(--(INDEX(Model_Inputs_Ref_Units,,U$51)=$E126),INDEX(Model_Inputs_Ref_Units,,U$52)),0)","v":0},{"$f":"IFERROR(SUMPRODUCT(--(INDEX(Model_Inputs_Ref_Units,,V$51)=$E126),INDEX(Model_Inputs_Ref_Units,,V$52)),0)","v":0},{"$f":"IFERROR(SUMPRODUCT(--(INDEX(Model_Inputs_Ref_Units,,W$51)=$E126),INDEX(Model_Inputs_Ref_Units,,W$52)),0)","v":0},{"$f":"IFERROR(SUMPRODUCT(--(INDEX(Model_Inputs_Ref_Units,,X$51)=$E126),INDEX(Model_Inputs_Ref_Units,,X$52)),0)","v":0},{"$f":"IFERROR(SUMPRODUCT(--(INDEX(Model_Inputs_Ref_Units,,Y$51)=$E126),INDEX(Model_Inputs_Ref_Units,,Y$52)),0)","v":0},{"$f":"IFERROR(SUMPRODUCT(--(INDEX(Model_Inputs_Ref_Units,,Z$51)=$E126),INDEX(Model_Inputs_Ref_Units,,Z$52)),0)","v":0},{"$f":"IFERROR(SUMPRODUCT(--(INDEX(Model_Inputs_Ref_Units,,AA$51)=$E126),INDEX(Model_Inputs_Ref_Units,,AA$52)),0)","v":0},{"$f":"IFERROR(SUMPRODUCT(--(INDEX(Model_Inputs_Ref_Units,,AB$51)=$E126),INDEX(Model_Inputs_Ref_Units,,AB$52)),0)","v":0},{"$f":"IFERROR(SUMPRODUCT(--(INDEX(Model_Inputs_Ref_Units,,AC$51)=$E126),INDEX(Model_Inputs_Ref_Units,,AC$52)),0)","v":0},{"$f":"IFERROR(SUMPRODUCT(--(INDEX(Model_Inputs_Ref_Units,,AD$51)=$E126),INDEX(Model_Inputs_Ref_Units,,AD$52)),0)","v":0},{"$f":"IFERROR(SUMPRODUCT(--(INDEX(Model_Inputs_Ref_Units,,AE$51)=$E126),INDEX(Model_Inputs_Ref_Units,,AE$52)),0)","v":0},{"$f":"IFERROR(SUMPRODUCT(--(INDEX(Model_Inputs_Ref_Units,,AF$51)=$E126),INDEX(Model_Inputs_Ref_Units,,AF$52)),0)","v":0},{"$f":"IFERROR(SUMPRODUCT(--(INDEX(Model_Inputs_Ref_Units,,AG$51)=$E126),INDEX(Model_Inputs_Ref_Units,,AG$52)),0)","v":0},{"$f":"IFERROR(SUMPRODUCT(--(INDEX(Model_Inputs_Ref_Units,,AH$51)=$E126),INDEX(Model_Inputs_Ref_Units,,AH$52)),0)","v":0},{"$f":"IFERROR(SUMPRODUCT(--(INDEX(Model_Inputs_Ref_Units,,AI$51)=$E126),INDEX(Model_Inputs_Ref_Units,,AI$52)),0)","v":0},{"$f":"IFERROR(SUMPRODUCT(--(INDEX(Model_Inputs_Ref_Units,,AJ$51)=$E126),INDEX(Model_Inputs_Ref_Units,,AJ$52)),0)","v":0},{"$f":"IFERROR(SUMPRODUCT(--(INDEX(Model_Inputs_Ref_Units,,AK$51)=$E126),INDEX(Model_Inputs_Ref_Units,,AK$52)),0)","v":0},{"$f":"IFERROR(SUMPRODUCT(--(INDEX(Model_Inputs_Ref_Units,,AL$51)=$E126),INDEX(Model_Inputs_Ref_Units,,AL$52)),0)","v":0},{"$f":"IFERROR(SUMPRODUCT(--(INDEX(Model_Inputs_Ref_Units,,AM$51)=$E126),INDEX(Model_Inputs_Ref_Units,,AM$52)),0)","v":0},{"$f":"IFERROR(SUMPRODUCT(--(INDEX(Model_Inputs_Ref_Units,,AN$51)=$E126),INDEX(Model_Inputs_Ref_Units,,AN$52)),0)","v":0},{"$f":"IFERROR(SUMPRODUCT(--(INDEX(Model_Inputs_Ref_Units,,AO$51)=$E126),INDEX(Model_Inputs_Ref_Units,,AO$52)),0)","v":0},{"$f":"IFERROR(SUMPRODUCT(--(INDEX(Model_Inputs_Ref_Units,,AP$51)=$E126),INDEX(Model_Inputs_Ref_Units,,AP$52)),0)","v":0},{"$f":"IFERROR(SUMPRODUCT(--(INDEX(Model_Inputs_Ref_Units,,AQ$51)=$E126),INDEX(Model_Inputs_Ref_Units,,AQ$52)),0)","v":0},{"$f":"IFERROR(SUMPRODUCT(--(INDEX(Model_Inputs_Ref_Units,,AR$51)=$E126),INDEX(Model_Inputs_Ref_Units,,AR$52)),0)","v":0},{"$f":"IFERROR(SUMPRODUCT(--(INDEX(Model_Inputs_Ref_Units,,AS$51)=$E126),INDEX(Model_Inputs_Ref_Units,,AS$52)),0)","v":0},{"$f":"IFERROR(SUMPRODUCT(--(INDEX(Model_Inputs_Ref_Units,,AT$51)=$E126),INDEX(Model_Inputs_Ref_Units,,AT$52)),0)","v":0},{"$f":"IFERROR(SUMPRODUCT(--(INDEX(Model_Inputs_Ref_Units,,AU$51)=$E126),INDEX(Model_Inputs_Ref_Units,,AU$52)),0)","v":0},{"$f":"IFERROR(SUMPRODUCT(--(INDEX(Model_Inputs_Ref_Units,,AV$51)=$E126),INDEX(Model_Inputs_Ref_Units,,AV$52)),0)","v":0},{"$f":"IFERROR(SUMPRODUCT(--(INDEX(Model_Inputs_Ref_Units,,AW$51)=$E126),INDEX(Model_Inputs_Ref_Units,,AW$52)),0)","v":0},{"$f":"IFERROR(SUMPRODUCT(--(INDEX(Model_Inputs_Ref_Units,,AX$51)=$E126),INDEX(Model_Inputs_Ref_Units,,AX$52)),0)","v":0},{"$f":"IFERROR(SUMPRODUCT(--(INDEX(Model_Inputs_Ref_Units,,AY$51)=$E126),INDEX(Model_Inputs_Ref_Units,,AY$52)),0)","v":0},{"$f":"IFERROR(SUMPRODUCT(--(INDEX(Model_Inputs_Ref_Units,,AZ$51)=$E126),INDEX(Model_Inputs_Ref_Units,,AZ$52)),0)","v":0},{"$f":"IFERROR(SUMPRODUCT(--(INDEX(Model_Inputs_Ref_Units,,BA$51)=$E126),INDEX(Model_Inputs_Ref_Units,,BA$52)),0)","v":0},{"$f":"IFERROR(SUMPRODUCT(--(INDEX(Model_Inputs_Ref_Units,,BB$51)=$E126),INDEX(Model_Inputs_Ref_Units,,BB$52)),0)","v":0},{"$f":"IFERROR(SUMPRODUCT(--(INDEX(Model_Inputs_Ref_Units,,BC$51)=$E126),INDEX(Model_Inputs_Ref_Units,,BC$52)),0)","v":0},{"$f":"IFERROR(SUMPRODUCT(--(INDEX(Model_Inputs_Ref_Units,,BD$51)=$E126),INDEX(Model_Inputs_Ref_Units,,BD$52)),0)","v":0},{"$f":"IFERROR(SUMPRODUCT(--(INDEX(Model_Inputs_Ref_Units,,BE$51)=$E126),INDEX(Model_Inputs_Ref_Units,,BE$52)),0)","v":0},{"$f":"IFERROR(SUMPRODUCT(--(INDEX(Model_Inputs_Ref_Units,,BF$51)=$E126),INDEX(Model_Inputs_Ref_Units,,BF$52)),0)","v":0},{"$f":"IFERROR(SUMPRODUCT(--(INDEX(Model_Inputs_Ref_Units,,BG$51)=$E126),INDEX(Model_Inputs_Ref_Units,,BG$52)),0)","v":0},{"$f":"IFERROR(SUMPRODUCT(--(INDEX(Model_Inputs_Ref_Units,,BH$51)=$E126),INDEX(Model_Inputs_Ref_Units,,BH$52)),0)","v":0},{"$f":"IFERROR(SUMPRODUCT(--(INDEX(Model_Inputs_Ref_Units,,BI$51)=$E126),INDEX(Model_Inputs_Ref_Units,,BI$52)),0)","v":0},{"$f":"IFERROR(SUMPRODUCT(--(INDEX(Model_Inputs_Ref_Units,,BJ$51)=$E126),INDEX(Model_Inputs_Ref_Units,,BJ$52)),0)","v":0},{"$f":"IFERROR(SUMPRODUCT(--(INDEX(Model_Inputs_Ref_Units,,BK$51)=$E126),INDEX(Model_Inputs_Ref_Units,,BK$52)),0)","v":0},{"$f":"IFERROR(SUMPRODUCT(--(INDEX(Model_Inputs_Ref_Units,,BL$51)=$E126),INDEX(Model_Inputs_Ref_Units,,BL$52)),0)","v":0},{"$f":"IFERROR(SUMPRODUCT(--(INDEX(Model_Inputs_Ref_Units,,BM$51)=$E126),INDEX(Model_Inputs_Ref_Units,,BM$52)),0)","v":0},{"$f":"IFERROR(SUMPRODUCT(--(INDEX(Model_Inputs_Ref_Units,,BN$51)=$E126),INDEX(Model_Inputs_Ref_Units,,BN$52)),0)","v":0},{"$f":"IFERROR(SUMPRODUCT(--(INDEX(Model_Inputs_Ref_Units,,BO$51)=$E126),INDEX(Model_Inputs_Ref_Units,,BO$52)),0)","v":0},{"$f":"IFERROR(SUMPRODUCT(--(INDEX(Model_Inputs_Ref_Units,,BP$51)=$E126),INDEX(Model_Inputs_Ref_Units,,BP$52)),0)","v":0},{"$f":"IFERROR(SUMPRODUCT(--(INDEX(Model_Inputs_Ref_Units,,BQ$51)=$E126),INDEX(Model_Inputs_Ref_Units,,BQ$52)),0)","v":0},{"$f":"IFERROR(SUMPRODUCT(--(INDEX(Model_Inputs_Ref_Units,,BR$51)=$E126),INDEX(Model_Inputs_Ref_Units,,BR$52)),0)","v":0},{"$f":"IFERROR(SUMPRODUCT(--(INDEX(Model_Inputs_Ref_Units,,BS$51)=$E126),INDEX(Model_Inputs_Ref_Units,,BS$52)),0)","v":0},{"$f":"IFERROR(SUMPRODUCT(--(INDEX(Model_Inputs_Ref_Units,,BT$51)=$E126),INDEX(Model_Inputs_Ref_Units,,BT$52)),0)","v":0},{"$f":"IFERROR(SUMPRODUCT(--(INDEX(Model_Inputs_Ref_Units,,BU$51)=$E126),INDEX(Model_Inputs_Ref_Units,,BU$52)),0)","v":0},{"$f":"IFERROR(SUMPRODUCT(--(INDEX(Model_Inputs_Ref_Units,,BV$51)=$E126),INDEX(Model_Inputs_Ref_Units,,BV$52)),0)","v":0},{"$f":"IFERROR(SUMPRODUCT(--(INDEX(Model_Inputs_Ref_Units,,BW$51)=$E126),INDEX(Model_Inputs_Ref_Units,,BW$52)),0)","v":0},{"$f":"IFERROR(SUMPRODUCT(--(INDEX(Model_Inputs_Ref_Units,,BX$51)=$E126),INDEX(Model_Inputs_Ref_Units,,BX$52)),0)","v":0},{"$f":"IFERROR(SUMPRODUCT(--(INDEX(Model_Inputs_Ref_Units,,BY$51)=$E126),INDEX(Model_Inputs_Ref_Units,,BY$52)),0)","v":0},{"$f":"IFERROR(SUMPRODUCT(--(INDEX(Model_Inputs_Ref_Units,,BZ$51)=$E126),INDEX(Model_Inputs_Ref_Units,,BZ$52)),0)","v":0},{"$f":"IFERROR(SUMPRODUCT(--(INDEX(Model_Inputs_Ref_Units,,CA$51)=$E126),INDEX(Model_Inputs_Ref_Units,,CA$52)),0)","v":0},{"$f":"IFERROR(SUMPRODUCT(--(INDEX(Model_Inputs_Ref_Units,,CB$51)=$E126),INDEX(Model_Inputs_Ref_Units,,CB$52)),0)","v":0},{"$f":"IFERROR(SUMPRODUCT(--(INDEX(Model_Inputs_Ref_Units,,CC$51)=$E126),INDEX(Model_Inputs_Ref_Units,,CC$52)),0)","v":0},{"$f":"IFERROR(SUMPRODUCT(--(INDEX(Model_Inputs_Ref_Units,,CD$51)=$E126),INDEX(Model_Inputs_Ref_Units,,CD$52)),0)","v":0},{"$f":"IFERROR(SUMPRODUCT(--(INDEX(Model_Inputs_Ref_Units,,CE$51)=$E126),INDEX(Model_Inputs_Ref_Units,,CE$52)),0)","v":0},{"$f":"IFERROR(SUMPRODUCT(--(INDEX(Model_Inputs_Ref_Units,,CF$51)=$E126),INDEX(Model_Inputs_Ref_Units,,CF$52)),0)","v":0},{"$f":"IFERROR(SUMPRODUCT(--(INDEX(Model_Inputs_Ref_Units,,CG$51)=$E126),INDEX(Model_Inputs_Ref_Units,,CG$52)),0)","v":0},{"$f":"IFERROR(SUMPRODUCT(--(INDEX(Model_Inputs_Ref_Units,,CH$51)=$E126),INDEX(Model_Inputs_Ref_Units,,CH$52)),0)","v":0},{"$f":"IFERROR(SUMPRODUCT(--(INDEX(Model_Inputs_Ref_Units,,CI$51)=$E126),INDEX(Model_Inputs_Ref_Units,,CI$52)),0)","v":0},{"$f":"IFERROR(SUMPRODUCT(--(INDEX(Model_Inputs_Ref_Units,,CJ$51)=$E126),INDEX(Model_Inputs_Ref_Units,,CJ$52)),0)","v":0},{"$f":"IFERROR(SUMPRODUCT(--(INDEX(Model_Inputs_Ref_Units,,CK$51)=$E126),INDEX(Model_Inputs_Ref_Units,,CK$52)),0)","v":0},{"$f":"IFERROR(SUMPRODUCT(--(INDEX(Model_Inputs_Ref_Units,,CL$51)=$E126),INDEX(Model_Inputs_Ref_Units,,CL$52)),0)","v":0},{"$f":"IFERROR(SUMPRODUCT(--(INDEX(Model_Inputs_Ref_Units,,CM$51)=$E126),INDEX(Model_Inputs_Ref_Units,,CM$52)),0)","v":0},{"$f":"IFERROR(SUMPRODUCT(--(INDEX(Model_Inputs_Ref_Units,,CN$51)=$E126),INDEX(Model_Inputs_Ref_Units,,CN$52)),0)","v":0},{"$f":"IFERROR(SUMPRODUCT(--(INDEX(Model_Inputs_Ref_Units,,CO$51)=$E126),INDEX(Model_Inputs_Ref_Units,,CO$52)),0)","v":0},{"$f":"IFERROR(SUMPRODUCT(--(INDEX(Model_Inputs_Ref_Units,,CP$51)=$E126),INDEX(Model_Inputs_Ref_Units,,CP$52)),0)","v":0},{"$f":"IFERROR(SUMPRODUCT(--(INDEX(Model_Inputs_Ref_Units,,CQ$51)=$E126),INDEX(Model_Inputs_Ref_Units,,CQ$52)),0)","v":0},{"$f":"IFERROR(SUMPRODUCT(--(INDEX(Model_Inputs_Ref_Units,,CR$51)=$E126),INDEX(Model_Inputs_Ref_Units,,CR$52)),0)","v":0},{"$f":"IFERROR(SUMPRODUCT(--(INDEX(Model_Inputs_Ref_Units,,CS$51)=$E126),INDEX(Model_Inputs_Ref_Units,,CS$52)),0)","v":0},{"$f":"IFERROR(SUMPRODUCT(--(INDEX(Model_Inputs_Ref_Units,,CT$51)=$E126),INDEX(Model_Inputs_Ref_Units,,CT$52)),0)","v":0},{"$f":"IFERROR(SUMPRODUCT(--(INDEX(Model_Inputs_Ref_Units,,CU$51)=$E126),INDEX(Model_Inputs_Ref_Units,,CU$52)),0)","v":0},{"$f":"IFERROR(SUMPRODUCT(--(INDEX(Model_Inputs_Ref_Units,,CV$51)=$E126),INDEX(Model_Inputs_Ref_Units,,CV$52)),0)","v":0},{"$f":"IFERROR(SUMPRODUCT(--(INDEX(Model_Inputs_Ref_Units,,CW$51)=$E126),INDEX(Model_Inputs_Ref_Units,,CW$52)),0)","v":0},{"$f":"IFERROR(SUMPRODUCT(--(INDEX(Model_Inputs_Ref_Units,,CX$51)=$E126),INDEX(Model_Inputs_Ref_Units,,CX$52)),0)","v":0},{"$f":"IFERROR(SUMPRODUCT(--(INDEX(Model_Inputs_Ref_Units,,CY$51)=$E126),INDEX(Model_Inputs_Ref_Units,,CY$52)),0)","v":0},{"$f":"IFERROR(SUMPRODUCT(--(INDEX(Model_Inputs_Ref_Units,,CZ$51)=$E126),INDEX(Model_Inputs_Ref_Units,,CZ$52)),0)","v":0},{"$f":"IFERROR(SUMPRODUCT(--(INDEX(Model_Inputs_Ref_Units,,DA$51)=$E126),INDEX(Model_Inputs_Ref_Units,,DA$52)),0)","v":0},{"$f":"IFERROR(SUMPRODUCT(--(INDEX(Model_Inputs_Ref_Units,,DB$51)=$E126),INDEX(Model_Inputs_Ref_Units,,DB$52)),0)","v":0},{"$f":"IFERROR(SUMPRODUCT(--(INDEX(Model_Inputs_Ref_Units,,DC$51)=$E126),INDEX(Model_Inputs_Ref_Units,,DC$52)),0)","v":0},{"$f":"IFERROR(SUMPRODUCT(--(INDEX(Model_Inputs_Ref_Units,,DD$51)=$E126),INDEX(Model_Inputs_Ref_Units,,DD$52)),0)","v":0},{"$f":"IFERROR(SUMPRODUCT(--(INDEX(Model_Inputs_Ref_Units,,DE$51)=$E126),INDEX(Model_Inputs_Ref_Units,,DE$52)),0)","v":0},{"$f":"IFERROR(SUMPRODUCT(--(INDEX(Model_Inputs_Ref_Units,,DF$51)=$E126),INDEX(Model_Inputs_Ref_Units,,DF$52)),0)","v":0}]
[null,null,{"$error":"#DIV/0!"},null,{"$f":"IFERROR(INDEX(Ref_Data,1,F127),\"\")","v":""},74,0,0,0,0,{"$f":"IFERROR(SUMPRODUCT(--(INDEX(Model_Inputs_Ref_Units,,K$51)=$E127),INDEX(Model_Inputs_Ref_Units,,K$52)),0)","v":0},{"$f":"IFERROR(SUMPRODUCT(--(INDEX(Model_Inputs_Ref_Units,,L$51)=$E127),INDEX(Model_Inputs_Ref_Units,,L$52)),0)","v":0},{"$f":"IFERROR(SUMPRODUCT(--(INDEX(Model_Inputs_Ref_Units,,M$51)=$E127),INDEX(Model_Inputs_Ref_Units,,M$52)),0)","v":0},{"$f":"IFERROR(SUMPRODUCT(--(INDEX(Model_Inputs_Ref_Units,,N$51)=$E127),INDEX(Model_Inputs_Ref_Units,,N$52)),0)","v":0},{"$f":"IFERROR(SUMPRODUCT(--(INDEX(Model_Inputs_Ref_Units,,O$51)=$E127),INDEX(Model_Inputs_Ref_Units,,O$52)),0)","v":0},{"$f":"IFERROR(SUMPRODUCT(--(INDEX(Model_Inputs_Ref_Units,,P$51)=$E127),INDEX(Model_Inputs_Ref_Units,,P$52)),0)","v":0},{"$f":"IFERROR(SUMPRODUCT(--(INDEX(Model_Inputs_Ref_Units,,Q$51)=$E127),INDEX(Model_Inputs_Ref_Units,,Q$52)),0)","v":0},{"$f":"IFERROR(SUMPRODUCT(--(INDEX(Model_Inputs_Ref_Units,,R$51)=$E127),INDEX(Model_Inputs_Ref_Units,,R$52)),0)","v":0},{"$f":"IFERROR(SUMPRODUCT(--(INDEX(Model_Inputs_Ref_Units,,S$51)=$E127),INDEX(Model_Inputs_Ref_Units,,S$52)),0)","v":0},{"$f":"IFERROR(SUMPRODUCT(--(INDEX(Model_Inputs_Ref_Units,,T$51)=$E127),INDEX(Model_Inputs_Ref_Units,,T$52)),0)","v":0},{"$f":"IFERROR(SUMPRODUCT(--(INDEX(Model_Inputs_Ref_Units,,U$51)=$E127),INDEX(Model_Inputs_Ref_Units,,U$52)),0)","v":0},{"$f":"IFERROR(SUMPRODUCT(--(INDEX(Model_Inputs_Ref_Units,,V$51)=$E127),INDEX(Model_Inputs_Ref_Units,,V$52)),0)","v":0},{"$f":"IFERROR(SUMPRODUCT(--(INDEX(Model_Inputs_Ref_Units,,W$51)=$E127),INDEX(Model_Inputs_Ref_Units,,W$52)),0)","v":0},{"$f":"IFERROR(SUMPRODUCT(--(INDEX(Model_Inputs_Ref_Units,,X$51)=$E127),INDEX(Model_Inputs_Ref_Units,,X$52)),0)","v":0},{"$f":"IFERROR(SUMPRODUCT(--(INDEX(Model_Inputs_Ref_Units,,Y$51)=$E127),INDEX(Model_Inputs_Ref_Units,,Y$52)),0)","v":0},{"$f":"IFERROR(SUMPRODUCT(--(INDEX(Model_Inputs_Ref_Units,,Z$51)=$E127),INDEX(Model_Inputs_Ref_Units,,Z$52)),0)","v":0},{"$f":"IFERROR(SUMPRODUCT(--(INDEX(Model_Inputs_Ref_Units,,AA$51)=$E127),INDEX(Model_Inputs_Ref_Units,,AA$52)),0)","v":0},{"$f":"IFERROR(SUMPRODUCT(--(INDEX(Model_Inputs_Ref_Units,,AB$51)=$E127),INDEX(Model_Inputs_Ref_Units,,AB$52)),0)","v":0},{"$f":"IFERROR(SUMPRODUCT(--(INDEX(Model_Inputs_Ref_Units,,AC$51)=$E127),INDEX(Model_Inputs_Ref_Units,,AC$52)),0)","v":0},{"$f":"IFERROR(SUMPRODUCT(--(INDEX(Model_Inputs_Ref_Units,,AD$51)=$E127),INDEX(Model_Inputs_Ref_Units,,AD$52)),0)","v":0},{"$f":"IFERROR(SUMPRODUCT(--(INDEX(Model_Inputs_Ref_Units,,AE$51)=$E127),INDEX(Model_Inputs_Ref_Units,,AE$52)),0)","v":0},{"$f":"IFERROR(SUMPRODUCT(--(INDEX(Model_Inputs_Ref_Units,,AF$51)=$E127),INDEX(Model_Inputs_Ref_Units,,AF$52)),0)","v":0},{"$f":"IFERROR(SUMPRODUCT(--(INDEX(Model_Inputs_Ref_Units,,AG$51)=$E127),INDEX(Model_Inputs_Ref_Units,,AG$52)),0)","v":0},{"$f":"IFERROR(SUMPRODUCT(--(INDEX(Model_Inputs_Ref_Units,,AH$51)=$E127),INDEX(Model_Inputs_Ref_Units,,AH$52)),0)","v":0},{"$f":"IFERROR(SUMPRODUCT(--(INDEX(Model_Inputs_Ref_Units,,AI$51)=$E127),INDEX(Model_Inputs_Ref_Units,,AI$52)),0)","v":0},{"$f":"IFERROR(SUMPRODUCT(--(INDEX(Model_Inputs_Ref_Units,,AJ$51)=$E127),INDEX(Model_Inputs_Ref_Units,,AJ$52)),0)","v":0},{"$f":"IFERROR(SUMPRODUCT(--(INDEX(Model_Inputs_Ref_Units,,AK$51)=$E127),INDEX(Model_Inputs_Ref_Units,,AK$52)),0)","v":0},{"$f":"IFERROR(SUMPRODUCT(--(INDEX(Model_Inputs_Ref_Units,,AL$51)=$E127),INDEX(Model_Inputs_Ref_Units,,AL$52)),0)","v":0},{"$f":"IFERROR(SUMPRODUCT(--(INDEX(Model_Inputs_Ref_Units,,AM$51)=$E127),INDEX(Model_Inputs_Ref_Units,,AM$52)),0)","v":0},{"$f":"IFERROR(SUMPRODUCT(--(INDEX(Model_Inputs_Ref_Units,,AN$51)=$E127),INDEX(Model_Inputs_Ref_Units,,AN$52)),0)","v":0},{"$f":"IFERROR(SUMPRODUCT(--(INDEX(Model_Inputs_Ref_Units,,AO$51)=$E127),INDEX(Model_Inputs_Ref_Units,,AO$52)),0)","v":0},{"$f":"IFERROR(SUMPRODUCT(--(INDEX(Model_Inputs_Ref_Units,,AP$51)=$E127),INDEX(Model_Inputs_Ref_Units,,AP$52)),0)","v":0},{"$f":"IFERROR(SUMPRODUCT(--(INDEX(Model_Inputs_Ref_Units,,AQ$51)=$E127),INDEX(Model_Inputs_Ref_Units,,AQ$52)),0)","v":0},{"$f":"IFERROR(SUMPRODUCT(--(INDEX(Model_Inputs_Ref_Units,,AR$51)=$E127),INDEX(Model_Inputs_Ref_Units,,AR$52)),0)","v":0},{"$f":"IFERROR(SUMPRODUCT(--(INDEX(Model_Inputs_Ref_Units,,AS$51)=$E127),INDEX(Model_Inputs_Ref_Units,,AS$52)),0)","v":0},{"$f":"IFERROR(SUMPRODUCT(--(INDEX(Model_Inputs_Ref_Units,,AT$51)=$E127),INDEX(Model_Inputs_Ref_Units,,AT$52)),0)","v":0},{"$f":"IFERROR(SUMPRODUCT(--(INDEX(Model_Inputs_Ref_Units,,AU$51)=$E127),INDEX(Model_Inputs_Ref_Units,,AU$52)),0)","v":0},{"$f":"IFERROR(SUMPRODUCT(--(INDEX(Model_Inputs_Ref_Units,,AV$51)=$E127),INDEX(Model_Inputs_Ref_Units,,AV$52)),0)","v":0},{"$f":"IFERROR(SUMPRODUCT(--(INDEX(Model_Inputs_Ref_Units,,AW$51)=$E127),INDEX(Model_Inputs_Ref_Units,,AW$52)),0)","v":0},{"$f":"IFERROR(SUMPRODUCT(--(INDEX(Model_Inputs_Ref_Units,,AX$51)=$E127),INDEX(Model_Inputs_Ref_Units,,AX$52)),0)","v":0},{"$f":"IFERROR(SUMPRODUCT(--(INDEX(Model_Inputs_Ref_Units,,AY$51)=$E127),INDEX(Model_Inputs_Ref_Units,,AY$52)),0)","v":0},{"$f":"IFERROR(SUMPRODUCT(--(INDEX(Model_Inputs_Ref_Units,,AZ$51)=$E127),INDEX(Model_Inputs_Ref_Units,,AZ$52)),0)","v":0},{"$f":"IFERROR(SUMPRODUCT(--(INDEX(Model_Inputs_Ref_Units,,BA$51)=$E127),INDEX(Model_Inputs_Ref_Units,,BA$52)),0)","v":0},{"$f":"IFERROR(SUMPRODUCT(--(INDEX(Model_Inputs_Ref_Units,,BB$51)=$E127),INDEX(Model_Inputs_Ref_Units,,BB$52)),0)","v":0},{"$f":"IFERROR(SUMPRODUCT(--(INDEX(Model_Inputs_Ref_Units,,BC$51)=$E127),INDEX(Model_Inputs_Ref_Units,,BC$52)),0)","v":0},{"$f":"IFERROR(SUMPRODUCT(--(INDEX(Model_Inputs_Ref_Units,,BD$51)=$E127),INDEX(Model_Inputs_Ref_Units,,BD$52)),0)","v":0},{"$f":"IFERROR(SUMPRODUCT(--(INDEX(Model_Inputs_Ref_Units,,BE$51)=$E127),INDEX(Model_Inputs_Ref_Units,,BE$52)),0)","v":0},{"$f":"IFERROR(SUMPRODUCT(--(INDEX(Model_Inputs_Ref_Units,,BF$51)=$E127),INDEX(Model_Inputs_Ref_Units,,BF$52)),0)","v":0},{"$f":"IFERROR(SUMPRODUCT(--(INDEX(Model_Inputs_Ref_Units,,BG$51)=$E127),INDEX(Model_Inputs_Ref_Units,,BG$52)),0)","v":0},{"$f":"IFERROR(SUMPRODUCT(--(INDEX(Model_Inputs_Ref_Units,,BH$51)=$E127),INDEX(Model_Inputs_Ref_Units,,BH$52)),0)","v":0},{"$f":"IFERROR(SUMPRODUCT(--(INDEX(Model_Inputs_Ref_Units,,BI$51)=$E127),INDEX(Model_Inputs_Ref_Units,,BI$52)),0)","v":0},{"$f":"IFERROR(SUMPRODUCT(--(INDEX(Model_Inputs_Ref_Units,,BJ$51)=$E127),INDEX(Model_Inputs_Ref_Units,,BJ$52)),0)","v":0},{"$f":"IFERROR(SUMPRODUCT(--(INDEX(Model_Inputs_Ref_Units,,BK$51)=$E127),INDEX(Model_Inputs_Ref_Units,,BK$52)),0)","v":0},{"$f":"IFERROR(SUMPRODUCT(--(INDEX(Model_Inputs_Ref_Units,,BL$51)=$E127),INDEX(Model_Inputs_Ref_Units,,BL$52)),0)","v":0},{"$f":"IFERROR(SUMPRODUCT(--(INDEX(Model_Inputs_Ref_Units,,BM$51)=$E127),INDEX(Model_Inputs_Ref_Units,,BM$52)),0)","v":0},{"$f":"IFERROR(SUMPRODUCT(--(INDEX(Model_Inputs_Ref_Units,,BN$51)=$E127),INDEX(Model_Inputs_Ref_Units,,BN$52)),0)","v":0},{"$f":"IFERROR(SUMPRODUCT(--(INDEX(Model_Inputs_Ref_Units,,BO$51)=$E127),INDEX(Model_Inputs_Ref_Units,,BO$52)),0)","v":0},{"$f":"IFERROR(SUMPRODUCT(--(INDEX(Model_Inputs_Ref_Units,,BP$51)=$E127),INDEX(Model_Inputs_Ref_Units,,BP$52)),0)","v":0},{"$f":"IFERROR(SUMPRODUCT(--(INDEX(Model_Inputs_Ref_Units,,BQ$51)=$E127),INDEX(Model_Inputs_Ref_Units,,BQ$52)),0)","v":0},{"$f":"IFERROR(SUMPRODUCT(--(INDEX(Model_Inputs_Ref_Units,,BR$51)=$E127),INDEX(Model_Inputs_Ref_Units,,BR$52)),0)","v":0},{"$f":"IFERROR(SUMPRODUCT(--(INDEX(Model_Inputs_Ref_Units,,BS$51)=$E127),INDEX(Model_Inputs_Ref_Units,,BS$52)),0)","v":0},{"$f":"IFERROR(SUMPRODUCT(--(INDEX(Model_Inputs_Ref_Units,,BT$51)=$E127),INDEX(Model_Inputs_Ref_Units,,BT$52)),0)","v":0},{"$f":"IFERROR(SUMPRODUCT(--(INDEX(Model_Inputs_Ref_Units,,BU$51)=$E127),INDEX(Model_Inputs_Ref_Units,,BU$52)),0)","v":0},{"$f":"IFERROR(SUMPRODUCT(--(INDEX(Model_Inputs_Ref_Units,,BV$51)=$E127),INDEX(Model_Inputs_Ref_Units,,BV$52)),0)","v":0},{"$f":"IFERROR(SUMPRODUCT(--(INDEX(Model_Inputs_Ref_Units,,BW$51)=$E127),INDEX(Model_Inputs_Ref_Units,,BW$52)),0)","v":0},{"$f":"IFERROR(SUMPRODUCT(--(INDEX(Model_Inputs_Ref_Units,,BX$51)=$E127),INDEX(Model_Inputs_Ref_Units,,BX$52)),0)","v":0},{"$f":"IFERROR(SUMPRODUCT(--(INDEX(Model_Inputs_Ref_Units,,BY$51)=$E127),INDEX(Model_Inputs_Ref_Units,,BY$52)),0)","v":0},{"$f":"IFERROR(SUMPRODUCT(--(INDEX(Model_Inputs_Ref_Units,,BZ$51)=$E127),INDEX(Model_Inputs_Ref_Units,,BZ$52)),0)","v":0},{"$f":"IFERROR(SUMPRODUCT(--(INDEX(Model_Inputs_Ref_Units,,CA$51)=$E127),INDEX(Model_Inputs_Ref_Units,,CA$52)),0)","v":0},{"$f":"IFERROR(SUMPRODUCT(--(INDEX(Model_Inputs_Ref_Units,,CB$51)=$E127),INDEX(Model_Inputs_Ref_Units,,CB$52)),0)","v":0},{"$f":"IFERROR(SUMPRODUCT(--(INDEX(Model_Inputs_Ref_Units,,CC$51)=$E127),INDEX(Model_Inputs_Ref_Units,,CC$52)),0)","v":0},{"$f":"IFERROR(SUMPRODUCT(--(INDEX(Model_Inputs_Ref_Units,,CD$51)=$E127),INDEX(Model_Inputs_Ref_Units,,CD$52)),0)","v":0},{"$f":"IFERROR(SUMPRODUCT(--(INDEX(Model_Inputs_Ref_Units,,CE$51)=$E127),INDEX(Model_Inputs_Ref_Units,,CE$52)),0)","v":0},{"$f":"IFERROR(SUMPRODUCT(--(INDEX(Model_Inputs_Ref_Units,,CF$51)=$E127),INDEX(Model_Inputs_Ref_Units,,CF$52)),0)","v":0},{"$f":"IFERROR(SUMPRODUCT(--(INDEX(Model_Inputs_Ref_Units,,CG$51)=$E127),INDEX(Model_Inputs_Ref_Units,,CG$52)),0)","v":0},{"$f":"IFERROR(SUMPRODUCT(--(INDEX(Model_Inputs_Ref_Units,,CH$51)=$E127),INDEX(Model_Inputs_Ref_Units,,CH$52)),0)","v":0},{"$f":"IFERROR(SUMPRODUCT(--(INDEX(Model_Inputs_Ref_Units,,CI$51)=$E127),INDEX(Model_Inputs_Ref_Units,,CI$52)),0)","v":0},{"$f":"IFERROR(SUMPRODUCT(--(INDEX(Model_Inputs_Ref_Units,,CJ$51)=$E127),INDEX(Model_Inputs_Ref_Units,,CJ$52)),0)","v":0},{"$f":"IFERROR(SUMPRODUCT(--(INDEX(Model_Inputs_Ref_Units,,CK$51)=$E127),INDEX(Model_Inputs_Ref_Units,,CK$52)),0)","v":0},{"$f":"IFERROR(SUMPRODUCT(--(INDEX(Model_Inputs_Ref_Units,,CL$51)=$E127),INDEX(Model_Inputs_Ref_Units,,CL$52)),0)","v":0},{"$f":"IFERROR(SUMPRODUCT(--(INDEX(Model_Inputs_Ref_Units,,CM$51)=$E127),INDEX(Model_Inputs_Ref_Units,,CM$52)),0)","v":0},{"$f":"IFERROR(SUMPRODUCT(--(INDEX(Model_Inputs_Ref_Units,,CN$51)=$E127),INDEX(Model_Inputs_Ref_Units,,CN$52)),0)","v":0},{"$f":"IFERROR(SUMPRODUCT(--(INDEX(Model_Inputs_Ref_Units,,CO$51)=$E127),INDEX(Model_Inputs_Ref_Units,,CO$52)),0)","v":0},{"$f":"IFERROR(SUMPRODUCT(--(INDEX(Model_Inputs_Ref_Units,,CP$51)=$E127),INDEX(Model_Inputs_Ref_Units,,CP$52)),0)","v":0},{"$f":"IFERROR(SUMPRODUCT(--(INDEX(Model_Inputs_Ref_Units,,CQ$51)=$E127),INDEX(Model_Inputs_Ref_Units,,CQ$52)),0)","v":0},{"$f":"IFERROR(SUMPRODUCT(--(INDEX(Model_Inputs_Ref_Units,,CR$51)=$E127),INDEX(Model_Inputs_Ref_Units,,CR$52)),0)","v":0},{"$f":"IFERROR(SUMPRODUCT(--(INDEX(Model_Inputs_Ref_Units,,CS$51)=$E127),INDEX(Model_Inputs_Ref_Units,,CS$52)),0)","v":0},{"$f":"IFERROR(SUMPRODUCT(--(INDEX(Model_Inputs_Ref_Units,,CT$51)=$E127),INDEX(Model_Inputs_Ref_Units,,CT$52)),0)","v":0},{"$f":"IFERROR(SUMPRODUCT(--(INDEX(Model_Inputs_Ref_Units,,CU$51)=$E127),INDEX(Model_Inputs_Ref_Units,,CU$52)),0)","v":0},{"$f":"IFERROR(SUMPRODUCT(--(INDEX(Model_Inputs_Ref_Units,,CV$51)=$E127),INDEX(Model_Inputs_Ref_Units,,CV$52)),0)","v":0},{"$f":"IFERROR(SUMPRODUCT(--(INDEX(Model_Inputs_Ref_Units,,CW$51)=$E127),INDEX(Model_Inputs_Ref_Units,,CW$52)),0)","v":0},{"$f":"IFERROR(SUMPRODUCT(--(INDEX(Model_Inputs_Ref_Units,,CX$51)=$E127),INDEX(Model_Inputs_Ref_Units,,CX$52)),0)","v":0},{"$f":"IFERROR(SUMPRODUCT(--(INDEX(Model_Inputs_Ref_Units,,CY$51)=$E127),INDEX(Model_Inputs_Ref_Units,,CY$52)),0)","v":0},{"$f":"IFERROR(SUMPRODUCT(--(INDEX(Model_Inputs_Ref_Units,,CZ$51)=$E127),INDEX(Model_Inputs_Ref_Units,,CZ$52)),0)","v":0},{"$f":"IFERROR(SUMPRODUCT(--(INDEX(Model_Inputs_Ref_Units,,DA$51)=$E127),INDEX(Model_Inputs_Ref_Units,,DA$52)),0)","v":0},{"$f":"IFERROR(SUMPRODUCT(--(INDEX(Model_Inputs_Ref_Units,,DB$51)=$E127),INDEX(Model_Inputs_Ref_Units,,DB$52)),0)","v":0},{"$f":"IFERROR(SUMPRODUCT(--(INDEX(Model_Inputs_Ref_Units,,DC$51)=$E127),INDEX(Model_Inputs_Ref_Units,,DC$52)),0)","v":0},{"$f":"IFERROR(SUMPRODUCT(--(INDEX(Model_Inputs_Ref_Units,,DD$51)=$E127),INDEX(Model_Inputs_Ref_Units,,DD$52)),0)","v":0},{"$f":"IFERROR(SUMPRODUCT(--(INDEX(Model_Inputs_Ref_Units,,DE$51)=$E127),INDEX(Model_Inputs_Ref_Units,,DE$52)),0)","v":0},{"$f":"IFERROR(SUMPRODUCT(--(INDEX(Model_Inputs_Ref_Units,,DF$51)=$E127),INDEX(Model_Inputs_Ref_Units,,DF$52)),0)","v":0}]
[null,null,{"$error":"#DIV/0!"},null,{"$f":"IFERROR(INDEX(Ref_Data,1,F128),\"\")","v":""},75,0,0,0,0,{"$f":"IFERROR(SUMPRODUCT(--(INDEX(Model_Inputs_Ref_Units,,K$51)=$E128),INDEX(Model_Inputs_Ref_Units,,K$52)),0)","v":0},{"$f":"IFERROR(SUMPRODUCT(--(INDEX(Model_Inputs_Ref_Units,,L$51)=$E128),INDEX(Model_Inputs_Ref_Units,,L$52)),0)","v":0},{"$f":"IFERROR(SUMPRODUCT(--(INDEX(Model_Inputs_Ref_Units,,M$51)=$E128),INDEX(Model_Inputs_Ref_Units,,M$52)),0)","v":0},{"$f":"IFERROR(SUMPRODUCT(--(INDEX(Model_Inputs_Ref_Units,,N$51)=$E128),INDEX(Model_Inputs_Ref_Units,,N$52)),0)","v":0},{"$f":"IFERROR(SUMPRODUCT(--(INDEX(Model_Inputs_Ref_Units,,O$51)=$E128),INDEX(Model_Inputs_Ref_Units,,O$52)),0)","v":0},{"$f":"IFERROR(SUMPRODUCT(--(INDEX(Model_Inputs_Ref_Units,,P$51)=$E128),INDEX(Model_Inputs_Ref_Units,,P$52)),0)","v":0},{"$f":"IFERROR(SUMPRODUCT(--(INDEX(Model_Inputs_Ref_Units,,Q$51)=$E128),INDEX(Model_Inputs_Ref_Units,,Q$52)),0)","v":0},{"$f":"IFERROR(SUMPRODUCT(--(INDEX(Model_Inputs_Ref_Units,,R$51)=$E128),INDEX(Model_Inputs_Ref_Units,,R$52)),0)","v":0},{"$f":"IFERROR(SUMPRODUCT(--(INDEX(Model_Inputs_Ref_Units,,S$51)=$E128),INDEX(Model_Inputs_Ref_Units,,S$52)),0)","v":0},{"$f":"IFERROR(SUMPRODUCT(--(INDEX(Model_Inputs_Ref_Units,,T$51)=$E128),INDEX(Model_Inputs_Ref_Units,,T$52)),0)","v":0},{"$f":"IFERROR(SUMPRODUCT(--(INDEX(Model_Inputs_Ref_Units,,U$51)=$E128),INDEX(Model_Inputs_Ref_Units,,U$52)),0)","v":0},{"$f":"IFERROR(SUMPRODUCT(--(INDEX(Model_Inputs_Ref_Units,,V$51)=$E128),INDEX(Model_Inputs_Ref_Units,,V$52)),0)","v":0},{"$f":"IFERROR(SUMPRODUCT(--(INDEX(Model_Inputs_Ref_Units,,W$51)=$E128),INDEX(Model_Inputs_Ref_Units,,W$52)),0)","v":0},{"$f":"IFERROR(SUMPRODUCT(--(INDEX(Model_Inputs_Ref_Units,,X$51)=$E128),INDEX(Model_Inputs_Ref_Units,,X$52)),0)","v":0},{"$f":"IFERROR(SUMPRODUCT(--(INDEX(Model_Inputs_Ref_Units,,Y$51)=$E128),INDEX(Model_Inputs_Ref_Units,,Y$52)),0)","v":0},{"$f":"IFERROR(SUMPRODUCT(--(INDEX(Model_Inputs_Ref_Units,,Z$51)=$E128),INDEX(Model_Inputs_Ref_Units,,Z$52)),0)","v":0},{"$f":"IFERROR(SUMPRODUCT(--(INDEX(Model_Inputs_Ref_Units,,AA$51)=$E128),INDEX(Model_Inputs_Ref_Units,,AA$52)),0)","v":0},{"$f":"IFERROR(SUMPRODUCT(--(INDEX(Model_Inputs_Ref_Units,,AB$51)=$E128),INDEX(Model_Inputs_Ref_Units,,AB$52)),0)","v":0},{"$f":"IFERROR(SUMPRODUCT(--(INDEX(Model_Inputs_Ref_Units,,AC$51)=$E128),INDEX(Model_Inputs_Ref_Units,,AC$52)),0)","v":0},{"$f":"IFERROR(SUMPRODUCT(--(INDEX(Model_Inputs_Ref_Units,,AD$51)=$E128),INDEX(Model_Inputs_Ref_Units,,AD$52)),0)","v":0},{"$f":"IFERROR(SUMPRODUCT(--(INDEX(Model_Inputs_Ref_Units,,AE$51)=$E128),INDEX(Model_Inputs_Ref_Units,,AE$52)),0)","v":0},{"$f":"IFERROR(SUMPRODUCT(--(INDEX(Model_Inputs_Ref_Units,,AF$51)=$E128),INDEX(Model_Inputs_Ref_Units,,AF$52)),0)","v":0},{"$f":"IFERROR(SUMPRODUCT(--(INDEX(Model_Inputs_Ref_Units,,AG$51)=$E128),INDEX(Model_Inputs_Ref_Units,,AG$52)),0)","v":0},{"$f":"IFERROR(SUMPRODUCT(--(INDEX(Model_Inputs_Ref_Units,,AH$51)=$E128),INDEX(Model_Inputs_Ref_Units,,AH$52)),0)","v":0},{"$f":"IFERROR(SUMPRODUCT(--(INDEX(Model_Inputs_Ref_Units,,AI$51)=$E128),INDEX(Model_Inputs_Ref_Units,,AI$52)),0)","v":0},{"$f":"IFERROR(SUMPRODUCT(--(INDEX(Model_Inputs_Ref_Units,,AJ$51)=$E128),INDEX(Model_Inputs_Ref_Units,,AJ$52)),0)","v":0},{"$f":"IFERROR(SUMPRODUCT(--(INDEX(Model_Inputs_Ref_Units,,AK$51)=$E128),INDEX(Model_Inputs_Ref_Units,,AK$52)),0)","v":0},{"$f":"IFERROR(SUMPRODUCT(--(INDEX(Model_Inputs_Ref_Units,,AL$51)=$E128),INDEX(Model_Inputs_Ref_Units,,AL$52)),0)","v":0},{"$f":"IFERROR(SUMPRODUCT(--(INDEX(Model_Inputs_Ref_Units,,AM$51)=$E128),INDEX(Model_Inputs_Ref_Units,,AM$52)),0)","v":0},{"$f":"IFERROR(SUMPRODUCT(--(INDEX(Model_Inputs_Ref_Units,,AN$51)=$E128),INDEX(Model_Inputs_Ref_Units,,AN$52)),0)","v":0},{"$f":"IFERROR(SUMPRODUCT(--(INDEX(Model_Inputs_Ref_Units,,AO$51)=$E128),INDEX(Model_Inputs_Ref_Units,,AO$52)),0)","v":0},{"$f":"IFERROR(SUMPRODUCT(--(INDEX(Model_Inputs_Ref_Units,,AP$51)=$E128),INDEX(Model_Inputs_Ref_Units,,AP$52)),0)","v":0},{"$f":"IFERROR(SUMPRODUCT(--(INDEX(Model_Inputs_Ref_Units,,AQ$51)=$E128),INDEX(Model_Inputs_Ref_Units,,AQ$52)),0)","v":0},{"$f":"IFERROR(SUMPRODUCT(--(INDEX(Model_Inputs_Ref_Units,,AR$51)=$E128),INDEX(Model_Inputs_Ref_Units,,AR$52)),0)","v":0},{"$f":"IFERROR(SUMPRODUCT(--(INDEX(Model_Inputs_Ref_Units,,AS$51)=$E128),INDEX(Model_Inputs_Ref_Units,,AS$52)),0)","v":0},{"$f":"IFERROR(SUMPRODUCT(--(INDEX(Model_Inputs_Ref_Units,,AT$51)=$E128),INDEX(Model_Inputs_Ref_Units,,AT$52)),0)","v":0},{"$f":"IFERROR(SUMPRODUCT(--(INDEX(Model_Inputs_Ref_Units,,AU$51)=$E128),INDEX(Model_Inputs_Ref_Units,,AU$52)),0)","v":0},{"$f":"IFERROR(SUMPRODUCT(--(INDEX(Model_Inputs_Ref_Units,,AV$51)=$E128),INDEX(Model_Inputs_Ref_Units,,AV$52)),0)","v":0},{"$f":"IFERROR(SUMPRODUCT(--(INDEX(Model_Inputs_Ref_Units,,AW$51)=$E128),INDEX(Model_Inputs_Ref_Units,,AW$52)),0)","v":0},{"$f":"IFERROR(SUMPRODUCT(--(INDEX(Model_Inputs_Ref_Units,,AX$51)=$E128),INDEX(Model_Inputs_Ref_Units,,AX$52)),0)","v":0},{"$f":"IFERROR(SUMPRODUCT(--(INDEX(Model_Inputs_Ref_Units,,AY$51)=$E128),INDEX(Model_Inputs_Ref_Units,,AY$52)),0)","v":0},{"$f":"IFERROR(SUMPRODUCT(--(INDEX(Model_Inputs_Ref_Units,,AZ$51)=$E128),INDEX(Model_Inputs_Ref_Units,,AZ$52)),0)","v":0},{"$f":"IFERROR(SUMPRODUCT(--(INDEX(Model_Inputs_Ref_Units,,BA$51)=$E128),INDEX(Model_Inputs_Ref_Units,,BA$52)),0)","v":0},{"$f":"IFERROR(SUMPRODUCT(--(INDEX(Model_Inputs_Ref_Units,,BB$51)=$E128),INDEX(Model_Inputs_Ref_Units,,BB$52)),0)","v":0},{"$f":"IFERROR(SUMPRODUCT(--(INDEX(Model_Inputs_Ref_Units,,BC$51)=$E128),INDEX(Model_Inputs_Ref_Units,,BC$52)),0)","v":0},{"$f":"IFERROR(SUMPRODUCT(--(INDEX(Model_Inputs_Ref_Units,,BD$51)=$E128),INDEX(Model_Inputs_Ref_Units,,BD$52)),0)","v":0},{"$f":"IFERROR(SUMPRODUCT(--(INDEX(Model_Inputs_Ref_Units,,BE$51)=$E128),INDEX(Model_Inputs_Ref_Units,,BE$52)),0)","v":0},{"$f":"IFERROR(SUMPRODUCT(--(INDEX(Model_Inputs_Ref_Units,,BF$51)=$E128),INDEX(Model_Inputs_Ref_Units,,BF$52)),0)","v":0},{"$f":"IFERROR(SUMPRODUCT(--(INDEX(Model_Inputs_Ref_Units,,BG$51)=$E128),INDEX(Model_Inputs_Ref_Units,,BG$52)),0)","v":0},{"$f":"IFERROR(SUMPRODUCT(--(INDEX(Model_Inputs_Ref_Units,,BH$51)=$E128),INDEX(Model_Inputs_Ref_Units,,BH$52)),0)","v":0},{"$f":"IFERROR(SUMPRODUCT(--(INDEX(Model_Inputs_Ref_Units,,BI$51)=$E128),INDEX(Model_Inputs_Ref_Units,,BI$52)),0)","v":0},{"$f":"IFERROR(SUMPRODUCT(--(INDEX(Model_Inputs_Ref_Units,,BJ$51)=$E128),INDEX(Model_Inputs_Ref_Units,,BJ$52)),0)","v":0},{"$f":"IFERROR(SUMPRODUCT(--(INDEX(Model_Inputs_Ref_Units,,BK$51)=$E128),INDEX(Model_Inputs_Ref_Units,,BK$52)),0)","v":0},{"$f":"IFERROR(SUMPRODUCT(--(INDEX(Model_Inputs_Ref_Units,,BL$51)=$E128),INDEX(Model_Inputs_Ref_Units,,BL$52)),0)","v":0},{"$f":"IFERROR(SUMPRODUCT(--(INDEX(Model_Inputs_Ref_Units,,BM$51)=$E128),INDEX(Model_Inputs_Ref_Units,,BM$52)),0)","v":0},{"$f":"IFERROR(SUMPRODUCT(--(INDEX(Model_Inputs_Ref_Units,,BN$51)=$E128),INDEX(Model_Inputs_Ref_Units,,BN$52)),0)","v":0},{"$f":"IFERROR(SUMPRODUCT(--(INDEX(Model_Inputs_Ref_Units,,BO$51)=$E128),INDEX(Model_Inputs_Ref_Units,,BO$52)),0)","v":0},{"$f":"IFERROR(SUMPRODUCT(--(INDEX(Model_Inputs_Ref_Units,,BP$51)=$E128),INDEX(Model_Inputs_Ref_Units,,BP$52)),0)","v":0},{"$f":"IFERROR(SUMPRODUCT(--(INDEX(Model_Inputs_Ref_Units,,BQ$51)=$E128),INDEX(Model_Inputs_Ref_Units,,BQ$52)),0)","v":0},{"$f":"IFERROR(SUMPRODUCT(--(INDEX(Model_Inputs_Ref_Units,,BR$51)=$E128),INDEX(Model_Inputs_Ref_Units,,BR$52)),0)","v":0},{"$f":"IFERROR(SUMPRODUCT(--(INDEX(Model_Inputs_Ref_Units,,BS$51)=$E128),INDEX(Model_Inputs_Ref_Units,,BS$52)),0)","v":0},{"$f":"IFERROR(SUMPRODUCT(--(INDEX(Model_Inputs_Ref_Units,,BT$51)=$E128),INDEX(Model_Inputs_Ref_Units,,BT$52)),0)","v":0},{"$f":"IFERROR(SUMPRODUCT(--(INDEX(Model_Inputs_Ref_Units,,BU$51)=$E128),INDEX(Model_Inputs_Ref_Units,,BU$52)),0)","v":0},{"$f":"IFERROR(SUMPRODUCT(--(INDEX(Model_Inputs_Ref_Units,,BV$51)=$E128),INDEX(Model_Inputs_Ref_Units,,BV$52)),0)","v":0},{"$f":"IFERROR(SUMPRODUCT(--(INDEX(Model_Inputs_Ref_Units,,BW$51)=$E128),INDEX(Model_Inputs_Ref_Units,,BW$52)),0)","v":0},{"$f":"IFERROR(SUMPRODUCT(--(INDEX(Model_Inputs_Ref_Units,,BX$51)=$E128),INDEX(Model_Inputs_Ref_Units,,BX$52)),0)","v":0},{"$f":"IFERROR(SUMPRODUCT(--(INDEX(Model_Inputs_Ref_Units,,BY$51)=$E128),INDEX(Model_Inputs_Ref_Units,,BY$52)),0)","v":0},{"$f":"IFERROR(SUMPRODUCT(--(INDEX(Model_Inputs_Ref_Units,,BZ$51)=$E128),INDEX(Model_Inputs_Ref_Units,,BZ$52)),0)","v":0},{"$f":"IFERROR(SUMPRODUCT(--(INDEX(Model_Inputs_Ref_Units,,CA$51)=$E128),INDEX(Model_Inputs_Ref_Units,,CA$52)),0)","v":0},{"$f":"IFERROR(SUMPRODUCT(--(INDEX(Model_Inputs_Ref_Units,,CB$51)=$E128),INDEX(Model_Inputs_Ref_Units,,CB$52)),0)","v":0},{"$f":"IFERROR(SUMPRODUCT(--(INDEX(Model_Inputs_Ref_Units,,CC$51)=$E128),INDEX(Model_Inputs_Ref_Units,,CC$52)),0)","v":0},{"$f":"IFERROR(SUMPRODUCT(--(INDEX(Model_Inputs_Ref_Units,,CD$51)=$E128),INDEX(Model_Inputs_Ref_Units,,CD$52)),0)","v":0},{"$f":"IFERROR(SUMPRODUCT(--(INDEX(Model_Inputs_Ref_Units,,CE$51)=$E128),INDEX(Model_Inputs_Ref_Units,,CE$52)),0)","v":0},{"$f":"IFERROR(SUMPRODUCT(--(INDEX(Model_Inputs_Ref_Units,,CF$51)=$E128),INDEX(Model_Inputs_Ref_Units,,CF$52)),0)","v":0},{"$f":"IFERROR(SUMPRODUCT(--(INDEX(Model_Inputs_Ref_Units,,CG$51)=$E128),INDEX(Model_Inputs_Ref_Units,,CG$52)),0)","v":0},{"$f":"IFERROR(SUMPRODUCT(--(INDEX(Model_Inputs_Ref_Units,,CH$51)=$E128),INDEX(Model_Inputs_Ref_Units,,CH$52)),0)","v":0},{"$f":"IFERROR(SUMPRODUCT(--(INDEX(Model_Inputs_Ref_Units,,CI$51)=$E128),INDEX(Model_Inputs_Ref_Units,,CI$52)),0)","v":0},{"$f":"IFERROR(SUMPRODUCT(--(INDEX(Model_Inputs_Ref_Units,,CJ$51)=$E128),INDEX(Model_Inputs_Ref_Units,,CJ$52)),0)","v":0},{"$f":"IFERROR(SUMPRODUCT(--(INDEX(Model_Inputs_Ref_Units,,CK$51)=$E128),INDEX(Model_Inputs_Ref_Units,,CK$52)),0)","v":0},{"$f":"IFERROR(SUMPRODUCT(--(INDEX(Model_Inputs_Ref_Units,,CL$51)=$E128),INDEX(Model_Inputs_Ref_Units,,CL$52)),0)","v":0},{"$f":"IFERROR(SUMPRODUCT(--(INDEX(Model_Inputs_Ref_Units,,CM$51)=$E128),INDEX(Model_Inputs_Ref_Units,,CM$52)),0)","v":0},{"$f":"IFERROR(SUMPRODUCT(--(INDEX(Model_Inputs_Ref_Units,,CN$51)=$E128),INDEX(Model_Inputs_Ref_Units,,CN$52)),0)","v":0},{"$f":"IFERROR(SUMPRODUCT(--(INDEX(Model_Inputs_Ref_Units,,CO$51)=$E128),INDEX(Model_Inputs_Ref_Units,,CO$52)),0)","v":0},{"$f":"IFERROR(SUMPRODUCT(--(INDEX(Model_Inputs_Ref_Units,,CP$51)=$E128),INDEX(Model_Inputs_Ref_Units,,CP$52)),0)","v":0},{"$f":"IFERROR(SUMPRODUCT(--(INDEX(Model_Inputs_Ref_Units,,CQ$51)=$E128),INDEX(Model_Inputs_Ref_Units,,CQ$52)),0)","v":0},{"$f":"IFERROR(SUMPRODUCT(--(INDEX(Model_Inputs_Ref_Units,,CR$51)=$E128),INDEX(Model_Inputs_Ref_Units,,CR$52)),0)","v":0},{"$f":"IFERROR(SUMPRODUCT(--(INDEX(Model_Inputs_Ref_Units,,CS$51)=$E128),INDEX(Model_Inputs_Ref_Units,,CS$52)),0)","v":0},{"$f":"IFERROR(SUMPRODUCT(--(INDEX(Model_Inputs_Ref_Units,,CT$51)=$E128),INDEX(Model_Inputs_Ref_Units,,CT$52)),0)","v":0},{"$f":"IFERROR(SUMPRODUCT(--(INDEX(Model_Inputs_Ref_Units,,CU$51)=$E128),INDEX(Model_Inputs_Ref_Units,,CU$52)),0)","v":0},{"$f":"IFERROR(SUMPRODUCT(--(INDEX(Model_Inputs_Ref_Units,,CV$51)=$E128),INDEX(Model_Inputs_Ref_Units,,CV$52)),0)","v":0},{"$f":"IFERROR(SUMPRODUCT(--(INDEX(Model_Inputs_Ref_Units,,CW$51)=$E128),INDEX(Model_Inputs_Ref_Units,,CW$52)),0)","v":0},{"$f":"IFERROR(SUMPRODUCT(--(INDEX(Model_Inputs_Ref_Units,,CX$51)=$E128),INDEX(Model_Inputs_Ref_Units,,CX$52)),0)","v":0},{"$f":"IFERROR(SUMPRODUCT(--(INDEX(Model_Inputs_Ref_Units,,CY$51)=$E128),INDEX(Model_Inputs_Ref_Units,,CY$52)),0)","v":0},{"$f":"IFERROR(SUMPRODUCT(--(INDEX(Model_Inputs_Ref_Units,,CZ$51)=$E128),INDEX(Model_Inputs_Ref_Units,,CZ$52)),0)","v":0},{"$f":"IFERROR(SUMPRODUCT(--(INDEX(Model_Inputs_Ref_Units,,DA$51)=$E128),INDEX(Model_Inputs_Ref_Units,,DA$52)),0)","v":0},{"$f":"IFERROR(SUMPRODUCT(--(INDEX(Model_Inputs_Ref_Units,,DB$51)=$E128),INDEX(Model_Inputs_Ref_Units,,DB$52)),0)","v":0},{"$f":"IFERROR(SUMPRODUCT(--(INDEX(Model_Inputs_Ref_Units,,DC$51)=$E128),INDEX(Model_Inputs_Ref_Units,,DC$52)),0)","v":0},{"$f":"IFERROR(SUMPRODUCT(--(INDEX(Model_Inputs_Ref_Units,,DD$51)=$E128),INDEX(Model_Inputs_Ref_Units,,DD$52)),0)","v":0},{"$f":"IFERROR(SUMPRODUCT(--(INDEX(Model_Inputs_Ref_Units,,DE$51)=$E128),INDEX(Model_Inputs_Ref_Units,,DE$52)),0)","v":0},{"$f":"IFERROR(SUMPRODUCT(--(INDEX(Model_Inputs_Ref_Units,,DF$51)=$E128),INDEX(Model_Inputs_Ref_Units,,DF$52)),0)","v":0}]
[null,null,{"$error":"#DIV/0!"},null,{"$f":"IFERROR(INDEX(Ref_Data,1,F129),\"\")","v":""},76,0,0,0,0,{"$f":"IFERROR(SUMPRODUCT(--(INDEX(Model_Inputs_Ref_Units,,K$51)=$E129),INDEX(Model_Inputs_Ref_Units,,K$52)),0)","v":0},{"$f":"IFERROR(SUMPRODUCT(--(INDEX(Model_Inputs_Ref_Units,,L$51)=$E129),INDEX(Model_Inputs_Ref_Units,,L$52)),0)","v":0},{"$f":"IFERROR(SUMPRODUCT(--(INDEX(Model_Inputs_Ref_Units,,M$51)=$E129),INDEX(Model_Inputs_Ref_Units,,M$52)),0)","v":0},{"$f":"IFERROR(SUMPRODUCT(--(INDEX(Model_Inputs_Ref_Units,,N$51)=$E129),INDEX(Model_Inputs_Ref_Units,,N$52)),0)","v":0},{"$f":"IFERROR(SUMPRODUCT(--(INDEX(Model_Inputs_Ref_Units,,O$51)=$E129),INDEX(Model_Inputs_Ref_Units,,O$52)),0)","v":0},{"$f":"IFERROR(SUMPRODUCT(--(INDEX(Model_Inputs_Ref_Units,,P$51)=$E129),INDEX(Model_Inputs_Ref_Units,,P$52)),0)","v":0},{"$f":"IFERROR(SUMPRODUCT(--(INDEX(Model_Inputs_Ref_Units,,Q$51)=$E129),INDEX(Model_Inputs_Ref_Units,,Q$52)),0)","v":0},{"$f":"IFERROR(SUMPRODUCT(--(INDEX(Model_Inputs_Ref_Units,,R$51)=$E129),INDEX(Model_Inputs_Ref_Units,,R$52)),0)","v":0},{"$f":"IFERROR(SUMPRODUCT(--(INDEX(Model_Inputs_Ref_Units,,S$51)=$E129),INDEX(Model_Inputs_Ref_Units,,S$52)),0)","v":0},{"$f":"IFERROR(SUMPRODUCT(--(INDEX(Model_Inputs_Ref_Units,,T$51)=$E129),INDEX(Model_Inputs_Ref_Units,,T$52)),0)","v":0},{"$f":"IFERROR(SUMPRODUCT(--(INDEX(Model_Inputs_Ref_Units,,U$51)=$E129),INDEX(Model_Inputs_Ref_Units,,U$52)),0)","v":0},{"$f":"IFERROR(SUMPRODUCT(--(INDEX(Model_Inputs_Ref_Units,,V$51)=$E129),INDEX(Model_Inputs_Ref_Units,,V$52)),0)","v":0},{"$f":"IFERROR(SUMPRODUCT(--(INDEX(Model_Inputs_Ref_Units,,W$51)=$E129),INDEX(Model_Inputs_Ref_Units,,W$52)),0)","v":0},{"$f":"IFERROR(SUMPRODUCT(--(INDEX(Model_Inputs_Ref_Units,,X$51)=$E129),INDEX(Model_Inputs_Ref_Units,,X$52)),0)","v":0},{"$f":"IFERROR(SUMPRODUCT(--(INDEX(Model_Inputs_Ref_Units,,Y$51)=$E129),INDEX(Model_Inputs_Ref_Units,,Y$52)),0)","v":0},{"$f":"IFERROR(SUMPRODUCT(--(INDEX(Model_Inputs_Ref_Units,,Z$51)=$E129),INDEX(Model_Inputs_Ref_Units,,Z$52)),0)","v":0},{"$f":"IFERROR(SUMPRODUCT(--(INDEX(Model_Inputs_Ref_Units,,AA$51)=$E129),INDEX(Model_Inputs_Ref_Units,,AA$52)),0)","v":0},{"$f":"IFERROR(SUMPRODUCT(--(INDEX(Model_Inputs_Ref_Units,,AB$51)=$E129),INDEX(Model_Inputs_Ref_Units,,AB$52)),0)","v":0},{"$f":"IFERROR(SUMPRODUCT(--(INDEX(Model_Inputs_Ref_Units,,AC$51)=$E129),INDEX(Model_Inputs_Ref_Units,,AC$52)),0)","v":0},{"$f":"IFERROR(SUMPRODUCT(--(INDEX(Model_Inputs_Ref_Units,,AD$51)=$E129),INDEX(Model_Inputs_Ref_Units,,AD$52)),0)","v":0},{"$f":"IFERROR(SUMPRODUCT(--(INDEX(Model_Inputs_Ref_Units,,AE$51)=$E129),INDEX(Model_Inputs_Ref_Units,,AE$52)),0)","v":0},{"$f":"IFERROR(SUMPRODUCT(--(INDEX(Model_Inputs_Ref_Units,,AF$51)=$E129),INDEX(Model_Inputs_Ref_Units,,AF$52)),0)","v":0},{"$f":"IFERROR(SUMPRODUCT(--(INDEX(Model_Inputs_Ref_Units,,AG$51)=$E129),INDEX(Model_Inputs_Ref_Units,,AG$52)),0)","v":0},{"$f":"IFERROR(SUMPRODUCT(--(INDEX(Model_Inputs_Ref_Units,,AH$51)=$E129),INDEX(Model_Inputs_Ref_Units,,AH$52)),0)","v":0},{"$f":"IFERROR(SUMPRODUCT(--(INDEX(Model_Inputs_Ref_Units,,AI$51)=$E129),INDEX(Model_Inputs_Ref_Units,,AI$52)),0)","v":0},{"$f":"IFERROR(SUMPRODUCT(--(INDEX(Model_Inputs_Ref_Units,,AJ$51)=$E129),INDEX(Model_Inputs_Ref_Units,,AJ$52)),0)","v":0},{"$f":"IFERROR(SUMPRODUCT(--(INDEX(Model_Inputs_Ref_Units,,AK$51)=$E129),INDEX(Model_Inputs_Ref_Units,,AK$52)),0)","v":0},{"$f":"IFERROR(SUMPRODUCT(--(INDEX(Model_Inputs_Ref_Units,,AL$51)=$E129),INDEX(Model_Inputs_Ref_Units,,AL$52)),0)","v":0},{"$f":"IFERROR(SUMPRODUCT(--(INDEX(Model_Inputs_Ref_Units,,AM$51)=$E129),INDEX(Model_Inputs_Ref_Units,,AM$52)),0)","v":0},{"$f":"IFERROR(SUMPRODUCT(--(INDEX(Model_Inputs_Ref_Units,,AN$51)=$E129),INDEX(Model_Inputs_Ref_Units,,AN$52)),0)","v":0},{"$f":"IFERROR(SUMPRODUCT(--(INDEX(Model_Inputs_Ref_Units,,AO$51)=$E129),INDEX(Model_Inputs_Ref_Units,,AO$52)),0)","v":0},{"$f":"IFERROR(SUMPRODUCT(--(INDEX(Model_Inputs_Ref_Units,,AP$51)=$E129),INDEX(Model_Inputs_Ref_Units,,AP$52)),0)","v":0},{"$f":"IFERROR(SUMPRODUCT(--(INDEX(Model_Inputs_Ref_Units,,AQ$51)=$E129),INDEX(Model_Inputs_Ref_Units,,AQ$52)),0)","v":0},{"$f":"IFERROR(SUMPRODUCT(--(INDEX(Model_Inputs_Ref_Units,,AR$51)=$E129),INDEX(Model_Inputs_Ref_Units,,AR$52)),0)","v":0},{"$f":"IFERROR(SUMPRODUCT(--(INDEX(Model_Inputs_Ref_Units,,AS$51)=$E129),INDEX(Model_Inputs_Ref_Units,,AS$52)),0)","v":0},{"$f":"IFERROR(SUMPRODUCT(--(INDEX(Model_Inputs_Ref_Units,,AT$51)=$E129),INDEX(Model_Inputs_Ref_Units,,AT$52)),0)","v":0},{"$f":"IFERROR(SUMPRODUCT(--(INDEX(Model_Inputs_Ref_Units,,AU$51)=$E129),INDEX(Model_Inputs_Ref_Units,,AU$52)),0)","v":0},{"$f":"IFERROR(SUMPRODUCT(--(INDEX(Model_Inputs_Ref_Units,,AV$51)=$E129),INDEX(Model_Inputs_Ref_Units,,AV$52)),0)","v":0},{"$f":"IFERROR(SUMPRODUCT(--(INDEX(Model_Inputs_Ref_Units,,AW$51)=$E129),INDEX(Model_Inputs_Ref_Units,,AW$52)),0)","v":0},{"$f":"IFERROR(SUMPRODUCT(--(INDEX(Model_Inputs_Ref_Units,,AX$51)=$E129),INDEX(Model_Inputs_Ref_Units,,AX$52)),0)","v":0},{"$f":"IFERROR(SUMPRODUCT(--(INDEX(Model_Inputs_Ref_Units,,AY$51)=$E129),INDEX(Model_Inputs_Ref_Units,,AY$52)),0)","v":0},{"$f":"IFERROR(SUMPRODUCT(--(INDEX(Model_Inputs_Ref_Units,,AZ$51)=$E129),INDEX(Model_Inputs_Ref_Units,,AZ$52)),0)","v":0},{"$f":"IFERROR(SUMPRODUCT(--(INDEX(Model_Inputs_Ref_Units,,BA$51)=$E129),INDEX(Model_Inputs_Ref_Units,,BA$52)),0)","v":0},{"$f":"IFERROR(SUMPRODUCT(--(INDEX(Model_Inputs_Ref_Units,,BB$51)=$E129),INDEX(Model_Inputs_Ref_Units,,BB$52)),0)","v":0},{"$f":"IFERROR(SUMPRODUCT(--(INDEX(Model_Inputs_Ref_Units,,BC$51)=$E129),INDEX(Model_Inputs_Ref_Units,,BC$52)),0)","v":0},{"$f":"IFERROR(SUMPRODUCT(--(INDEX(Model_Inputs_Ref_Units,,BD$51)=$E129),INDEX(Model_Inputs_Ref_Units,,BD$52)),0)","v":0},{"$f":"IFERROR(SUMPRODUCT(--(INDEX(Model_Inputs_Ref_Units,,BE$51)=$E129),INDEX(Model_Inputs_Ref_Units,,BE$52)),0)","v":0},{"$f":"IFERROR(SUMPRODUCT(--(INDEX(Model_Inputs_Ref_Units,,BF$51)=$E129),INDEX(Model_Inputs_Ref_Units,,BF$52)),0)","v":0},{"$f":"IFERROR(SUMPRODUCT(--(INDEX(Model_Inputs_Ref_Units,,BG$51)=$E129),INDEX(Model_Inputs_Ref_Units,,BG$52)),0)","v":0},{"$f":"IFERROR(SUMPRODUCT(--(INDEX(Model_Inputs_Ref_Units,,BH$51)=$E129),INDEX(Model_Inputs_Ref_Units,,BH$52)),0)","v":0},{"$f":"IFERROR(SUMPRODUCT(--(INDEX(Model_Inputs_Ref_Units,,BI$51)=$E129),INDEX(Model_Inputs_Ref_Units,,BI$52)),0)","v":0},{"$f":"IFERROR(SUMPRODUCT(--(INDEX(Model_Inputs_Ref_Units,,BJ$51)=$E129),INDEX(Model_Inputs_Ref_Units,,BJ$52)),0)","v":0},{"$f":"IFERROR(SUMPRODUCT(--(INDEX(Model_Inputs_Ref_Units,,BK$51)=$E129),INDEX(Model_Inputs_Ref_Units,,BK$52)),0)","v":0},{"$f":"IFERROR(SUMPRODUCT(--(INDEX(Model_Inputs_Ref_Units,,BL$51)=$E129),INDEX(Model_Inputs_Ref_Units,,BL$52)),0)","v":0},{"$f":"IFERROR(SUMPRODUCT(--(INDEX(Model_Inputs_Ref_Units,,BM$51)=$E129),INDEX(Model_Inputs_Ref_Units,,BM$52)),0)","v":0},{"$f":"IFERROR(SUMPRODUCT(--(INDEX(Model_Inputs_Ref_Units,,BN$51)=$E129),INDEX(Model_Inputs_Ref_Units,,BN$52)),0)","v":0},{"$f":"IFERROR(SUMPRODUCT(--(INDEX(Model_Inputs_Ref_Units,,BO$51)=$E129),INDEX(Model_Inputs_Ref_Units,,BO$52)),0)","v":0},{"$f":"IFERROR(SUMPRODUCT(--(INDEX(Model_Inputs_Ref_Units,,BP$51)=$E129),INDEX(Model_Inputs_Ref_Units,,BP$52)),0)","v":0},{"$f":"IFERROR(SUMPRODUCT(--(INDEX(Model_Inputs_Ref_Units,,BQ$51)=$E129),INDEX(Model_Inputs_Ref_Units,,BQ$52)),0)","v":0},{"$f":"IFERROR(SUMPRODUCT(--(INDEX(Model_Inputs_Ref_Units,,BR$51)=$E129),INDEX(Model_Inputs_Ref_Units,,BR$52)),0)","v":0},{"$f":"IFERROR(SUMPRODUCT(--(INDEX(Model_Inputs_Ref_Units,,BS$51)=$E129),INDEX(Model_Inputs_Ref_Units,,BS$52)),0)","v":0},{"$f":"IFERROR(SUMPRODUCT(--(INDEX(Model_Inputs_Ref_Units,,BT$51)=$E129),INDEX(Model_Inputs_Ref_Units,,BT$52)),0)","v":0},{"$f":"IFERROR(SUMPRODUCT(--(INDEX(Model_Inputs_Ref_Units,,BU$51)=$E129),INDEX(Model_Inputs_Ref_Units,,BU$52)),0)","v":0},{"$f":"IFERROR(SUMPRODUCT(--(INDEX(Model_Inputs_Ref_Units,,BV$51)=$E129),INDEX(Model_Inputs_Ref_Units,,BV$52)),0)","v":0},{"$f":"IFERROR(SUMPRODUCT(--(INDEX(Model_Inputs_Ref_Units,,BW$51)=$E129),INDEX(Model_Inputs_Ref_Units,,BW$52)),0)","v":0},{"$f":"IFERROR(SUMPRODUCT(--(INDEX(Model_Inputs_Ref_Units,,BX$51)=$E129),INDEX(Model_Inputs_Ref_Units,,BX$52)),0)","v":0},{"$f":"IFERROR(SUMPRODUCT(--(INDEX(Model_Inputs_Ref_Units,,BY$51)=$E129),INDEX(Model_Inputs_Ref_Units,,BY$52)),0)","v":0},{"$f":"IFERROR(SUMPRODUCT(--(INDEX(Model_Inputs_Ref_Units,,BZ$51)=$E129),INDEX(Model_Inputs_Ref_Units,,BZ$52)),0)","v":0},{"$f":"IFERROR(SUMPRODUCT(--(INDEX(Model_Inputs_Ref_Units,,CA$51)=$E129),INDEX(Model_Inputs_Ref_Units,,CA$52)),0)","v":0},{"$f":"IFERROR(SUMPRODUCT(--(INDEX(Model_Inputs_Ref_Units,,CB$51)=$E129),INDEX(Model_Inputs_Ref_Units,,CB$52)),0)","v":0},{"$f":"IFERROR(SUMPRODUCT(--(INDEX(Model_Inputs_Ref_Units,,CC$51)=$E129),INDEX(Model_Inputs_Ref_Units,,CC$52)),0)","v":0},{"$f":"IFERROR(SUMPRODUCT(--(INDEX(Model_Inputs_Ref_Units,,CD$51)=$E129),INDEX(Model_Inputs_Ref_Units,,CD$52)),0)","v":0},{"$f":"IFERROR(SUMPRODUCT(--(INDEX(Model_Inputs_Ref_Units,,CE$51)=$E129),INDEX(Model_Inputs_Ref_Units,,CE$52)),0)","v":0},{"$f":"IFERROR(SUMPRODUCT(--(INDEX(Model_Inputs_Ref_Units,,CF$51)=$E129),INDEX(Model_Inputs_Ref_Units,,CF$52)),0)","v":0},{"$f":"IFERROR(SUMPRODUCT(--(INDEX(Model_Inputs_Ref_Units,,CG$51)=$E129),INDEX(Model_Inputs_Ref_Units,,CG$52)),0)","v":0},{"$f":"IFERROR(SUMPRODUCT(--(INDEX(Model_Inputs_Ref_Units,,CH$51)=$E129),INDEX(Model_Inputs_Ref_Units,,CH$52)),0)","v":0},{"$f":"IFERROR(SUMPRODUCT(--(INDEX(Model_Inputs_Ref_Units,,CI$51)=$E129),INDEX(Model_Inputs_Ref_Units,,CI$52)),0)","v":0},{"$f":"IFERROR(SUMPRODUCT(--(INDEX(Model_Inputs_Ref_Units,,CJ$51)=$E129),INDEX(Model_Inputs_Ref_Units,,CJ$52)),0)","v":0},{"$f":"IFERROR(SUMPRODUCT(--(INDEX(Model_Inputs_Ref_Units,,CK$51)=$E129),INDEX(Model_Inputs_Ref_Units,,CK$52)),0)","v":0},{"$f":"IFERROR(SUMPRODUCT(--(INDEX(Model_Inputs_Ref_Units,,CL$51)=$E129),INDEX(Model_Inputs_Ref_Units,,CL$52)),0)","v":0},{"$f":"IFERROR(SUMPRODUCT(--(INDEX(Model_Inputs_Ref_Units,,CM$51)=$E129),INDEX(Model_Inputs_Ref_Units,,CM$52)),0)","v":0},{"$f":"IFERROR(SUMPRODUCT(--(INDEX(Model_Inputs_Ref_Units,,CN$51)=$E129),INDEX(Model_Inputs_Ref_Units,,CN$52)),0)","v":0},{"$f":"IFERROR(SUMPRODUCT(--(INDEX(Model_Inputs_Ref_Units,,CO$51)=$E129),INDEX(Model_Inputs_Ref_Units,,CO$52)),0)","v":0},{"$f":"IFERROR(SUMPRODUCT(--(INDEX(Model_Inputs_Ref_Units,,CP$51)=$E129),INDEX(Model_Inputs_Ref_Units,,CP$52)),0)","v":0},{"$f":"IFERROR(SUMPRODUCT(--(INDEX(Model_Inputs_Ref_Units,,CQ$51)=$E129),INDEX(Model_Inputs_Ref_Units,,CQ$52)),0)","v":0},{"$f":"IFERROR(SUMPRODUCT(--(INDEX(Model_Inputs_Ref_Units,,CR$51)=$E129),INDEX(Model_Inputs_Ref_Units,,CR$52)),0)","v":0},{"$f":"IFERROR(SUMPRODUCT(--(INDEX(Model_Inputs_Ref_Units,,CS$51)=$E129),INDEX(Model_Inputs_Ref_Units,,CS$52)),0)","v":0},{"$f":"IFERROR(SUMPRODUCT(--(INDEX(Model_Inputs_Ref_Units,,CT$51)=$E129),INDEX(Model_Inputs_Ref_Units,,CT$52)),0)","v":0},{"$f":"IFERROR(SUMPRODUCT(--(INDEX(Model_Inputs_Ref_Units,,CU$51)=$E129),INDEX(Model_Inputs_Ref_Units,,CU$52)),0)","v":0},{"$f":"IFERROR(SUMPRODUCT(--(INDEX(Model_Inputs_Ref_Units,,CV$51)=$E129),INDEX(Model_Inputs_Ref_Units,,CV$52)),0)","v":0},{"$f":"IFERROR(SUMPRODUCT(--(INDEX(Model_Inputs_Ref_Units,,CW$51)=$E129),INDEX(Model_Inputs_Ref_Units,,CW$52)),0)","v":0},{"$f":"IFERROR(SUMPRODUCT(--(INDEX(Model_Inputs_Ref_Units,,CX$51)=$E129),INDEX(Model_Inputs_Ref_Units,,CX$52)),0)","v":0},{"$f":"IFERROR(SUMPRODUCT(--(INDEX(Model_Inputs_Ref_Units,,CY$51)=$E129),INDEX(Model_Inputs_Ref_Units,,CY$52)),0)","v":0},{"$f":"IFERROR(SUMPRODUCT(--(INDEX(Model_Inputs_Ref_Units,,CZ$51)=$E129),INDEX(Model_Inputs_Ref_Units,,CZ$52)),0)","v":0},{"$f":"IFERROR(SUMPRODUCT(--(INDEX(Model_Inputs_Ref_Units,,DA$51)=$E129),INDEX(Model_Inputs_Ref_Units,,DA$52)),0)","v":0},{"$f":"IFERROR(SUMPRODUCT(--(INDEX(Model_Inputs_Ref_Units,,DB$51)=$E129),INDEX(Model_Inputs_Ref_Units,,DB$52)),0)","v":0},{"$f":"IFERROR(SUMPRODUCT(--(INDEX(Model_Inputs_Ref_Units,,DC$51)=$E129),INDEX(Model_Inputs_Ref_Units,,DC$52)),0)","v":0},{"$f":"IFERROR(SUMPRODUCT(--(INDEX(Model_Inputs_Ref_Units,,DD$51)=$E129),INDEX(Model_Inputs_Ref_Units,,DD$52)),0)","v":0},{"$f":"IFERROR(SUMPRODUCT(--(INDEX(Model_Inputs_Ref_Units,,DE$51)=$E129),INDEX(Model_Inputs_Ref_Units,,DE$52)),0)","v":0},{"$f":"IFERROR(SUMPRODUCT(--(INDEX(Model_Inputs_Ref_Units,,DF$51)=$E129),INDEX(Model_Inputs_Ref_Units,,DF$52)),0)","v":0}]
[null,null,{"$error":"#DIV/0!"},null,{"$f":"IFERROR(INDEX(Ref_Data,1,F130),\"\")","v":""},77,0,0,0,0,{"$f":"IFERROR(SUMPRODUCT(--(INDEX(Model_Inputs_Ref_Units,,K$51)=$E130),INDEX(Model_Inputs_Ref_Units,,K$52)),0)","v":0},{"$f":"IFERROR(SUMPRODUCT(--(INDEX(Model_Inputs_Ref_Units,,L$51)=$E130),INDEX(Model_Inputs_Ref_Units,,L$52)),0)","v":0},{"$f":"IFERROR(SUMPRODUCT(--(INDEX(Model_Inputs_Ref_Units,,M$51)=$E130),INDEX(Model_Inputs_Ref_Units,,M$52)),0)","v":0},{"$f":"IFERROR(SUMPRODUCT(--(INDEX(Model_Inputs_Ref_Units,,N$51)=$E130),INDEX(Model_Inputs_Ref_Units,,N$52)),0)","v":0},{"$f":"IFERROR(SUMPRODUCT(--(INDEX(Model_Inputs_Ref_Units,,O$51)=$E130),INDEX(Model_Inputs_Ref_Units,,O$52)),0)","v":0},{"$f":"IFERROR(SUMPRODUCT(--(INDEX(Model_Inputs_Ref_Units,,P$51)=$E130),INDEX(Model_Inputs_Ref_Units,,P$52)),0)","v":0},{"$f":"IFERROR(SUMPRODUCT(--(INDEX(Model_Inputs_Ref_Units,,Q$51)=$E130),INDEX(Model_Inputs_Ref_Units,,Q$52)),0)","v":0},{"$f":"IFERROR(SUMPRODUCT(--(INDEX(Model_Inputs_Ref_Units,,R$51)=$E130),INDEX(Model_Inputs_Ref_Units,,R$52)),0)","v":0},{"$f":"IFERROR(SUMPRODUCT(--(INDEX(Model_Inputs_Ref_Units,,S$51)=$E130),INDEX(Model_Inputs_Ref_Units,,S$52)),0)","v":0},{"$f":"IFERROR(SUMPRODUCT(--(INDEX(Model_Inputs_Ref_Units,,T$51)=$E130),INDEX(Model_Inputs_Ref_Units,,T$52)),0)","v":0},{"$f":"IFERROR(SUMPRODUCT(--(INDEX(Model_Inputs_Ref_Units,,U$51)=$E130),INDEX(Model_Inputs_Ref_Units,,U$52)),0)","v":0},{"$f":"IFERROR(SUMPRODUCT(--(INDEX(Model_Inputs_Ref_Units,,V$51)=$E130),INDEX(Model_Inputs_Ref_Units,,V$52)),0)","v":0},{"$f":"IFERROR(SUMPRODUCT(--(INDEX(Model_Inputs_Ref_Units,,W$51)=$E130),INDEX(Model_Inputs_Ref_Units,,W$52)),0)","v":0},{"$f":"IFERROR(SUMPRODUCT(--(INDEX(Model_Inputs_Ref_Units,,X$51)=$E130),INDEX(Model_Inputs_Ref_Units,,X$52)),0)","v":0},{"$f":"IFERROR(SUMPRODUCT(--(INDEX(Model_Inputs_Ref_Units,,Y$51)=$E130),INDEX(Model_Inputs_Ref_Units,,Y$52)),0)","v":0},{"$f":"IFERROR(SUMPRODUCT(--(INDEX(Model_Inputs_Ref_Units,,Z$51)=$E130),INDEX(Model_Inputs_Ref_Units,,Z$52)),0)","v":0},{"$f":"IFERROR(SUMPRODUCT(--(INDEX(Model_Inputs_Ref_Units,,AA$51)=$E130),INDEX(Model_Inputs_Ref_Units,,AA$52)),0)","v":0},{"$f":"IFERROR(SUMPRODUCT(--(INDEX(Model_Inputs_Ref_Units,,AB$51)=$E130),INDEX(Model_Inputs_Ref_Units,,AB$52)),0)","v":0},{"$f":"IFERROR(SUMPRODUCT(--(INDEX(Model_Inputs_Ref_Units,,AC$51)=$E130),INDEX(Model_Inputs_Ref_Units,,AC$52)),0)","v":0},{"$f":"IFERROR(SUMPRODUCT(--(INDEX(Model_Inputs_Ref_Units,,AD$51)=$E130),INDEX(Model_Inputs_Ref_Units,,AD$52)),0)","v":0},{"$f":"IFERROR(SUMPRODUCT(--(INDEX(Model_Inputs_Ref_Units,,AE$51)=$E130),INDEX(Model_Inputs_Ref_Units,,AE$52)),0)","v":0},{"$f":"IFERROR(SUMPRODUCT(--(INDEX(Model_Inputs_Ref_Units,,AF$51)=$E130),INDEX(Model_Inputs_Ref_Units,,AF$52)),0)","v":0},{"$f":"IFERROR(SUMPRODUCT(--(INDEX(Model_Inputs_Ref_Units,,AG$51)=$E130),INDEX(Model_Inputs_Ref_Units,,AG$52)),0)","v":0},{"$f":"IFERROR(SUMPRODUCT(--(INDEX(Model_Inputs_Ref_Units,,AH$51)=$E130),INDEX(Model_Inputs_Ref_Units,,AH$52)),0)","v":0},{"$f":"IFERROR(SUMPRODUCT(--(INDEX(Model_Inputs_Ref_Units,,AI$51)=$E130),INDEX(Model_Inputs_Ref_Units,,AI$52)),0)","v":0},{"$f":"IFERROR(SUMPRODUCT(--(INDEX(Model_Inputs_Ref_Units,,AJ$51)=$E130),INDEX(Model_Inputs_Ref_Units,,AJ$52)),0)","v":0},{"$f":"IFERROR(SUMPRODUCT(--(INDEX(Model_Inputs_Ref_Units,,AK$51)=$E130),INDEX(Model_Inputs_Ref_Units,,AK$52)),0)","v":0},{"$f":"IFERROR(SUMPRODUCT(--(INDEX(Model_Inputs_Ref_Units,,AL$51)=$E130),INDEX(Model_Inputs_Ref_Units,,AL$52)),0)","v":0},{"$f":"IFERROR(SUMPRODUCT(--(INDEX(Model_Inputs_Ref_Units,,AM$51)=$E130),INDEX(Model_Inputs_Ref_Units,,AM$52)),0)","v":0},{"$f":"IFERROR(SUMPRODUCT(--(INDEX(Model_Inputs_Ref_Units,,AN$51)=$E130),INDEX(Model_Inputs_Ref_Units,,AN$52)),0)","v":0},{"$f":"IFERROR(SUMPRODUCT(--(INDEX(Model_Inputs_Ref_Units,,AO$51)=$E130),INDEX(Model_Inputs_Ref_Units,,AO$52)),0)","v":0},{"$f":"IFERROR(SUMPRODUCT(--(INDEX(Model_Inputs_Ref_Units,,AP$51)=$E130),INDEX(Model_Inputs_Ref_Units,,AP$52)),0)","v":0},{"$f":"IFERROR(SUMPRODUCT(--(INDEX(Model_Inputs_Ref_Units,,AQ$51)=$E130),INDEX(Model_Inputs_Ref_Units,,AQ$52)),0)","v":0},{"$f":"IFERROR(SUMPRODUCT(--(INDEX(Model_Inputs_Ref_Units,,AR$51)=$E130),INDEX(Model_Inputs_Ref_Units,,AR$52)),0)","v":0},{"$f":"IFERROR(SUMPRODUCT(--(INDEX(Model_Inputs_Ref_Units,,AS$51)=$E130),INDEX(Model_Inputs_Ref_Units,,AS$52)),0)","v":0},{"$f":"IFERROR(SUMPRODUCT(--(INDEX(Model_Inputs_Ref_Units,,AT$51)=$E130),INDEX(Model_Inputs_Ref_Units,,AT$52)),0)","v":0},{"$f":"IFERROR(SUMPRODUCT(--(INDEX(Model_Inputs_Ref_Units,,AU$51)=$E130),INDEX(Model_Inputs_Ref_Units,,AU$52)),0)","v":0},{"$f":"IFERROR(SUMPRODUCT(--(INDEX(Model_Inputs_Ref_Units,,AV$51)=$E130),INDEX(Model_Inputs_Ref_Units,,AV$52)),0)","v":0},{"$f":"IFERROR(SUMPRODUCT(--(INDEX(Model_Inputs_Ref_Units,,AW$51)=$E130),INDEX(Model_Inputs_Ref_Units,,AW$52)),0)","v":0},{"$f":"IFERROR(SUMPRODUCT(--(INDEX(Model_Inputs_Ref_Units,,AX$51)=$E130),INDEX(Model_Inputs_Ref_Units,,AX$52)),0)","v":0},{"$f":"IFERROR(SUMPRODUCT(--(INDEX(Model_Inputs_Ref_Units,,AY$51)=$E130),INDEX(Model_Inputs_Ref_Units,,AY$52)),0)","v":0},{"$f":"IFERROR(SUMPRODUCT(--(INDEX(Model_Inputs_Ref_Units,,AZ$51)=$E130),INDEX(Model_Inputs_Ref_Units,,AZ$52)),0)","v":0},{"$f":"IFERROR(SUMPRODUCT(--(INDEX(Model_Inputs_Ref_Units,,BA$51)=$E130),INDEX(Model_Inputs_Ref_Units,,BA$52)),0)","v":0},{"$f":"IFERROR(SUMPRODUCT(--(INDEX(Model_Inputs_Ref_Units,,BB$51)=$E130),INDEX(Model_Inputs_Ref_Units,,BB$52)),0)","v":0},{"$f":"IFERROR(SUMPRODUCT(--(INDEX(Model_Inputs_Ref_Units,,BC$51)=$E130),INDEX(Model_Inputs_Ref_Units,,BC$52)),0)","v":0},{"$f":"IFERROR(SUMPRODUCT(--(INDEX(Model_Inputs_Ref_Units,,BD$51)=$E130),INDEX(Model_Inputs_Ref_Units,,BD$52)),0)","v":0},{"$f":"IFERROR(SUMPRODUCT(--(INDEX(Model_Inputs_Ref_Units,,BE$51)=$E130),INDEX(Model_Inputs_Ref_Units,,BE$52)),0)","v":0},{"$f":"IFERROR(SUMPRODUCT(--(INDEX(Model_Inputs_Ref_Units,,BF$51)=$E130),INDEX(Model_Inputs_Ref_Units,,BF$52)),0)","v":0},{"$f":"IFERROR(SUMPRODUCT(--(INDEX(Model_Inputs_Ref_Units,,BG$51)=$E130),INDEX(Model_Inputs_Ref_Units,,BG$52)),0)","v":0},{"$f":"IFERROR(SUMPRODUCT(--(INDEX(Model_Inputs_Ref_Units,,BH$51)=$E130),INDEX(Model_Inputs_Ref_Units,,BH$52)),0)","v":0},{"$f":"IFERROR(SUMPRODUCT(--(INDEX(Model_Inputs_Ref_Units,,BI$51)=$E130),INDEX(Model_Inputs_Ref_Units,,BI$52)),0)","v":0},{"$f":"IFERROR(SUMPRODUCT(--(INDEX(Model_Inputs_Ref_Units,,BJ$51)=$E130),INDEX(Model_Inputs_Ref_Units,,BJ$52)),0)","v":0},{"$f":"IFERROR(SUMPRODUCT(--(INDEX(Model_Inputs_Ref_Units,,BK$51)=$E130),INDEX(Model_Inputs_Ref_Units,,BK$52)),0)","v":0},{"$f":"IFERROR(SUMPRODUCT(--(INDEX(Model_Inputs_Ref_Units,,BL$51)=$E130),INDEX(Model_Inputs_Ref_Units,,BL$52)),0)","v":0},{"$f":"IFERROR(SUMPRODUCT(--(INDEX(Model_Inputs_Ref_Units,,BM$51)=$E130),INDEX(Model_Inputs_Ref_Units,,BM$52)),0)","v":0},{"$f":"IFERROR(SUMPRODUCT(--(INDEX(Model_Inputs_Ref_Units,,BN$51)=$E130),INDEX(Model_Inputs_Ref_Units,,BN$52)),0)","v":0},{"$f":"IFERROR(SUMPRODUCT(--(INDEX(Model_Inputs_Ref_Units,,BO$51)=$E130),INDEX(Model_Inputs_Ref_Units,,BO$52)),0)","v":0},{"$f":"IFERROR(SUMPRODUCT(--(INDEX(Model_Inputs_Ref_Units,,BP$51)=$E130),INDEX(Model_Inputs_Ref_Units,,BP$52)),0)","v":0},{"$f":"IFERROR(SUMPRODUCT(--(INDEX(Model_Inputs_Ref_Units,,BQ$51)=$E130),INDEX(Model_Inputs_Ref_Units,,BQ$52)),0)","v":0},{"$f":"IFERROR(SUMPRODUCT(--(INDEX(Model_Inputs_Ref_Units,,BR$51)=$E130),INDEX(Model_Inputs_Ref_Units,,BR$52)),0)","v":0},{"$f":"IFERROR(SUMPRODUCT(--(INDEX(Model_Inputs_Ref_Units,,BS$51)=$E130),INDEX(Model_Inputs_Ref_Units,,BS$52)),0)","v":0},{"$f":"IFERROR(SUMPRODUCT(--(INDEX(Model_Inputs_Ref_Units,,BT$51)=$E130),INDEX(Model_Inputs_Ref_Units,,BT$52)),0)","v":0},{"$f":"IFERROR(SUMPRODUCT(--(INDEX(Model_Inputs_Ref_Units,,BU$51)=$E130),INDEX(Model_Inputs_Ref_Units,,BU$52)),0)","v":0},{"$f":"IFERROR(SUMPRODUCT(--(INDEX(Model_Inputs_Ref_Units,,BV$51)=$E130),INDEX(Model_Inputs_Ref_Units,,BV$52)),0)","v":0},{"$f":"IFERROR(SUMPRODUCT(--(INDEX(Model_Inputs_Ref_Units,,BW$51)=$E130),INDEX(Model_Inputs_Ref_Units,,BW$52)),0)","v":0},{"$f":"IFERROR(SUMPRODUCT(--(INDEX(Model_Inputs_Ref_Units,,BX$51)=$E130),INDEX(Model_Inputs_Ref_Units,,BX$52)),0)","v":0},{"$f":"IFERROR(SUMPRODUCT(--(INDEX(Model_Inputs_Ref_Units,,BY$51)=$E130),INDEX(Model_Inputs_Ref_Units,,BY$52)),0)","v":0},{"$f":"IFERROR(SUMPRODUCT(--(INDEX(Model_Inputs_Ref_Units,,BZ$51)=$E130),INDEX(Model_Inputs_Ref_Units,,BZ$52)),0)","v":0},{"$f":"IFERROR(SUMPRODUCT(--(INDEX(Model_Inputs_Ref_Units,,CA$51)=$E130),INDEX(Model_Inputs_Ref_Units,,CA$52)),0)","v":0},{"$f":"IFERROR(SUMPRODUCT(--(INDEX(Model_Inputs_Ref_Units,,CB$51)=$E130),INDEX(Model_Inputs_Ref_Units,,CB$52)),0)","v":0},{"$f":"IFERROR(SUMPRODUCT(--(INDEX(Model_Inputs_Ref_Units,,CC$51)=$E130),INDEX(Model_Inputs_Ref_Units,,CC$52)),0)","v":0},{"$f":"IFERROR(SUMPRODUCT(--(INDEX(Model_Inputs_Ref_Units,,CD$51)=$E130),INDEX(Model_Inputs_Ref_Units,,CD$52)),0)","v":0},{"$f":"IFERROR(SUMPRODUCT(--(INDEX(Model_Inputs_Ref_Units,,CE$51)=$E130),INDEX(Model_Inputs_Ref_Units,,CE$52)),0)","v":0},{"$f":"IFERROR(SUMPRODUCT(--(INDEX(Model_Inputs_Ref_Units,,CF$51)=$E130),INDEX(Model_Inputs_Ref_Units,,CF$52)),0)","v":0},{"$f":"IFERROR(SUMPRODUCT(--(INDEX(Model_Inputs_Ref_Units,,CG$51)=$E130),INDEX(Model_Inputs_Ref_Units,,CG$52)),0)","v":0},{"$f":"IFERROR(SUMPRODUCT(--(INDEX(Model_Inputs_Ref_Units,,CH$51)=$E130),INDEX(Model_Inputs_Ref_Units,,CH$52)),0)","v":0},{"$f":"IFERROR(SUMPRODUCT(--(INDEX(Model_Inputs_Ref_Units,,CI$51)=$E130),INDEX(Model_Inputs_Ref_Units,,CI$52)),0)","v":0},{"$f":"IFERROR(SUMPRODUCT(--(INDEX(Model_Inputs_Ref_Units,,CJ$51)=$E130),INDEX(Model_Inputs_Ref_Units,,CJ$52)),0)","v":0},{"$f":"IFERROR(SUMPRODUCT(--(INDEX(Model_Inputs_Ref_Units,,CK$51)=$E130),INDEX(Model_Inputs_Ref_Units,,CK$52)),0)","v":0},{"$f":"IFERROR(SUMPRODUCT(--(INDEX(Model_Inputs_Ref_Units,,CL$51)=$E130),INDEX(Model_Inputs_Ref_Units,,CL$52)),0)","v":0},{"$f":"IFERROR(SUMPRODUCT(--(INDEX(Model_Inputs_Ref_Units,,CM$51)=$E130),INDEX(Model_Inputs_Ref_Units,,CM$52)),0)","v":0},{"$f":"IFERROR(SUMPRODUCT(--(INDEX(Model_Inputs_Ref_Units,,CN$51)=$E130),INDEX(Model_Inputs_Ref_Units,,CN$52)),0)","v":0},{"$f":"IFERROR(SUMPRODUCT(--(INDEX(Model_Inputs_Ref_Units,,CO$51)=$E130),INDEX(Model_Inputs_Ref_Units,,CO$52)),0)","v":0},{"$f":"IFERROR(SUMPRODUCT(--(INDEX(Model_Inputs_Ref_Units,,CP$51)=$E130),INDEX(Model_Inputs_Ref_Units,,CP$52)),0)","v":0},{"$f":"IFERROR(SUMPRODUCT(--(INDEX(Model_Inputs_Ref_Units,,CQ$51)=$E130),INDEX(Model_Inputs_Ref_Units,,CQ$52)),0)","v":0},{"$f":"IFERROR(SUMPRODUCT(--(INDEX(Model_Inputs_Ref_Units,,CR$51)=$E130),INDEX(Model_Inputs_Ref_Units,,CR$52)),0)","v":0},{"$f":"IFERROR(SUMPRODUCT(--(INDEX(Model_Inputs_Ref_Units,,CS$51)=$E130),INDEX(Model_Inputs_Ref_Units,,CS$52)),0)","v":0},{"$f":"IFERROR(SUMPRODUCT(--(INDEX(Model_Inputs_Ref_Units,,CT$51)=$E130),INDEX(Model_Inputs_Ref_Units,,CT$52)),0)","v":0},{"$f":"IFERROR(SUMPRODUCT(--(INDEX(Model_Inputs_Ref_Units,,CU$51)=$E130),INDEX(Model_Inputs_Ref_Units,,CU$52)),0)","v":0},{"$f":"IFERROR(SUMPRODUCT(--(INDEX(Model_Inputs_Ref_Units,,CV$51)=$E130),INDEX(Model_Inputs_Ref_Units,,CV$52)),0)","v":0},{"$f":"IFERROR(SUMPRODUCT(--(INDEX(Model_Inputs_Ref_Units,,CW$51)=$E130),INDEX(Model_Inputs_Ref_Units,,CW$52)),0)","v":0},{"$f":"IFERROR(SUMPRODUCT(--(INDEX(Model_Inputs_Ref_Units,,CX$51)=$E130),INDEX(Model_Inputs_Ref_Units,,CX$52)),0)","v":0},{"$f":"IFERROR(SUMPRODUCT(--(INDEX(Model_Inputs_Ref_Units,,CY$51)=$E130),INDEX(Model_Inputs_Ref_Units,,CY$52)),0)","v":0},{"$f":"IFERROR(SUMPRODUCT(--(INDEX(Model_Inputs_Ref_Units,,CZ$51)=$E130),INDEX(Model_Inputs_Ref_Units,,CZ$52)),0)","v":0},{"$f":"IFERROR(SUMPRODUCT(--(INDEX(Model_Inputs_Ref_Units,,DA$51)=$E130),INDEX(Model_Inputs_Ref_Units,,DA$52)),0)","v":0},{"$f":"IFERROR(SUMPRODUCT(--(INDEX(Model_Inputs_Ref_Units,,DB$51)=$E130),INDEX(Model_Inputs_Ref_Units,,DB$52)),0)","v":0},{"$f":"IFERROR(SUMPRODUCT(--(INDEX(Model_Inputs_Ref_Units,,DC$51)=$E130),INDEX(Model_Inputs_Ref_Units,,DC$52)),0)","v":0},{"$f":"IFERROR(SUMPRODUCT(--(INDEX(Model_Inputs_Ref_Units,,DD$51)=$E130),INDEX(Model_Inputs_Ref_Units,,DD$52)),0)","v":0},{"$f":"IFERROR(SUMPRODUCT(--(INDEX(Model_Inputs_Ref_Units,,DE$51)=$E130),INDEX(Model_Inputs_Ref_Units,,DE$52)),0)","v":0},{"$f":"IFERROR(SUMPRODUCT(--(INDEX(Model_Inputs_Ref_Units,,DF$51)=$E130),INDEX(Model_Inputs_Ref_Units,,DF$52)),0)","v":0}]
[null,null,{"$error":"#DIV/0!"},null,{"$f":"IFERROR(INDEX(Ref_Data,1,F131),\"\")","v":""},78,0,0,0,0,{"$f":"IFERROR(SUMPRODUCT(--(INDEX(Model_Inputs_Ref_Units,,K$51)=$E131),INDEX(Model_Inputs_Ref_Units,,K$52)),0)","v":0},{"$f":"IFERROR(SUMPRODUCT(--(INDEX(Model_Inputs_Ref_Units,,L$51)=$E131),INDEX(Model_Inputs_Ref_Units,,L$52)),0)","v":0},{"$f":"IFERROR(SUMPRODUCT(--(INDEX(Model_Inputs_Ref_Units,,M$51)=$E131),INDEX(Model_Inputs_Ref_Units,,M$52)),0)","v":0},{"$f":"IFERROR(SUMPRODUCT(--(INDEX(Model_Inputs_Ref_Units,,N$51)=$E131),INDEX(Model_Inputs_Ref_Units,,N$52)),0)","v":0},{"$f":"IFERROR(SUMPRODUCT(--(INDEX(Model_Inputs_Ref_Units,,O$51)=$E131),INDEX(Model_Inputs_Ref_Units,,O$52)),0)","v":0},{"$f":"IFERROR(SUMPRODUCT(--(INDEX(Model_Inputs_Ref_Units,,P$51)=$E131),INDEX(Model_Inputs_Ref_Units,,P$52)),0)","v":0},{"$f":"IFERROR(SUMPRODUCT(--(INDEX(Model_Inputs_Ref_Units,,Q$51)=$E131),INDEX(Model_Inputs_Ref_Units,,Q$52)),0)","v":0},{"$f":"IFERROR(SUMPRODUCT(--(INDEX(Model_Inputs_Ref_Units,,R$51)=$E131),INDEX(Model_Inputs_Ref_Units,,R$52)),0)","v":0},{"$f":"IFERROR(SUMPRODUCT(--(INDEX(Model_Inputs_Ref_Units,,S$51)=$E131),INDEX(Model_Inputs_Ref_Units,,S$52)),0)","v":0},{"$f":"IFERROR(SUMPRODUCT(--(INDEX(Model_Inputs_Ref_Units,,T$51)=$E131),INDEX(Model_Inputs_Ref_Units,,T$52)),0)","v":0},{"$f":"IFERROR(SUMPRODUCT(--(INDEX(Model_Inputs_Ref_Units,,U$51)=$E131),INDEX(Model_Inputs_Ref_Units,,U$52)),0)","v":0},{"$f":"IFERROR(SUMPRODUCT(--(INDEX(Model_Inputs_Ref_Units,,V$51)=$E131),INDEX(Model_Inputs_Ref_Units,,V$52)),0)","v":0},{"$f":"IFERROR(SUMPRODUCT(--(INDEX(Model_Inputs_Ref_Units,,W$51)=$E131),INDEX(Model_Inputs_Ref_Units,,W$52)),0)","v":0},{"$f":"IFERROR(SUMPRODUCT(--(INDEX(Model_Inputs_Ref_Units,,X$51)=$E131),INDEX(Model_Inputs_Ref_Units,,X$52)),0)","v":0},{"$f":"IFERROR(SUMPRODUCT(--(INDEX(Model_Inputs_Ref_Units,,Y$51)=$E131),INDEX(Model_Inputs_Ref_Units,,Y$52)),0)","v":0},{"$f":"IFERROR(SUMPRODUCT(--(INDEX(Model_Inputs_Ref_Units,,Z$51)=$E131),INDEX(Model_Inputs_Ref_Units,,Z$52)),0)","v":0},{"$f":"IFERROR(SUMPRODUCT(--(INDEX(Model_Inputs_Ref_Units,,AA$51)=$E131),INDEX(Model_Inputs_Ref_Units,,AA$52)),0)","v":0},{"$f":"IFERROR(SUMPRODUCT(--(INDEX(Model_Inputs_Ref_Units,,AB$51)=$E131),INDEX(Model_Inputs_Ref_Units,,AB$52)),0)","v":0},{"$f":"IFERROR(SUMPRODUCT(--(INDEX(Model_Inputs_Ref_Units,,AC$51)=$E131),INDEX(Model_Inputs_Ref_Units,,AC$52)),0)","v":0},{"$f":"IFERROR(SUMPRODUCT(--(INDEX(Model_Inputs_Ref_Units,,AD$51)=$E131),INDEX(Model_Inputs_Ref_Units,,AD$52)),0)","v":0},{"$f":"IFERROR(SUMPRODUCT(--(INDEX(Model_Inputs_Ref_Units,,AE$51)=$E131),INDEX(Model_Inputs_Ref_Units,,AE$52)),0)","v":0},{"$f":"IFERROR(SUMPRODUCT(--(INDEX(Model_Inputs_Ref_Units,,AF$51)=$E131),INDEX(Model_Inputs_Ref_Units,,AF$52)),0)","v":0},{"$f":"IFERROR(SUMPRODUCT(--(INDEX(Model_Inputs_Ref_Units,,AG$51)=$E131),INDEX(Model_Inputs_Ref_Units,,AG$52)),0)","v":0},{"$f":"IFERROR(SUMPRODUCT(--(INDEX(Model_Inputs_Ref_Units,,AH$51)=$E131),INDEX(Model_Inputs_Ref_Units,,AH$52)),0)","v":0},{"$f":"IFERROR(SUMPRODUCT(--(INDEX(Model_Inputs_Ref_Units,,AI$51)=$E131),INDEX(Model_Inputs_Ref_Units,,AI$52)),0)","v":0},{"$f":"IFERROR(SUMPRODUCT(--(INDEX(Model_Inputs_Ref_Units,,AJ$51)=$E131),INDEX(Model_Inputs_Ref_Units,,AJ$52)),0)","v":0},{"$f":"IFERROR(SUMPRODUCT(--(INDEX(Model_Inputs_Ref_Units,,AK$51)=$E131),INDEX(Model_Inputs_Ref_Units,,AK$52)),0)","v":0},{"$f":"IFERROR(SUMPRODUCT(--(INDEX(Model_Inputs_Ref_Units,,AL$51)=$E131),INDEX(Model_Inputs_Ref_Units,,AL$52)),0)","v":0},{"$f":"IFERROR(SUMPRODUCT(--(INDEX(Model_Inputs_Ref_Units,,AM$51)=$E131),INDEX(Model_Inputs_Ref_Units,,AM$52)),0)","v":0},{"$f":"IFERROR(SUMPRODUCT(--(INDEX(Model_Inputs_Ref_Units,,AN$51)=$E131),INDEX(Model_Inputs_Ref_Units,,AN$52)),0)","v":0},{"$f":"IFERROR(SUMPRODUCT(--(INDEX(Model_Inputs_Ref_Units,,AO$51)=$E131),INDEX(Model_Inputs_Ref_Units,,AO$52)),0)","v":0},{"$f":"IFERROR(SUMPRODUCT(--(INDEX(Model_Inputs_Ref_Units,,AP$51)=$E131),INDEX(Model_Inputs_Ref_Units,,AP$52)),0)","v":0},{"$f":"IFERROR(SUMPRODUCT(--(INDEX(Model_Inputs_Ref_Units,,AQ$51)=$E131),INDEX(Model_Inputs_Ref_Units,,AQ$52)),0)","v":0},{"$f":"IFERROR(SUMPRODUCT(--(INDEX(Model_Inputs_Ref_Units,,AR$51)=$E131),INDEX(Model_Inputs_Ref_Units,,AR$52)),0)","v":0},{"$f":"IFERROR(SUMPRODUCT(--(INDEX(Model_Inputs_Ref_Units,,AS$51)=$E131),INDEX(Model_Inputs_Ref_Units,,AS$52)),0)","v":0},{"$f":"IFERROR(SUMPRODUCT(--(INDEX(Model_Inputs_Ref_Units,,AT$51)=$E131),INDEX(Model_Inputs_Ref_Units,,AT$52)),0)","v":0},{"$f":"IFERROR(SUMPRODUCT(--(INDEX(Model_Inputs_Ref_Units,,AU$51)=$E131),INDEX(Model_Inputs_Ref_Units,,AU$52)),0)","v":0},{"$f":"IFERROR(SUMPRODUCT(--(INDEX(Model_Inputs_Ref_Units,,AV$51)=$E131),INDEX(Model_Inputs_Ref_Units,,AV$52)),0)","v":0},{"$f":"IFERROR(SUMPRODUCT(--(INDEX(Model_Inputs_Ref_Units,,AW$51)=$E131),INDEX(Model_Inputs_Ref_Units,,AW$52)),0)","v":0},{"$f":"IFERROR(SUMPRODUCT(--(INDEX(Model_Inputs_Ref_Units,,AX$51)=$E131),INDEX(Model_Inputs_Ref_Units,,AX$52)),0)","v":0},{"$f":"IFERROR(SUMPRODUCT(--(INDEX(Model_Inputs_Ref_Units,,AY$51)=$E131),INDEX(Model_Inputs_Ref_Units,,AY$52)),0)","v":0},{"$f":"IFERROR(SUMPRODUCT(--(INDEX(Model_Inputs_Ref_Units,,AZ$51)=$E131),INDEX(Model_Inputs_Ref_Units,,AZ$52)),0)","v":0},{"$f":"IFERROR(SUMPRODUCT(--(INDEX(Model_Inputs_Ref_Units,,BA$51)=$E131),INDEX(Model_Inputs_Ref_Units,,BA$52)),0)","v":0},{"$f":"IFERROR(SUMPRODUCT(--(INDEX(Model_Inputs_Ref_Units,,BB$51)=$E131),INDEX(Model_Inputs_Ref_Units,,BB$52)),0)","v":0},{"$f":"IFERROR(SUMPRODUCT(--(INDEX(Model_Inputs_Ref_Units,,BC$51)=$E131),INDEX(Model_Inputs_Ref_Units,,BC$52)),0)","v":0},{"$f":"IFERROR(SUMPRODUCT(--(INDEX(Model_Inputs_Ref_Units,,BD$51)=$E131),INDEX(Model_Inputs_Ref_Units,,BD$52)),0)","v":0},{"$f":"IFERROR(SUMPRODUCT(--(INDEX(Model_Inputs_Ref_Units,,BE$51)=$E131),INDEX(Model_Inputs_Ref_Units,,BE$52)),0)","v":0},{"$f":"IFERROR(SUMPRODUCT(--(INDEX(Model_Inputs_Ref_Units,,BF$51)=$E131),INDEX(Model_Inputs_Ref_Units,,BF$52)),0)","v":0},{"$f":"IFERROR(SUMPRODUCT(--(INDEX(Model_Inputs_Ref_Units,,BG$51)=$E131),INDEX(Model_Inputs_Ref_Units,,BG$52)),0)","v":0},{"$f":"IFERROR(SUMPRODUCT(--(INDEX(Model_Inputs_Ref_Units,,BH$51)=$E131),INDEX(Model_Inputs_Ref_Units,,BH$52)),0)","v":0},{"$f":"IFERROR(SUMPRODUCT(--(INDEX(Model_Inputs_Ref_Units,,BI$51)=$E131),INDEX(Model_Inputs_Ref_Units,,BI$52)),0)","v":0},{"$f":"IFERROR(SUMPRODUCT(--(INDEX(Model_Inputs_Ref_Units,,BJ$51)=$E131),INDEX(Model_Inputs_Ref_Units,,BJ$52)),0)","v":0},{"$f":"IFERROR(SUMPRODUCT(--(INDEX(Model_Inputs_Ref_Units,,BK$51)=$E131),INDEX(Model_Inputs_Ref_Units,,BK$52)),0)","v":0},{"$f":"IFERROR(SUMPRODUCT(--(INDEX(Model_Inputs_Ref_Units,,BL$51)=$E131),INDEX(Model_Inputs_Ref_Units,,BL$52)),0)","v":0},{"$f":"IFERROR(SUMPRODUCT(--(INDEX(Model_Inputs_Ref_Units,,BM$51)=$E131),INDEX(Model_Inputs_Ref_Units,,BM$52)),0)","v":0},{"$f":"IFERROR(SUMPRODUCT(--(INDEX(Model_Inputs_Ref_Units,,BN$51)=$E131),INDEX(Model_Inputs_Ref_Units,,BN$52)),0)","v":0},{"$f":"IFERROR(SUMPRODUCT(--(INDEX(Model_Inputs_Ref_Units,,BO$51)=$E131),INDEX(Model_Inputs_Ref_Units,,BO$52)),0)","v":0},{"$f":"IFERROR(SUMPRODUCT(--(INDEX(Model_Inputs_Ref_Units,,BP$51)=$E131),INDEX(Model_Inputs_Ref_Units,,BP$52)),0)","v":0},{"$f":"IFERROR(SUMPRODUCT(--(INDEX(Model_Inputs_Ref_Units,,BQ$51)=$E131),INDEX(Model_Inputs_Ref_Units,,BQ$52)),0)","v":0},{"$f":"IFERROR(SUMPRODUCT(--(INDEX(Model_Inputs_Ref_Units,,BR$51)=$E131),INDEX(Model_Inputs_Ref_Units,,BR$52)),0)","v":0},{"$f":"IFERROR(SUMPRODUCT(--(INDEX(Model_Inputs_Ref_Units,,BS$51)=$E131),INDEX(Model_Inputs_Ref_Units,,BS$52)),0)","v":0},{"$f":"IFERROR(SUMPRODUCT(--(INDEX(Model_Inputs_Ref_Units,,BT$51)=$E131),INDEX(Model_Inputs_Ref_Units,,BT$52)),0)","v":0},{"$f":"IFERROR(SUMPRODUCT(--(INDEX(Model_Inputs_Ref_Units,,BU$51)=$E131),INDEX(Model_Inputs_Ref_Units,,BU$52)),0)","v":0},{"$f":"IFERROR(SUMPRODUCT(--(INDEX(Model_Inputs_Ref_Units,,BV$51)=$E131),INDEX(Model_Inputs_Ref_Units,,BV$52)),0)","v":0},{"$f":"IFERROR(SUMPRODUCT(--(INDEX(Model_Inputs_Ref_Units,,BW$51)=$E131),INDEX(Model_Inputs_Ref_Units,,BW$52)),0)","v":0},{"$f":"IFERROR(SUMPRODUCT(--(INDEX(Model_Inputs_Ref_Units,,BX$51)=$E131),INDEX(Model_Inputs_Ref_Units,,BX$52)),0)","v":0},{"$f":"IFERROR(SUMPRODUCT(--(INDEX(Model_Inputs_Ref_Units,,BY$51)=$E131),INDEX(Model_Inputs_Ref_Units,,BY$52)),0)","v":0},{"$f":"IFERROR(SUMPRODUCT(--(INDEX(Model_Inputs_Ref_Units,,BZ$51)=$E131),INDEX(Model_Inputs_Ref_Units,,BZ$52)),0)","v":0},{"$f":"IFERROR(SUMPRODUCT(--(INDEX(Model_Inputs_Ref_Units,,CA$51)=$E131),INDEX(Model_Inputs_Ref_Units,,CA$52)),0)","v":0},{"$f":"IFERROR(SUMPRODUCT(--(INDEX(Model_Inputs_Ref_Units,,CB$51)=$E131),INDEX(Model_Inputs_Ref_Units,,CB$52)),0)","v":0},{"$f":"IFERROR(SUMPRODUCT(--(INDEX(Model_Inputs_Ref_Units,,CC$51)=$E131),INDEX(Model_Inputs_Ref_Units,,CC$52)),0)","v":0},{"$f":"IFERROR(SUMPRODUCT(--(INDEX(Model_Inputs_Ref_Units,,CD$51)=$E131),INDEX(Model_Inputs_Ref_Units,,CD$52)),0)","v":0},{"$f":"IFERROR(SUMPRODUCT(--(INDEX(Model_Inputs_Ref_Units,,CE$51)=$E131),INDEX(Model_Inputs_Ref_Units,,CE$52)),0)","v":0},{"$f":"IFERROR(SUMPRODUCT(--(INDEX(Model_Inputs_Ref_Units,,CF$51)=$E131),INDEX(Model_Inputs_Ref_Units,,CF$52)),0)","v":0},{"$f":"IFERROR(SUMPRODUCT(--(INDEX(Model_Inputs_Ref_Units,,CG$51)=$E131),INDEX(Model_Inputs_Ref_Units,,CG$52)),0)","v":0},{"$f":"IFERROR(SUMPRODUCT(--(INDEX(Model_Inputs_Ref_Units,,CH$51)=$E131),INDEX(Model_Inputs_Ref_Units,,CH$52)),0)","v":0},{"$f":"IFERROR(SUMPRODUCT(--(INDEX(Model_Inputs_Ref_Units,,CI$51)=$E131),INDEX(Model_Inputs_Ref_Units,,CI$52)),0)","v":0},{"$f":"IFERROR(SUMPRODUCT(--(INDEX(Model_Inputs_Ref_Units,,CJ$51)=$E131),INDEX(Model_Inputs_Ref_Units,,CJ$52)),0)","v":0},{"$f":"IFERROR(SUMPRODUCT(--(INDEX(Model_Inputs_Ref_Units,,CK$51)=$E131),INDEX(Model_Inputs_Ref_Units,,CK$52)),0)","v":0},{"$f":"IFERROR(SUMPRODUCT(--(INDEX(Model_Inputs_Ref_Units,,CL$51)=$E131),INDEX(Model_Inputs_Ref_Units,,CL$52)),0)","v":0},{"$f":"IFERROR(SUMPRODUCT(--(INDEX(Model_Inputs_Ref_Units,,CM$51)=$E131),INDEX(Model_Inputs_Ref_Units,,CM$52)),0)","v":0},{"$f":"IFERROR(SUMPRODUCT(--(INDEX(Model_Inputs_Ref_Units,,CN$51)=$E131),INDEX(Model_Inputs_Ref_Units,,CN$52)),0)","v":0},{"$f":"IFERROR(SUMPRODUCT(--(INDEX(Model_Inputs_Ref_Units,,CO$51)=$E131),INDEX(Model_Inputs_Ref_Units,,CO$52)),0)","v":0},{"$f":"IFERROR(SUMPRODUCT(--(INDEX(Model_Inputs_Ref_Units,,CP$51)=$E131),INDEX(Model_Inputs_Ref_Units,,CP$52)),0)","v":0},{"$f":"IFERROR(SUMPRODUCT(--(INDEX(Model_Inputs_Ref_Units,,CQ$51)=$E131),INDEX(Model_Inputs_Ref_Units,,CQ$52)),0)","v":0},{"$f":"IFERROR(SUMPRODUCT(--(INDEX(Model_Inputs_Ref_Units,,CR$51)=$E131),INDEX(Model_Inputs_Ref_Units,,CR$52)),0)","v":0},{"$f":"IFERROR(SUMPRODUCT(--(INDEX(Model_Inputs_Ref_Units,,CS$51)=$E131),INDEX(Model_Inputs_Ref_Units,,CS$52)),0)","v":0},{"$f":"IFERROR(SUMPRODUCT(--(INDEX(Model_Inputs_Ref_Units,,CT$51)=$E131),INDEX(Model_Inputs_Ref_Units,,CT$52)),0)","v":0},{"$f":"IFERROR(SUMPRODUCT(--(INDEX(Model_Inputs_Ref_Units,,CU$51)=$E131),INDEX(Model_Inputs_Ref_Units,,CU$52)),0)","v":0},{"$f":"IFERROR(SUMPRODUCT(--(INDEX(Model_Inputs_Ref_Units,,CV$51)=$E131),INDEX(Model_Inputs_Ref_Units,,CV$52)),0)","v":0},{"$f":"IFERROR(SUMPRODUCT(--(INDEX(Model_Inputs_Ref_Units,,CW$51)=$E131),INDEX(Model_Inputs_Ref_Units,,CW$52)),0)","v":0},{"$f":"IFERROR(SUMPRODUCT(--(INDEX(Model_Inputs_Ref_Units,,CX$51)=$E131),INDEX(Model_Inputs_Ref_Units,,CX$52)),0)","v":0},{"$f":"IFERROR(SUMPRODUCT(--(INDEX(Model_Inputs_Ref_Units,,CY$51)=$E131),INDEX(Model_Inputs_Ref_Units,,CY$52)),0)","v":0},{"$f":"IFERROR(SUMPRODUCT(--(INDEX(Model_Inputs_Ref_Units,,CZ$51)=$E131),INDEX(Model_Inputs_Ref_Units,,CZ$52)),0)","v":0},{"$f":"IFERROR(SUMPRODUCT(--(INDEX(Model_Inputs_Ref_Units,,DA$51)=$E131),INDEX(Model_Inputs_Ref_Units,,DA$52)),0)","v":0},{"$f":"IFERROR(SUMPRODUCT(--(INDEX(Model_Inputs_Ref_Units,,DB$51)=$E131),INDEX(Model_Inputs_Ref_Units,,DB$52)),0)","v":0},{"$f":"IFERROR(SUMPRODUCT(--(INDEX(Model_Inputs_Ref_Units,,DC$51)=$E131),INDEX(Model_Inputs_Ref_Units,,DC$52)),0)","v":0},{"$f":"IFERROR(SUMPRODUCT(--(INDEX(Model_Inputs_Ref_Units,,DD$51)=$E131),INDEX(Model_Inputs_Ref_Units,,DD$52)),0)","v":0},{"$f":"IFERROR(SUMPRODUCT(--(INDEX(Model_Inputs_Ref_Units,,DE$51)=$E131),INDEX(Model_Inputs_Ref_Units,,DE$52)),0)","v":0},{"$f":"IFERROR(SUMPRODUCT(--(INDEX(Model_Inputs_Ref_Units,,DF$51)=$E131),INDEX(Model_Inputs_Ref_Units,,DF$52)),0)","v":0}]
[null,null,{"$error":"#DIV/0!"},null,{"$f":"IFERROR(INDEX(Ref_Data,1,F132),\"\")","v":""},79,0,0,0,0,{"$f":"IFERROR(SUMPRODUCT(--(INDEX(Model_Inputs_Ref_Units,,K$51)=$E132),INDEX(Model_Inputs_Ref_Units,,K$52)),0)","v":0},{"$f":"IFERROR(SUMPRODUCT(--(INDEX(Model_Inputs_Ref_Units,,L$51)=$E132),INDEX(Model_Inputs_Ref_Units,,L$52)),0)","v":0},{"$f":"IFERROR(SUMPRODUCT(--(INDEX(Model_Inputs_Ref_Units,,M$51)=$E132),INDEX(Model_Inputs_Ref_Units,,M$52)),0)","v":0},{"$f":"IFERROR(SUMPRODUCT(--(INDEX(Model_Inputs_Ref_Units,,N$51)=$E132),INDEX(Model_Inputs_Ref_Units,,N$52)),0)","v":0},{"$f":"IFERROR(SUMPRODUCT(--(INDEX(Model_Inputs_Ref_Units,,O$51)=$E132),INDEX(Model_Inputs_Ref_Units,,O$52)),0)","v":0},{"$f":"IFERROR(SUMPRODUCT(--(INDEX(Model_Inputs_Ref_Units,,P$51)=$E132),INDEX(Model_Inputs_Ref_Units,,P$52)),0)","v":0},{"$f":"IFERROR(SUMPRODUCT(--(INDEX(Model_Inputs_Ref_Units,,Q$51)=$E132),INDEX(Model_Inputs_Ref_Units,,Q$52)),0)","v":0},{"$f":"IFERROR(SUMPRODUCT(--(INDEX(Model_Inputs_Ref_Units,,R$51)=$E132),INDEX(Model_Inputs_Ref_Units,,R$52)),0)","v":0},{"$f":"IFERROR(SUMPRODUCT(--(INDEX(Model_Inputs_Ref_Units,,S$51)=$E132),INDEX(Model_Inputs_Ref_Units,,S$52)),0)","v":0},{"$f":"IFERROR(SUMPRODUCT(--(INDEX(Model_Inputs_Ref_Units,,T$51)=$E132),INDEX(Model_Inputs_Ref_Units,,T$52)),0)","v":0},{"$f":"IFERROR(SUMPRODUCT(--(INDEX(Model_Inputs_Ref_Units,,U$51)=$E132),INDEX(Model_Inputs_Ref_Units,,U$52)),0)","v":0},{"$f":"IFERROR(SUMPRODUCT(--(INDEX(Model_Inputs_Ref_Units,,V$51)=$E132),INDEX(Model_Inputs_Ref_Units,,V$52)),0)","v":0},{"$f":"IFERROR(SUMPRODUCT(--(INDEX(Model_Inputs_Ref_Units,,W$51)=$E132),INDEX(Model_Inputs_Ref_Units,,W$52)),0)","v":0},{"$f":"IFERROR(SUMPRODUCT(--(INDEX(Model_Inputs_Ref_Units,,X$51)=$E132),INDEX(Model_Inputs_Ref_Units,,X$52)),0)","v":0},{"$f":"IFERROR(SUMPRODUCT(--(INDEX(Model_Inputs_Ref_Units,,Y$51)=$E132),INDEX(Model_Inputs_Ref_Units,,Y$52)),0)","v":0},{"$f":"IFERROR(SUMPRODUCT(--(INDEX(Model_Inputs_Ref_Units,,Z$51)=$E132),INDEX(Model_Inputs_Ref_Units,,Z$52)),0)","v":0},{"$f":"IFERROR(SUMPRODUCT(--(INDEX(Model_Inputs_Ref_Units,,AA$51)=$E132),INDEX(Model_Inputs_Ref_Units,,AA$52)),0)","v":0},{"$f":"IFERROR(SUMPRODUCT(--(INDEX(Model_Inputs_Ref_Units,,AB$51)=$E132),INDEX(Model_Inputs_Ref_Units,,AB$52)),0)","v":0},{"$f":"IFERROR(SUMPRODUCT(--(INDEX(Model_Inputs_Ref_Units,,AC$51)=$E132),INDEX(Model_Inputs_Ref_Units,,AC$52)),0)","v":0},{"$f":"IFERROR(SUMPRODUCT(--(INDEX(Model_Inputs_Ref_Units,,AD$51)=$E132),INDEX(Model_Inputs_Ref_Units,,AD$52)),0)","v":0},{"$f":"IFERROR(SUMPRODUCT(--(INDEX(Model_Inputs_Ref_Units,,AE$51)=$E132),INDEX(Model_Inputs_Ref_Units,,AE$52)),0)","v":0},{"$f":"IFERROR(SUMPRODUCT(--(INDEX(Model_Inputs_Ref_Units,,AF$51)=$E132),INDEX(Model_Inputs_Ref_Units,,AF$52)),0)","v":0},{"$f":"IFERROR(SUMPRODUCT(--(INDEX(Model_Inputs_Ref_Units,,AG$51)=$E132),INDEX(Model_Inputs_Ref_Units,,AG$52)),0)","v":0},{"$f":"IFERROR(SUMPRODUCT(--(INDEX(Model_Inputs_Ref_Units,,AH$51)=$E132),INDEX(Model_Inputs_Ref_Units,,AH$52)),0)","v":0},{"$f":"IFERROR(SUMPRODUCT(--(INDEX(Model_Inputs_Ref_Units,,AI$51)=$E132),INDEX(Model_Inputs_Ref_Units,,AI$52)),0)","v":0},{"$f":"IFERROR(SUMPRODUCT(--(INDEX(Model_Inputs_Ref_Units,,AJ$51)=$E132),INDEX(Model_Inputs_Ref_Units,,AJ$52)),0)","v":0},{"$f":"IFERROR(SUMPRODUCT(--(INDEX(Model_Inputs_Ref_Units,,AK$51)=$E132),INDEX(Model_Inputs_Ref_Units,,AK$52)),0)","v":0},{"$f":"IFERROR(SUMPRODUCT(--(INDEX(Model_Inputs_Ref_Units,,AL$51)=$E132),INDEX(Model_Inputs_Ref_Units,,AL$52)),0)","v":0},{"$f":"IFERROR(SUMPRODUCT(--(INDEX(Model_Inputs_Ref_Units,,AM$51)=$E132),INDEX(Model_Inputs_Ref_Units,,AM$52)),0)","v":0},{"$f":"IFERROR(SUMPRODUCT(--(INDEX(Model_Inputs_Ref_Units,,AN$51)=$E132),INDEX(Model_Inputs_Ref_Units,,AN$52)),0)","v":0},{"$f":"IFERROR(SUMPRODUCT(--(INDEX(Model_Inputs_Ref_Units,,AO$51)=$E132),INDEX(Model_Inputs_Ref_Units,,AO$52)),0)","v":0},{"$f":"IFERROR(SUMPRODUCT(--(INDEX(Model_Inputs_Ref_Units,,AP$51)=$E132),INDEX(Model_Inputs_Ref_Units,,AP$52)),0)","v":0},{"$f":"IFERROR(SUMPRODUCT(--(INDEX(Model_Inputs_Ref_Units,,AQ$51)=$E132),INDEX(Model_Inputs_Ref_Units,,AQ$52)),0)","v":0},{"$f":"IFERROR(SUMPRODUCT(--(INDEX(Model_Inputs_Ref_Units,,AR$51)=$E132),INDEX(Model_Inputs_Ref_Units,,AR$52)),0)","v":0},{"$f":"IFERROR(SUMPRODUCT(--(INDEX(Model_Inputs_Ref_Units,,AS$51)=$E132),INDEX(Model_Inputs_Ref_Units,,AS$52)),0)","v":0},{"$f":"IFERROR(SUMPRODUCT(--(INDEX(Model_Inputs_Ref_Units,,AT$51)=$E132),INDEX(Model_Inputs_Ref_Units,,AT$52)),0)","v":0},{"$f":"IFERROR(SUMPRODUCT(--(INDEX(Model_Inputs_Ref_Units,,AU$51)=$E132),INDEX(Model_Inputs_Ref_Units,,AU$52)),0)","v":0},{"$f":"IFERROR(SUMPRODUCT(--(INDEX(Model_Inputs_Ref_Units,,AV$51)=$E132),INDEX(Model_Inputs_Ref_Units,,AV$52)),0)","v":0},{"$f":"IFERROR(SUMPRODUCT(--(INDEX(Model_Inputs_Ref_Units,,AW$51)=$E132),INDEX(Model_Inputs_Ref_Units,,AW$52)),0)","v":0},{"$f":"IFERROR(SUMPRODUCT(--(INDEX(Model_Inputs_Ref_Units,,AX$51)=$E132),INDEX(Model_Inputs_Ref_Units,,AX$52)),0)","v":0},{"$f":"IFERROR(SUMPRODUCT(--(INDEX(Model_Inputs_Ref_Units,,AY$51)=$E132),INDEX(Model_Inputs_Ref_Units,,AY$52)),0)","v":0},{"$f":"IFERROR(SUMPRODUCT(--(INDEX(Model_Inputs_Ref_Units,,AZ$51)=$E132),INDEX(Model_Inputs_Ref_Units,,AZ$52)),0)","v":0},{"$f":"IFERROR(SUMPRODUCT(--(INDEX(Model_Inputs_Ref_Units,,BA$51)=$E132),INDEX(Model_Inputs_Ref_Units,,BA$52)),0)","v":0},{"$f":"IFERROR(SUMPRODUCT(--(INDEX(Model_Inputs_Ref_Units,,BB$51)=$E132),INDEX(Model_Inputs_Ref_Units,,BB$52)),0)","v":0},{"$f":"IFERROR(SUMPRODUCT(--(INDEX(Model_Inputs_Ref_Units,,BC$51)=$E132),INDEX(Model_Inputs_Ref_Units,,BC$52)),0)","v":0},{"$f":"IFERROR(SUMPRODUCT(--(INDEX(Model_Inputs_Ref_Units,,BD$51)=$E132),INDEX(Model_Inputs_Ref_Units,,BD$52)),0)","v":0},{"$f":"IFERROR(SUMPRODUCT(--(INDEX(Model_Inputs_Ref_Units,,BE$51)=$E132),INDEX(Model_Inputs_Ref_Units,,BE$52)),0)","v":0},{"$f":"IFERROR(SUMPRODUCT(--(INDEX(Model_Inputs_Ref_Units,,BF$51)=$E132),INDEX(Model_Inputs_Ref_Units,,BF$52)),0)","v":0},{"$f":"IFERROR(SUMPRODUCT(--(INDEX(Model_Inputs_Ref_Units,,BG$51)=$E132),INDEX(Model_Inputs_Ref_Units,,BG$52)),0)","v":0},{"$f":"IFERROR(SUMPRODUCT(--(INDEX(Model_Inputs_Ref_Units,,BH$51)=$E132),INDEX(Model_Inputs_Ref_Units,,BH$52)),0)","v":0},{"$f":"IFERROR(SUMPRODUCT(--(INDEX(Model_Inputs_Ref_Units,,BI$51)=$E132),INDEX(Model_Inputs_Ref_Units,,BI$52)),0)","v":0},{"$f":"IFERROR(SUMPRODUCT(--(INDEX(Model_Inputs_Ref_Units,,BJ$51)=$E132),INDEX(Model_Inputs_Ref_Units,,BJ$52)),0)","v":0},{"$f":"IFERROR(SUMPRODUCT(--(INDEX(Model_Inputs_Ref_Units,,BK$51)=$E132),INDEX(Model_Inputs_Ref_Units,,BK$52)),0)","v":0},{"$f":"IFERROR(SUMPRODUCT(--(INDEX(Model_Inputs_Ref_Units,,BL$51)=$E132),INDEX(Model_Inputs_Ref_Units,,BL$52)),0)","v":0},{"$f":"IFERROR(SUMPRODUCT(--(INDEX(Model_Inputs_Ref_Units,,BM$51)=$E132),INDEX(Model_Inputs_Ref_Units,,BM$52)),0)","v":0},{"$f":"IFERROR(SUMPRODUCT(--(INDEX(Model_Inputs_Ref_Units,,BN$51)=$E132),INDEX(Model_Inputs_Ref_Units,,BN$52)),0)","v":0},{"$f":"IFERROR(SUMPRODUCT(--(INDEX(Model_Inputs_Ref_Units,,BO$51)=$E132),INDEX(Model_Inputs_Ref_Units,,BO$52)),0)","v":0},{"$f":"IFERROR(SUMPRODUCT(--(INDEX(Model_Inputs_Ref_Units,,BP$51)=$E132),INDEX(Model_Inputs_Ref_Units,,BP$52)),0)","v":0},{"$f":"IFERROR(SUMPRODUCT(--(INDEX(Model_Inputs_Ref_Units,,BQ$51)=$E132),INDEX(Model_Inputs_Ref_Units,,BQ$52)),0)","v":0},{"$f":"IFERROR(SUMPRODUCT(--(INDEX(Model_Inputs_Ref_Units,,BR$51)=$E132),INDEX(Model_Inputs_Ref_Units,,BR$52)),0)","v":0},{"$f":"IFERROR(SUMPRODUCT(--(INDEX(Model_Inputs_Ref_Units,,BS$51)=$E132),INDEX(Model_Inputs_Ref_Units,,BS$52)),0)","v":0},{"$f":"IFERROR(SUMPRODUCT(--(INDEX(Model_Inputs_Ref_Units,,BT$51)=$E132),INDEX(Model_Inputs_Ref_Units,,BT$52)),0)","v":0},{"$f":"IFERROR(SUMPRODUCT(--(INDEX(Model_Inputs_Ref_Units,,BU$51)=$E132),INDEX(Model_Inputs_Ref_Units,,BU$52)),0)","v":0},{"$f":"IFERROR(SUMPRODUCT(--(INDEX(Model_Inputs_Ref_Units,,BV$51)=$E132),INDEX(Model_Inputs_Ref_Units,,BV$52)),0)","v":0},{"$f":"IFERROR(SUMPRODUCT(--(INDEX(Model_Inputs_Ref_Units,,BW$51)=$E132),INDEX(Model_Inputs_Ref_Units,,BW$52)),0)","v":0},{"$f":"IFERROR(SUMPRODUCT(--(INDEX(Model_Inputs_Ref_Units,,BX$51)=$E132),INDEX(Model_Inputs_Ref_Units,,BX$52)),0)","v":0},{"$f":"IFERROR(SUMPRODUCT(--(INDEX(Model_Inputs_Ref_Units,,BY$51)=$E132),INDEX(Model_Inputs_Ref_Units,,BY$52)),0)","v":0},{"$f":"IFERROR(SUMPRODUCT(--(INDEX(Model_Inputs_Ref_Units,,BZ$51)=$E132),INDEX(Model_Inputs_Ref_Units,,BZ$52)),0)","v":0},{"$f":"IFERROR(SUMPRODUCT(--(INDEX(Model_Inputs_Ref_Units,,CA$51)=$E132),INDEX(Model_Inputs_Ref_Units,,CA$52)),0)","v":0},{"$f":"IFERROR(SUMPRODUCT(--(INDEX(Model_Inputs_Ref_Units,,CB$51)=$E132),INDEX(Model_Inputs_Ref_Units,,CB$52)),0)","v":0},{"$f":"IFERROR(SUMPRODUCT(--(INDEX(Model_Inputs_Ref_Units,,CC$51)=$E132),INDEX(Model_Inputs_Ref_Units,,CC$52)),0)","v":0},{"$f":"IFERROR(SUMPRODUCT(--(INDEX(Model_Inputs_Ref_Units,,CD$51)=$E132),INDEX(Model_Inputs_Ref_Units,,CD$52)),0)","v":0},{"$f":"IFERROR(SUMPRODUCT(--(INDEX(Model_Inputs_Ref_Units,,CE$51)=$E132),INDEX(Model_Inputs_Ref_Units,,CE$52)),0)","v":0},{"$f":"IFERROR(SUMPRODUCT(--(INDEX(Model_Inputs_Ref_Units,,CF$51)=$E132),INDEX(Model_Inputs_Ref_Units,,CF$52)),0)","v":0},{"$f":"IFERROR(SUMPRODUCT(--(INDEX(Model_Inputs_Ref_Units,,CG$51)=$E132),INDEX(Model_Inputs_Ref_Units,,CG$52)),0)","v":0},{"$f":"IFERROR(SUMPRODUCT(--(INDEX(Model_Inputs_Ref_Units,,CH$51)=$E132),INDEX(Model_Inputs_Ref_Units,,CH$52)),0)","v":0},{"$f":"IFERROR(SUMPRODUCT(--(INDEX(Model_Inputs_Ref_Units,,CI$51)=$E132),INDEX(Model_Inputs_Ref_Units,,CI$52)),0)","v":0},{"$f":"IFERROR(SUMPRODUCT(--(INDEX(Model_Inputs_Ref_Units,,CJ$51)=$E132),INDEX(Model_Inputs_Ref_Units,,CJ$52)),0)","v":0},{"$f":"IFERROR(SUMPRODUCT(--(INDEX(Model_Inputs_Ref_Units,,CK$51)=$E132),INDEX(Model_Inputs_Ref_Units,,CK$52)),0)","v":0},{"$f":"IFERROR(SUMPRODUCT(--(INDEX(Model_Inputs_Ref_Units,,CL$51)=$E132),INDEX(Model_Inputs_Ref_Units,,CL$52)),0)","v":0},{"$f":"IFERROR(SUMPRODUCT(--(INDEX(Model_Inputs_Ref_Units,,CM$51)=$E132),INDEX(Model_Inputs_Ref_Units,,CM$52)),0)","v":0},{"$f":"IFERROR(SUMPRODUCT(--(INDEX(Model_Inputs_Ref_Units,,CN$51)=$E132),INDEX(Model_Inputs_Ref_Units,,CN$52)),0)","v":0},{"$f":"IFERROR(SUMPRODUCT(--(INDEX(Model_Inputs_Ref_Units,,CO$51)=$E132),INDEX(Model_Inputs_Ref_Units,,CO$52)),0)","v":0},{"$f":"IFERROR(SUMPRODUCT(--(INDEX(Model_Inputs_Ref_Units,,CP$51)=$E132),INDEX(Model_Inputs_Ref_Units,,CP$52)),0)","v":0},{"$f":"IFERROR(SUMPRODUCT(--(INDEX(Model_Inputs_Ref_Units,,CQ$51)=$E132),INDEX(Model_Inputs_Ref_Units,,CQ$52)),0)","v":0},{"$f":"IFERROR(SUMPRODUCT(--(INDEX(Model_Inputs_Ref_Units,,CR$51)=$E132),INDEX(Model_Inputs_Ref_Units,,CR$52)),0)","v":0},{"$f":"IFERROR(SUMPRODUCT(--(INDEX(Model_Inputs_Ref_Units,,CS$51)=$E132),INDEX(Model_Inputs_Ref_Units,,CS$52)),0)","v":0},{"$f":"IFERROR(SUMPRODUCT(--(INDEX(Model_Inputs_Ref_Units,,CT$51)=$E132),INDEX(Model_Inputs_Ref_Units,,CT$52)),0)","v":0},{"$f":"IFERROR(SUMPRODUCT(--(INDEX(Model_Inputs_Ref_Units,,CU$51)=$E132),INDEX(Model_Inputs_Ref_Units,,CU$52)),0)","v":0},{"$f":"IFERROR(SUMPRODUCT(--(INDEX(Model_Inputs_Ref_Units,,CV$51)=$E132),INDEX(Model_Inputs_Ref_Units,,CV$52)),0)","v":0},{"$f":"IFERROR(SUMPRODUCT(--(INDEX(Model_Inputs_Ref_Units,,CW$51)=$E132),INDEX(Model_Inputs_Ref_Units,,CW$52)),0)","v":0},{"$f":"IFERROR(SUMPRODUCT(--(INDEX(Model_Inputs_Ref_Units,,CX$51)=$E132),INDEX(Model_Inputs_Ref_Units,,CX$52)),0)","v":0},{"$f":"IFERROR(SUMPRODUCT(--(INDEX(Model_Inputs_Ref_Units,,CY$51)=$E132),INDEX(Model_Inputs_Ref_Units,,CY$52)),0)","v":0},{"$f":"IFERROR(SUMPRODUCT(--(INDEX(Model_Inputs_Ref_Units,,CZ$51)=$E132),INDEX(Model_Inputs_Ref_Units,,CZ$52)),0)","v":0},{"$f":"IFERROR(SUMPRODUCT(--(INDEX(Model_Inputs_Ref_Units,,DA$51)=$E132),INDEX(Model_Inputs_Ref_Units,,DA$52)),0)","v":0},{"$f":"IFERROR(SUMPRODUCT(--(INDEX(Model_Inputs_Ref_Units,,DB$51)=$E132),INDEX(Model_Inputs_Ref_Units,,DB$52)),0)","v":0},{"$f":"IFERROR(SUMPRODUCT(--(INDEX(Model_Inputs_Ref_Units,,DC$51)=$E132),INDEX(Model_Inputs_Ref_Units,,DC$52)),0)","v":0},{"$f":"IFERROR(SUMPRODUCT(--(INDEX(Model_Inputs_Ref_Units,,DD$51)=$E132),INDEX(Model_Inputs_Ref_Units,,DD$52)),0)","v":0},{"$f":"IFERROR(SUMPRODUCT(--(INDEX(Model_Inputs_Ref_Units,,DE$51)=$E132),INDEX(Model_Inputs_Ref_Units,,DE$52)),0)","v":0},{"$f":"IFERROR(SUMPRODUCT(--(INDEX(Model_Inputs_Ref_Units,,DF$51)=$E132),INDEX(Model_Inputs_Ref_Units,,DF$52)),0)","v":0}]
[null,null,{"$error":"#DIV/0!"},null,{"$f":"IFERROR(INDEX(Ref_Data,1,F133),\"\")","v":""},80,0,0,0,0,{"$f":"IFERROR(SUMPRODUCT(--(INDEX(Model_Inputs_Ref_Units,,K$51)=$E133),INDEX(Model_Inputs_Ref_Units,,K$52)),0)","v":0},{"$f":"IFERROR(SUMPRODUCT(--(INDEX(Model_Inputs_Ref_Units,,L$51)=$E133),INDEX(Model_Inputs_Ref_Units,,L$52)),0)","v":0},{"$f":"IFERROR(SUMPRODUCT(--(INDEX(Model_Inputs_Ref_Units,,M$51)=$E133),INDEX(Model_Inputs_Ref_Units,,M$52)),0)","v":0},{"$f":"IFERROR(SUMPRODUCT(--(INDEX(Model_Inputs_Ref_Units,,N$51)=$E133),INDEX(Model_Inputs_Ref_Units,,N$52)),0)","v":0},{"$f":"IFERROR(SUMPRODUCT(--(INDEX(Model_Inputs_Ref_Units,,O$51)=$E133),INDEX(Model_Inputs_Ref_Units,,O$52)),0)","v":0},{"$f":"IFERROR(SUMPRODUCT(--(INDEX(Model_Inputs_Ref_Units,,P$51)=$E133),INDEX(Model_Inputs_Ref_Units,,P$52)),0)","v":0},{"$f":"IFERROR(SUMPRODUCT(--(INDEX(Model_Inputs_Ref_Units,,Q$51)=$E133),INDEX(Model_Inputs_Ref_Units,,Q$52)),0)","v":0},{"$f":"IFERROR(SUMPRODUCT(--(INDEX(Model_Inputs_Ref_Units,,R$51)=$E133),INDEX(Model_Inputs_Ref_Units,,R$52)),0)","v":0},{"$f":"IFERROR(SUMPRODUCT(--(INDEX(Model_Inputs_Ref_Units,,S$51)=$E133),INDEX(Model_Inputs_Ref_Units,,S$52)),0)","v":0},{"$f":"IFERROR(SUMPRODUCT(--(INDEX(Model_Inputs_Ref_Units,,T$51)=$E133),INDEX(Model_Inputs_Ref_Units,,T$52)),0)","v":0},{"$f":"IFERROR(SUMPRODUCT(--(INDEX(Model_Inputs_Ref_Units,,U$51)=$E133),INDEX(Model_Inputs_Ref_Units,,U$52)),0)","v":0},{"$f":"IFERROR(SUMPRODUCT(--(INDEX(Model_Inputs_Ref_Units,,V$51)=$E133),INDEX(Model_Inputs_Ref_Units,,V$52)),0)","v":0},{"$f":"IFERROR(SUMPRODUCT(--(INDEX(Model_Inputs_Ref_Units,,W$51)=$E133),INDEX(Model_Inputs_Ref_Units,,W$52)),0)","v":0},{"$f":"IFERROR(SUMPRODUCT(--(INDEX(Model_Inputs_Ref_Units,,X$51)=$E133),INDEX(Model_Inputs_Ref_Units,,X$52)),0)","v":0},{"$f":"IFERROR(SUMPRODUCT(--(INDEX(Model_Inputs_Ref_Units,,Y$51)=$E133),INDEX(Model_Inputs_Ref_Units,,Y$52)),0)","v":0},{"$f":"IFERROR(SUMPRODUCT(--(INDEX(Model_Inputs_Ref_Units,,Z$51)=$E133),INDEX(Model_Inputs_Ref_Units,,Z$52)),0)","v":0},{"$f":"IFERROR(SUMPRODUCT(--(INDEX(Model_Inputs_Ref_Units,,AA$51)=$E133),INDEX(Model_Inputs_Ref_Units,,AA$52)),0)","v":0},{"$f":"IFERROR(SUMPRODUCT(--(INDEX(Model_Inputs_Ref_Units,,AB$51)=$E133),INDEX(Model_Inputs_Ref_Units,,AB$52)),0)","v":0},{"$f":"IFERROR(SUMPRODUCT(--(INDEX(Model_Inputs_Ref_Units,,AC$51)=$E133),INDEX(Model_Inputs_Ref_Units,,AC$52)),0)","v":0},{"$f":"IFERROR(SUMPRODUCT(--(INDEX(Model_Inputs_Ref_Units,,AD$51)=$E133),INDEX(Model_Inputs_Ref_Units,,AD$52)),0)","v":0},{"$f":"IFERROR(SUMPRODUCT(--(INDEX(Model_Inputs_Ref_Units,,AE$51)=$E133),INDEX(Model_Inputs_Ref_Units,,AE$52)),0)","v":0},{"$f":"IFERROR(SUMPRODUCT(--(INDEX(Model_Inputs_Ref_Units,,AF$51)=$E133),INDEX(Model_Inputs_Ref_Units,,AF$52)),0)","v":0},{"$f":"IFERROR(SUMPRODUCT(--(INDEX(Model_Inputs_Ref_Units,,AG$51)=$E133),INDEX(Model_Inputs_Ref_Units,,AG$52)),0)","v":0},{"$f":"IFERROR(SUMPRODUCT(--(INDEX(Model_Inputs_Ref_Units,,AH$51)=$E133),INDEX(Model_Inputs_Ref_Units,,AH$52)),0)","v":0},{"$f":"IFERROR(SUMPRODUCT(--(INDEX(Model_Inputs_Ref_Units,,AI$51)=$E133),INDEX(Model_Inputs_Ref_Units,,AI$52)),0)","v":0},{"$f":"IFERROR(SUMPRODUCT(--(INDEX(Model_Inputs_Ref_Units,,AJ$51)=$E133),INDEX(Model_Inputs_Ref_Units,,AJ$52)),0)","v":0},{"$f":"IFERROR(SUMPRODUCT(--(INDEX(Model_Inputs_Ref_Units,,AK$51)=$E133),INDEX(Model_Inputs_Ref_Units,,AK$52)),0)","v":0},{"$f":"IFERROR(SUMPRODUCT(--(INDEX(Model_Inputs_Ref_Units,,AL$51)=$E133),INDEX(Model_Inputs_Ref_Units,,AL$52)),0)","v":0},{"$f":"IFERROR(SUMPRODUCT(--(INDEX(Model_Inputs_Ref_Units,,AM$51)=$E133),INDEX(Model_Inputs_Ref_Units,,AM$52)),0)","v":0},{"$f":"IFERROR(SUMPRODUCT(--(INDEX(Model_Inputs_Ref_Units,,AN$51)=$E133),INDEX(Model_Inputs_Ref_Units,,AN$52)),0)","v":0},{"$f":"IFERROR(SUMPRODUCT(--(INDEX(Model_Inputs_Ref_Units,,AO$51)=$E133),INDEX(Model_Inputs_Ref_Units,,AO$52)),0)","v":0},{"$f":"IFERROR(SUMPRODUCT(--(INDEX(Model_Inputs_Ref_Units,,AP$51)=$E133),INDEX(Model_Inputs_Ref_Units,,AP$52)),0)","v":0},{"$f":"IFERROR(SUMPRODUCT(--(INDEX(Model_Inputs_Ref_Units,,AQ$51)=$E133),INDEX(Model_Inputs_Ref_Units,,AQ$52)),0)","v":0},{"$f":"IFERROR(SUMPRODUCT(--(INDEX(Model_Inputs_Ref_Units,,AR$51)=$E133),INDEX(Model_Inputs_Ref_Units,,AR$52)),0)","v":0},{"$f":"IFERROR(SUMPRODUCT(--(INDEX(Model_Inputs_Ref_Units,,AS$51)=$E133),INDEX(Model_Inputs_Ref_Units,,AS$52)),0)","v":0},{"$f":"IFERROR(SUMPRODUCT(--(INDEX(Model_Inputs_Ref_Units,,AT$51)=$E133),INDEX(Model_Inputs_Ref_Units,,AT$52)),0)","v":0},{"$f":"IFERROR(SUMPRODUCT(--(INDEX(Model_Inputs_Ref_Units,,AU$51)=$E133),INDEX(Model_Inputs_Ref_Units,,AU$52)),0)","v":0},{"$f":"IFERROR(SUMPRODUCT(--(INDEX(Model_Inputs_Ref_Units,,AV$51)=$E133),INDEX(Model_Inputs_Ref_Units,,AV$52)),0)","v":0},{"$f":"IFERROR(SUMPRODUCT(--(INDEX(Model_Inputs_Ref_Units,,AW$51)=$E133),INDEX(Model_Inputs_Ref_Units,,AW$52)),0)","v":0},{"$f":"IFERROR(SUMPRODUCT(--(INDEX(Model_Inputs_Ref_Units,,AX$51)=$E133),INDEX(Model_Inputs_Ref_Units,,AX$52)),0)","v":0},{"$f":"IFERROR(SUMPRODUCT(--(INDEX(Model_Inputs_Ref_Units,,AY$51)=$E133),INDEX(Model_Inputs_Ref_Units,,AY$52)),0)","v":0},{"$f":"IFERROR(SUMPRODUCT(--(INDEX(Model_Inputs_Ref_Units,,AZ$51)=$E133),INDEX(Model_Inputs_Ref_Units,,AZ$52)),0)","v":0},{"$f":"IFERROR(SUMPRODUCT(--(INDEX(Model_Inputs_Ref_Units,,BA$51)=$E133),INDEX(Model_Inputs_Ref_Units,,BA$52)),0)","v":0},{"$f":"IFERROR(SUMPRODUCT(--(INDEX(Model_Inputs_Ref_Units,,BB$51)=$E133),INDEX(Model_Inputs_Ref_Units,,BB$52)),0)","v":0},{"$f":"IFERROR(SUMPRODUCT(--(INDEX(Model_Inputs_Ref_Units,,BC$51)=$E133),INDEX(Model_Inputs_Ref_Units,,BC$52)),0)","v":0},{"$f":"IFERROR(SUMPRODUCT(--(INDEX(Model_Inputs_Ref_Units,,BD$51)=$E133),INDEX(Model_Inputs_Ref_Units,,BD$52)),0)","v":0},{"$f":"IFERROR(SUMPRODUCT(--(INDEX(Model_Inputs_Ref_Units,,BE$51)=$E133),INDEX(Model_Inputs_Ref_Units,,BE$52)),0)","v":0},{"$f":"IFERROR(SUMPRODUCT(--(INDEX(Model_Inputs_Ref_Units,,BF$51)=$E133),INDEX(Model_Inputs_Ref_Units,,BF$52)),0)","v":0},{"$f":"IFERROR(SUMPRODUCT(--(INDEX(Model_Inputs_Ref_Units,,BG$51)=$E133),INDEX(Model_Inputs_Ref_Units,,BG$52)),0)","v":0},{"$f":"IFERROR(SUMPRODUCT(--(INDEX(Model_Inputs_Ref_Units,,BH$51)=$E133),INDEX(Model_Inputs_Ref_Units,,BH$52)),0)","v":0},{"$f":"IFERROR(SUMPRODUCT(--(INDEX(Model_Inputs_Ref_Units,,BI$51)=$E133),INDEX(Model_Inputs_Ref_Units,,BI$52)),0)","v":0},{"$f":"IFERROR(SUMPRODUCT(--(INDEX(Model_Inputs_Ref_Units,,BJ$51)=$E133),INDEX(Model_Inputs_Ref_Units,,BJ$52)),0)","v":0},{"$f":"IFERROR(SUMPRODUCT(--(INDEX(Model_Inputs_Ref_Units,,BK$51)=$E133),INDEX(Model_Inputs_Ref_Units,,BK$52)),0)","v":0},{"$f":"IFERROR(SUMPRODUCT(--(INDEX(Model_Inputs_Ref_Units,,BL$51)=$E133),INDEX(Model_Inputs_Ref_Units,,BL$52)),0)","v":0},{"$f":"IFERROR(SUMPRODUCT(--(INDEX(Model_Inputs_Ref_Units,,BM$51)=$E133),INDEX(Model_Inputs_Ref_Units,,BM$52)),0)","v":0},{"$f":"IFERROR(SUMPRODUCT(--(INDEX(Model_Inputs_Ref_Units,,BN$51)=$E133),INDEX(Model_Inputs_Ref_Units,,BN$52)),0)","v":0},{"$f":"IFERROR(SUMPRODUCT(--(INDEX(Model_Inputs_Ref_Units,,BO$51)=$E133),INDEX(Model_Inputs_Ref_Units,,BO$52)),0)","v":0},{"$f":"IFERROR(SUMPRODUCT(--(INDEX(Model_Inputs_Ref_Units,,BP$51)=$E133),INDEX(Model_Inputs_Ref_Units,,BP$52)),0)","v":0},{"$f":"IFERROR(SUMPRODUCT(--(INDEX(Model_Inputs_Ref_Units,,BQ$51)=$E133),INDEX(Model_Inputs_Ref_Units,,BQ$52)),0)","v":0},{"$f":"IFERROR(SUMPRODUCT(--(INDEX(Model_Inputs_Ref_Units,,BR$51)=$E133),INDEX(Model_Inputs_Ref_Units,,BR$52)),0)","v":0},{"$f":"IFERROR(SUMPRODUCT(--(INDEX(Model_Inputs_Ref_Units,,BS$51)=$E133),INDEX(Model_Inputs_Ref_Units,,BS$52)),0)","v":0},{"$f":"IFERROR(SUMPRODUCT(--(INDEX(Model_Inputs_Ref_Units,,BT$51)=$E133),INDEX(Model_Inputs_Ref_Units,,BT$52)),0)","v":0},{"$f":"IFERROR(SUMPRODUCT(--(INDEX(Model_Inputs_Ref_Units,,BU$51)=$E133),INDEX(Model_Inputs_Ref_Units,,BU$52)),0)","v":0},{"$f":"IFERROR(SUMPRODUCT(--(INDEX(Model_Inputs_Ref_Units,,BV$51)=$E133),INDEX(Model_Inputs_Ref_Units,,BV$52)),0)","v":0},{"$f":"IFERROR(SUMPRODUCT(--(INDEX(Model_Inputs_Ref_Units,,BW$51)=$E133),INDEX(Model_Inputs_Ref_Units,,BW$52)),0)","v":0},{"$f":"IFERROR(SUMPRODUCT(--(INDEX(Model_Inputs_Ref_Units,,BX$51)=$E133),INDEX(Model_Inputs_Ref_Units,,BX$52)),0)","v":0},{"$f":"IFERROR(SUMPRODUCT(--(INDEX(Model_Inputs_Ref_Units,,BY$51)=$E133),INDEX(Model_Inputs_Ref_Units,,BY$52)),0)","v":0},{"$f":"IFERROR(SUMPRODUCT(--(INDEX(Model_Inputs_Ref_Units,,BZ$51)=$E133),INDEX(Model_Inputs_Ref_Units,,BZ$52)),0)","v":0},{"$f":"IFERROR(SUMPRODUCT(--(INDEX(Model_Inputs_Ref_Units,,CA$51)=$E133),INDEX(Model_Inputs_Ref_Units,,CA$52)),0)","v":0},{"$f":"IFERROR(SUMPRODUCT(--(INDEX(Model_Inputs_Ref_Units,,CB$51)=$E133),INDEX(Model_Inputs_Ref_Units,,CB$52)),0)","v":0},{"$f":"IFERROR(SUMPRODUCT(--(INDEX(Model_Inputs_Ref_Units,,CC$51)=$E133),INDEX(Model_Inputs_Ref_Units,,CC$52)),0)","v":0},{"$f":"IFERROR(SUMPRODUCT(--(INDEX(Model_Inputs_Ref_Units,,CD$51)=$E133),INDEX(Model_Inputs_Ref_Units,,CD$52)),0)","v":0},{"$f":"IFERROR(SUMPRODUCT(--(INDEX(Model_Inputs_Ref_Units,,CE$51)=$E133),INDEX(Model_Inputs_Ref_Units,,CE$52)),0)","v":0},{"$f":"IFERROR(SUMPRODUCT(--(INDEX(Model_Inputs_Ref_Units,,CF$51)=$E133),INDEX(Model_Inputs_Ref_Units,,CF$52)),0)","v":0},{"$f":"IFERROR(SUMPRODUCT(--(INDEX(Model_Inputs_Ref_Units,,CG$51)=$E133),INDEX(Model_Inputs_Ref_Units,,CG$52)),0)","v":0},{"$f":"IFERROR(SUMPRODUCT(--(INDEX(Model_Inputs_Ref_Units,,CH$51)=$E133),INDEX(Model_Inputs_Ref_Units,,CH$52)),0)","v":0},{"$f":"IFERROR(SUMPRODUCT(--(INDEX(Model_Inputs_Ref_Units,,CI$51)=$E133),INDEX(Model_Inputs_Ref_Units,,CI$52)),0)","v":0},{"$f":"IFERROR(SUMPRODUCT(--(INDEX(Model_Inputs_Ref_Units,,CJ$51)=$E133),INDEX(Model_Inputs_Ref_Units,,CJ$52)),0)","v":0},{"$f":"IFERROR(SUMPRODUCT(--(INDEX(Model_Inputs_Ref_Units,,CK$51)=$E133),INDEX(Model_Inputs_Ref_Units,,CK$52)),0)","v":0},{"$f":"IFERROR(SUMPRODUCT(--(INDEX(Model_Inputs_Ref_Units,,CL$51)=$E133),INDEX(Model_Inputs_Ref_Units,,CL$52)),0)","v":0},{"$f":"IFERROR(SUMPRODUCT(--(INDEX(Model_Inputs_Ref_Units,,CM$51)=$E133),INDEX(Model_Inputs_Ref_Units,,CM$52)),0)","v":0},{"$f":"IFERROR(SUMPRODUCT(--(INDEX(Model_Inputs_Ref_Units,,CN$51)=$E133),INDEX(Model_Inputs_Ref_Units,,CN$52)),0)","v":0},{"$f":"IFERROR(SUMPRODUCT(--(INDEX(Model_Inputs_Ref_Units,,CO$51)=$E133),INDEX(Model_Inputs_Ref_Units,,CO$52)),0)","v":0},{"$f":"IFERROR(SUMPRODUCT(--(INDEX(Model_Inputs_Ref_Units,,CP$51)=$E133),INDEX(Model_Inputs_Ref_Units,,CP$52)),0)","v":0},{"$f":"IFERROR(SUMPRODUCT(--(INDEX(Model_Inputs_Ref_Units,,CQ$51)=$E133),INDEX(Model_Inputs_Ref_Units,,CQ$52)),0)","v":0},{"$f":"IFERROR(SUMPRODUCT(--(INDEX(Model_Inputs_Ref_Units,,CR$51)=$E133),INDEX(Model_Inputs_Ref_Units,,CR$52)),0)","v":0},{"$f":"IFERROR(SUMPRODUCT(--(INDEX(Model_Inputs_Ref_Units,,CS$51)=$E133),INDEX(Model_Inputs_Ref_Units,,CS$52)),0)","v":0},{"$f":"IFERROR(SUMPRODUCT(--(INDEX(Model_Inputs_Ref_Units,,CT$51)=$E133),INDEX(Model_Inputs_Ref_Units,,CT$52)),0)","v":0},{"$f":"IFERROR(SUMPRODUCT(--(INDEX(Model_Inputs_Ref_Units,,CU$51)=$E133),INDEX(Model_Inputs_Ref_Units,,CU$52)),0)","v":0},{"$f":"IFERROR(SUMPRODUCT(--(INDEX(Model_Inputs_Ref_Units,,CV$51)=$E133),INDEX(Model_Inputs_Ref_Units,,CV$52)),0)","v":0},{"$f":"IFERROR(SUMPRODUCT(--(INDEX(Model_Inputs_Ref_Units,,CW$51)=$E133),INDEX(Model_Inputs_Ref_Units,,CW$52)),0)","v":0},{"$f":"IFERROR(SUMPRODUCT(--(INDEX(Model_Inputs_Ref_Units,,CX$51)=$E133),INDEX(Model_Inputs_Ref_Units,,CX$52)),0)","v":0},{"$f":"IFERROR(SUMPRODUCT(--(INDEX(Model_Inputs_Ref_Units,,CY$51)=$E133),INDEX(Model_Inputs_Ref_Units,,CY$52)),0)","v":0},{"$f":"IFERROR(SUMPRODUCT(--(INDEX(Model_Inputs_Ref_Units,,CZ$51)=$E133),INDEX(Model_Inputs_Ref_Units,,CZ$52)),0)","v":0},{"$f":"IFERROR(SUMPRODUCT(--(INDEX(Model_Inputs_Ref_Units,,DA$51)=$E133),INDEX(Model_Inputs_Ref_Units,,DA$52)),0)","v":0},{"$f":"IFERROR(SUMPRODUCT(--(INDEX(Model_Inputs_Ref_Units,,DB$51)=$E133),INDEX(Model_Inputs_Ref_Units,,DB$52)),0)","v":0},{"$f":"IFERROR(SUMPRODUCT(--(INDEX(Model_Inputs_Ref_Units,,DC$51)=$E133),INDEX(Model_Inputs_Ref_Units,,DC$52)),0)","v":0},{"$f":"IFERROR(SUMPRODUCT(--(INDEX(Model_Inputs_Ref_Units,,DD$51)=$E133),INDEX(Model_Inputs_Ref_Units,,DD$52)),0)","v":0},{"$f":"IFERROR(SUMPRODUCT(--(INDEX(Model_Inputs_Ref_Units,,DE$51)=$E133),INDEX(Model_Inputs_Ref_Units,,DE$52)),0)","v":0},{"$f":"IFERROR(SUMPRODUCT(--(INDEX(Model_Inputs_Ref_Units,,DF$51)=$E133),INDEX(Model_Inputs_Ref_Units,,DF$52)),0)","v":0}]
[null,null,{"$error":"#DIV/0!"},null,{"$f":"IFERROR(INDEX(Ref_Data,1,F134),\"\")","v":""},81,0,0,0,0,{"$f":"IFERROR(SUMPRODUCT(--(INDEX(Model_Inputs_Ref_Units,,K$51)=$E134),INDEX(Model_Inputs_Ref_Units,,K$52)),0)","v":0},{"$f":"IFERROR(SUMPRODUCT(--(INDEX(Model_Inputs_Ref_Units,,L$51)=$E134),INDEX(Model_Inputs_Ref_Units,,L$52)),0)","v":0},{"$f":"IFERROR(SUMPRODUCT(--(INDEX(Model_Inputs_Ref_Units,,M$51)=$E134),INDEX(Model_Inputs_Ref_Units,,M$52)),0)","v":0},{"$f":"IFERROR(SUMPRODUCT(--(INDEX(Model_Inputs_Ref_Units,,N$51)=$E134),INDEX(Model_Inputs_Ref_Units,,N$52)),0)","v":0},{"$f":"IFERROR(SUMPRODUCT(--(INDEX(Model_Inputs_Ref_Units,,O$51)=$E134),INDEX(Model_Inputs_Ref_Units,,O$52)),0)","v":0},{"$f":"IFERROR(SUMPRODUCT(--(INDEX(Model_Inputs_Ref_Units,,P$51)=$E134),INDEX(Model_Inputs_Ref_Units,,P$52)),0)","v":0},{"$f":"IFERROR(SUMPRODUCT(--(INDEX(Model_Inputs_Ref_Units,,Q$51)=$E134),INDEX(Model_Inputs_Ref_Units,,Q$52)),0)","v":0},{"$f":"IFERROR(SUMPRODUCT(--(INDEX(Model_Inputs_Ref_Units,,R$51)=$E134),INDEX(Model_Inputs_Ref_Units,,R$52)),0)","v":0},{"$f":"IFERROR(SUMPRODUCT(--(INDEX(Model_Inputs_Ref_Units,,S$51)=$E134),INDEX(Model_Inputs_Ref_Units,,S$52)),0)","v":0},{"$f":"IFERROR(SUMPRODUCT(--(INDEX(Model_Inputs_Ref_Units,,T$51)=$E134),INDEX(Model_Inputs_Ref_Units,,T$52)),0)","v":0},{"$f":"IFERROR(SUMPRODUCT(--(INDEX(Model_Inputs_Ref_Units,,U$51)=$E134),INDEX(Model_Inputs_Ref_Units,,U$52)),0)","v":0},{"$f":"IFERROR(SUMPRODUCT(--(INDEX(Model_Inputs_Ref_Units,,V$51)=$E134),INDEX(Model_Inputs_Ref_Units,,V$52)),0)","v":0},{"$f":"IFERROR(SUMPRODUCT(--(INDEX(Model_Inputs_Ref_Units,,W$51)=$E134),INDEX(Model_Inputs_Ref_Units,,W$52)),0)","v":0},{"$f":"IFERROR(SUMPRODUCT(--(INDEX(Model_Inputs_Ref_Units,,X$51)=$E134),INDEX(Model_Inputs_Ref_Units,,X$52)),0)","v":0},{"$f":"IFERROR(SUMPRODUCT(--(INDEX(Model_Inputs_Ref_Units,,Y$51)=$E134),INDEX(Model_Inputs_Ref_Units,,Y$52)),0)","v":0},{"$f":"IFERROR(SUMPRODUCT(--(INDEX(Model_Inputs_Ref_Units,,Z$51)=$E134),INDEX(Model_Inputs_Ref_Units,,Z$52)),0)","v":0},{"$f":"IFERROR(SUMPRODUCT(--(INDEX(Model_Inputs_Ref_Units,,AA$51)=$E134),INDEX(Model_Inputs_Ref_Units,,AA$52)),0)","v":0},{"$f":"IFERROR(SUMPRODUCT(--(INDEX(Model_Inputs_Ref_Units,,AB$51)=$E134),INDEX(Model_Inputs_Ref_Units,,AB$52)),0)","v":0},{"$f":"IFERROR(SUMPRODUCT(--(INDEX(Model_Inputs_Ref_Units,,AC$51)=$E134),INDEX(Model_Inputs_Ref_Units,,AC$52)),0)","v":0},{"$f":"IFERROR(SUMPRODUCT(--(INDEX(Model_Inputs_Ref_Units,,AD$51)=$E134),INDEX(Model_Inputs_Ref_Units,,AD$52)),0)","v":0},{"$f":"IFERROR(SUMPRODUCT(--(INDEX(Model_Inputs_Ref_Units,,AE$51)=$E134),INDEX(Model_Inputs_Ref_Units,,AE$52)),0)","v":0},{"$f":"IFERROR(SUMPRODUCT(--(INDEX(Model_Inputs_Ref_Units,,AF$51)=$E134),INDEX(Model_Inputs_Ref_Units,,AF$52)),0)","v":0},{"$f":"IFERROR(SUMPRODUCT(--(INDEX(Model_Inputs_Ref_Units,,AG$51)=$E134),INDEX(Model_Inputs_Ref_Units,,AG$52)),0)","v":0},{"$f":"IFERROR(SUMPRODUCT(--(INDEX(Model_Inputs_Ref_Units,,AH$51)=$E134),INDEX(Model_Inputs_Ref_Units,,AH$52)),0)","v":0},{"$f":"IFERROR(SUMPRODUCT(--(INDEX(Model_Inputs_Ref_Units,,AI$51)=$E134),INDEX(Model_Inputs_Ref_Units,,AI$52)),0)","v":0},{"$f":"IFERROR(SUMPRODUCT(--(INDEX(Model_Inputs_Ref_Units,,AJ$51)=$E134),INDEX(Model_Inputs_Ref_Units,,AJ$52)),0)","v":0},{"$f":"IFERROR(SUMPRODUCT(--(INDEX(Model_Inputs_Ref_Units,,AK$51)=$E134),INDEX(Model_Inputs_Ref_Units,,AK$52)),0)","v":0},{"$f":"IFERROR(SUMPRODUCT(--(INDEX(Model_Inputs_Ref_Units,,AL$51)=$E134),INDEX(Model_Inputs_Ref_Units,,AL$52)),0)","v":0},{"$f":"IFERROR(SUMPRODUCT(--(INDEX(Model_Inputs_Ref_Units,,AM$51)=$E134),INDEX(Model_Inputs_Ref_Units,,AM$52)),0)","v":0},{"$f":"IFERROR(SUMPRODUCT(--(INDEX(Model_Inputs_Ref_Units,,AN$51)=$E134),INDEX(Model_Inputs_Ref_Units,,AN$52)),0)","v":0},{"$f":"IFERROR(SUMPRODUCT(--(INDEX(Model_Inputs_Ref_Units,,AO$51)=$E134),INDEX(Model_Inputs_Ref_Units,,AO$52)),0)","v":0},{"$f":"IFERROR(SUMPRODUCT(--(INDEX(Model_Inputs_Ref_Units,,AP$51)=$E134),INDEX(Model_Inputs_Ref_Units,,AP$52)),0)","v":0},{"$f":"IFERROR(SUMPRODUCT(--(INDEX(Model_Inputs_Ref_Units,,AQ$51)=$E134),INDEX(Model_Inputs_Ref_Units,,AQ$52)),0)","v":0},{"$f":"IFERROR(SUMPRODUCT(--(INDEX(Model_Inputs_Ref_Units,,AR$51)=$E134),INDEX(Model_Inputs_Ref_Units,,AR$52)),0)","v":0},{"$f":"IFERROR(SUMPRODUCT(--(INDEX(Model_Inputs_Ref_Units,,AS$51)=$E134),INDEX(Model_Inputs_Ref_Units,,AS$52)),0)","v":0},{"$f":"IFERROR(SUMPRODUCT(--(INDEX(Model_Inputs_Ref_Units,,AT$51)=$E134),INDEX(Model_Inputs_Ref_Units,,AT$52)),0)","v":0},{"$f":"IFERROR(SUMPRODUCT(--(INDEX(Model_Inputs_Ref_Units,,AU$51)=$E134),INDEX(Model_Inputs_Ref_Units,,AU$52)),0)","v":0},{"$f":"IFERROR(SUMPRODUCT(--(INDEX(Model_Inputs_Ref_Units,,AV$51)=$E134),INDEX(Model_Inputs_Ref_Units,,AV$52)),0)","v":0},{"$f":"IFERROR(SUMPRODUCT(--(INDEX(Model_Inputs_Ref_Units,,AW$51)=$E134),INDEX(Model_Inputs_Ref_Units,,AW$52)),0)","v":0},{"$f":"IFERROR(SUMPRODUCT(--(INDEX(Model_Inputs_Ref_Units,,AX$51)=$E134),INDEX(Model_Inputs_Ref_Units,,AX$52)),0)","v":0},{"$f":"IFERROR(SUMPRODUCT(--(INDEX(Model_Inputs_Ref_Units,,AY$51)=$E134),INDEX(Model_Inputs_Ref_Units,,AY$52)),0)","v":0},{"$f":"IFERROR(SUMPRODUCT(--(INDEX(Model_Inputs_Ref_Units,,AZ$51)=$E134),INDEX(Model_Inputs_Ref_Units,,AZ$52)),0)","v":0},{"$f":"IFERROR(SUMPRODUCT(--(INDEX(Model_Inputs_Ref_Units,,BA$51)=$E134),INDEX(Model_Inputs_Ref_Units,,BA$52)),0)","v":0},{"$f":"IFERROR(SUMPRODUCT(--(INDEX(Model_Inputs_Ref_Units,,BB$51)=$E134),INDEX(Model_Inputs_Ref_Units,,BB$52)),0)","v":0},{"$f":"IFERROR(SUMPRODUCT(--(INDEX(Model_Inputs_Ref_Units,,BC$51)=$E134),INDEX(Model_Inputs_Ref_Units,,BC$52)),0)","v":0},{"$f":"IFERROR(SUMPRODUCT(--(INDEX(Model_Inputs_Ref_Units,,BD$51)=$E134),INDEX(Model_Inputs_Ref_Units,,BD$52)),0)","v":0},{"$f":"IFERROR(SUMPRODUCT(--(INDEX(Model_Inputs_Ref_Units,,BE$51)=$E134),INDEX(Model_Inputs_Ref_Units,,BE$52)),0)","v":0},{"$f":"IFERROR(SUMPRODUCT(--(INDEX(Model_Inputs_Ref_Units,,BF$51)=$E134),INDEX(Model_Inputs_Ref_Units,,BF$52)),0)","v":0},{"$f":"IFERROR(SUMPRODUCT(--(INDEX(Model_Inputs_Ref_Units,,BG$51)=$E134),INDEX(Model_Inputs_Ref_Units,,BG$52)),0)","v":0},{"$f":"IFERROR(SUMPRODUCT(--(INDEX(Model_Inputs_Ref_Units,,BH$51)=$E134),INDEX(Model_Inputs_Ref_Units,,BH$52)),0)","v":0},{"$f":"IFERROR(SUMPRODUCT(--(INDEX(Model_Inputs_Ref_Units,,BI$51)=$E134),INDEX(Model_Inputs_Ref_Units,,BI$52)),0)","v":0},{"$f":"IFERROR(SUMPRODUCT(--(INDEX(Model_Inputs_Ref_Units,,BJ$51)=$E134),INDEX(Model_Inputs_Ref_Units,,BJ$52)),0)","v":0},{"$f":"IFERROR(SUMPRODUCT(--(INDEX(Model_Inputs_Ref_Units,,BK$51)=$E134),INDEX(Model_Inputs_Ref_Units,,BK$52)),0)","v":0},{"$f":"IFERROR(SUMPRODUCT(--(INDEX(Model_Inputs_Ref_Units,,BL$51)=$E134),INDEX(Model_Inputs_Ref_Units,,BL$52)),0)","v":0},{"$f":"IFERROR(SUMPRODUCT(--(INDEX(Model_Inputs_Ref_Units,,BM$51)=$E134),INDEX(Model_Inputs_Ref_Units,,BM$52)),0)","v":0},{"$f":"IFERROR(SUMPRODUCT(--(INDEX(Model_Inputs_Ref_Units,,BN$51)=$E134),INDEX(Model_Inputs_Ref_Units,,BN$52)),0)","v":0},{"$f":"IFERROR(SUMPRODUCT(--(INDEX(Model_Inputs_Ref_Units,,BO$51)=$E134),INDEX(Model_Inputs_Ref_Units,,BO$52)),0)","v":0},{"$f":"IFERROR(SUMPRODUCT(--(INDEX(Model_Inputs_Ref_Units,,BP$51)=$E134),INDEX(Model_Inputs_Ref_Units,,BP$52)),0)","v":0},{"$f":"IFERROR(SUMPRODUCT(--(INDEX(Model_Inputs_Ref_Units,,BQ$51)=$E134),INDEX(Model_Inputs_Ref_Units,,BQ$52)),0)","v":0},{"$f":"IFERROR(SUMPRODUCT(--(INDEX(Model_Inputs_Ref_Units,,BR$51)=$E134),INDEX(Model_Inputs_Ref_Units,,BR$52)),0)","v":0},{"$f":"IFERROR(SUMPRODUCT(--(INDEX(Model_Inputs_Ref_Units,,BS$51)=$E134),INDEX(Model_Inputs_Ref_Units,,BS$52)),0)","v":0},{"$f":"IFERROR(SUMPRODUCT(--(INDEX(Model_Inputs_Ref_Units,,BT$51)=$E134),INDEX(Model_Inputs_Ref_Units,,BT$52)),0)","v":0},{"$f":"IFERROR(SUMPRODUCT(--(INDEX(Model_Inputs_Ref_Units,,BU$51)=$E134),INDEX(Model_Inputs_Ref_Units,,BU$52)),0)","v":0},{"$f":"IFERROR(SUMPRODUCT(--(INDEX(Model_Inputs_Ref_Units,,BV$51)=$E134),INDEX(Model_Inputs_Ref_Units,,BV$52)),0)","v":0},{"$f":"IFERROR(SUMPRODUCT(--(INDEX(Model_Inputs_Ref_Units,,BW$51)=$E134),INDEX(Model_Inputs_Ref_Units,,BW$52)),0)","v":0},{"$f":"IFERROR(SUMPRODUCT(--(INDEX(Model_Inputs_Ref_Units,,BX$51)=$E134),INDEX(Model_Inputs_Ref_Units,,BX$52)),0)","v":0},{"$f":"IFERROR(SUMPRODUCT(--(INDEX(Model_Inputs_Ref_Units,,BY$51)=$E134),INDEX(Model_Inputs_Ref_Units,,BY$52)),0)","v":0},{"$f":"IFERROR(SUMPRODUCT(--(INDEX(Model_Inputs_Ref_Units,,BZ$51)=$E134),INDEX(Model_Inputs_Ref_Units,,BZ$52)),0)","v":0},{"$f":"IFERROR(SUMPRODUCT(--(INDEX(Model_Inputs_Ref_Units,,CA$51)=$E134),INDEX(Model_Inputs_Ref_Units,,CA$52)),0)","v":0},{"$f":"IFERROR(SUMPRODUCT(--(INDEX(Model_Inputs_Ref_Units,,CB$51)=$E134),INDEX(Model_Inputs_Ref_Units,,CB$52)),0)","v":0},{"$f":"IFERROR(SUMPRODUCT(--(INDEX(Model_Inputs_Ref_Units,,CC$51)=$E134),INDEX(Model_Inputs_Ref_Units,,CC$52)),0)","v":0},{"$f":"IFERROR(SUMPRODUCT(--(INDEX(Model_Inputs_Ref_Units,,CD$51)=$E134),INDEX(Model_Inputs_Ref_Units,,CD$52)),0)","v":0},{"$f":"IFERROR(SUMPRODUCT(--(INDEX(Model_Inputs_Ref_Units,,CE$51)=$E134),INDEX(Model_Inputs_Ref_Units,,CE$52)),0)","v":0},{"$f":"IFERROR(SUMPRODUCT(--(INDEX(Model_Inputs_Ref_Units,,CF$51)=$E134),INDEX(Model_Inputs_Ref_Units,,CF$52)),0)","v":0},{"$f":"IFERROR(SUMPRODUCT(--(INDEX(Model_Inputs_Ref_Units,,CG$51)=$E134),INDEX(Model_Inputs_Ref_Units,,CG$52)),0)","v":0},{"$f":"IFERROR(SUMPRODUCT(--(INDEX(Model_Inputs_Ref_Units,,CH$51)=$E134),INDEX(Model_Inputs_Ref_Units,,CH$52)),0)","v":0},{"$f":"IFERROR(SUMPRODUCT(--(INDEX(Model_Inputs_Ref_Units,,CI$51)=$E134),INDEX(Model_Inputs_Ref_Units,,CI$52)),0)","v":0},{"$f":"IFERROR(SUMPRODUCT(--(INDEX(Model_Inputs_Ref_Units,,CJ$51)=$E134),INDEX(Model_Inputs_Ref_Units,,CJ$52)),0)","v":0},{"$f":"IFERROR(SUMPRODUCT(--(INDEX(Model_Inputs_Ref_Units,,CK$51)=$E134),INDEX(Model_Inputs_Ref_Units,,CK$52)),0)","v":0},{"$f":"IFERROR(SUMPRODUCT(--(INDEX(Model_Inputs_Ref_Units,,CL$51)=$E134),INDEX(Model_Inputs_Ref_Units,,CL$52)),0)","v":0},{"$f":"IFERROR(SUMPRODUCT(--(INDEX(Model_Inputs_Ref_Units,,CM$51)=$E134),INDEX(Model_Inputs_Ref_Units,,CM$52)),0)","v":0},{"$f":"IFERROR(SUMPRODUCT(--(INDEX(Model_Inputs_Ref_Units,,CN$51)=$E134),INDEX(Model_Inputs_Ref_Units,,CN$52)),0)","v":0},{"$f":"IFERROR(SUMPRODUCT(--(INDEX(Model_Inputs_Ref_Units,,CO$51)=$E134),INDEX(Model_Inputs_Ref_Units,,CO$52)),0)","v":0},{"$f":"IFERROR(SUMPRODUCT(--(INDEX(Model_Inputs_Ref_Units,,CP$51)=$E134),INDEX(Model_Inputs_Ref_Units,,CP$52)),0)","v":0},{"$f":"IFERROR(SUMPRODUCT(--(INDEX(Model_Inputs_Ref_Units,,CQ$51)=$E134),INDEX(Model_Inputs_Ref_Units,,CQ$52)),0)","v":0},{"$f":"IFERROR(SUMPRODUCT(--(INDEX(Model_Inputs_Ref_Units,,CR$51)=$E134),INDEX(Model_Inputs_Ref_Units,,CR$52)),0)","v":0},{"$f":"IFERROR(SUMPRODUCT(--(INDEX(Model_Inputs_Ref_Units,,CS$51)=$E134),INDEX(Model_Inputs_Ref_Units,,CS$52)),0)","v":0},{"$f":"IFERROR(SUMPRODUCT(--(INDEX(Model_Inputs_Ref_Units,,CT$51)=$E134),INDEX(Model_Inputs_Ref_Units,,CT$52)),0)","v":0},{"$f":"IFERROR(SUMPRODUCT(--(INDEX(Model_Inputs_Ref_Units,,CU$51)=$E134),INDEX(Model_Inputs_Ref_Units,,CU$52)),0)","v":0},{"$f":"IFERROR(SUMPRODUCT(--(INDEX(Model_Inputs_Ref_Units,,CV$51)=$E134),INDEX(Model_Inputs_Ref_Units,,CV$52)),0)","v":0},{"$f":"IFERROR(SUMPRODUCT(--(INDEX(Model_Inputs_Ref_Units,,CW$51)=$E134),INDEX(Model_Inputs_Ref_Units,,CW$52)),0)","v":0},{"$f":"IFERROR(SUMPRODUCT(--(INDEX(Model_Inputs_Ref_Units,,CX$51)=$E134),INDEX(Model_Inputs_Ref_Units,,CX$52)),0)","v":0},{"$f":"IFERROR(SUMPRODUCT(--(INDEX(Model_Inputs_Ref_Units,,CY$51)=$E134),INDEX(Model_Inputs_Ref_Units,,CY$52)),0)","v":0},{"$f":"IFERROR(SUMPRODUCT(--(INDEX(Model_Inputs_Ref_Units,,CZ$51)=$E134),INDEX(Model_Inputs_Ref_Units,,CZ$52)),0)","v":0},{"$f":"IFERROR(SUMPRODUCT(--(INDEX(Model_Inputs_Ref_Units,,DA$51)=$E134),INDEX(Model_Inputs_Ref_Units,,DA$52)),0)","v":0},{"$f":"IFERROR(SUMPRODUCT(--(INDEX(Model_Inputs_Ref_Units,,DB$51)=$E134),INDEX(Model_Inputs_Ref_Units,,DB$52)),0)","v":0},{"$f":"IFERROR(SUMPRODUCT(--(INDEX(Model_Inputs_Ref_Units,,DC$51)=$E134),INDEX(Model_Inputs_Ref_Units,,DC$52)),0)","v":0},{"$f":"IFERROR(SUMPRODUCT(--(INDEX(Model_Inputs_Ref_Units,,DD$51)=$E134),INDEX(Model_Inputs_Ref_Units,,DD$52)),0)","v":0},{"$f":"IFERROR(SUMPRODUCT(--(INDEX(Model_Inputs_Ref_Units,,DE$51)=$E134),INDEX(Model_Inputs_Ref_Units,,DE$52)),0)","v":0},{"$f":"IFERROR(SUMPRODUCT(--(INDEX(Model_Inputs_Ref_Units,,DF$51)=$E134),INDEX(Model_Inputs_Ref_Units,,DF$52)),0)","v":0}]
[null,null,{"$error":"#DIV/0!"},null,{"$f":"IFERROR(INDEX(Ref_Data,1,F135),\"\")","v":""},82,0,0,0,0,{"$f":"IFERROR(SUMPRODUCT(--(INDEX(Model_Inputs_Ref_Units,,K$51)=$E135),INDEX(Model_Inputs_Ref_Units,,K$52)),0)","v":0},{"$f":"IFERROR(SUMPRODUCT(--(INDEX(Model_Inputs_Ref_Units,,L$51)=$E135),INDEX(Model_Inputs_Ref_Units,,L$52)),0)","v":0},{"$f":"IFERROR(SUMPRODUCT(--(INDEX(Model_Inputs_Ref_Units,,M$51)=$E135),INDEX(Model_Inputs_Ref_Units,,M$52)),0)","v":0},{"$f":"IFERROR(SUMPRODUCT(--(INDEX(Model_Inputs_Ref_Units,,N$51)=$E135),INDEX(Model_Inputs_Ref_Units,,N$52)),0)","v":0},{"$f":"IFERROR(SUMPRODUCT(--(INDEX(Model_Inputs_Ref_Units,,O$51)=$E135),INDEX(Model_Inputs_Ref_Units,,O$52)),0)","v":0},{"$f":"IFERROR(SUMPRODUCT(--(INDEX(Model_Inputs_Ref_Units,,P$51)=$E135),INDEX(Model_Inputs_Ref_Units,,P$52)),0)","v":0},{"$f":"IFERROR(SUMPRODUCT(--(INDEX(Model_Inputs_Ref_Units,,Q$51)=$E135),INDEX(Model_Inputs_Ref_Units,,Q$52)),0)","v":0},{"$f":"IFERROR(SUMPRODUCT(--(INDEX(Model_Inputs_Ref_Units,,R$51)=$E135),INDEX(Model_Inputs_Ref_Units,,R$52)),0)","v":0},{"$f":"IFERROR(SUMPRODUCT(--(INDEX(Model_Inputs_Ref_Units,,S$51)=$E135),INDEX(Model_Inputs_Ref_Units,,S$52)),0)","v":0},{"$f":"IFERROR(SUMPRODUCT(--(INDEX(Model_Inputs_Ref_Units,,T$51)=$E135),INDEX(Model_Inputs_Ref_Units,,T$52)),0)","v":0},{"$f":"IFERROR(SUMPRODUCT(--(INDEX(Model_Inputs_Ref_Units,,U$51)=$E135),INDEX(Model_Inputs_Ref_Units,,U$52)),0)","v":0},{"$f":"IFERROR(SUMPRODUCT(--(INDEX(Model_Inputs_Ref_Units,,V$51)=$E135),INDEX(Model_Inputs_Ref_Units,,V$52)),0)","v":0},{"$f":"IFERROR(SUMPRODUCT(--(INDEX(Model_Inputs_Ref_Units,,W$51)=$E135),INDEX(Model_Inputs_Ref_Units,,W$52)),0)","v":0},{"$f":"IFERROR(SUMPRODUCT(--(INDEX(Model_Inputs_Ref_Units,,X$51)=$E135),INDEX(Model_Inputs_Ref_Units,,X$52)),0)","v":0},{"$f":"IFERROR(SUMPRODUCT(--(INDEX(Model_Inputs_Ref_Units,,Y$51)=$E135),INDEX(Model_Inputs_Ref_Units,,Y$52)),0)","v":0},{"$f":"IFERROR(SUMPRODUCT(--(INDEX(Model_Inputs_Ref_Units,,Z$51)=$E135),INDEX(Model_Inputs_Ref_Units,,Z$52)),0)","v":0},{"$f":"IFERROR(SUMPRODUCT(--(INDEX(Model_Inputs_Ref_Units,,AA$51)=$E135),INDEX(Model_Inputs_Ref_Units,,AA$52)),0)","v":0},{"$f":"IFERROR(SUMPRODUCT(--(INDEX(Model_Inputs_Ref_Units,,AB$51)=$E135),INDEX(Model_Inputs_Ref_Units,,AB$52)),0)","v":0},{"$f":"IFERROR(SUMPRODUCT(--(INDEX(Model_Inputs_Ref_Units,,AC$51)=$E135),INDEX(Model_Inputs_Ref_Units,,AC$52)),0)","v":0},{"$f":"IFERROR(SUMPRODUCT(--(INDEX(Model_Inputs_Ref_Units,,AD$51)=$E135),INDEX(Model_Inputs_Ref_Units,,AD$52)),0)","v":0},{"$f":"IFERROR(SUMPRODUCT(--(INDEX(Model_Inputs_Ref_Units,,AE$51)=$E135),INDEX(Model_Inputs_Ref_Units,,AE$52)),0)","v":0},{"$f":"IFERROR(SUMPRODUCT(--(INDEX(Model_Inputs_Ref_Units,,AF$51)=$E135),INDEX(Model_Inputs_Ref_Units,,AF$52)),0)","v":0},{"$f":"IFERROR(SUMPRODUCT(--(INDEX(Model_Inputs_Ref_Units,,AG$51)=$E135),INDEX(Model_Inputs_Ref_Units,,AG$52)),0)","v":0},{"$f":"IFERROR(SUMPRODUCT(--(INDEX(Model_Inputs_Ref_Units,,AH$51)=$E135),INDEX(Model_Inputs_Ref_Units,,AH$52)),0)","v":0},{"$f":"IFERROR(SUMPRODUCT(--(INDEX(Model_Inputs_Ref_Units,,AI$51)=$E135),INDEX(Model_Inputs_Ref_Units,,AI$52)),0)","v":0},{"$f":"IFERROR(SUMPRODUCT(--(INDEX(Model_Inputs_Ref_Units,,AJ$51)=$E135),INDEX(Model_Inputs_Ref_Units,,AJ$52)),0)","v":0},{"$f":"IFERROR(SUMPRODUCT(--(INDEX(Model_Inputs_Ref_Units,,AK$51)=$E135),INDEX(Model_Inputs_Ref_Units,,AK$52)),0)","v":0},{"$f":"IFERROR(SUMPRODUCT(--(INDEX(Model_Inputs_Ref_Units,,AL$51)=$E135),INDEX(Model_Inputs_Ref_Units,,AL$52)),0)","v":0},{"$f":"IFERROR(SUMPRODUCT(--(INDEX(Model_Inputs_Ref_Units,,AM$51)=$E135),INDEX(Model_Inputs_Ref_Units,,AM$52)),0)","v":0},{"$f":"IFERROR(SUMPRODUCT(--(INDEX(Model_Inputs_Ref_Units,,AN$51)=$E135),INDEX(Model_Inputs_Ref_Units,,AN$52)),0)","v":0},{"$f":"IFERROR(SUMPRODUCT(--(INDEX(Model_Inputs_Ref_Units,,AO$51)=$E135),INDEX(Model_Inputs_Ref_Units,,AO$52)),0)","v":0},{"$f":"IFERROR(SUMPRODUCT(--(INDEX(Model_Inputs_Ref_Units,,AP$51)=$E135),INDEX(Model_Inputs_Ref_Units,,AP$52)),0)","v":0},{"$f":"IFERROR(SUMPRODUCT(--(INDEX(Model_Inputs_Ref_Units,,AQ$51)=$E135),INDEX(Model_Inputs_Ref_Units,,AQ$52)),0)","v":0},{"$f":"IFERROR(SUMPRODUCT(--(INDEX(Model_Inputs_Ref_Units,,AR$51)=$E135),INDEX(Model_Inputs_Ref_Units,,AR$52)),0)","v":0},{"$f":"IFERROR(SUMPRODUCT(--(INDEX(Model_Inputs_Ref_Units,,AS$51)=$E135),INDEX(Model_Inputs_Ref_Units,,AS$52)),0)","v":0},{"$f":"IFERROR(SUMPRODUCT(--(INDEX(Model_Inputs_Ref_Units,,AT$51)=$E135),INDEX(Model_Inputs_Ref_Units,,AT$52)),0)","v":0},{"$f":"IFERROR(SUMPRODUCT(--(INDEX(Model_Inputs_Ref_Units,,AU$51)=$E135),INDEX(Model_Inputs_Ref_Units,,AU$52)),0)","v":0},{"$f":"IFERROR(SUMPRODUCT(--(INDEX(Model_Inputs_Ref_Units,,AV$51)=$E135),INDEX(Model_Inputs_Ref_Units,,AV$52)),0)","v":0},{"$f":"IFERROR(SUMPRODUCT(--(INDEX(Model_Inputs_Ref_Units,,AW$51)=$E135),INDEX(Model_Inputs_Ref_Units,,AW$52)),0)","v":0},{"$f":"IFERROR(SUMPRODUCT(--(INDEX(Model_Inputs_Ref_Units,,AX$51)=$E135),INDEX(Model_Inputs_Ref_Units,,AX$52)),0)","v":0},{"$f":"IFERROR(SUMPRODUCT(--(INDEX(Model_Inputs_Ref_Units,,AY$51)=$E135),INDEX(Model_Inputs_Ref_Units,,AY$52)),0)","v":0},{"$f":"IFERROR(SUMPRODUCT(--(INDEX(Model_Inputs_Ref_Units,,AZ$51)=$E135),INDEX(Model_Inputs_Ref_Units,,AZ$52)),0)","v":0},{"$f":"IFERROR(SUMPRODUCT(--(INDEX(Model_Inputs_Ref_Units,,BA$51)=$E135),INDEX(Model_Inputs_Ref_Units,,BA$52)),0)","v":0},{"$f":"IFERROR(SUMPRODUCT(--(INDEX(Model_Inputs_Ref_Units,,BB$51)=$E135),INDEX(Model_Inputs_Ref_Units,,BB$52)),0)","v":0},{"$f":"IFERROR(SUMPRODUCT(--(INDEX(Model_Inputs_Ref_Units,,BC$51)=$E135),INDEX(Model_Inputs_Ref_Units,,BC$52)),0)","v":0},{"$f":"IFERROR(SUMPRODUCT(--(INDEX(Model_Inputs_Ref_Units,,BD$51)=$E135),INDEX(Model_Inputs_Ref_Units,,BD$52)),0)","v":0},{"$f":"IFERROR(SUMPRODUCT(--(INDEX(Model_Inputs_Ref_Units,,BE$51)=$E135),INDEX(Model_Inputs_Ref_Units,,BE$52)),0)","v":0},{"$f":"IFERROR(SUMPRODUCT(--(INDEX(Model_Inputs_Ref_Units,,BF$51)=$E135),INDEX(Model_Inputs_Ref_Units,,BF$52)),0)","v":0},{"$f":"IFERROR(SUMPRODUCT(--(INDEX(Model_Inputs_Ref_Units,,BG$51)=$E135),INDEX(Model_Inputs_Ref_Units,,BG$52)),0)","v":0},{"$f":"IFERROR(SUMPRODUCT(--(INDEX(Model_Inputs_Ref_Units,,BH$51)=$E135),INDEX(Model_Inputs_Ref_Units,,BH$52)),0)","v":0},{"$f":"IFERROR(SUMPRODUCT(--(INDEX(Model_Inputs_Ref_Units,,BI$51)=$E135),INDEX(Model_Inputs_Ref_Units,,BI$52)),0)","v":0},{"$f":"IFERROR(SUMPRODUCT(--(INDEX(Model_Inputs_Ref_Units,,BJ$51)=$E135),INDEX(Model_Inputs_Ref_Units,,BJ$52)),0)","v":0},{"$f":"IFERROR(SUMPRODUCT(--(INDEX(Model_Inputs_Ref_Units,,BK$51)=$E135),INDEX(Model_Inputs_Ref_Units,,BK$52)),0)","v":0},{"$f":"IFERROR(SUMPRODUCT(--(INDEX(Model_Inputs_Ref_Units,,BL$51)=$E135),INDEX(Model_Inputs_Ref_Units,,BL$52)),0)","v":0},{"$f":"IFERROR(SUMPRODUCT(--(INDEX(Model_Inputs_Ref_Units,,BM$51)=$E135),INDEX(Model_Inputs_Ref_Units,,BM$52)),0)","v":0},{"$f":"IFERROR(SUMPRODUCT(--(INDEX(Model_Inputs_Ref_Units,,BN$51)=$E135),INDEX(Model_Inputs_Ref_Units,,BN$52)),0)","v":0},{"$f":"IFERROR(SUMPRODUCT(--(INDEX(Model_Inputs_Ref_Units,,BO$51)=$E135),INDEX(Model_Inputs_Ref_Units,,BO$52)),0)","v":0},{"$f":"IFERROR(SUMPRODUCT(--(INDEX(Model_Inputs_Ref_Units,,BP$51)=$E135),INDEX(Model_Inputs_Ref_Units,,BP$52)),0)","v":0},{"$f":"IFERROR(SUMPRODUCT(--(INDEX(Model_Inputs_Ref_Units,,BQ$51)=$E135),INDEX(Model_Inputs_Ref_Units,,BQ$52)),0)","v":0},{"$f":"IFERROR(SUMPRODUCT(--(INDEX(Model_Inputs_Ref_Units,,BR$51)=$E135),INDEX(Model_Inputs_Ref_Units,,BR$52)),0)","v":0},{"$f":"IFERROR(SUMPRODUCT(--(INDEX(Model_Inputs_Ref_Units,,BS$51)=$E135),INDEX(Model_Inputs_Ref_Units,,BS$52)),0)","v":0},{"$f":"IFERROR(SUMPRODUCT(--(INDEX(Model_Inputs_Ref_Units,,BT$51)=$E135),INDEX(Model_Inputs_Ref_Units,,BT$52)),0)","v":0},{"$f":"IFERROR(SUMPRODUCT(--(INDEX(Model_Inputs_Ref_Units,,BU$51)=$E135),INDEX(Model_Inputs_Ref_Units,,BU$52)),0)","v":0},{"$f":"IFERROR(SUMPRODUCT(--(INDEX(Model_Inputs_Ref_Units,,BV$51)=$E135),INDEX(Model_Inputs_Ref_Units,,BV$52)),0)","v":0},{"$f":"IFERROR(SUMPRODUCT(--(INDEX(Model_Inputs_Ref_Units,,BW$51)=$E135),INDEX(Model_Inputs_Ref_Units,,BW$52)),0)","v":0},{"$f":"IFERROR(SUMPRODUCT(--(INDEX(Model_Inputs_Ref_Units,,BX$51)=$E135),INDEX(Model_Inputs_Ref_Units,,BX$52)),0)","v":0},{"$f":"IFERROR(SUMPRODUCT(--(INDEX(Model_Inputs_Ref_Units,,BY$51)=$E135),INDEX(Model_Inputs_Ref_Units,,BY$52)),0)","v":0},{"$f":"IFERROR(SUMPRODUCT(--(INDEX(Model_Inputs_Ref_Units,,BZ$51)=$E135),INDEX(Model_Inputs_Ref_Units,,BZ$52)),0)","v":0},{"$f":"IFERROR(SUMPRODUCT(--(INDEX(Model_Inputs_Ref_Units,,CA$51)=$E135),INDEX(Model_Inputs_Ref_Units,,CA$52)),0)","v":0},{"$f":"IFERROR(SUMPRODUCT(--(INDEX(Model_Inputs_Ref_Units,,CB$51)=$E135),INDEX(Model_Inputs_Ref_Units,,CB$52)),0)","v":0},{"$f":"IFERROR(SUMPRODUCT(--(INDEX(Model_Inputs_Ref_Units,,CC$51)=$E135),INDEX(Model_Inputs_Ref_Units,,CC$52)),0)","v":0},{"$f":"IFERROR(SUMPRODUCT(--(INDEX(Model_Inputs_Ref_Units,,CD$51)=$E135),INDEX(Model_Inputs_Ref_Units,,CD$52)),0)","v":0},{"$f":"IFERROR(SUMPRODUCT(--(INDEX(Model_Inputs_Ref_Units,,CE$51)=$E135),INDEX(Model_Inputs_Ref_Units,,CE$52)),0)","v":0},{"$f":"IFERROR(SUMPRODUCT(--(INDEX(Model_Inputs_Ref_Units,,CF$51)=$E135),INDEX(Model_Inputs_Ref_Units,,CF$52)),0)","v":0},{"$f":"IFERROR(SUMPRODUCT(--(INDEX(Model_Inputs_Ref_Units,,CG$51)=$E135),INDEX(Model_Inputs_Ref_Units,,CG$52)),0)","v":0},{"$f":"IFERROR(SUMPRODUCT(--(INDEX(Model_Inputs_Ref_Units,,CH$51)=$E135),INDEX(Model_Inputs_Ref_Units,,CH$52)),0)","v":0},{"$f":"IFERROR(SUMPRODUCT(--(INDEX(Model_Inputs_Ref_Units,,CI$51)=$E135),INDEX(Model_Inputs_Ref_Units,,CI$52)),0)","v":0},{"$f":"IFERROR(SUMPRODUCT(--(INDEX(Model_Inputs_Ref_Units,,CJ$51)=$E135),INDEX(Model_Inputs_Ref_Units,,CJ$52)),0)","v":0},{"$f":"IFERROR(SUMPRODUCT(--(INDEX(Model_Inputs_Ref_Units,,CK$51)=$E135),INDEX(Model_Inputs_Ref_Units,,CK$52)),0)","v":0},{"$f":"IFERROR(SUMPRODUCT(--(INDEX(Model_Inputs_Ref_Units,,CL$51)=$E135),INDEX(Model_Inputs_Ref_Units,,CL$52)),0)","v":0},{"$f":"IFERROR(SUMPRODUCT(--(INDEX(Model_Inputs_Ref_Units,,CM$51)=$E135),INDEX(Model_Inputs_Ref_Units,,CM$52)),0)","v":0},{"$f":"IFERROR(SUMPRODUCT(--(INDEX(Model_Inputs_Ref_Units,,CN$51)=$E135),INDEX(Model_Inputs_Ref_Units,,CN$52)),0)","v":0},{"$f":"IFERROR(SUMPRODUCT(--(INDEX(Model_Inputs_Ref_Units,,CO$51)=$E135),INDEX(Model_Inputs_Ref_Units,,CO$52)),0)","v":0},{"$f":"IFERROR(SUMPRODUCT(--(INDEX(Model_Inputs_Ref_Units,,CP$51)=$E135),INDEX(Model_Inputs_Ref_Units,,CP$52)),0)","v":0},{"$f":"IFERROR(SUMPRODUCT(--(INDEX(Model_Inputs_Ref_Units,,CQ$51)=$E135),INDEX(Model_Inputs_Ref_Units,,CQ$52)),0)","v":0},{"$f":"IFERROR(SUMPRODUCT(--(INDEX(Model_Inputs_Ref_Units,,CR$51)=$E135),INDEX(Model_Inputs_Ref_Units,,CR$52)),0)","v":0},{"$f":"IFERROR(SUMPRODUCT(--(INDEX(Model_Inputs_Ref_Units,,CS$51)=$E135),INDEX(Model_Inputs_Ref_Units,,CS$52)),0)","v":0},{"$f":"IFERROR(SUMPRODUCT(--(INDEX(Model_Inputs_Ref_Units,,CT$51)=$E135),INDEX(Model_Inputs_Ref_Units,,CT$52)),0)","v":0},{"$f":"IFERROR(SUMPRODUCT(--(INDEX(Model_Inputs_Ref_Units,,CU$51)=$E135),INDEX(Model_Inputs_Ref_Units,,CU$52)),0)","v":0},{"$f":"IFERROR(SUMPRODUCT(--(INDEX(Model_Inputs_Ref_Units,,CV$51)=$E135),INDEX(Model_Inputs_Ref_Units,,CV$52)),0)","v":0},{"$f":"IFERROR(SUMPRODUCT(--(INDEX(Model_Inputs_Ref_Units,,CW$51)=$E135),INDEX(Model_Inputs_Ref_Units,,CW$52)),0)","v":0},{"$f":"IFERROR(SUMPRODUCT(--(INDEX(Model_Inputs_Ref_Units,,CX$51)=$E135),INDEX(Model_Inputs_Ref_Units,,CX$52)),0)","v":0},{"$f":"IFERROR(SUMPRODUCT(--(INDEX(Model_Inputs_Ref_Units,,CY$51)=$E135),INDEX(Model_Inputs_Ref_Units,,CY$52)),0)","v":0},{"$f":"IFERROR(SUMPRODUCT(--(INDEX(Model_Inputs_Ref_Units,,CZ$51)=$E135),INDEX(Model_Inputs_Ref_Units,,CZ$52)),0)","v":0},{"$f":"IFERROR(SUMPRODUCT(--(INDEX(Model_Inputs_Ref_Units,,DA$51)=$E135),INDEX(Model_Inputs_Ref_Units,,DA$52)),0)","v":0},{"$f":"IFERROR(SUMPRODUCT(--(INDEX(Model_Inputs_Ref_Units,,DB$51)=$E135),INDEX(Model_Inputs_Ref_Units,,DB$52)),0)","v":0},{"$f":"IFERROR(SUMPRODUCT(--(INDEX(Model_Inputs_Ref_Units,,DC$51)=$E135),INDEX(Model_Inputs_Ref_Units,,DC$52)),0)","v":0},{"$f":"IFERROR(SUMPRODUCT(--(INDEX(Model_Inputs_Ref_Units,,DD$51)=$E135),INDEX(Model_Inputs_Ref_Units,,DD$52)),0)","v":0},{"$f":"IFERROR(SUMPRODUCT(--(INDEX(Model_Inputs_Ref_Units,,DE$51)=$E135),INDEX(Model_Inputs_Ref_Units,,DE$52)),0)","v":0},{"$f":"IFERROR(SUMPRODUCT(--(INDEX(Model_Inputs_Ref_Units,,DF$51)=$E135),INDEX(Model_Inputs_Ref_Units,,DF$52)),0)","v":0}]
[null,null,{"$error":"#DIV/0!"},null,{"$f":"IFERROR(INDEX(Ref_Data,1,F136),\"\")","v":""},83,0,0,0,0,{"$f":"IFERROR(SUMPRODUCT(--(INDEX(Model_Inputs_Ref_Units,,K$51)=$E136),INDEX(Model_Inputs_Ref_Units,,K$52)),0)","v":0},{"$f":"IFERROR(SUMPRODUCT(--(INDEX(Model_Inputs_Ref_Units,,L$51)=$E136),INDEX(Model_Inputs_Ref_Units,,L$52)),0)","v":0},{"$f":"IFERROR(SUMPRODUCT(--(INDEX(Model_Inputs_Ref_Units,,M$51)=$E136),INDEX(Model_Inputs_Ref_Units,,M$52)),0)","v":0},{"$f":"IFERROR(SUMPRODUCT(--(INDEX(Model_Inputs_Ref_Units,,N$51)=$E136),INDEX(Model_Inputs_Ref_Units,,N$52)),0)","v":0},{"$f":"IFERROR(SUMPRODUCT(--(INDEX(Model_Inputs_Ref_Units,,O$51)=$E136),INDEX(Model_Inputs_Ref_Units,,O$52)),0)","v":0},{"$f":"IFERROR(SUMPRODUCT(--(INDEX(Model_Inputs_Ref_Units,,P$51)=$E136),INDEX(Model_Inputs_Ref_Units,,P$52)),0)","v":0},{"$f":"IFERROR(SUMPRODUCT(--(INDEX(Model_Inputs_Ref_Units,,Q$51)=$E136),INDEX(Model_Inputs_Ref_Units,,Q$52)),0)","v":0},{"$f":"IFERROR(SUMPRODUCT(--(INDEX(Model_Inputs_Ref_Units,,R$51)=$E136),INDEX(Model_Inputs_Ref_Units,,R$52)),0)","v":0},{"$f":"IFERROR(SUMPRODUCT(--(INDEX(Model_Inputs_Ref_Units,,S$51)=$E136),INDEX(Model_Inputs_Ref_Units,,S$52)),0)","v":0},{"$f":"IFERROR(SUMPRODUCT(--(INDEX(Model_Inputs_Ref_Units,,T$51)=$E136),INDEX(Model_Inputs_Ref_Units,,T$52)),0)","v":0},{"$f":"IFERROR(SUMPRODUCT(--(INDEX(Model_Inputs_Ref_Units,,U$51)=$E136),INDEX(Model_Inputs_Ref_Units,,U$52)),0)","v":0},{"$f":"IFERROR(SUMPRODUCT(--(INDEX(Model_Inputs_Ref_Units,,V$51)=$E136),INDEX(Model_Inputs_Ref_Units,,V$52)),0)","v":0},{"$f":"IFERROR(SUMPRODUCT(--(INDEX(Model_Inputs_Ref_Units,,W$51)=$E136),INDEX(Model_Inputs_Ref_Units,,W$52)),0)","v":0},{"$f":"IFERROR(SUMPRODUCT(--(INDEX(Model_Inputs_Ref_Units,,X$51)=$E136),INDEX(Model_Inputs_Ref_Units,,X$52)),0)","v":0},{"$f":"IFERROR(SUMPRODUCT(--(INDEX(Model_Inputs_Ref_Units,,Y$51)=$E136),INDEX(Model_Inputs_Ref_Units,,Y$52)),0)","v":0},{"$f":"IFERROR(SUMPRODUCT(--(INDEX(Model_Inputs_Ref_Units,,Z$51)=$E136),INDEX(Model_Inputs_Ref_Units,,Z$52)),0)","v":0},{"$f":"IFERROR(SUMPRODUCT(--(INDEX(Model_Inputs_Ref_Units,,AA$51)=$E136),INDEX(Model_Inputs_Ref_Units,,AA$52)),0)","v":0},{"$f":"IFERROR(SUMPRODUCT(--(INDEX(Model_Inputs_Ref_Units,,AB$51)=$E136),INDEX(Model_Inputs_Ref_Units,,AB$52)),0)","v":0},{"$f":"IFERROR(SUMPRODUCT(--(INDEX(Model_Inputs_Ref_Units,,AC$51)=$E136),INDEX(Model_Inputs_Ref_Units,,AC$52)),0)","v":0},{"$f":"IFERROR(SUMPRODUCT(--(INDEX(Model_Inputs_Ref_Units,,AD$51)=$E136),INDEX(Model_Inputs_Ref_Units,,AD$52)),0)","v":0},{"$f":"IFERROR(SUMPRODUCT(--(INDEX(Model_Inputs_Ref_Units,,AE$51)=$E136),INDEX(Model_Inputs_Ref_Units,,AE$52)),0)","v":0},{"$f":"IFERROR(SUMPRODUCT(--(INDEX(Model_Inputs_Ref_Units,,AF$51)=$E136),INDEX(Model_Inputs_Ref_Units,,AF$52)),0)","v":0},{"$f":"IFERROR(SUMPRODUCT(--(INDEX(Model_Inputs_Ref_Units,,AG$51)=$E136),INDEX(Model_Inputs_Ref_Units,,AG$52)),0)","v":0},{"$f":"IFERROR(SUMPRODUCT(--(INDEX(Model_Inputs_Ref_Units,,AH$51)=$E136),INDEX(Model_Inputs_Ref_Units,,AH$52)),0)","v":0},{"$f":"IFERROR(SUMPRODUCT(--(INDEX(Model_Inputs_Ref_Units,,AI$51)=$E136),INDEX(Model_Inputs_Ref_Units,,AI$52)),0)","v":0},{"$f":"IFERROR(SUMPRODUCT(--(INDEX(Model_Inputs_Ref_Units,,AJ$51)=$E136),INDEX(Model_Inputs_Ref_Units,,AJ$52)),0)","v":0},{"$f":"IFERROR(SUMPRODUCT(--(INDEX(Model_Inputs_Ref_Units,,AK$51)=$E136),INDEX(Model_Inputs_Ref_Units,,AK$52)),0)","v":0},{"$f":"IFERROR(SUMPRODUCT(--(INDEX(Model_Inputs_Ref_Units,,AL$51)=$E136),INDEX(Model_Inputs_Ref_Units,,AL$52)),0)","v":0},{"$f":"IFERROR(SUMPRODUCT(--(INDEX(Model_Inputs_Ref_Units,,AM$51)=$E136),INDEX(Model_Inputs_Ref_Units,,AM$52)),0)","v":0},{"$f":"IFERROR(SUMPRODUCT(--(INDEX(Model_Inputs_Ref_Units,,AN$51)=$E136),INDEX(Model_Inputs_Ref_Units,,AN$52)),0)","v":0},{"$f":"IFERROR(SUMPRODUCT(--(INDEX(Model_Inputs_Ref_Units,,AO$51)=$E136),INDEX(Model_Inputs_Ref_Units,,AO$52)),0)","v":0},{"$f":"IFERROR(SUMPRODUCT(--(INDEX(Model_Inputs_Ref_Units,,AP$51)=$E136),INDEX(Model_Inputs_Ref_Units,,AP$52)),0)","v":0},{"$f":"IFERROR(SUMPRODUCT(--(INDEX(Model_Inputs_Ref_Units,,AQ$51)=$E136),INDEX(Model_Inputs_Ref_Units,,AQ$52)),0)","v":0},{"$f":"IFERROR(SUMPRODUCT(--(INDEX(Model_Inputs_Ref_Units,,AR$51)=$E136),INDEX(Model_Inputs_Ref_Units,,AR$52)),0)","v":0},{"$f":"IFERROR(SUMPRODUCT(--(INDEX(Model_Inputs_Ref_Units,,AS$51)=$E136),INDEX(Model_Inputs_Ref_Units,,AS$52)),0)","v":0},{"$f":"IFERROR(SUMPRODUCT(--(INDEX(Model_Inputs_Ref_Units,,AT$51)=$E136),INDEX(Model_Inputs_Ref_Units,,AT$52)),0)","v":0},{"$f":"IFERROR(SUMPRODUCT(--(INDEX(Model_Inputs_Ref_Units,,AU$51)=$E136),INDEX(Model_Inputs_Ref_Units,,AU$52)),0)","v":0},{"$f":"IFERROR(SUMPRODUCT(--(INDEX(Model_Inputs_Ref_Units,,AV$51)=$E136),INDEX(Model_Inputs_Ref_Units,,AV$52)),0)","v":0},{"$f":"IFERROR(SUMPRODUCT(--(INDEX(Model_Inputs_Ref_Units,,AW$51)=$E136),INDEX(Model_Inputs_Ref_Units,,AW$52)),0)","v":0},{"$f":"IFERROR(SUMPRODUCT(--(INDEX(Model_Inputs_Ref_Units,,AX$51)=$E136),INDEX(Model_Inputs_Ref_Units,,AX$52)),0)","v":0},{"$f":"IFERROR(SUMPRODUCT(--(INDEX(Model_Inputs_Ref_Units,,AY$51)=$E136),INDEX(Model_Inputs_Ref_Units,,AY$52)),0)","v":0},{"$f":"IFERROR(SUMPRODUCT(--(INDEX(Model_Inputs_Ref_Units,,AZ$51)=$E136),INDEX(Model_Inputs_Ref_Units,,AZ$52)),0)","v":0},{"$f":"IFERROR(SUMPRODUCT(--(INDEX(Model_Inputs_Ref_Units,,BA$51)=$E136),INDEX(Model_Inputs_Ref_Units,,BA$52)),0)","v":0},{"$f":"IFERROR(SUMPRODUCT(--(INDEX(Model_Inputs_Ref_Units,,BB$51)=$E136),INDEX(Model_Inputs_Ref_Units,,BB$52)),0)","v":0},{"$f":"IFERROR(SUMPRODUCT(--(INDEX(Model_Inputs_Ref_Units,,BC$51)=$E136),INDEX(Model_Inputs_Ref_Units,,BC$52)),0)","v":0},{"$f":"IFERROR(SUMPRODUCT(--(INDEX(Model_Inputs_Ref_Units,,BD$51)=$E136),INDEX(Model_Inputs_Ref_Units,,BD$52)),0)","v":0},{"$f":"IFERROR(SUMPRODUCT(--(INDEX(Model_Inputs_Ref_Units,,BE$51)=$E136),INDEX(Model_Inputs_Ref_Units,,BE$52)),0)","v":0},{"$f":"IFERROR(SUMPRODUCT(--(INDEX(Model_Inputs_Ref_Units,,BF$51)=$E136),INDEX(Model_Inputs_Ref_Units,,BF$52)),0)","v":0},{"$f":"IFERROR(SUMPRODUCT(--(INDEX(Model_Inputs_Ref_Units,,BG$51)=$E136),INDEX(Model_Inputs_Ref_Units,,BG$52)),0)","v":0},{"$f":"IFERROR(SUMPRODUCT(--(INDEX(Model_Inputs_Ref_Units,,BH$51)=$E136),INDEX(Model_Inputs_Ref_Units,,BH$52)),0)","v":0},{"$f":"IFERROR(SUMPRODUCT(--(INDEX(Model_Inputs_Ref_Units,,BI$51)=$E136),INDEX(Model_Inputs_Ref_Units,,BI$52)),0)","v":0},{"$f":"IFERROR(SUMPRODUCT(--(INDEX(Model_Inputs_Ref_Units,,BJ$51)=$E136),INDEX(Model_Inputs_Ref_Units,,BJ$52)),0)","v":0},{"$f":"IFERROR(SUMPRODUCT(--(INDEX(Model_Inputs_Ref_Units,,BK$51)=$E136),INDEX(Model_Inputs_Ref_Units,,BK$52)),0)","v":0},{"$f":"IFERROR(SUMPRODUCT(--(INDEX(Model_Inputs_Ref_Units,,BL$51)=$E136),INDEX(Model_Inputs_Ref_Units,,BL$52)),0)","v":0},{"$f":"IFERROR(SUMPRODUCT(--(INDEX(Model_Inputs_Ref_Units,,BM$51)=$E136),INDEX(Model_Inputs_Ref_Units,,BM$52)),0)","v":0},{"$f":"IFERROR(SUMPRODUCT(--(INDEX(Model_Inputs_Ref_Units,,BN$51)=$E136),INDEX(Model_Inputs_Ref_Units,,BN$52)),0)","v":0},{"$f":"IFERROR(SUMPRODUCT(--(INDEX(Model_Inputs_Ref_Units,,BO$51)=$E136),INDEX(Model_Inputs_Ref_Units,,BO$52)),0)","v":0},{"$f":"IFERROR(SUMPRODUCT(--(INDEX(Model_Inputs_Ref_Units,,BP$51)=$E136),INDEX(Model_Inputs_Ref_Units,,BP$52)),0)","v":0},{"$f":"IFERROR(SUMPRODUCT(--(INDEX(Model_Inputs_Ref_Units,,BQ$51)=$E136),INDEX(Model_Inputs_Ref_Units,,BQ$52)),0)","v":0},{"$f":"IFERROR(SUMPRODUCT(--(INDEX(Model_Inputs_Ref_Units,,BR$51)=$E136),INDEX(Model_Inputs_Ref_Units,,BR$52)),0)","v":0},{"$f":"IFERROR(SUMPRODUCT(--(INDEX(Model_Inputs_Ref_Units,,BS$51)=$E136),INDEX(Model_Inputs_Ref_Units,,BS$52)),0)","v":0},{"$f":"IFERROR(SUMPRODUCT(--(INDEX(Model_Inputs_Ref_Units,,BT$51)=$E136),INDEX(Model_Inputs_Ref_Units,,BT$52)),0)","v":0},{"$f":"IFERROR(SUMPRODUCT(--(INDEX(Model_Inputs_Ref_Units,,BU$51)=$E136),INDEX(Model_Inputs_Ref_Units,,BU$52)),0)","v":0},{"$f":"IFERROR(SUMPRODUCT(--(INDEX(Model_Inputs_Ref_Units,,BV$51)=$E136),INDEX(Model_Inputs_Ref_Units,,BV$52)),0)","v":0},{"$f":"IFERROR(SUMPRODUCT(--(INDEX(Model_Inputs_Ref_Units,,BW$51)=$E136),INDEX(Model_Inputs_Ref_Units,,BW$52)),0)","v":0},{"$f":"IFERROR(SUMPRODUCT(--(INDEX(Model_Inputs_Ref_Units,,BX$51)=$E136),INDEX(Model_Inputs_Ref_Units,,BX$52)),0)","v":0},{"$f":"IFERROR(SUMPRODUCT(--(INDEX(Model_Inputs_Ref_Units,,BY$51)=$E136),INDEX(Model_Inputs_Ref_Units,,BY$52)),0)","v":0},{"$f":"IFERROR(SUMPRODUCT(--(INDEX(Model_Inputs_Ref_Units,,BZ$51)=$E136),INDEX(Model_Inputs_Ref_Units,,BZ$52)),0)","v":0},{"$f":"IFERROR(SUMPRODUCT(--(INDEX(Model_Inputs_Ref_Units,,CA$51)=$E136),INDEX(Model_Inputs_Ref_Units,,CA$52)),0)","v":0},{"$f":"IFERROR(SUMPRODUCT(--(INDEX(Model_Inputs_Ref_Units,,CB$51)=$E136),INDEX(Model_Inputs_Ref_Units,,CB$52)),0)","v":0},{"$f":"IFERROR(SUMPRODUCT(--(INDEX(Model_Inputs_Ref_Units,,CC$51)=$E136),INDEX(Model_Inputs_Ref_Units,,CC$52)),0)","v":0},{"$f":"IFERROR(SUMPRODUCT(--(INDEX(Model_Inputs_Ref_Units,,CD$51)=$E136),INDEX(Model_Inputs_Ref_Units,,CD$52)),0)","v":0},{"$f":"IFERROR(SUMPRODUCT(--(INDEX(Model_Inputs_Ref_Units,,CE$51)=$E136),INDEX(Model_Inputs_Ref_Units,,CE$52)),0)","v":0},{"$f":"IFERROR(SUMPRODUCT(--(INDEX(Model_Inputs_Ref_Units,,CF$51)=$E136),INDEX(Model_Inputs_Ref_Units,,CF$52)),0)","v":0},{"$f":"IFERROR(SUMPRODUCT(--(INDEX(Model_Inputs_Ref_Units,,CG$51)=$E136),INDEX(Model_Inputs_Ref_Units,,CG$52)),0)","v":0},{"$f":"IFERROR(SUMPRODUCT(--(INDEX(Model_Inputs_Ref_Units,,CH$51)=$E136),INDEX(Model_Inputs_Ref_Units,,CH$52)),0)","v":0},{"$f":"IFERROR(SUMPRODUCT(--(INDEX(Model_Inputs_Ref_Units,,CI$51)=$E136),INDEX(Model_Inputs_Ref_Units,,CI$52)),0)","v":0},{"$f":"IFERROR(SUMPRODUCT(--(INDEX(Model_Inputs_Ref_Units,,CJ$51)=$E136),INDEX(Model_Inputs_Ref_Units,,CJ$52)),0)","v":0},{"$f":"IFERROR(SUMPRODUCT(--(INDEX(Model_Inputs_Ref_Units,,CK$51)=$E136),INDEX(Model_Inputs_Ref_Units,,CK$52)),0)","v":0},{"$f":"IFERROR(SUMPRODUCT(--(INDEX(Model_Inputs_Ref_Units,,CL$51)=$E136),INDEX(Model_Inputs_Ref_Units,,CL$52)),0)","v":0},{"$f":"IFERROR(SUMPRODUCT(--(INDEX(Model_Inputs_Ref_Units,,CM$51)=$E136),INDEX(Model_Inputs_Ref_Units,,CM$52)),0)","v":0},{"$f":"IFERROR(SUMPRODUCT(--(INDEX(Model_Inputs_Ref_Units,,CN$51)=$E136),INDEX(Model_Inputs_Ref_Units,,CN$52)),0)","v":0},{"$f":"IFERROR(SUMPRODUCT(--(INDEX(Model_Inputs_Ref_Units,,CO$51)=$E136),INDEX(Model_Inputs_Ref_Units,,CO$52)),0)","v":0},{"$f":"IFERROR(SUMPRODUCT(--(INDEX(Model_Inputs_Ref_Units,,CP$51)=$E136),INDEX(Model_Inputs_Ref_Units,,CP$52)),0)","v":0},{"$f":"IFERROR(SUMPRODUCT(--(INDEX(Model_Inputs_Ref_Units,,CQ$51)=$E136),INDEX(Model_Inputs_Ref_Units,,CQ$52)),0)","v":0},{"$f":"IFERROR(SUMPRODUCT(--(INDEX(Model_Inputs_Ref_Units,,CR$51)=$E136),INDEX(Model_Inputs_Ref_Units,,CR$52)),0)","v":0},{"$f":"IFERROR(SUMPRODUCT(--(INDEX(Model_Inputs_Ref_Units,,CS$51)=$E136),INDEX(Model_Inputs_Ref_Units,,CS$52)),0)","v":0},{"$f":"IFERROR(SUMPRODUCT(--(INDEX(Model_Inputs_Ref_Units,,CT$51)=$E136),INDEX(Model_Inputs_Ref_Units,,CT$52)),0)","v":0},{"$f":"IFERROR(SUMPRODUCT(--(INDEX(Model_Inputs_Ref_Units,,CU$51)=$E136),INDEX(Model_Inputs_Ref_Units,,CU$52)),0)","v":0},{"$f":"IFERROR(SUMPRODUCT(--(INDEX(Model_Inputs_Ref_Units,,CV$51)=$E136),INDEX(Model_Inputs_Ref_Units,,CV$52)),0)","v":0},{"$f":"IFERROR(SUMPRODUCT(--(INDEX(Model_Inputs_Ref_Units,,CW$51)=$E136),INDEX(Model_Inputs_Ref_Units,,CW$52)),0)","v":0},{"$f":"IFERROR(SUMPRODUCT(--(INDEX(Model_Inputs_Ref_Units,,CX$51)=$E136),INDEX(Model_Inputs_Ref_Units,,CX$52)),0)","v":0},{"$f":"IFERROR(SUMPRODUCT(--(INDEX(Model_Inputs_Ref_Units,,CY$51)=$E136),INDEX(Model_Inputs_Ref_Units,,CY$52)),0)","v":0},{"$f":"IFERROR(SUMPRODUCT(--(INDEX(Model_Inputs_Ref_Units,,CZ$51)=$E136),INDEX(Model_Inputs_Ref_Units,,CZ$52)),0)","v":0},{"$f":"IFERROR(SUMPRODUCT(--(INDEX(Model_Inputs_Ref_Units,,DA$51)=$E136),INDEX(Model_Inputs_Ref_Units,,DA$52)),0)","v":0},{"$f":"IFERROR(SUMPRODUCT(--(INDEX(Model_Inputs_Ref_Units,,DB$51)=$E136),INDEX(Model_Inputs_Ref_Units,,DB$52)),0)","v":0},{"$f":"IFERROR(SUMPRODUCT(--(INDEX(Model_Inputs_Ref_Units,,DC$51)=$E136),INDEX(Model_Inputs_Ref_Units,,DC$52)),0)","v":0},{"$f":"IFERROR(SUMPRODUCT(--(INDEX(Model_Inputs_Ref_Units,,DD$51)=$E136),INDEX(Model_Inputs_Ref_Units,,DD$52)),0)","v":0},{"$f":"IFERROR(SUMPRODUCT(--(INDEX(Model_Inputs_Ref_Units,,DE$51)=$E136),INDEX(Model_Inputs_Ref_Units,,DE$52)),0)","v":0},{"$f":"IFERROR(SUMPRODUCT(--(INDEX(Model_Inputs_Ref_Units,,DF$51)=$E136),INDEX(Model_Inputs_Ref_Units,,DF$52)),0)","v":0}]
[null,null,{"$error":"#DIV/0!"},null,{"$f":"IFERROR(INDEX(Ref_Data,1,F137),\"\")","v":""},84,0,0,0,0,{"$f":"IFERROR(SUMPRODUCT(--(INDEX(Model_Inputs_Ref_Units,,K$51)=$E137),INDEX(Model_Inputs_Ref_Units,,K$52)),0)","v":0},{"$f":"IFERROR(SUMPRODUCT(--(INDEX(Model_Inputs_Ref_Units,,L$51)=$E137),INDEX(Model_Inputs_Ref_Units,,L$52)),0)","v":0},{"$f":"IFERROR(SUMPRODUCT(--(INDEX(Model_Inputs_Ref_Units,,M$51)=$E137),INDEX(Model_Inputs_Ref_Units,,M$52)),0)","v":0},{"$f":"IFERROR(SUMPRODUCT(--(INDEX(Model_Inputs_Ref_Units,,N$51)=$E137),INDEX(Model_Inputs_Ref_Units,,N$52)),0)","v":0},{"$f":"IFERROR(SUMPRODUCT(--(INDEX(Model_Inputs_Ref_Units,,O$51)=$E137),INDEX(Model_Inputs_Ref_Units,,O$52)),0)","v":0},{"$f":"IFERROR(SUMPRODUCT(--(INDEX(Model_Inputs_Ref_Units,,P$51)=$E137),INDEX(Model_Inputs_Ref_Units,,P$52)),0)","v":0},{"$f":"IFERROR(SUMPRODUCT(--(INDEX(Model_Inputs_Ref_Units,,Q$51)=$E137),INDEX(Model_Inputs_Ref_Units,,Q$52)),0)","v":0},{"$f":"IFERROR(SUMPRODUCT(--(INDEX(Model_Inputs_Ref_Units,,R$51)=$E137),INDEX(Model_Inputs_Ref_Units,,R$52)),0)","v":0},{"$f":"IFERROR(SUMPRODUCT(--(INDEX(Model_Inputs_Ref_Units,,S$51)=$E137),INDEX(Model_Inputs_Ref_Units,,S$52)),0)","v":0},{"$f":"IFERROR(SUMPRODUCT(--(INDEX(Model_Inputs_Ref_Units,,T$51)=$E137),INDEX(Model_Inputs_Ref_Units,,T$52)),0)","v":0},{"$f":"IFERROR(SUMPRODUCT(--(INDEX(Model_Inputs_Ref_Units,,U$51)=$E137),INDEX(Model_Inputs_Ref_Units,,U$52)),0)","v":0},{"$f":"IFERROR(SUMPRODUCT(--(INDEX(Model_Inputs_Ref_Units,,V$51)=$E137),INDEX(Model_Inputs_Ref_Units,,V$52)),0)","v":0},{"$f":"IFERROR(SUMPRODUCT(--(INDEX(Model_Inputs_Ref_Units,,W$51)=$E137),INDEX(Model_Inputs_Ref_Units,,W$52)),0)","v":0},{"$f":"IFERROR(SUMPRODUCT(--(INDEX(Model_Inputs_Ref_Units,,X$51)=$E137),INDEX(Model_Inputs_Ref_Units,,X$52)),0)","v":0},{"$f":"IFERROR(SUMPRODUCT(--(INDEX(Model_Inputs_Ref_Units,,Y$51)=$E137),INDEX(Model_Inputs_Ref_Units,,Y$52)),0)","v":0},{"$f":"IFERROR(SUMPRODUCT(--(INDEX(Model_Inputs_Ref_Units,,Z$51)=$E137),INDEX(Model_Inputs_Ref_Units,,Z$52)),0)","v":0},{"$f":"IFERROR(SUMPRODUCT(--(INDEX(Model_Inputs_Ref_Units,,AA$51)=$E137),INDEX(Model_Inputs_Ref_Units,,AA$52)),0)","v":0},{"$f":"IFERROR(SUMPRODUCT(--(INDEX(Model_Inputs_Ref_Units,,AB$51)=$E137),INDEX(Model_Inputs_Ref_Units,,AB$52)),0)","v":0},{"$f":"IFERROR(SUMPRODUCT(--(INDEX(Model_Inputs_Ref_Units,,AC$51)=$E137),INDEX(Model_Inputs_Ref_Units,,AC$52)),0)","v":0},{"$f":"IFERROR(SUMPRODUCT(--(INDEX(Model_Inputs_Ref_Units,,AD$51)=$E137),INDEX(Model_Inputs_Ref_Units,,AD$52)),0)","v":0},{"$f":"IFERROR(SUMPRODUCT(--(INDEX(Model_Inputs_Ref_Units,,AE$51)=$E137),INDEX(Model_Inputs_Ref_Units,,AE$52)),0)","v":0},{"$f":"IFERROR(SUMPRODUCT(--(INDEX(Model_Inputs_Ref_Units,,AF$51)=$E137),INDEX(Model_Inputs_Ref_Units,,AF$52)),0)","v":0},{"$f":"IFERROR(SUMPRODUCT(--(INDEX(Model_Inputs_Ref_Units,,AG$51)=$E137),INDEX(Model_Inputs_Ref_Units,,AG$52)),0)","v":0},{"$f":"IFERROR(SUMPRODUCT(--(INDEX(Model_Inputs_Ref_Units,,AH$51)=$E137),INDEX(Model_Inputs_Ref_Units,,AH$52)),0)","v":0},{"$f":"IFERROR(SUMPRODUCT(--(INDEX(Model_Inputs_Ref_Units,,AI$51)=$E137),INDEX(Model_Inputs_Ref_Units,,AI$52)),0)","v":0},{"$f":"IFERROR(SUMPRODUCT(--(INDEX(Model_Inputs_Ref_Units,,AJ$51)=$E137),INDEX(Model_Inputs_Ref_Units,,AJ$52)),0)","v":0},{"$f":"IFERROR(SUMPRODUCT(--(INDEX(Model_Inputs_Ref_Units,,AK$51)=$E137),INDEX(Model_Inputs_Ref_Units,,AK$52)),0)","v":0},{"$f":"IFERROR(SUMPRODUCT(--(INDEX(Model_Inputs_Ref_Units,,AL$51)=$E137),INDEX(Model_Inputs_Ref_Units,,AL$52)),0)","v":0},{"$f":"IFERROR(SUMPRODUCT(--(INDEX(Model_Inputs_Ref_Units,,AM$51)=$E137),INDEX(Model_Inputs_Ref_Units,,AM$52)),0)","v":0},{"$f":"IFERROR(SUMPRODUCT(--(INDEX(Model_Inputs_Ref_Units,,AN$51)=$E137),INDEX(Model_Inputs_Ref_Units,,AN$52)),0)","v":0},{"$f":"IFERROR(SUMPRODUCT(--(INDEX(Model_Inputs_Ref_Units,,AO$51)=$E137),INDEX(Model_Inputs_Ref_Units,,AO$52)),0)","v":0},{"$f":"IFERROR(SUMPRODUCT(--(INDEX(Model_Inputs_Ref_Units,,AP$51)=$E137),INDEX(Model_Inputs_Ref_Units,,AP$52)),0)","v":0},{"$f":"IFERROR(SUMPRODUCT(--(INDEX(Model_Inputs_Ref_Units,,AQ$51)=$E137),INDEX(Model_Inputs_Ref_Units,,AQ$52)),0)","v":0},{"$f":"IFERROR(SUMPRODUCT(--(INDEX(Model_Inputs_Ref_Units,,AR$51)=$E137),INDEX(Model_Inputs_Ref_Units,,AR$52)),0)","v":0},{"$f":"IFERROR(SUMPRODUCT(--(INDEX(Model_Inputs_Ref_Units,,AS$51)=$E137),INDEX(Model_Inputs_Ref_Units,,AS$52)),0)","v":0},{"$f":"IFERROR(SUMPRODUCT(--(INDEX(Model_Inputs_Ref_Units,,AT$51)=$E137),INDEX(Model_Inputs_Ref_Units,,AT$52)),0)","v":0},{"$f":"IFERROR(SUMPRODUCT(--(INDEX(Model_Inputs_Ref_Units,,AU$51)=$E137),INDEX(Model_Inputs_Ref_Units,,AU$52)),0)","v":0},{"$f":"IFERROR(SUMPRODUCT(--(INDEX(Model_Inputs_Ref_Units,,AV$51)=$E137),INDEX(Model_Inputs_Ref_Units,,AV$52)),0)","v":0},{"$f":"IFERROR(SUMPRODUCT(--(INDEX(Model_Inputs_Ref_Units,,AW$51)=$E137),INDEX(Model_Inputs_Ref_Units,,AW$52)),0)","v":0},{"$f":"IFERROR(SUMPRODUCT(--(INDEX(Model_Inputs_Ref_Units,,AX$51)=$E137),INDEX(Model_Inputs_Ref_Units,,AX$52)),0)","v":0},{"$f":"IFERROR(SUMPRODUCT(--(INDEX(Model_Inputs_Ref_Units,,AY$51)=$E137),INDEX(Model_Inputs_Ref_Units,,AY$52)),0)","v":0},{"$f":"IFERROR(SUMPRODUCT(--(INDEX(Model_Inputs_Ref_Units,,AZ$51)=$E137),INDEX(Model_Inputs_Ref_Units,,AZ$52)),0)","v":0},{"$f":"IFERROR(SUMPRODUCT(--(INDEX(Model_Inputs_Ref_Units,,BA$51)=$E137),INDEX(Model_Inputs_Ref_Units,,BA$52)),0)","v":0},{"$f":"IFERROR(SUMPRODUCT(--(INDEX(Model_Inputs_Ref_Units,,BB$51)=$E137),INDEX(Model_Inputs_Ref_Units,,BB$52)),0)","v":0},{"$f":"IFERROR(SUMPRODUCT(--(INDEX(Model_Inputs_Ref_Units,,BC$51)=$E137),INDEX(Model_Inputs_Ref_Units,,BC$52)),0)","v":0},{"$f":"IFERROR(SUMPRODUCT(--(INDEX(Model_Inputs_Ref_Units,,BD$51)=$E137),INDEX(Model_Inputs_Ref_Units,,BD$52)),0)","v":0},{"$f":"IFERROR(SUMPRODUCT(--(INDEX(Model_Inputs_Ref_Units,,BE$51)=$E137),INDEX(Model_Inputs_Ref_Units,,BE$52)),0)","v":0},{"$f":"IFERROR(SUMPRODUCT(--(INDEX(Model_Inputs_Ref_Units,,BF$51)=$E137),INDEX(Model_Inputs_Ref_Units,,BF$52)),0)","v":0},{"$f":"IFERROR(SUMPRODUCT(--(INDEX(Model_Inputs_Ref_Units,,BG$51)=$E137),INDEX(Model_Inputs_Ref_Units,,BG$52)),0)","v":0},{"$f":"IFERROR(SUMPRODUCT(--(INDEX(Model_Inputs_Ref_Units,,BH$51)=$E137),INDEX(Model_Inputs_Ref_Units,,BH$52)),0)","v":0},{"$f":"IFERROR(SUMPRODUCT(--(INDEX(Model_Inputs_Ref_Units,,BI$51)=$E137),INDEX(Model_Inputs_Ref_Units,,BI$52)),0)","v":0},{"$f":"IFERROR(SUMPRODUCT(--(INDEX(Model_Inputs_Ref_Units,,BJ$51)=$E137),INDEX(Model_Inputs_Ref_Units,,BJ$52)),0)","v":0},{"$f":"IFERROR(SUMPRODUCT(--(INDEX(Model_Inputs_Ref_Units,,BK$51)=$E137),INDEX(Model_Inputs_Ref_Units,,BK$52)),0)","v":0},{"$f":"IFERROR(SUMPRODUCT(--(INDEX(Model_Inputs_Ref_Units,,BL$51)=$E137),INDEX(Model_Inputs_Ref_Units,,BL$52)),0)","v":0},{"$f":"IFERROR(SUMPRODUCT(--(INDEX(Model_Inputs_Ref_Units,,BM$51)=$E137),INDEX(Model_Inputs_Ref_Units,,BM$52)),0)","v":0},{"$f":"IFERROR(SUMPRODUCT(--(INDEX(Model_Inputs_Ref_Units,,BN$51)=$E137),INDEX(Model_Inputs_Ref_Units,,BN$52)),0)","v":0},{"$f":"IFERROR(SUMPRODUCT(--(INDEX(Model_Inputs_Ref_Units,,BO$51)=$E137),INDEX(Model_Inputs_Ref_Units,,BO$52)),0)","v":0},{"$f":"IFERROR(SUMPRODUCT(--(INDEX(Model_Inputs_Ref_Units,,BP$51)=$E137),INDEX(Model_Inputs_Ref_Units,,BP$52)),0)","v":0},{"$f":"IFERROR(SUMPRODUCT(--(INDEX(Model_Inputs_Ref_Units,,BQ$51)=$E137),INDEX(Model_Inputs_Ref_Units,,BQ$52)),0)","v":0},{"$f":"IFERROR(SUMPRODUCT(--(INDEX(Model_Inputs_Ref_Units,,BR$51)=$E137),INDEX(Model_Inputs_Ref_Units,,BR$52)),0)","v":0},{"$f":"IFERROR(SUMPRODUCT(--(INDEX(Model_Inputs_Ref_Units,,BS$51)=$E137),INDEX(Model_Inputs_Ref_Units,,BS$52)),0)","v":0},{"$f":"IFERROR(SUMPRODUCT(--(INDEX(Model_Inputs_Ref_Units,,BT$51)=$E137),INDEX(Model_Inputs_Ref_Units,,BT$52)),0)","v":0},{"$f":"IFERROR(SUMPRODUCT(--(INDEX(Model_Inputs_Ref_Units,,BU$51)=$E137),INDEX(Model_Inputs_Ref_Units,,BU$52)),0)","v":0},{"$f":"IFERROR(SUMPRODUCT(--(INDEX(Model_Inputs_Ref_Units,,BV$51)=$E137),INDEX(Model_Inputs_Ref_Units,,BV$52)),0)","v":0},{"$f":"IFERROR(SUMPRODUCT(--(INDEX(Model_Inputs_Ref_Units,,BW$51)=$E137),INDEX(Model_Inputs_Ref_Units,,BW$52)),0)","v":0},{"$f":"IFERROR(SUMPRODUCT(--(INDEX(Model_Inputs_Ref_Units,,BX$51)=$E137),INDEX(Model_Inputs_Ref_Units,,BX$52)),0)","v":0},{"$f":"IFERROR(SUMPRODUCT(--(INDEX(Model_Inputs_Ref_Units,,BY$51)=$E137),INDEX(Model_Inputs_Ref_Units,,BY$52)),0)","v":0},{"$f":"IFERROR(SUMPRODUCT(--(INDEX(Model_Inputs_Ref_Units,,BZ$51)=$E137),INDEX(Model_Inputs_Ref_Units,,BZ$52)),0)","v":0},{"$f":"IFERROR(SUMPRODUCT(--(INDEX(Model_Inputs_Ref_Units,,CA$51)=$E137),INDEX(Model_Inputs_Ref_Units,,CA$52)),0)","v":0},{"$f":"IFERROR(SUMPRODUCT(--(INDEX(Model_Inputs_Ref_Units,,CB$51)=$E137),INDEX(Model_Inputs_Ref_Units,,CB$52)),0)","v":0},{"$f":"IFERROR(SUMPRODUCT(--(INDEX(Model_Inputs_Ref_Units,,CC$51)=$E137),INDEX(Model_Inputs_Ref_Units,,CC$52)),0)","v":0},{"$f":"IFERROR(SUMPRODUCT(--(INDEX(Model_Inputs_Ref_Units,,CD$51)=$E137),INDEX(Model_Inputs_Ref_Units,,CD$52)),0)","v":0},{"$f":"IFERROR(SUMPRODUCT(--(INDEX(Model_Inputs_Ref_Units,,CE$51)=$E137),INDEX(Model_Inputs_Ref_Units,,CE$52)),0)","v":0},{"$f":"IFERROR(SUMPRODUCT(--(INDEX(Model_Inputs_Ref_Units,,CF$51)=$E137),INDEX(Model_Inputs_Ref_Units,,CF$52)),0)","v":0},{"$f":"IFERROR(SUMPRODUCT(--(INDEX(Model_Inputs_Ref_Units,,CG$51)=$E137),INDEX(Model_Inputs_Ref_Units,,CG$52)),0)","v":0},{"$f":"IFERROR(SUMPRODUCT(--(INDEX(Model_Inputs_Ref_Units,,CH$51)=$E137),INDEX(Model_Inputs_Ref_Units,,CH$52)),0)","v":0},{"$f":"IFERROR(SUMPRODUCT(--(INDEX(Model_Inputs_Ref_Units,,CI$51)=$E137),INDEX(Model_Inputs_Ref_Units,,CI$52)),0)","v":0},{"$f":"IFERROR(SUMPRODUCT(--(INDEX(Model_Inputs_Ref_Units,,CJ$51)=$E137),INDEX(Model_Inputs_Ref_Units,,CJ$52)),0)","v":0},{"$f":"IFERROR(SUMPRODUCT(--(INDEX(Model_Inputs_Ref_Units,,CK$51)=$E137),INDEX(Model_Inputs_Ref_Units,,CK$52)),0)","v":0},{"$f":"IFERROR(SUMPRODUCT(--(INDEX(Model_Inputs_Ref_Units,,CL$51)=$E137),INDEX(Model_Inputs_Ref_Units,,CL$52)),0)","v":0},{"$f":"IFERROR(SUMPRODUCT(--(INDEX(Model_Inputs_Ref_Units,,CM$51)=$E137),INDEX(Model_Inputs_Ref_Units,,CM$52)),0)","v":0},{"$f":"IFERROR(SUMPRODUCT(--(INDEX(Model_Inputs_Ref_Units,,CN$51)=$E137),INDEX(Model_Inputs_Ref_Units,,CN$52)),0)","v":0},{"$f":"IFERROR(SUMPRODUCT(--(INDEX(Model_Inputs_Ref_Units,,CO$51)=$E137),INDEX(Model_Inputs_Ref_Units,,CO$52)),0)","v":0},{"$f":"IFERROR(SUMPRODUCT(--(INDEX(Model_Inputs_Ref_Units,,CP$51)=$E137),INDEX(Model_Inputs_Ref_Units,,CP$52)),0)","v":0},{"$f":"IFERROR(SUMPRODUCT(--(INDEX(Model_Inputs_Ref_Units,,CQ$51)=$E137),INDEX(Model_Inputs_Ref_Units,,CQ$52)),0)","v":0},{"$f":"IFERROR(SUMPRODUCT(--(INDEX(Model_Inputs_Ref_Units,,CR$51)=$E137),INDEX(Model_Inputs_Ref_Units,,CR$52)),0)","v":0},{"$f":"IFERROR(SUMPRODUCT(--(INDEX(Model_Inputs_Ref_Units,,CS$51)=$E137),INDEX(Model_Inputs_Ref_Units,,CS$52)),0)","v":0},{"$f":"IFERROR(SUMPRODUCT(--(INDEX(Model_Inputs_Ref_Units,,CT$51)=$E137),INDEX(Model_Inputs_Ref_Units,,CT$52)),0)","v":0},{"$f":"IFERROR(SUMPRODUCT(--(INDEX(Model_Inputs_Ref_Units,,CU$51)=$E137),INDEX(Model_Inputs_Ref_Units,,CU$52)),0)","v":0},{"$f":"IFERROR(SUMPRODUCT(--(INDEX(Model_Inputs_Ref_Units,,CV$51)=$E137),INDEX(Model_Inputs_Ref_Units,,CV$52)),0)","v":0},{"$f":"IFERROR(SUMPRODUCT(--(INDEX(Model_Inputs_Ref_Units,,CW$51)=$E137),INDEX(Model_Inputs_Ref_Units,,CW$52)),0)","v":0},{"$f":"IFERROR(SUMPRODUCT(--(INDEX(Model_Inputs_Ref_Units,,CX$51)=$E137),INDEX(Model_Inputs_Ref_Units,,CX$52)),0)","v":0},{"$f":"IFERROR(SUMPRODUCT(--(INDEX(Model_Inputs_Ref_Units,,CY$51)=$E137),INDEX(Model_Inputs_Ref_Units,,CY$52)),0)","v":0},{"$f":"IFERROR(SUMPRODUCT(--(INDEX(Model_Inputs_Ref_Units,,CZ$51)=$E137),INDEX(Model_Inputs_Ref_Units,,CZ$52)),0)","v":0},{"$f":"IFERROR(SUMPRODUCT(--(INDEX(Model_Inputs_Ref_Units,,DA$51)=$E137),INDEX(Model_Inputs_Ref_Units,,DA$52)),0)","v":0},{"$f":"IFERROR(SUMPRODUCT(--(INDEX(Model_Inputs_Ref_Units,,DB$51)=$E137),INDEX(Model_Inputs_Ref_Units,,DB$52)),0)","v":0},{"$f":"IFERROR(SUMPRODUCT(--(INDEX(Model_Inputs_Ref_Units,,DC$51)=$E137),INDEX(Model_Inputs_Ref_Units,,DC$52)),0)","v":0},{"$f":"IFERROR(SUMPRODUCT(--(INDEX(Model_Inputs_Ref_Units,,DD$51)=$E137),INDEX(Model_Inputs_Ref_Units,,DD$52)),0)","v":0},{"$f":"IFERROR(SUMPRODUCT(--(INDEX(Model_Inputs_Ref_Units,,DE$51)=$E137),INDEX(Model_Inputs_Ref_Units,,DE$52)),0)","v":0},{"$f":"IFERROR(SUMPRODUCT(--(INDEX(Model_Inputs_Ref_Units,,DF$51)=$E137),INDEX(Model_Inputs_Ref_Units,,DF$52)),0)","v":0}]
[null,null,{"$error":"#DIV/0!"},null,{"$f":"IFERROR(INDEX(Ref_Data,1,F138),\"\")","v":""},85,0,0,0,0,{"$f":"IFERROR(SUMPRODUCT(--(INDEX(Model_Inputs_Ref_Units,,K$51)=$E138),INDEX(Model_Inputs_Ref_Units,,K$52)),0)","v":0},{"$f":"IFERROR(SUMPRODUCT(--(INDEX(Model_Inputs_Ref_Units,,L$51)=$E138),INDEX(Model_Inputs_Ref_Units,,L$52)),0)","v":0},{"$f":"IFERROR(SUMPRODUCT(--(INDEX(Model_Inputs_Ref_Units,,M$51)=$E138),INDEX(Model_Inputs_Ref_Units,,M$52)),0)","v":0},{"$f":"IFERROR(SUMPRODUCT(--(INDEX(Model_Inputs_Ref_Units,,N$51)=$E138),INDEX(Model_Inputs_Ref_Units,,N$52)),0)","v":0},{"$f":"IFERROR(SUMPRODUCT(--(INDEX(Model_Inputs_Ref_Units,,O$51)=$E138),INDEX(Model_Inputs_Ref_Units,,O$52)),0)","v":0},{"$f":"IFERROR(SUMPRODUCT(--(INDEX(Model_Inputs_Ref_Units,,P$51)=$E138),INDEX(Model_Inputs_Ref_Units,,P$52)),0)","v":0},{"$f":"IFERROR(SUMPRODUCT(--(INDEX(Model_Inputs_Ref_Units,,Q$51)=$E138),INDEX(Model_Inputs_Ref_Units,,Q$52)),0)","v":0},{"$f":"IFERROR(SUMPRODUCT(--(INDEX(Model_Inputs_Ref_Units,,R$51)=$E138),INDEX(Model_Inputs_Ref_Units,,R$52)),0)","v":0},{"$f":"IFERROR(SUMPRODUCT(--(INDEX(Model_Inputs_Ref_Units,,S$51)=$E138),INDEX(Model_Inputs_Ref_Units,,S$52)),0)","v":0},{"$f":"IFERROR(SUMPRODUCT(--(INDEX(Model_Inputs_Ref_Units,,T$51)=$E138),INDEX(Model_Inputs_Ref_Units,,T$52)),0)","v":0},{"$f":"IFERROR(SUMPRODUCT(--(INDEX(Model_Inputs_Ref_Units,,U$51)=$E138),INDEX(Model_Inputs_Ref_Units,,U$52)),0)","v":0},{"$f":"IFERROR(SUMPRODUCT(--(INDEX(Model_Inputs_Ref_Units,,V$51)=$E138),INDEX(Model_Inputs_Ref_Units,,V$52)),0)","v":0},{"$f":"IFERROR(SUMPRODUCT(--(INDEX(Model_Inputs_Ref_Units,,W$51)=$E138),INDEX(Model_Inputs_Ref_Units,,W$52)),0)","v":0},{"$f":"IFERROR(SUMPRODUCT(--(INDEX(Model_Inputs_Ref_Units,,X$51)=$E138),INDEX(Model_Inputs_Ref_Units,,X$52)),0)","v":0},{"$f":"IFERROR(SUMPRODUCT(--(INDEX(Model_Inputs_Ref_Units,,Y$51)=$E138),INDEX(Model_Inputs_Ref_Units,,Y$52)),0)","v":0},{"$f":"IFERROR(SUMPRODUCT(--(INDEX(Model_Inputs_Ref_Units,,Z$51)=$E138),INDEX(Model_Inputs_Ref_Units,,Z$52)),0)","v":0},{"$f":"IFERROR(SUMPRODUCT(--(INDEX(Model_Inputs_Ref_Units,,AA$51)=$E138),INDEX(Model_Inputs_Ref_Units,,AA$52)),0)","v":0},{"$f":"IFERROR(SUMPRODUCT(--(INDEX(Model_Inputs_Ref_Units,,AB$51)=$E138),INDEX(Model_Inputs_Ref_Units,,AB$52)),0)","v":0},{"$f":"IFERROR(SUMPRODUCT(--(INDEX(Model_Inputs_Ref_Units,,AC$51)=$E138),INDEX(Model_Inputs_Ref_Units,,AC$52)),0)","v":0},{"$f":"IFERROR(SUMPRODUCT(--(INDEX(Model_Inputs_Ref_Units,,AD$51)=$E138),INDEX(Model_Inputs_Ref_Units,,AD$52)),0)","v":0},{"$f":"IFERROR(SUMPRODUCT(--(INDEX(Model_Inputs_Ref_Units,,AE$51)=$E138),INDEX(Model_Inputs_Ref_Units,,AE$52)),0)","v":0},{"$f":"IFERROR(SUMPRODUCT(--(INDEX(Model_Inputs_Ref_Units,,AF$51)=$E138),INDEX(Model_Inputs_Ref_Units,,AF$52)),0)","v":0},{"$f":"IFERROR(SUMPRODUCT(--(INDEX(Model_Inputs_Ref_Units,,AG$51)=$E138),INDEX(Model_Inputs_Ref_Units,,AG$52)),0)","v":0},{"$f":"IFERROR(SUMPRODUCT(--(INDEX(Model_Inputs_Ref_Units,,AH$51)=$E138),INDEX(Model_Inputs_Ref_Units,,AH$52)),0)","v":0},{"$f":"IFERROR(SUMPRODUCT(--(INDEX(Model_Inputs_Ref_Units,,AI$51)=$E138),INDEX(Model_Inputs_Ref_Units,,AI$52)),0)","v":0},{"$f":"IFERROR(SUMPRODUCT(--(INDEX(Model_Inputs_Ref_Units,,AJ$51)=$E138),INDEX(Model_Inputs_Ref_Units,,AJ$52)),0)","v":0},{"$f":"IFERROR(SUMPRODUCT(--(INDEX(Model_Inputs_Ref_Units,,AK$51)=$E138),INDEX(Model_Inputs_Ref_Units,,AK$52)),0)","v":0},{"$f":"IFERROR(SUMPRODUCT(--(INDEX(Model_Inputs_Ref_Units,,AL$51)=$E138),INDEX(Model_Inputs_Ref_Units,,AL$52)),0)","v":0},{"$f":"IFERROR(SUMPRODUCT(--(INDEX(Model_Inputs_Ref_Units,,AM$51)=$E138),INDEX(Model_Inputs_Ref_Units,,AM$52)),0)","v":0},{"$f":"IFERROR(SUMPRODUCT(--(INDEX(Model_Inputs_Ref_Units,,AN$51)=$E138),INDEX(Model_Inputs_Ref_Units,,AN$52)),0)","v":0},{"$f":"IFERROR(SUMPRODUCT(--(INDEX(Model_Inputs_Ref_Units,,AO$51)=$E138),INDEX(Model_Inputs_Ref_Units,,AO$52)),0)","v":0},{"$f":"IFERROR(SUMPRODUCT(--(INDEX(Model_Inputs_Ref_Units,,AP$51)=$E138),INDEX(Model_Inputs_Ref_Units,,AP$52)),0)","v":0},{"$f":"IFERROR(SUMPRODUCT(--(INDEX(Model_Inputs_Ref_Units,,AQ$51)=$E138),INDEX(Model_Inputs_Ref_Units,,AQ$52)),0)","v":0},{"$f":"IFERROR(SUMPRODUCT(--(INDEX(Model_Inputs_Ref_Units,,AR$51)=$E138),INDEX(Model_Inputs_Ref_Units,,AR$52)),0)","v":0},{"$f":"IFERROR(SUMPRODUCT(--(INDEX(Model_Inputs_Ref_Units,,AS$51)=$E138),INDEX(Model_Inputs_Ref_Units,,AS$52)),0)","v":0},{"$f":"IFERROR(SUMPRODUCT(--(INDEX(Model_Inputs_Ref_Units,,AT$51)=$E138),INDEX(Model_Inputs_Ref_Units,,AT$52)),0)","v":0},{"$f":"IFERROR(SUMPRODUCT(--(INDEX(Model_Inputs_Ref_Units,,AU$51)=$E138),INDEX(Model_Inputs_Ref_Units,,AU$52)),0)","v":0},{"$f":"IFERROR(SUMPRODUCT(--(INDEX(Model_Inputs_Ref_Units,,AV$51)=$E138),INDEX(Model_Inputs_Ref_Units,,AV$52)),0)","v":0},{"$f":"IFERROR(SUMPRODUCT(--(INDEX(Model_Inputs_Ref_Units,,AW$51)=$E138),INDEX(Model_Inputs_Ref_Units,,AW$52)),0)","v":0},{"$f":"IFERROR(SUMPRODUCT(--(INDEX(Model_Inputs_Ref_Units,,AX$51)=$E138),INDEX(Model_Inputs_Ref_Units,,AX$52)),0)","v":0},{"$f":"IFERROR(SUMPRODUCT(--(INDEX(Model_Inputs_Ref_Units,,AY$51)=$E138),INDEX(Model_Inputs_Ref_Units,,AY$52)),0)","v":0},{"$f":"IFERROR(SUMPRODUCT(--(INDEX(Model_Inputs_Ref_Units,,AZ$51)=$E138),INDEX(Model_Inputs_Ref_Units,,AZ$52)),0)","v":0},{"$f":"IFERROR(SUMPRODUCT(--(INDEX(Model_Inputs_Ref_Units,,BA$51)=$E138),INDEX(Model_Inputs_Ref_Units,,BA$52)),0)","v":0},{"$f":"IFERROR(SUMPRODUCT(--(INDEX(Model_Inputs_Ref_Units,,BB$51)=$E138),INDEX(Model_Inputs_Ref_Units,,BB$52)),0)","v":0},{"$f":"IFERROR(SUMPRODUCT(--(INDEX(Model_Inputs_Ref_Units,,BC$51)=$E138),INDEX(Model_Inputs_Ref_Units,,BC$52)),0)","v":0},{"$f":"IFERROR(SUMPRODUCT(--(INDEX(Model_Inputs_Ref_Units,,BD$51)=$E138),INDEX(Model_Inputs_Ref_Units,,BD$52)),0)","v":0},{"$f":"IFERROR(SUMPRODUCT(--(INDEX(Model_Inputs_Ref_Units,,BE$51)=$E138),INDEX(Model_Inputs_Ref_Units,,BE$52)),0)","v":0},{"$f":"IFERROR(SUMPRODUCT(--(INDEX(Model_Inputs_Ref_Units,,BF$51)=$E138),INDEX(Model_Inputs_Ref_Units,,BF$52)),0)","v":0},{"$f":"IFERROR(SUMPRODUCT(--(INDEX(Model_Inputs_Ref_Units,,BG$51)=$E138),INDEX(Model_Inputs_Ref_Units,,BG$52)),0)","v":0},{"$f":"IFERROR(SUMPRODUCT(--(INDEX(Model_Inputs_Ref_Units,,BH$51)=$E138),INDEX(Model_Inputs_Ref_Units,,BH$52)),0)","v":0},{"$f":"IFERROR(SUMPRODUCT(--(INDEX(Model_Inputs_Ref_Units,,BI$51)=$E138),INDEX(Model_Inputs_Ref_Units,,BI$52)),0)","v":0},{"$f":"IFERROR(SUMPRODUCT(--(INDEX(Model_Inputs_Ref_Units,,BJ$51)=$E138),INDEX(Model_Inputs_Ref_Units,,BJ$52)),0)","v":0},{"$f":"IFERROR(SUMPRODUCT(--(INDEX(Model_Inputs_Ref_Units,,BK$51)=$E138),INDEX(Model_Inputs_Ref_Units,,BK$52)),0)","v":0},{"$f":"IFERROR(SUMPRODUCT(--(INDEX(Model_Inputs_Ref_Units,,BL$51)=$E138),INDEX(Model_Inputs_Ref_Units,,BL$52)),0)","v":0},{"$f":"IFERROR(SUMPRODUCT(--(INDEX(Model_Inputs_Ref_Units,,BM$51)=$E138),INDEX(Model_Inputs_Ref_Units,,BM$52)),0)","v":0},{"$f":"IFERROR(SUMPRODUCT(--(INDEX(Model_Inputs_Ref_Units,,BN$51)=$E138),INDEX(Model_Inputs_Ref_Units,,BN$52)),0)","v":0},{"$f":"IFERROR(SUMPRODUCT(--(INDEX(Model_Inputs_Ref_Units,,BO$51)=$E138),INDEX(Model_Inputs_Ref_Units,,BO$52)),0)","v":0},{"$f":"IFERROR(SUMPRODUCT(--(INDEX(Model_Inputs_Ref_Units,,BP$51)=$E138),INDEX(Model_Inputs_Ref_Units,,BP$52)),0)","v":0},{"$f":"IFERROR(SUMPRODUCT(--(INDEX(Model_Inputs_Ref_Units,,BQ$51)=$E138),INDEX(Model_Inputs_Ref_Units,,BQ$52)),0)","v":0},{"$f":"IFERROR(SUMPRODUCT(--(INDEX(Model_Inputs_Ref_Units,,BR$51)=$E138),INDEX(Model_Inputs_Ref_Units,,BR$52)),0)","v":0},{"$f":"IFERROR(SUMPRODUCT(--(INDEX(Model_Inputs_Ref_Units,,BS$51)=$E138),INDEX(Model_Inputs_Ref_Units,,BS$52)),0)","v":0},{"$f":"IFERROR(SUMPRODUCT(--(INDEX(Model_Inputs_Ref_Units,,BT$51)=$E138),INDEX(Model_Inputs_Ref_Units,,BT$52)),0)","v":0},{"$f":"IFERROR(SUMPRODUCT(--(INDEX(Model_Inputs_Ref_Units,,BU$51)=$E138),INDEX(Model_Inputs_Ref_Units,,BU$52)),0)","v":0},{"$f":"IFERROR(SUMPRODUCT(--(INDEX(Model_Inputs_Ref_Units,,BV$51)=$E138),INDEX(Model_Inputs_Ref_Units,,BV$52)),0)","v":0},{"$f":"IFERROR(SUMPRODUCT(--(INDEX(Model_Inputs_Ref_Units,,BW$51)=$E138),INDEX(Model_Inputs_Ref_Units,,BW$52)),0)","v":0},{"$f":"IFERROR(SUMPRODUCT(--(INDEX(Model_Inputs_Ref_Units,,BX$51)=$E138),INDEX(Model_Inputs_Ref_Units,,BX$52)),0)","v":0},{"$f":"IFERROR(SUMPRODUCT(--(INDEX(Model_Inputs_Ref_Units,,BY$51)=$E138),INDEX(Model_Inputs_Ref_Units,,BY$52)),0)","v":0},{"$f":"IFERROR(SUMPRODUCT(--(INDEX(Model_Inputs_Ref_Units,,BZ$51)=$E138),INDEX(Model_Inputs_Ref_Units,,BZ$52)),0)","v":0},{"$f":"IFERROR(SUMPRODUCT(--(INDEX(Model_Inputs_Ref_Units,,CA$51)=$E138),INDEX(Model_Inputs_Ref_Units,,CA$52)),0)","v":0},{"$f":"IFERROR(SUMPRODUCT(--(INDEX(Model_Inputs_Ref_Units,,CB$51)=$E138),INDEX(Model_Inputs_Ref_Units,,CB$52)),0)","v":0},{"$f":"IFERROR(SUMPRODUCT(--(INDEX(Model_Inputs_Ref_Units,,CC$51)=$E138),INDEX(Model_Inputs_Ref_Units,,CC$52)),0)","v":0},{"$f":"IFERROR(SUMPRODUCT(--(INDEX(Model_Inputs_Ref_Units,,CD$51)=$E138),INDEX(Model_Inputs_Ref_Units,,CD$52)),0)","v":0},{"$f":"IFERROR(SUMPRODUCT(--(INDEX(Model_Inputs_Ref_Units,,CE$51)=$E138),INDEX(Model_Inputs_Ref_Units,,CE$52)),0)","v":0},{"$f":"IFERROR(SUMPRODUCT(--(INDEX(Model_Inputs_Ref_Units,,CF$51)=$E138),INDEX(Model_Inputs_Ref_Units,,CF$52)),0)","v":0},{"$f":"IFERROR(SUMPRODUCT(--(INDEX(Model_Inputs_Ref_Units,,CG$51)=$E138),INDEX(Model_Inputs_Ref_Units,,CG$52)),0)","v":0},{"$f":"IFERROR(SUMPRODUCT(--(INDEX(Model_Inputs_Ref_Units,,CH$51)=$E138),INDEX(Model_Inputs_Ref_Units,,CH$52)),0)","v":0},{"$f":"IFERROR(SUMPRODUCT(--(INDEX(Model_Inputs_Ref_Units,,CI$51)=$E138),INDEX(Model_Inputs_Ref_Units,,CI$52)),0)","v":0},{"$f":"IFERROR(SUMPRODUCT(--(INDEX(Model_Inputs_Ref_Units,,CJ$51)=$E138),INDEX(Model_Inputs_Ref_Units,,CJ$52)),0)","v":0},{"$f":"IFERROR(SUMPRODUCT(--(INDEX(Model_Inputs_Ref_Units,,CK$51)=$E138),INDEX(Model_Inputs_Ref_Units,,CK$52)),0)","v":0},{"$f":"IFERROR(SUMPRODUCT(--(INDEX(Model_Inputs_Ref_Units,,CL$51)=$E138),INDEX(Model_Inputs_Ref_Units,,CL$52)),0)","v":0},{"$f":"IFERROR(SUMPRODUCT(--(INDEX(Model_Inputs_Ref_Units,,CM$51)=$E138),INDEX(Model_Inputs_Ref_Units,,CM$52)),0)","v":0},{"$f":"IFERROR(SUMPRODUCT(--(INDEX(Model_Inputs_Ref_Units,,CN$51)=$E138),INDEX(Model_Inputs_Ref_Units,,CN$52)),0)","v":0},{"$f":"IFERROR(SUMPRODUCT(--(INDEX(Model_Inputs_Ref_Units,,CO$51)=$E138),INDEX(Model_Inputs_Ref_Units,,CO$52)),0)","v":0},{"$f":"IFERROR(SUMPRODUCT(--(INDEX(Model_Inputs_Ref_Units,,CP$51)=$E138),INDEX(Model_Inputs_Ref_Units,,CP$52)),0)","v":0},{"$f":"IFERROR(SUMPRODUCT(--(INDEX(Model_Inputs_Ref_Units,,CQ$51)=$E138),INDEX(Model_Inputs_Ref_Units,,CQ$52)),0)","v":0},{"$f":"IFERROR(SUMPRODUCT(--(INDEX(Model_Inputs_Ref_Units,,CR$51)=$E138),INDEX(Model_Inputs_Ref_Units,,CR$52)),0)","v":0},{"$f":"IFERROR(SUMPRODUCT(--(INDEX(Model_Inputs_Ref_Units,,CS$51)=$E138),INDEX(Model_Inputs_Ref_Units,,CS$52)),0)","v":0},{"$f":"IFERROR(SUMPRODUCT(--(INDEX(Model_Inputs_Ref_Units,,CT$51)=$E138),INDEX(Model_Inputs_Ref_Units,,CT$52)),0)","v":0},{"$f":"IFERROR(SUMPRODUCT(--(INDEX(Model_Inputs_Ref_Units,,CU$51)=$E138),INDEX(Model_Inputs_Ref_Units,,CU$52)),0)","v":0},{"$f":"IFERROR(SUMPRODUCT(--(INDEX(Model_Inputs_Ref_Units,,CV$51)=$E138),INDEX(Model_Inputs_Ref_Units,,CV$52)),0)","v":0},{"$f":"IFERROR(SUMPRODUCT(--(INDEX(Model_Inputs_Ref_Units,,CW$51)=$E138),INDEX(Model_Inputs_Ref_Units,,CW$52)),0)","v":0},{"$f":"IFERROR(SUMPRODUCT(--(INDEX(Model_Inputs_Ref_Units,,CX$51)=$E138),INDEX(Model_Inputs_Ref_Units,,CX$52)),0)","v":0},{"$f":"IFERROR(SUMPRODUCT(--(INDEX(Model_Inputs_Ref_Units,,CY$51)=$E138),INDEX(Model_Inputs_Ref_Units,,CY$52)),0)","v":0},{"$f":"IFERROR(SUMPRODUCT(--(INDEX(Model_Inputs_Ref_Units,,CZ$51)=$E138),INDEX(Model_Inputs_Ref_Units,,CZ$52)),0)","v":0},{"$f":"IFERROR(SUMPRODUCT(--(INDEX(Model_Inputs_Ref_Units,,DA$51)=$E138),INDEX(Model_Inputs_Ref_Units,,DA$52)),0)","v":0},{"$f":"IFERROR(SUMPRODUCT(--(INDEX(Model_Inputs_Ref_Units,,DB$51)=$E138),INDEX(Model_Inputs_Ref_Units,,DB$52)),0)","v":0},{"$f":"IFERROR(SUMPRODUCT(--(INDEX(Model_Inputs_Ref_Units,,DC$51)=$E138),INDEX(Model_Inputs_Ref_Units,,DC$52)),0)","v":0},{"$f":"IFERROR(SUMPRODUCT(--(INDEX(Model_Inputs_Ref_Units,,DD$51)=$E138),INDEX(Model_Inputs_Ref_Units,,DD$52)),0)","v":0},{"$f":"IFERROR(SUMPRODUCT(--(INDEX(Model_Inputs_Ref_Units,,DE$51)=$E138),INDEX(Model_Inputs_Ref_Units,,DE$52)),0)","v":0},{"$f":"IFERROR(SUMPRODUCT(--(INDEX(Model_Inputs_Ref_Units,,DF$51)=$E138),INDEX(Model_Inputs_Ref_Units,,DF$52)),0)","v":0}]
[null,null,{"$error":"#DIV/0!"},null,{"$f":"IFERROR(INDEX(Ref_Data,1,F139),\"\")","v":""},86,0,0,0,0,{"$f":"IFERROR(SUMPRODUCT(--(INDEX(Model_Inputs_Ref_Units,,K$51)=$E139),INDEX(Model_Inputs_Ref_Units,,K$52)),0)","v":0},{"$f":"IFERROR(SUMPRODUCT(--(INDEX(Model_Inputs_Ref_Units,,L$51)=$E139),INDEX(Model_Inputs_Ref_Units,,L$52)),0)","v":0},{"$f":"IFERROR(SUMPRODUCT(--(INDEX(Model_Inputs_Ref_Units,,M$51)=$E139),INDEX(Model_Inputs_Ref_Units,,M$52)),0)","v":0},{"$f":"IFERROR(SUMPRODUCT(--(INDEX(Model_Inputs_Ref_Units,,N$51)=$E139),INDEX(Model_Inputs_Ref_Units,,N$52)),0)","v":0},{"$f":"IFERROR(SUMPRODUCT(--(INDEX(Model_Inputs_Ref_Units,,O$51)=$E139),INDEX(Model_Inputs_Ref_Units,,O$52)),0)","v":0},{"$f":"IFERROR(SUMPRODUCT(--(INDEX(Model_Inputs_Ref_Units,,P$51)=$E139),INDEX(Model_Inputs_Ref_Units,,P$52)),0)","v":0},{"$f":"IFERROR(SUMPRODUCT(--(INDEX(Model_Inputs_Ref_Units,,Q$51)=$E139),INDEX(Model_Inputs_Ref_Units,,Q$52)),0)","v":0},{"$f":"IFERROR(SUMPRODUCT(--(INDEX(Model_Inputs_Ref_Units,,R$51)=$E139),INDEX(Model_Inputs_Ref_Units,,R$52)),0)","v":0},{"$f":"IFERROR(SUMPRODUCT(--(INDEX(Model_Inputs_Ref_Units,,S$51)=$E139),INDEX(Model_Inputs_Ref_Units,,S$52)),0)","v":0},{"$f":"IFERROR(SUMPRODUCT(--(INDEX(Model_Inputs_Ref_Units,,T$51)=$E139),INDEX(Model_Inputs_Ref_Units,,T$52)),0)","v":0},{"$f":"IFERROR(SUMPRODUCT(--(INDEX(Model_Inputs_Ref_Units,,U$51)=$E139),INDEX(Model_Inputs_Ref_Units,,U$52)),0)","v":0},{"$f":"IFERROR(SUMPRODUCT(--(INDEX(Model_Inputs_Ref_Units,,V$51)=$E139),INDEX(Model_Inputs_Ref_Units,,V$52)),0)","v":0},{"$f":"IFERROR(SUMPRODUCT(--(INDEX(Model_Inputs_Ref_Units,,W$51)=$E139),INDEX(Model_Inputs_Ref_Units,,W$52)),0)","v":0},{"$f":"IFERROR(SUMPRODUCT(--(INDEX(Model_Inputs_Ref_Units,,X$51)=$E139),INDEX(Model_Inputs_Ref_Units,,X$52)),0)","v":0},{"$f":"IFERROR(SUMPRODUCT(--(INDEX(Model_Inputs_Ref_Units,,Y$51)=$E139),INDEX(Model_Inputs_Ref_Units,,Y$52)),0)","v":0},{"$f":"IFERROR(SUMPRODUCT(--(INDEX(Model_Inputs_Ref_Units,,Z$51)=$E139),INDEX(Model_Inputs_Ref_Units,,Z$52)),0)","v":0},{"$f":"IFERROR(SUMPRODUCT(--(INDEX(Model_Inputs_Ref_Units,,AA$51)=$E139),INDEX(Model_Inputs_Ref_Units,,AA$52)),0)","v":0},{"$f":"IFERROR(SUMPRODUCT(--(INDEX(Model_Inputs_Ref_Units,,AB$51)=$E139),INDEX(Model_Inputs_Ref_Units,,AB$52)),0)","v":0},{"$f":"IFERROR(SUMPRODUCT(--(INDEX(Model_Inputs_Ref_Units,,AC$51)=$E139),INDEX(Model_Inputs_Ref_Units,,AC$52)),0)","v":0},{"$f":"IFERROR(SUMPRODUCT(--(INDEX(Model_Inputs_Ref_Units,,AD$51)=$E139),INDEX(Model_Inputs_Ref_Units,,AD$52)),0)","v":0},{"$f":"IFERROR(SUMPRODUCT(--(INDEX(Model_Inputs_Ref_Units,,AE$51)=$E139),INDEX(Model_Inputs_Ref_Units,,AE$52)),0)","v":0},{"$f":"IFERROR(SUMPRODUCT(--(INDEX(Model_Inputs_Ref_Units,,AF$51)=$E139),INDEX(Model_Inputs_Ref_Units,,AF$52)),0)","v":0},{"$f":"IFERROR(SUMPRODUCT(--(INDEX(Model_Inputs_Ref_Units,,AG$51)=$E139),INDEX(Model_Inputs_Ref_Units,,AG$52)),0)","v":0},{"$f":"IFERROR(SUMPRODUCT(--(INDEX(Model_Inputs_Ref_Units,,AH$51)=$E139),INDEX(Model_Inputs_Ref_Units,,AH$52)),0)","v":0},{"$f":"IFERROR(SUMPRODUCT(--(INDEX(Model_Inputs_Ref_Units,,AI$51)=$E139),INDEX(Model_Inputs_Ref_Units,,AI$52)),0)","v":0},{"$f":"IFERROR(SUMPRODUCT(--(INDEX(Model_Inputs_Ref_Units,,AJ$51)=$E139),INDEX(Model_Inputs_Ref_Units,,AJ$52)),0)","v":0},{"$f":"IFERROR(SUMPRODUCT(--(INDEX(Model_Inputs_Ref_Units,,AK$51)=$E139),INDEX(Model_Inputs_Ref_Units,,AK$52)),0)","v":0},{"$f":"IFERROR(SUMPRODUCT(--(INDEX(Model_Inputs_Ref_Units,,AL$51)=$E139),INDEX(Model_Inputs_Ref_Units,,AL$52)),0)","v":0},{"$f":"IFERROR(SUMPRODUCT(--(INDEX(Model_Inputs_Ref_Units,,AM$51)=$E139),INDEX(Model_Inputs_Ref_Units,,AM$52)),0)","v":0},{"$f":"IFERROR(SUMPRODUCT(--(INDEX(Model_Inputs_Ref_Units,,AN$51)=$E139),INDEX(Model_Inputs_Ref_Units,,AN$52)),0)","v":0},{"$f":"IFERROR(SUMPRODUCT(--(INDEX(Model_Inputs_Ref_Units,,AO$51)=$E139),INDEX(Model_Inputs_Ref_Units,,AO$52)),0)","v":0},{"$f":"IFERROR(SUMPRODUCT(--(INDEX(Model_Inputs_Ref_Units,,AP$51)=$E139),INDEX(Model_Inputs_Ref_Units,,AP$52)),0)","v":0},{"$f":"IFERROR(SUMPRODUCT(--(INDEX(Model_Inputs_Ref_Units,,AQ$51)=$E139),INDEX(Model_Inputs_Ref_Units,,AQ$52)),0)","v":0},{"$f":"IFERROR(SUMPRODUCT(--(INDEX(Model_Inputs_Ref_Units,,AR$51)=$E139),INDEX(Model_Inputs_Ref_Units,,AR$52)),0)","v":0},{"$f":"IFERROR(SUMPRODUCT(--(INDEX(Model_Inputs_Ref_Units,,AS$51)=$E139),INDEX(Model_Inputs_Ref_Units,,AS$52)),0)","v":0},{"$f":"IFERROR(SUMPRODUCT(--(INDEX(Model_Inputs_Ref_Units,,AT$51)=$E139),INDEX(Model_Inputs_Ref_Units,,AT$52)),0)","v":0},{"$f":"IFERROR(SUMPRODUCT(--(INDEX(Model_Inputs_Ref_Units,,AU$51)=$E139),INDEX(Model_Inputs_Ref_Units,,AU$52)),0)","v":0},{"$f":"IFERROR(SUMPRODUCT(--(INDEX(Model_Inputs_Ref_Units,,AV$51)=$E139),INDEX(Model_Inputs_Ref_Units,,AV$52)),0)","v":0},{"$f":"IFERROR(SUMPRODUCT(--(INDEX(Model_Inputs_Ref_Units,,AW$51)=$E139),INDEX(Model_Inputs_Ref_Units,,AW$52)),0)","v":0},{"$f":"IFERROR(SUMPRODUCT(--(INDEX(Model_Inputs_Ref_Units,,AX$51)=$E139),INDEX(Model_Inputs_Ref_Units,,AX$52)),0)","v":0},{"$f":"IFERROR(SUMPRODUCT(--(INDEX(Model_Inputs_Ref_Units,,AY$51)=$E139),INDEX(Model_Inputs_Ref_Units,,AY$52)),0)","v":0},{"$f":"IFERROR(SUMPRODUCT(--(INDEX(Model_Inputs_Ref_Units,,AZ$51)=$E139),INDEX(Model_Inputs_Ref_Units,,AZ$52)),0)","v":0},{"$f":"IFERROR(SUMPRODUCT(--(INDEX(Model_Inputs_Ref_Units,,BA$51)=$E139),INDEX(Model_Inputs_Ref_Units,,BA$52)),0)","v":0},{"$f":"IFERROR(SUMPRODUCT(--(INDEX(Model_Inputs_Ref_Units,,BB$51)=$E139),INDEX(Model_Inputs_Ref_Units,,BB$52)),0)","v":0},{"$f":"IFERROR(SUMPRODUCT(--(INDEX(Model_Inputs_Ref_Units,,BC$51)=$E139),INDEX(Model_Inputs_Ref_Units,,BC$52)),0)","v":0},{"$f":"IFERROR(SUMPRODUCT(--(INDEX(Model_Inputs_Ref_Units,,BD$51)=$E139),INDEX(Model_Inputs_Ref_Units,,BD$52)),0)","v":0},{"$f":"IFERROR(SUMPRODUCT(--(INDEX(Model_Inputs_Ref_Units,,BE$51)=$E139),INDEX(Model_Inputs_Ref_Units,,BE$52)),0)","v":0},{"$f":"IFERROR(SUMPRODUCT(--(INDEX(Model_Inputs_Ref_Units,,BF$51)=$E139),INDEX(Model_Inputs_Ref_Units,,BF$52)),0)","v":0},{"$f":"IFERROR(SUMPRODUCT(--(INDEX(Model_Inputs_Ref_Units,,BG$51)=$E139),INDEX(Model_Inputs_Ref_Units,,BG$52)),0)","v":0},{"$f":"IFERROR(SUMPRODUCT(--(INDEX(Model_Inputs_Ref_Units,,BH$51)=$E139),INDEX(Model_Inputs_Ref_Units,,BH$52)),0)","v":0},{"$f":"IFERROR(SUMPRODUCT(--(INDEX(Model_Inputs_Ref_Units,,BI$51)=$E139),INDEX(Model_Inputs_Ref_Units,,BI$52)),0)","v":0},{"$f":"IFERROR(SUMPRODUCT(--(INDEX(Model_Inputs_Ref_Units,,BJ$51)=$E139),INDEX(Model_Inputs_Ref_Units,,BJ$52)),0)","v":0},{"$f":"IFERROR(SUMPRODUCT(--(INDEX(Model_Inputs_Ref_Units,,BK$51)=$E139),INDEX(Model_Inputs_Ref_Units,,BK$52)),0)","v":0},{"$f":"IFERROR(SUMPRODUCT(--(INDEX(Model_Inputs_Ref_Units,,BL$51)=$E139),INDEX(Model_Inputs_Ref_Units,,BL$52)),0)","v":0},{"$f":"IFERROR(SUMPRODUCT(--(INDEX(Model_Inputs_Ref_Units,,BM$51)=$E139),INDEX(Model_Inputs_Ref_Units,,BM$52)),0)","v":0},{"$f":"IFERROR(SUMPRODUCT(--(INDEX(Model_Inputs_Ref_Units,,BN$51)=$E139),INDEX(Model_Inputs_Ref_Units,,BN$52)),0)","v":0},{"$f":"IFERROR(SUMPRODUCT(--(INDEX(Model_Inputs_Ref_Units,,BO$51)=$E139),INDEX(Model_Inputs_Ref_Units,,BO$52)),0)","v":0},{"$f":"IFERROR(SUMPRODUCT(--(INDEX(Model_Inputs_Ref_Units,,BP$51)=$E139),INDEX(Model_Inputs_Ref_Units,,BP$52)),0)","v":0},{"$f":"IFERROR(SUMPRODUCT(--(INDEX(Model_Inputs_Ref_Units,,BQ$51)=$E139),INDEX(Model_Inputs_Ref_Units,,BQ$52)),0)","v":0},{"$f":"IFERROR(SUMPRODUCT(--(INDEX(Model_Inputs_Ref_Units,,BR$51)=$E139),INDEX(Model_Inputs_Ref_Units,,BR$52)),0)","v":0},{"$f":"IFERROR(SUMPRODUCT(--(INDEX(Model_Inputs_Ref_Units,,BS$51)=$E139),INDEX(Model_Inputs_Ref_Units,,BS$52)),0)","v":0},{"$f":"IFERROR(SUMPRODUCT(--(INDEX(Model_Inputs_Ref_Units,,BT$51)=$E139),INDEX(Model_Inputs_Ref_Units,,BT$52)),0)","v":0},{"$f":"IFERROR(SUMPRODUCT(--(INDEX(Model_Inputs_Ref_Units,,BU$51)=$E139),INDEX(Model_Inputs_Ref_Units,,BU$52)),0)","v":0},{"$f":"IFERROR(SUMPRODUCT(--(INDEX(Model_Inputs_Ref_Units,,BV$51)=$E139),INDEX(Model_Inputs_Ref_Units,,BV$52)),0)","v":0},{"$f":"IFERROR(SUMPRODUCT(--(INDEX(Model_Inputs_Ref_Units,,BW$51)=$E139),INDEX(Model_Inputs_Ref_Units,,BW$52)),0)","v":0},{"$f":"IFERROR(SUMPRODUCT(--(INDEX(Model_Inputs_Ref_Units,,BX$51)=$E139),INDEX(Model_Inputs_Ref_Units,,BX$52)),0)","v":0},{"$f":"IFERROR(SUMPRODUCT(--(INDEX(Model_Inputs_Ref_Units,,BY$51)=$E139),INDEX(Model_Inputs_Ref_Units,,BY$52)),0)","v":0},{"$f":"IFERROR(SUMPRODUCT(--(INDEX(Model_Inputs_Ref_Units,,BZ$51)=$E139),INDEX(Model_Inputs_Ref_Units,,BZ$52)),0)","v":0},{"$f":"IFERROR(SUMPRODUCT(--(INDEX(Model_Inputs_Ref_Units,,CA$51)=$E139),INDEX(Model_Inputs_Ref_Units,,CA$52)),0)","v":0},{"$f":"IFERROR(SUMPRODUCT(--(INDEX(Model_Inputs_Ref_Units,,CB$51)=$E139),INDEX(Model_Inputs_Ref_Units,,CB$52)),0)","v":0},{"$f":"IFERROR(SUMPRODUCT(--(INDEX(Model_Inputs_Ref_Units,,CC$51)=$E139),INDEX(Model_Inputs_Ref_Units,,CC$52)),0)","v":0},{"$f":"IFERROR(SUMPRODUCT(--(INDEX(Model_Inputs_Ref_Units,,CD$51)=$E139),INDEX(Model_Inputs_Ref_Units,,CD$52)),0)","v":0},{"$f":"IFERROR(SUMPRODUCT(--(INDEX(Model_Inputs_Ref_Units,,CE$51)=$E139),INDEX(Model_Inputs_Ref_Units,,CE$52)),0)","v":0},{"$f":"IFERROR(SUMPRODUCT(--(INDEX(Model_Inputs_Ref_Units,,CF$51)=$E139),INDEX(Model_Inputs_Ref_Units,,CF$52)),0)","v":0},{"$f":"IFERROR(SUMPRODUCT(--(INDEX(Model_Inputs_Ref_Units,,CG$51)=$E139),INDEX(Model_Inputs_Ref_Units,,CG$52)),0)","v":0},{"$f":"IFERROR(SUMPRODUCT(--(INDEX(Model_Inputs_Ref_Units,,CH$51)=$E139),INDEX(Model_Inputs_Ref_Units,,CH$52)),0)","v":0},{"$f":"IFERROR(SUMPRODUCT(--(INDEX(Model_Inputs_Ref_Units,,CI$51)=$E139),INDEX(Model_Inputs_Ref_Units,,CI$52)),0)","v":0},{"$f":"IFERROR(SUMPRODUCT(--(INDEX(Model_Inputs_Ref_Units,,CJ$51)=$E139),INDEX(Model_Inputs_Ref_Units,,CJ$52)),0)","v":0},{"$f":"IFERROR(SUMPRODUCT(--(INDEX(Model_Inputs_Ref_Units,,CK$51)=$E139),INDEX(Model_Inputs_Ref_Units,,CK$52)),0)","v":0},{"$f":"IFERROR(SUMPRODUCT(--(INDEX(Model_Inputs_Ref_Units,,CL$51)=$E139),INDEX(Model_Inputs_Ref_Units,,CL$52)),0)","v":0},{"$f":"IFERROR(SUMPRODUCT(--(INDEX(Model_Inputs_Ref_Units,,CM$51)=$E139),INDEX(Model_Inputs_Ref_Units,,CM$52)),0)","v":0},{"$f":"IFERROR(SUMPRODUCT(--(INDEX(Model_Inputs_Ref_Units,,CN$51)=$E139),INDEX(Model_Inputs_Ref_Units,,CN$52)),0)","v":0},{"$f":"IFERROR(SUMPRODUCT(--(INDEX(Model_Inputs_Ref_Units,,CO$51)=$E139),INDEX(Model_Inputs_Ref_Units,,CO$52)),0)","v":0},{"$f":"IFERROR(SUMPRODUCT(--(INDEX(Model_Inputs_Ref_Units,,CP$51)=$E139),INDEX(Model_Inputs_Ref_Units,,CP$52)),0)","v":0},{"$f":"IFERROR(SUMPRODUCT(--(INDEX(Model_Inputs_Ref_Units,,CQ$51)=$E139),INDEX(Model_Inputs_Ref_Units,,CQ$52)),0)","v":0},{"$f":"IFERROR(SUMPRODUCT(--(INDEX(Model_Inputs_Ref_Units,,CR$51)=$E139),INDEX(Model_Inputs_Ref_Units,,CR$52)),0)","v":0},{"$f":"IFERROR(SUMPRODUCT(--(INDEX(Model_Inputs_Ref_Units,,CS$51)=$E139),INDEX(Model_Inputs_Ref_Units,,CS$52)),0)","v":0},{"$f":"IFERROR(SUMPRODUCT(--(INDEX(Model_Inputs_Ref_Units,,CT$51)=$E139),INDEX(Model_Inputs_Ref_Units,,CT$52)),0)","v":0},{"$f":"IFERROR(SUMPRODUCT(--(INDEX(Model_Inputs_Ref_Units,,CU$51)=$E139),INDEX(Model_Inputs_Ref_Units,,CU$52)),0)","v":0},{"$f":"IFERROR(SUMPRODUCT(--(INDEX(Model_Inputs_Ref_Units,,CV$51)=$E139),INDEX(Model_Inputs_Ref_Units,,CV$52)),0)","v":0},{"$f":"IFERROR(SUMPRODUCT(--(INDEX(Model_Inputs_Ref_Units,,CW$51)=$E139),INDEX(Model_Inputs_Ref_Units,,CW$52)),0)","v":0},{"$f":"IFERROR(SUMPRODUCT(--(INDEX(Model_Inputs_Ref_Units,,CX$51)=$E139),INDEX(Model_Inputs_Ref_Units,,CX$52)),0)","v":0},{"$f":"IFERROR(SUMPRODUCT(--(INDEX(Model_Inputs_Ref_Units,,CY$51)=$E139),INDEX(Model_Inputs_Ref_Units,,CY$52)),0)","v":0},{"$f":"IFERROR(SUMPRODUCT(--(INDEX(Model_Inputs_Ref_Units,,CZ$51)=$E139),INDEX(Model_Inputs_Ref_Units,,CZ$52)),0)","v":0},{"$f":"IFERROR(SUMPRODUCT(--(INDEX(Model_Inputs_Ref_Units,,DA$51)=$E139),INDEX(Model_Inputs_Ref_Units,,DA$52)),0)","v":0},{"$f":"IFERROR(SUMPRODUCT(--(INDEX(Model_Inputs_Ref_Units,,DB$51)=$E139),INDEX(Model_Inputs_Ref_Units,,DB$52)),0)","v":0},{"$f":"IFERROR(SUMPRODUCT(--(INDEX(Model_Inputs_Ref_Units,,DC$51)=$E139),INDEX(Model_Inputs_Ref_Units,,DC$52)),0)","v":0},{"$f":"IFERROR(SUMPRODUCT(--(INDEX(Model_Inputs_Ref_Units,,DD$51)=$E139),INDEX(Model_Inputs_Ref_Units,,DD$52)),0)","v":0},{"$f":"IFERROR(SUMPRODUCT(--(INDEX(Model_Inputs_Ref_Units,,DE$51)=$E139),INDEX(Model_Inputs_Ref_Units,,DE$52)),0)","v":0},{"$f":"IFERROR(SUMPRODUCT(--(INDEX(Model_Inputs_Ref_Units,,DF$51)=$E139),INDEX(Model_Inputs_Ref_Units,,DF$52)),0)","v":0}]
[null,null,{"$error":"#DIV/0!"},null,{"$f":"IFERROR(INDEX(Ref_Data,1,F140),\"\")","v":""},87,0,0,0,0,{"$f":"IFERROR(SUMPRODUCT(--(INDEX(Model_Inputs_Ref_Units,,K$51)=$E140),INDEX(Model_Inputs_Ref_Units,,K$52)),0)","v":0},{"$f":"IFERROR(SUMPRODUCT(--(INDEX(Model_Inputs_Ref_Units,,L$51)=$E140),INDEX(Model_Inputs_Ref_Units,,L$52)),0)","v":0},{"$f":"IFERROR(SUMPRODUCT(--(INDEX(Model_Inputs_Ref_Units,,M$51)=$E140),INDEX(Model_Inputs_Ref_Units,,M$52)),0)","v":0},{"$f":"IFERROR(SUMPRODUCT(--(INDEX(Model_Inputs_Ref_Units,,N$51)=$E140),INDEX(Model_Inputs_Ref_Units,,N$52)),0)","v":0},{"$f":"IFERROR(SUMPRODUCT(--(INDEX(Model_Inputs_Ref_Units,,O$51)=$E140),INDEX(Model_Inputs_Ref_Units,,O$52)),0)","v":0},{"$f":"IFERROR(SUMPRODUCT(--(INDEX(Model_Inputs_Ref_Units,,P$51)=$E140),INDEX(Model_Inputs_Ref_Units,,P$52)),0)","v":0},{"$f":"IFERROR(SUMPRODUCT(--(INDEX(Model_Inputs_Ref_Units,,Q$51)=$E140),INDEX(Model_Inputs_Ref_Units,,Q$52)),0)","v":0},{"$f":"IFERROR(SUMPRODUCT(--(INDEX(Model_Inputs_Ref_Units,,R$51)=$E140),INDEX(Model_Inputs_Ref_Units,,R$52)),0)","v":0},{"$f":"IFERROR(SUMPRODUCT(--(INDEX(Model_Inputs_Ref_Units,,S$51)=$E140),INDEX(Model_Inputs_Ref_Units,,S$52)),0)","v":0},{"$f":"IFERROR(SUMPRODUCT(--(INDEX(Model_Inputs_Ref_Units,,T$51)=$E140),INDEX(Model_Inputs_Ref_Units,,T$52)),0)","v":0},{"$f":"IFERROR(SUMPRODUCT(--(INDEX(Model_Inputs_Ref_Units,,U$51)=$E140),INDEX(Model_Inputs_Ref_Units,,U$52)),0)","v":0},{"$f":"IFERROR(SUMPRODUCT(--(INDEX(Model_Inputs_Ref_Units,,V$51)=$E140),INDEX(Model_Inputs_Ref_Units,,V$52)),0)","v":0},{"$f":"IFERROR(SUMPRODUCT(--(INDEX(Model_Inputs_Ref_Units,,W$51)=$E140),INDEX(Model_Inputs_Ref_Units,,W$52)),0)","v":0},{"$f":"IFERROR(SUMPRODUCT(--(INDEX(Model_Inputs_Ref_Units,,X$51)=$E140),INDEX(Model_Inputs_Ref_Units,,X$52)),0)","v":0},{"$f":"IFERROR(SUMPRODUCT(--(INDEX(Model_Inputs_Ref_Units,,Y$51)=$E140),INDEX(Model_Inputs_Ref_Units,,Y$52)),0)","v":0},{"$f":"IFERROR(SUMPRODUCT(--(INDEX(Model_Inputs_Ref_Units,,Z$51)=$E140),INDEX(Model_Inputs_Ref_Units,,Z$52)),0)","v":0},{"$f":"IFERROR(SUMPRODUCT(--(INDEX(Model_Inputs_Ref_Units,,AA$51)=$E140),INDEX(Model_Inputs_Ref_Units,,AA$52)),0)","v":0},{"$f":"IFERROR(SUMPRODUCT(--(INDEX(Model_Inputs_Ref_Units,,AB$51)=$E140),INDEX(Model_Inputs_Ref_Units,,AB$52)),0)","v":0},{"$f":"IFERROR(SUMPRODUCT(--(INDEX(Model_Inputs_Ref_Units,,AC$51)=$E140),INDEX(Model_Inputs_Ref_Units,,AC$52)),0)","v":0},{"$f":"IFERROR(SUMPRODUCT(--(INDEX(Model_Inputs_Ref_Units,,AD$51)=$E140),INDEX(Model_Inputs_Ref_Units,,AD$52)),0)","v":0},{"$f":"IFERROR(SUMPRODUCT(--(INDEX(Model_Inputs_Ref_Units,,AE$51)=$E140),INDEX(Model_Inputs_Ref_Units,,AE$52)),0)","v":0},{"$f":"IFERROR(SUMPRODUCT(--(INDEX(Model_Inputs_Ref_Units,,AF$51)=$E140),INDEX(Model_Inputs_Ref_Units,,AF$52)),0)","v":0},{"$f":"IFERROR(SUMPRODUCT(--(INDEX(Model_Inputs_Ref_Units,,AG$51)=$E140),INDEX(Model_Inputs_Ref_Units,,AG$52)),0)","v":0},{"$f":"IFERROR(SUMPRODUCT(--(INDEX(Model_Inputs_Ref_Units,,AH$51)=$E140),INDEX(Model_Inputs_Ref_Units,,AH$52)),0)","v":0},{"$f":"IFERROR(SUMPRODUCT(--(INDEX(Model_Inputs_Ref_Units,,AI$51)=$E140),INDEX(Model_Inputs_Ref_Units,,AI$52)),0)","v":0},{"$f":"IFERROR(SUMPRODUCT(--(INDEX(Model_Inputs_Ref_Units,,AJ$51)=$E140),INDEX(Model_Inputs_Ref_Units,,AJ$52)),0)","v":0},{"$f":"IFERROR(SUMPRODUCT(--(INDEX(Model_Inputs_Ref_Units,,AK$51)=$E140),INDEX(Model_Inputs_Ref_Units,,AK$52)),0)","v":0},{"$f":"IFERROR(SUMPRODUCT(--(INDEX(Model_Inputs_Ref_Units,,AL$51)=$E140),INDEX(Model_Inputs_Ref_Units,,AL$52)),0)","v":0},{"$f":"IFERROR(SUMPRODUCT(--(INDEX(Model_Inputs_Ref_Units,,AM$51)=$E140),INDEX(Model_Inputs_Ref_Units,,AM$52)),0)","v":0},{"$f":"IFERROR(SUMPRODUCT(--(INDEX(Model_Inputs_Ref_Units,,AN$51)=$E140),INDEX(Model_Inputs_Ref_Units,,AN$52)),0)","v":0},{"$f":"IFERROR(SUMPRODUCT(--(INDEX(Model_Inputs_Ref_Units,,AO$51)=$E140),INDEX(Model_Inputs_Ref_Units,,AO$52)),0)","v":0},{"$f":"IFERROR(SUMPRODUCT(--(INDEX(Model_Inputs_Ref_Units,,AP$51)=$E140),INDEX(Model_Inputs_Ref_Units,,AP$52)),0)","v":0},{"$f":"IFERROR(SUMPRODUCT(--(INDEX(Model_Inputs_Ref_Units,,AQ$51)=$E140),INDEX(Model_Inputs_Ref_Units,,AQ$52)),0)","v":0},{"$f":"IFERROR(SUMPRODUCT(--(INDEX(Model_Inputs_Ref_Units,,AR$51)=$E140),INDEX(Model_Inputs_Ref_Units,,AR$52)),0)","v":0},{"$f":"IFERROR(SUMPRODUCT(--(INDEX(Model_Inputs_Ref_Units,,AS$51)=$E140),INDEX(Model_Inputs_Ref_Units,,AS$52)),0)","v":0},{"$f":"IFERROR(SUMPRODUCT(--(INDEX(Model_Inputs_Ref_Units,,AT$51)=$E140),INDEX(Model_Inputs_Ref_Units,,AT$52)),0)","v":0},{"$f":"IFERROR(SUMPRODUCT(--(INDEX(Model_Inputs_Ref_Units,,AU$51)=$E140),INDEX(Model_Inputs_Ref_Units,,AU$52)),0)","v":0},{"$f":"IFERROR(SUMPRODUCT(--(INDEX(Model_Inputs_Ref_Units,,AV$51)=$E140),INDEX(Model_Inputs_Ref_Units,,AV$52)),0)","v":0},{"$f":"IFERROR(SUMPRODUCT(--(INDEX(Model_Inputs_Ref_Units,,AW$51)=$E140),INDEX(Model_Inputs_Ref_Units,,AW$52)),0)","v":0},{"$f":"IFERROR(SUMPRODUCT(--(INDEX(Model_Inputs_Ref_Units,,AX$51)=$E140),INDEX(Model_Inputs_Ref_Units,,AX$52)),0)","v":0},{"$f":"IFERROR(SUMPRODUCT(--(INDEX(Model_Inputs_Ref_Units,,AY$51)=$E140),INDEX(Model_Inputs_Ref_Units,,AY$52)),0)","v":0},{"$f":"IFERROR(SUMPRODUCT(--(INDEX(Model_Inputs_Ref_Units,,AZ$51)=$E140),INDEX(Model_Inputs_Ref_Units,,AZ$52)),0)","v":0},{"$f":"IFERROR(SUMPRODUCT(--(INDEX(Model_Inputs_Ref_Units,,BA$51)=$E140),INDEX(Model_Inputs_Ref_Units,,BA$52)),0)","v":0},{"$f":"IFERROR(SUMPRODUCT(--(INDEX(Model_Inputs_Ref_Units,,BB$51)=$E140),INDEX(Model_Inputs_Ref_Units,,BB$52)),0)","v":0},{"$f":"IFERROR(SUMPRODUCT(--(INDEX(Model_Inputs_Ref_Units,,BC$51)=$E140),INDEX(Model_Inputs_Ref_Units,,BC$52)),0)","v":0},{"$f":"IFERROR(SUMPRODUCT(--(INDEX(Model_Inputs_Ref_Units,,BD$51)=$E140),INDEX(Model_Inputs_Ref_Units,,BD$52)),0)","v":0},{"$f":"IFERROR(SUMPRODUCT(--(INDEX(Model_Inputs_Ref_Units,,BE$51)=$E140),INDEX(Model_Inputs_Ref_Units,,BE$52)),0)","v":0},{"$f":"IFERROR(SUMPRODUCT(--(INDEX(Model_Inputs_Ref_Units,,BF$51)=$E140),INDEX(Model_Inputs_Ref_Units,,BF$52)),0)","v":0},{"$f":"IFERROR(SUMPRODUCT(--(INDEX(Model_Inputs_Ref_Units,,BG$51)=$E140),INDEX(Model_Inputs_Ref_Units,,BG$52)),0)","v":0},{"$f":"IFERROR(SUMPRODUCT(--(INDEX(Model_Inputs_Ref_Units,,BH$51)=$E140),INDEX(Model_Inputs_Ref_Units,,BH$52)),0)","v":0},{"$f":"IFERROR(SUMPRODUCT(--(INDEX(Model_Inputs_Ref_Units,,BI$51)=$E140),INDEX(Model_Inputs_Ref_Units,,BI$52)),0)","v":0},{"$f":"IFERROR(SUMPRODUCT(--(INDEX(Model_Inputs_Ref_Units,,BJ$51)=$E140),INDEX(Model_Inputs_Ref_Units,,BJ$52)),0)","v":0},{"$f":"IFERROR(SUMPRODUCT(--(INDEX(Model_Inputs_Ref_Units,,BK$51)=$E140),INDEX(Model_Inputs_Ref_Units,,BK$52)),0)","v":0},{"$f":"IFERROR(SUMPRODUCT(--(INDEX(Model_Inputs_Ref_Units,,BL$51)=$E140),INDEX(Model_Inputs_Ref_Units,,BL$52)),0)","v":0},{"$f":"IFERROR(SUMPRODUCT(--(INDEX(Model_Inputs_Ref_Units,,BM$51)=$E140),INDEX(Model_Inputs_Ref_Units,,BM$52)),0)","v":0},{"$f":"IFERROR(SUMPRODUCT(--(INDEX(Model_Inputs_Ref_Units,,BN$51)=$E140),INDEX(Model_Inputs_Ref_Units,,BN$52)),0)","v":0},{"$f":"IFERROR(SUMPRODUCT(--(INDEX(Model_Inputs_Ref_Units,,BO$51)=$E140),INDEX(Model_Inputs_Ref_Units,,BO$52)),0)","v":0},{"$f":"IFERROR(SUMPRODUCT(--(INDEX(Model_Inputs_Ref_Units,,BP$51)=$E140),INDEX(Model_Inputs_Ref_Units,,BP$52)),0)","v":0},{"$f":"IFERROR(SUMPRODUCT(--(INDEX(Model_Inputs_Ref_Units,,BQ$51)=$E140),INDEX(Model_Inputs_Ref_Units,,BQ$52)),0)","v":0},{"$f":"IFERROR(SUMPRODUCT(--(INDEX(Model_Inputs_Ref_Units,,BR$51)=$E140),INDEX(Model_Inputs_Ref_Units,,BR$52)),0)","v":0},{"$f":"IFERROR(SUMPRODUCT(--(INDEX(Model_Inputs_Ref_Units,,BS$51)=$E140),INDEX(Model_Inputs_Ref_Units,,BS$52)),0)","v":0},{"$f":"IFERROR(SUMPRODUCT(--(INDEX(Model_Inputs_Ref_Units,,BT$51)=$E140),INDEX(Model_Inputs_Ref_Units,,BT$52)),0)","v":0},{"$f":"IFERROR(SUMPRODUCT(--(INDEX(Model_Inputs_Ref_Units,,BU$51)=$E140),INDEX(Model_Inputs_Ref_Units,,BU$52)),0)","v":0},{"$f":"IFERROR(SUMPRODUCT(--(INDEX(Model_Inputs_Ref_Units,,BV$51)=$E140),INDEX(Model_Inputs_Ref_Units,,BV$52)),0)","v":0},{"$f":"IFERROR(SUMPRODUCT(--(INDEX(Model_Inputs_Ref_Units,,BW$51)=$E140),INDEX(Model_Inputs_Ref_Units,,BW$52)),0)","v":0},{"$f":"IFERROR(SUMPRODUCT(--(INDEX(Model_Inputs_Ref_Units,,BX$51)=$E140),INDEX(Model_Inputs_Ref_Units,,BX$52)),0)","v":0},{"$f":"IFERROR(SUMPRODUCT(--(INDEX(Model_Inputs_Ref_Units,,BY$51)=$E140),INDEX(Model_Inputs_Ref_Units,,BY$52)),0)","v":0},{"$f":"IFERROR(SUMPRODUCT(--(INDEX(Model_Inputs_Ref_Units,,BZ$51)=$E140),INDEX(Model_Inputs_Ref_Units,,BZ$52)),0)","v":0},{"$f":"IFERROR(SUMPRODUCT(--(INDEX(Model_Inputs_Ref_Units,,CA$51)=$E140),INDEX(Model_Inputs_Ref_Units,,CA$52)),0)","v":0},{"$f":"IFERROR(SUMPRODUCT(--(INDEX(Model_Inputs_Ref_Units,,CB$51)=$E140),INDEX(Model_Inputs_Ref_Units,,CB$52)),0)","v":0},{"$f":"IFERROR(SUMPRODUCT(--(INDEX(Model_Inputs_Ref_Units,,CC$51)=$E140),INDEX(Model_Inputs_Ref_Units,,CC$52)),0)","v":0},{"$f":"IFERROR(SUMPRODUCT(--(INDEX(Model_Inputs_Ref_Units,,CD$51)=$E140),INDEX(Model_Inputs_Ref_Units,,CD$52)),0)","v":0},{"$f":"IFERROR(SUMPRODUCT(--(INDEX(Model_Inputs_Ref_Units,,CE$51)=$E140),INDEX(Model_Inputs_Ref_Units,,CE$52)),0)","v":0},{"$f":"IFERROR(SUMPRODUCT(--(INDEX(Model_Inputs_Ref_Units,,CF$51)=$E140),INDEX(Model_Inputs_Ref_Units,,CF$52)),0)","v":0},{"$f":"IFERROR(SUMPRODUCT(--(INDEX(Model_Inputs_Ref_Units,,CG$51)=$E140),INDEX(Model_Inputs_Ref_Units,,CG$52)),0)","v":0},{"$f":"IFERROR(SUMPRODUCT(--(INDEX(Model_Inputs_Ref_Units,,CH$51)=$E140),INDEX(Model_Inputs_Ref_Units,,CH$52)),0)","v":0},{"$f":"IFERROR(SUMPRODUCT(--(INDEX(Model_Inputs_Ref_Units,,CI$51)=$E140),INDEX(Model_Inputs_Ref_Units,,CI$52)),0)","v":0},{"$f":"IFERROR(SUMPRODUCT(--(INDEX(Model_Inputs_Ref_Units,,CJ$51)=$E140),INDEX(Model_Inputs_Ref_Units,,CJ$52)),0)","v":0},{"$f":"IFERROR(SUMPRODUCT(--(INDEX(Model_Inputs_Ref_Units,,CK$51)=$E140),INDEX(Model_Inputs_Ref_Units,,CK$52)),0)","v":0},{"$f":"IFERROR(SUMPRODUCT(--(INDEX(Model_Inputs_Ref_Units,,CL$51)=$E140),INDEX(Model_Inputs_Ref_Units,,CL$52)),0)","v":0},{"$f":"IFERROR(SUMPRODUCT(--(INDEX(Model_Inputs_Ref_Units,,CM$51)=$E140),INDEX(Model_Inputs_Ref_Units,,CM$52)),0)","v":0},{"$f":"IFERROR(SUMPRODUCT(--(INDEX(Model_Inputs_Ref_Units,,CN$51)=$E140),INDEX(Model_Inputs_Ref_Units,,CN$52)),0)","v":0},{"$f":"IFERROR(SUMPRODUCT(--(INDEX(Model_Inputs_Ref_Units,,CO$51)=$E140),INDEX(Model_Inputs_Ref_Units,,CO$52)),0)","v":0},{"$f":"IFERROR(SUMPRODUCT(--(INDEX(Model_Inputs_Ref_Units,,CP$51)=$E140),INDEX(Model_Inputs_Ref_Units,,CP$52)),0)","v":0},{"$f":"IFERROR(SUMPRODUCT(--(INDEX(Model_Inputs_Ref_Units,,CQ$51)=$E140),INDEX(Model_Inputs_Ref_Units,,CQ$52)),0)","v":0},{"$f":"IFERROR(SUMPRODUCT(--(INDEX(Model_Inputs_Ref_Units,,CR$51)=$E140),INDEX(Model_Inputs_Ref_Units,,CR$52)),0)","v":0},{"$f":"IFERROR(SUMPRODUCT(--(INDEX(Model_Inputs_Ref_Units,,CS$51)=$E140),INDEX(Model_Inputs_Ref_Units,,CS$52)),0)","v":0},{"$f":"IFERROR(SUMPRODUCT(--(INDEX(Model_Inputs_Ref_Units,,CT$51)=$E140),INDEX(Model_Inputs_Ref_Units,,CT$52)),0)","v":0},{"$f":"IFERROR(SUMPRODUCT(--(INDEX(Model_Inputs_Ref_Units,,CU$51)=$E140),INDEX(Model_Inputs_Ref_Units,,CU$52)),0)","v":0},{"$f":"IFERROR(SUMPRODUCT(--(INDEX(Model_Inputs_Ref_Units,,CV$51)=$E140),INDEX(Model_Inputs_Ref_Units,,CV$52)),0)","v":0},{"$f":"IFERROR(SUMPRODUCT(--(INDEX(Model_Inputs_Ref_Units,,CW$51)=$E140),INDEX(Model_Inputs_Ref_Units,,CW$52)),0)","v":0},{"$f":"IFERROR(SUMPRODUCT(--(INDEX(Model_Inputs_Ref_Units,,CX$51)=$E140),INDEX(Model_Inputs_Ref_Units,,CX$52)),0)","v":0},{"$f":"IFERROR(SUMPRODUCT(--(INDEX(Model_Inputs_Ref_Units,,CY$51)=$E140),INDEX(Model_Inputs_Ref_Units,,CY$52)),0)","v":0},{"$f":"IFERROR(SUMPRODUCT(--(INDEX(Model_Inputs_Ref_Units,,CZ$51)=$E140),INDEX(Model_Inputs_Ref_Units,,CZ$52)),0)","v":0},{"$f":"IFERROR(SUMPRODUCT(--(INDEX(Model_Inputs_Ref_Units,,DA$51)=$E140),INDEX(Model_Inputs_Ref_Units,,DA$52)),0)","v":0},{"$f":"IFERROR(SUMPRODUCT(--(INDEX(Model_Inputs_Ref_Units,,DB$51)=$E140),INDEX(Model_Inputs_Ref_Units,,DB$52)),0)","v":0},{"$f":"IFERROR(SUMPRODUCT(--(INDEX(Model_Inputs_Ref_Units,,DC$51)=$E140),INDEX(Model_Inputs_Ref_Units,,DC$52)),0)","v":0},{"$f":"IFERROR(SUMPRODUCT(--(INDEX(Model_Inputs_Ref_Units,,DD$51)=$E140),INDEX(Model_Inputs_Ref_Units,,DD$52)),0)","v":0},{"$f":"IFERROR(SUMPRODUCT(--(INDEX(Model_Inputs_Ref_Units,,DE$51)=$E140),INDEX(Model_Inputs_Ref_Units,,DE$52)),0)","v":0},{"$f":"IFERROR(SUMPRODUCT(--(INDEX(Model_Inputs_Ref_Units,,DF$51)=$E140),INDEX(Model_Inputs_Ref_Units,,DF$52)),0)","v":0}]
[null,null,{"$error":"#DIV/0!"},null,{"$f":"IFERROR(INDEX(Ref_Data,1,F141),\"\")","v":""},88,0,0,0,0,{"$f":"IFERROR(SUMPRODUCT(--(INDEX(Model_Inputs_Ref_Units,,K$51)=$E141),INDEX(Model_Inputs_Ref_Units,,K$52)),0)","v":0},{"$f":"IFERROR(SUMPRODUCT(--(INDEX(Model_Inputs_Ref_Units,,L$51)=$E141),INDEX(Model_Inputs_Ref_Units,,L$52)),0)","v":0},{"$f":"IFERROR(SUMPRODUCT(--(INDEX(Model_Inputs_Ref_Units,,M$51)=$E141),INDEX(Model_Inputs_Ref_Units,,M$52)),0)","v":0},{"$f":"IFERROR(SUMPRODUCT(--(INDEX(Model_Inputs_Ref_Units,,N$51)=$E141),INDEX(Model_Inputs_Ref_Units,,N$52)),0)","v":0},{"$f":"IFERROR(SUMPRODUCT(--(INDEX(Model_Inputs_Ref_Units,,O$51)=$E141),INDEX(Model_Inputs_Ref_Units,,O$52)),0)","v":0},{"$f":"IFERROR(SUMPRODUCT(--(INDEX(Model_Inputs_Ref_Units,,P$51)=$E141),INDEX(Model_Inputs_Ref_Units,,P$52)),0)","v":0},{"$f":"IFERROR(SUMPRODUCT(--(INDEX(Model_Inputs_Ref_Units,,Q$51)=$E141),INDEX(Model_Inputs_Ref_Units,,Q$52)),0)","v":0},{"$f":"IFERROR(SUMPRODUCT(--(INDEX(Model_Inputs_Ref_Units,,R$51)=$E141),INDEX(Model_Inputs_Ref_Units,,R$52)),0)","v":0},{"$f":"IFERROR(SUMPRODUCT(--(INDEX(Model_Inputs_Ref_Units,,S$51)=$E141),INDEX(Model_Inputs_Ref_Units,,S$52)),0)","v":0},{"$f":"IFERROR(SUMPRODUCT(--(INDEX(Model_Inputs_Ref_Units,,T$51)=$E141),INDEX(Model_Inputs_Ref_Units,,T$52)),0)","v":0},{"$f":"IFERROR(SUMPRODUCT(--(INDEX(Model_Inputs_Ref_Units,,U$51)=$E141),INDEX(Model_Inputs_Ref_Units,,U$52)),0)","v":0},{"$f":"IFERROR(SUMPRODUCT(--(INDEX(Model_Inputs_Ref_Units,,V$51)=$E141),INDEX(Model_Inputs_Ref_Units,,V$52)),0)","v":0},{"$f":"IFERROR(SUMPRODUCT(--(INDEX(Model_Inputs_Ref_Units,,W$51)=$E141),INDEX(Model_Inputs_Ref_Units,,W$52)),0)","v":0},{"$f":"IFERROR(SUMPRODUCT(--(INDEX(Model_Inputs_Ref_Units,,X$51)=$E141),INDEX(Model_Inputs_Ref_Units,,X$52)),0)","v":0},{"$f":"IFERROR(SUMPRODUCT(--(INDEX(Model_Inputs_Ref_Units,,Y$51)=$E141),INDEX(Model_Inputs_Ref_Units,,Y$52)),0)","v":0},{"$f":"IFERROR(SUMPRODUCT(--(INDEX(Model_Inputs_Ref_Units,,Z$51)=$E141),INDEX(Model_Inputs_Ref_Units,,Z$52)),0)","v":0},{"$f":"IFERROR(SUMPRODUCT(--(INDEX(Model_Inputs_Ref_Units,,AA$51)=$E141),INDEX(Model_Inputs_Ref_Units,,AA$52)),0)","v":0},{"$f":"IFERROR(SUMPRODUCT(--(INDEX(Model_Inputs_Ref_Units,,AB$51)=$E141),INDEX(Model_Inputs_Ref_Units,,AB$52)),0)","v":0},{"$f":"IFERROR(SUMPRODUCT(--(INDEX(Model_Inputs_Ref_Units,,AC$51)=$E141),INDEX(Model_Inputs_Ref_Units,,AC$52)),0)","v":0},{"$f":"IFERROR(SUMPRODUCT(--(INDEX(Model_Inputs_Ref_Units,,AD$51)=$E141),INDEX(Model_Inputs_Ref_Units,,AD$52)),0)","v":0},{"$f":"IFERROR(SUMPRODUCT(--(INDEX(Model_Inputs_Ref_Units,,AE$51)=$E141),INDEX(Model_Inputs_Ref_Units,,AE$52)),0)","v":0},{"$f":"IFERROR(SUMPRODUCT(--(INDEX(Model_Inputs_Ref_Units,,AF$51)=$E141),INDEX(Model_Inputs_Ref_Units,,AF$52)),0)","v":0},{"$f":"IFERROR(SUMPRODUCT(--(INDEX(Model_Inputs_Ref_Units,,AG$51)=$E141),INDEX(Model_Inputs_Ref_Units,,AG$52)),0)","v":0},{"$f":"IFERROR(SUMPRODUCT(--(INDEX(Model_Inputs_Ref_Units,,AH$51)=$E141),INDEX(Model_Inputs_Ref_Units,,AH$52)),0)","v":0},{"$f":"IFERROR(SUMPRODUCT(--(INDEX(Model_Inputs_Ref_Units,,AI$51)=$E141),INDEX(Model_Inputs_Ref_Units,,AI$52)),0)","v":0},{"$f":"IFERROR(SUMPRODUCT(--(INDEX(Model_Inputs_Ref_Units,,AJ$51)=$E141),INDEX(Model_Inputs_Ref_Units,,AJ$52)),0)","v":0},{"$f":"IFERROR(SUMPRODUCT(--(INDEX(Model_Inputs_Ref_Units,,AK$51)=$E141),INDEX(Model_Inputs_Ref_Units,,AK$52)),0)","v":0},{"$f":"IFERROR(SUMPRODUCT(--(INDEX(Model_Inputs_Ref_Units,,AL$51)=$E141),INDEX(Model_Inputs_Ref_Units,,AL$52)),0)","v":0},{"$f":"IFERROR(SUMPRODUCT(--(INDEX(Model_Inputs_Ref_Units,,AM$51)=$E141),INDEX(Model_Inputs_Ref_Units,,AM$52)),0)","v":0},{"$f":"IFERROR(SUMPRODUCT(--(INDEX(Model_Inputs_Ref_Units,,AN$51)=$E141),INDEX(Model_Inputs_Ref_Units,,AN$52)),0)","v":0},{"$f":"IFERROR(SUMPRODUCT(--(INDEX(Model_Inputs_Ref_Units,,AO$51)=$E141),INDEX(Model_Inputs_Ref_Units,,AO$52)),0)","v":0},{"$f":"IFERROR(SUMPRODUCT(--(INDEX(Model_Inputs_Ref_Units,,AP$51)=$E141),INDEX(Model_Inputs_Ref_Units,,AP$52)),0)","v":0},{"$f":"IFERROR(SUMPRODUCT(--(INDEX(Model_Inputs_Ref_Units,,AQ$51)=$E141),INDEX(Model_Inputs_Ref_Units,,AQ$52)),0)","v":0},{"$f":"IFERROR(SUMPRODUCT(--(INDEX(Model_Inputs_Ref_Units,,AR$51)=$E141),INDEX(Model_Inputs_Ref_Units,,AR$52)),0)","v":0},{"$f":"IFERROR(SUMPRODUCT(--(INDEX(Model_Inputs_Ref_Units,,AS$51)=$E141),INDEX(Model_Inputs_Ref_Units,,AS$52)),0)","v":0},{"$f":"IFERROR(SUMPRODUCT(--(INDEX(Model_Inputs_Ref_Units,,AT$51)=$E141),INDEX(Model_Inputs_Ref_Units,,AT$52)),0)","v":0},{"$f":"IFERROR(SUMPRODUCT(--(INDEX(Model_Inputs_Ref_Units,,AU$51)=$E141),INDEX(Model_Inputs_Ref_Units,,AU$52)),0)","v":0},{"$f":"IFERROR(SUMPRODUCT(--(INDEX(Model_Inputs_Ref_Units,,AV$51)=$E141),INDEX(Model_Inputs_Ref_Units,,AV$52)),0)","v":0},{"$f":"IFERROR(SUMPRODUCT(--(INDEX(Model_Inputs_Ref_Units,,AW$51)=$E141),INDEX(Model_Inputs_Ref_Units,,AW$52)),0)","v":0},{"$f":"IFERROR(SUMPRODUCT(--(INDEX(Model_Inputs_Ref_Units,,AX$51)=$E141),INDEX(Model_Inputs_Ref_Units,,AX$52)),0)","v":0},{"$f":"IFERROR(SUMPRODUCT(--(INDEX(Model_Inputs_Ref_Units,,AY$51)=$E141),INDEX(Model_Inputs_Ref_Units,,AY$52)),0)","v":0},{"$f":"IFERROR(SUMPRODUCT(--(INDEX(Model_Inputs_Ref_Units,,AZ$51)=$E141),INDEX(Model_Inputs_Ref_Units,,AZ$52)),0)","v":0},{"$f":"IFERROR(SUMPRODUCT(--(INDEX(Model_Inputs_Ref_Units,,BA$51)=$E141),INDEX(Model_Inputs_Ref_Units,,BA$52)),0)","v":0},{"$f":"IFERROR(SUMPRODUCT(--(INDEX(Model_Inputs_Ref_Units,,BB$51)=$E141),INDEX(Model_Inputs_Ref_Units,,BB$52)),0)","v":0},{"$f":"IFERROR(SUMPRODUCT(--(INDEX(Model_Inputs_Ref_Units,,BC$51)=$E141),INDEX(Model_Inputs_Ref_Units,,BC$52)),0)","v":0},{"$f":"IFERROR(SUMPRODUCT(--(INDEX(Model_Inputs_Ref_Units,,BD$51)=$E141),INDEX(Model_Inputs_Ref_Units,,BD$52)),0)","v":0},{"$f":"IFERROR(SUMPRODUCT(--(INDEX(Model_Inputs_Ref_Units,,BE$51)=$E141),INDEX(Model_Inputs_Ref_Units,,BE$52)),0)","v":0},{"$f":"IFERROR(SUMPRODUCT(--(INDEX(Model_Inputs_Ref_Units,,BF$51)=$E141),INDEX(Model_Inputs_Ref_Units,,BF$52)),0)","v":0},{"$f":"IFERROR(SUMPRODUCT(--(INDEX(Model_Inputs_Ref_Units,,BG$51)=$E141),INDEX(Model_Inputs_Ref_Units,,BG$52)),0)","v":0},{"$f":"IFERROR(SUMPRODUCT(--(INDEX(Model_Inputs_Ref_Units,,BH$51)=$E141),INDEX(Model_Inputs_Ref_Units,,BH$52)),0)","v":0},{"$f":"IFERROR(SUMPRODUCT(--(INDEX(Model_Inputs_Ref_Units,,BI$51)=$E141),INDEX(Model_Inputs_Ref_Units,,BI$52)),0)","v":0},{"$f":"IFERROR(SUMPRODUCT(--(INDEX(Model_Inputs_Ref_Units,,BJ$51)=$E141),INDEX(Model_Inputs_Ref_Units,,BJ$52)),0)","v":0},{"$f":"IFERROR(SUMPRODUCT(--(INDEX(Model_Inputs_Ref_Units,,BK$51)=$E141),INDEX(Model_Inputs_Ref_Units,,BK$52)),0)","v":0},{"$f":"IFERROR(SUMPRODUCT(--(INDEX(Model_Inputs_Ref_Units,,BL$51)=$E141),INDEX(Model_Inputs_Ref_Units,,BL$52)),0)","v":0},{"$f":"IFERROR(SUMPRODUCT(--(INDEX(Model_Inputs_Ref_Units,,BM$51)=$E141),INDEX(Model_Inputs_Ref_Units,,BM$52)),0)","v":0},{"$f":"IFERROR(SUMPRODUCT(--(INDEX(Model_Inputs_Ref_Units,,BN$51)=$E141),INDEX(Model_Inputs_Ref_Units,,BN$52)),0)","v":0},{"$f":"IFERROR(SUMPRODUCT(--(INDEX(Model_Inputs_Ref_Units,,BO$51)=$E141),INDEX(Model_Inputs_Ref_Units,,BO$52)),0)","v":0},{"$f":"IFERROR(SUMPRODUCT(--(INDEX(Model_Inputs_Ref_Units,,BP$51)=$E141),INDEX(Model_Inputs_Ref_Units,,BP$52)),0)","v":0},{"$f":"IFERROR(SUMPRODUCT(--(INDEX(Model_Inputs_Ref_Units,,BQ$51)=$E141),INDEX(Model_Inputs_Ref_Units,,BQ$52)),0)","v":0},{"$f":"IFERROR(SUMPRODUCT(--(INDEX(Model_Inputs_Ref_Units,,BR$51)=$E141),INDEX(Model_Inputs_Ref_Units,,BR$52)),0)","v":0},{"$f":"IFERROR(SUMPRODUCT(--(INDEX(Model_Inputs_Ref_Units,,BS$51)=$E141),INDEX(Model_Inputs_Ref_Units,,BS$52)),0)","v":0},{"$f":"IFERROR(SUMPRODUCT(--(INDEX(Model_Inputs_Ref_Units,,BT$51)=$E141),INDEX(Model_Inputs_Ref_Units,,BT$52)),0)","v":0},{"$f":"IFERROR(SUMPRODUCT(--(INDEX(Model_Inputs_Ref_Units,,BU$51)=$E141),INDEX(Model_Inputs_Ref_Units,,BU$52)),0)","v":0},{"$f":"IFERROR(SUMPRODUCT(--(INDEX(Model_Inputs_Ref_Units,,BV$51)=$E141),INDEX(Model_Inputs_Ref_Units,,BV$52)),0)","v":0},{"$f":"IFERROR(SUMPRODUCT(--(INDEX(Model_Inputs_Ref_Units,,BW$51)=$E141),INDEX(Model_Inputs_Ref_Units,,BW$52)),0)","v":0},{"$f":"IFERROR(SUMPRODUCT(--(INDEX(Model_Inputs_Ref_Units,,BX$51)=$E141),INDEX(Model_Inputs_Ref_Units,,BX$52)),0)","v":0},{"$f":"IFERROR(SUMPRODUCT(--(INDEX(Model_Inputs_Ref_Units,,BY$51)=$E141),INDEX(Model_Inputs_Ref_Units,,BY$52)),0)","v":0},{"$f":"IFERROR(SUMPRODUCT(--(INDEX(Model_Inputs_Ref_Units,,BZ$51)=$E141),INDEX(Model_Inputs_Ref_Units,,BZ$52)),0)","v":0},{"$f":"IFERROR(SUMPRODUCT(--(INDEX(Model_Inputs_Ref_Units,,CA$51)=$E141),INDEX(Model_Inputs_Ref_Units,,CA$52)),0)","v":0},{"$f":"IFERROR(SUMPRODUCT(--(INDEX(Model_Inputs_Ref_Units,,CB$51)=$E141),INDEX(Model_Inputs_Ref_Units,,CB$52)),0)","v":0},{"$f":"IFERROR(SUMPRODUCT(--(INDEX(Model_Inputs_Ref_Units,,CC$51)=$E141),INDEX(Model_Inputs_Ref_Units,,CC$52)),0)","v":0},{"$f":"IFERROR(SUMPRODUCT(--(INDEX(Model_Inputs_Ref_Units,,CD$51)=$E141),INDEX(Model_Inputs_Ref_Units,,CD$52)),0)","v":0},{"$f":"IFERROR(SUMPRODUCT(--(INDEX(Model_Inputs_Ref_Units,,CE$51)=$E141),INDEX(Model_Inputs_Ref_Units,,CE$52)),0)","v":0},{"$f":"IFERROR(SUMPRODUCT(--(INDEX(Model_Inputs_Ref_Units,,CF$51)=$E141),INDEX(Model_Inputs_Ref_Units,,CF$52)),0)","v":0},{"$f":"IFERROR(SUMPRODUCT(--(INDEX(Model_Inputs_Ref_Units,,CG$51)=$E141),INDEX(Model_Inputs_Ref_Units,,CG$52)),0)","v":0},{"$f":"IFERROR(SUMPRODUCT(--(INDEX(Model_Inputs_Ref_Units,,CH$51)=$E141),INDEX(Model_Inputs_Ref_Units,,CH$52)),0)","v":0},{"$f":"IFERROR(SUMPRODUCT(--(INDEX(Model_Inputs_Ref_Units,,CI$51)=$E141),INDEX(Model_Inputs_Ref_Units,,CI$52)),0)","v":0},{"$f":"IFERROR(SUMPRODUCT(--(INDEX(Model_Inputs_Ref_Units,,CJ$51)=$E141),INDEX(Model_Inputs_Ref_Units,,CJ$52)),0)","v":0},{"$f":"IFERROR(SUMPRODUCT(--(INDEX(Model_Inputs_Ref_Units,,CK$51)=$E141),INDEX(Model_Inputs_Ref_Units,,CK$52)),0)","v":0},{"$f":"IFERROR(SUMPRODUCT(--(INDEX(Model_Inputs_Ref_Units,,CL$51)=$E141),INDEX(Model_Inputs_Ref_Units,,CL$52)),0)","v":0},{"$f":"IFERROR(SUMPRODUCT(--(INDEX(Model_Inputs_Ref_Units,,CM$51)=$E141),INDEX(Model_Inputs_Ref_Units,,CM$52)),0)","v":0},{"$f":"IFERROR(SUMPRODUCT(--(INDEX(Model_Inputs_Ref_Units,,CN$51)=$E141),INDEX(Model_Inputs_Ref_Units,,CN$52)),0)","v":0},{"$f":"IFERROR(SUMPRODUCT(--(INDEX(Model_Inputs_Ref_Units,,CO$51)=$E141),INDEX(Model_Inputs_Ref_Units,,CO$52)),0)","v":0},{"$f":"IFERROR(SUMPRODUCT(--(INDEX(Model_Inputs_Ref_Units,,CP$51)=$E141),INDEX(Model_Inputs_Ref_Units,,CP$52)),0)","v":0},{"$f":"IFERROR(SUMPRODUCT(--(INDEX(Model_Inputs_Ref_Units,,CQ$51)=$E141),INDEX(Model_Inputs_Ref_Units,,CQ$52)),0)","v":0},{"$f":"IFERROR(SUMPRODUCT(--(INDEX(Model_Inputs_Ref_Units,,CR$51)=$E141),INDEX(Model_Inputs_Ref_Units,,CR$52)),0)","v":0},{"$f":"IFERROR(SUMPRODUCT(--(INDEX(Model_Inputs_Ref_Units,,CS$51)=$E141),INDEX(Model_Inputs_Ref_Units,,CS$52)),0)","v":0},{"$f":"IFERROR(SUMPRODUCT(--(INDEX(Model_Inputs_Ref_Units,,CT$51)=$E141),INDEX(Model_Inputs_Ref_Units,,CT$52)),0)","v":0},{"$f":"IFERROR(SUMPRODUCT(--(INDEX(Model_Inputs_Ref_Units,,CU$51)=$E141),INDEX(Model_Inputs_Ref_Units,,CU$52)),0)","v":0},{"$f":"IFERROR(SUMPRODUCT(--(INDEX(Model_Inputs_Ref_Units,,CV$51)=$E141),INDEX(Model_Inputs_Ref_Units,,CV$52)),0)","v":0},{"$f":"IFERROR(SUMPRODUCT(--(INDEX(Model_Inputs_Ref_Units,,CW$51)=$E141),INDEX(Model_Inputs_Ref_Units,,CW$52)),0)","v":0},{"$f":"IFERROR(SUMPRODUCT(--(INDEX(Model_Inputs_Ref_Units,,CX$51)=$E141),INDEX(Model_Inputs_Ref_Units,,CX$52)),0)","v":0},{"$f":"IFERROR(SUMPRODUCT(--(INDEX(Model_Inputs_Ref_Units,,CY$51)=$E141),INDEX(Model_Inputs_Ref_Units,,CY$52)),0)","v":0},{"$f":"IFERROR(SUMPRODUCT(--(INDEX(Model_Inputs_Ref_Units,,CZ$51)=$E141),INDEX(Model_Inputs_Ref_Units,,CZ$52)),0)","v":0},{"$f":"IFERROR(SUMPRODUCT(--(INDEX(Model_Inputs_Ref_Units,,DA$51)=$E141),INDEX(Model_Inputs_Ref_Units,,DA$52)),0)","v":0},{"$f":"IFERROR(SUMPRODUCT(--(INDEX(Model_Inputs_Ref_Units,,DB$51)=$E141),INDEX(Model_Inputs_Ref_Units,,DB$52)),0)","v":0},{"$f":"IFERROR(SUMPRODUCT(--(INDEX(Model_Inputs_Ref_Units,,DC$51)=$E141),INDEX(Model_Inputs_Ref_Units,,DC$52)),0)","v":0},{"$f":"IFERROR(SUMPRODUCT(--(INDEX(Model_Inputs_Ref_Units,,DD$51)=$E141),INDEX(Model_Inputs_Ref_Units,,DD$52)),0)","v":0},{"$f":"IFERROR(SUMPRODUCT(--(INDEX(Model_Inputs_Ref_Units,,DE$51)=$E141),INDEX(Model_Inputs_Ref_Units,,DE$52)),0)","v":0},{"$f":"IFERROR(SUMPRODUCT(--(INDEX(Model_Inputs_Ref_Units,,DF$51)=$E141),INDEX(Model_Inputs_Ref_Units,,DF$52)),0)","v":0}]
[null,null,{"$error":"#DIV/0!"},null,{"$f":"IFERROR(INDEX(Ref_Data,1,F142),\"\")","v":""},89,0,0,0,0,{"$f":"IFERROR(SUMPRODUCT(--(INDEX(Model_Inputs_Ref_Units,,K$51)=$E142),INDEX(Model_Inputs_Ref_Units,,K$52)),0)","v":0},{"$f":"IFERROR(SUMPRODUCT(--(INDEX(Model_Inputs_Ref_Units,,L$51)=$E142),INDEX(Model_Inputs_Ref_Units,,L$52)),0)","v":0},{"$f":"IFERROR(SUMPRODUCT(--(INDEX(Model_Inputs_Ref_Units,,M$51)=$E142),INDEX(Model_Inputs_Ref_Units,,M$52)),0)","v":0},{"$f":"IFERROR(SUMPRODUCT(--(INDEX(Model_Inputs_Ref_Units,,N$51)=$E142),INDEX(Model_Inputs_Ref_Units,,N$52)),0)","v":0},{"$f":"IFERROR(SUMPRODUCT(--(INDEX(Model_Inputs_Ref_Units,,O$51)=$E142),INDEX(Model_Inputs_Ref_Units,,O$52)),0)","v":0},{"$f":"IFERROR(SUMPRODUCT(--(INDEX(Model_Inputs_Ref_Units,,P$51)=$E142),INDEX(Model_Inputs_Ref_Units,,P$52)),0)","v":0},{"$f":"IFERROR(SUMPRODUCT(--(INDEX(Model_Inputs_Ref_Units,,Q$51)=$E142),INDEX(Model_Inputs_Ref_Units,,Q$52)),0)","v":0},{"$f":"IFERROR(SUMPRODUCT(--(INDEX(Model_Inputs_Ref_Units,,R$51)=$E142),INDEX(Model_Inputs_Ref_Units,,R$52)),0)","v":0},{"$f":"IFERROR(SUMPRODUCT(--(INDEX(Model_Inputs_Ref_Units,,S$51)=$E142),INDEX(Model_Inputs_Ref_Units,,S$52)),0)","v":0},{"$f":"IFERROR(SUMPRODUCT(--(INDEX(Model_Inputs_Ref_Units,,T$51)=$E142),INDEX(Model_Inputs_Ref_Units,,T$52)),0)","v":0},{"$f":"IFERROR(SUMPRODUCT(--(INDEX(Model_Inputs_Ref_Units,,U$51)=$E142),INDEX(Model_Inputs_Ref_Units,,U$52)),0)","v":0},{"$f":"IFERROR(SUMPRODUCT(--(INDEX(Model_Inputs_Ref_Units,,V$51)=$E142),INDEX(Model_Inputs_Ref_Units,,V$52)),0)","v":0},{"$f":"IFERROR(SUMPRODUCT(--(INDEX(Model_Inputs_Ref_Units,,W$51)=$E142),INDEX(Model_Inputs_Ref_Units,,W$52)),0)","v":0},{"$f":"IFERROR(SUMPRODUCT(--(INDEX(Model_Inputs_Ref_Units,,X$51)=$E142),INDEX(Model_Inputs_Ref_Units,,X$52)),0)","v":0},{"$f":"IFERROR(SUMPRODUCT(--(INDEX(Model_Inputs_Ref_Units,,Y$51)=$E142),INDEX(Model_Inputs_Ref_Units,,Y$52)),0)","v":0},{"$f":"IFERROR(SUMPRODUCT(--(INDEX(Model_Inputs_Ref_Units,,Z$51)=$E142),INDEX(Model_Inputs_Ref_Units,,Z$52)),0)","v":0},{"$f":"IFERROR(SUMPRODUCT(--(INDEX(Model_Inputs_Ref_Units,,AA$51)=$E142),INDEX(Model_Inputs_Ref_Units,,AA$52)),0)","v":0},{"$f":"IFERROR(SUMPRODUCT(--(INDEX(Model_Inputs_Ref_Units,,AB$51)=$E142),INDEX(Model_Inputs_Ref_Units,,AB$52)),0)","v":0},{"$f":"IFERROR(SUMPRODUCT(--(INDEX(Model_Inputs_Ref_Units,,AC$51)=$E142),INDEX(Model_Inputs_Ref_Units,,AC$52)),0)","v":0},{"$f":"IFERROR(SUMPRODUCT(--(INDEX(Model_Inputs_Ref_Units,,AD$51)=$E142),INDEX(Model_Inputs_Ref_Units,,AD$52)),0)","v":0},{"$f":"IFERROR(SUMPRODUCT(--(INDEX(Model_Inputs_Ref_Units,,AE$51)=$E142),INDEX(Model_Inputs_Ref_Units,,AE$52)),0)","v":0},{"$f":"IFERROR(SUMPRODUCT(--(INDEX(Model_Inputs_Ref_Units,,AF$51)=$E142),INDEX(Model_Inputs_Ref_Units,,AF$52)),0)","v":0},{"$f":"IFERROR(SUMPRODUCT(--(INDEX(Model_Inputs_Ref_Units,,AG$51)=$E142),INDEX(Model_Inputs_Ref_Units,,AG$52)),0)","v":0},{"$f":"IFERROR(SUMPRODUCT(--(INDEX(Model_Inputs_Ref_Units,,AH$51)=$E142),INDEX(Model_Inputs_Ref_Units,,AH$52)),0)","v":0},{"$f":"IFERROR(SUMPRODUCT(--(INDEX(Model_Inputs_Ref_Units,,AI$51)=$E142),INDEX(Model_Inputs_Ref_Units,,AI$52)),0)","v":0},{"$f":"IFERROR(SUMPRODUCT(--(INDEX(Model_Inputs_Ref_Units,,AJ$51)=$E142),INDEX(Model_Inputs_Ref_Units,,AJ$52)),0)","v":0},{"$f":"IFERROR(SUMPRODUCT(--(INDEX(Model_Inputs_Ref_Units,,AK$51)=$E142),INDEX(Model_Inputs_Ref_Units,,AK$52)),0)","v":0},{"$f":"IFERROR(SUMPRODUCT(--(INDEX(Model_Inputs_Ref_Units,,AL$51)=$E142),INDEX(Model_Inputs_Ref_Units,,AL$52)),0)","v":0},{"$f":"IFERROR(SUMPRODUCT(--(INDEX(Model_Inputs_Ref_Units,,AM$51)=$E142),INDEX(Model_Inputs_Ref_Units,,AM$52)),0)","v":0},{"$f":"IFERROR(SUMPRODUCT(--(INDEX(Model_Inputs_Ref_Units,,AN$51)=$E142),INDEX(Model_Inputs_Ref_Units,,AN$52)),0)","v":0},{"$f":"IFERROR(SUMPRODUCT(--(INDEX(Model_Inputs_Ref_Units,,AO$51)=$E142),INDEX(Model_Inputs_Ref_Units,,AO$52)),0)","v":0},{"$f":"IFERROR(SUMPRODUCT(--(INDEX(Model_Inputs_Ref_Units,,AP$51)=$E142),INDEX(Model_Inputs_Ref_Units,,AP$52)),0)","v":0},{"$f":"IFERROR(SUMPRODUCT(--(INDEX(Model_Inputs_Ref_Units,,AQ$51)=$E142),INDEX(Model_Inputs_Ref_Units,,AQ$52)),0)","v":0},{"$f":"IFERROR(SUMPRODUCT(--(INDEX(Model_Inputs_Ref_Units,,AR$51)=$E142),INDEX(Model_Inputs_Ref_Units,,AR$52)),0)","v":0},{"$f":"IFERROR(SUMPRODUCT(--(INDEX(Model_Inputs_Ref_Units,,AS$51)=$E142),INDEX(Model_Inputs_Ref_Units,,AS$52)),0)","v":0},{"$f":"IFERROR(SUMPRODUCT(--(INDEX(Model_Inputs_Ref_Units,,AT$51)=$E142),INDEX(Model_Inputs_Ref_Units,,AT$52)),0)","v":0},{"$f":"IFERROR(SUMPRODUCT(--(INDEX(Model_Inputs_Ref_Units,,AU$51)=$E142),INDEX(Model_Inputs_Ref_Units,,AU$52)),0)","v":0},{"$f":"IFERROR(SUMPRODUCT(--(INDEX(Model_Inputs_Ref_Units,,AV$51)=$E142),INDEX(Model_Inputs_Ref_Units,,AV$52)),0)","v":0},{"$f":"IFERROR(SUMPRODUCT(--(INDEX(Model_Inputs_Ref_Units,,AW$51)=$E142),INDEX(Model_Inputs_Ref_Units,,AW$52)),0)","v":0},{"$f":"IFERROR(SUMPRODUCT(--(INDEX(Model_Inputs_Ref_Units,,AX$51)=$E142),INDEX(Model_Inputs_Ref_Units,,AX$52)),0)","v":0},{"$f":"IFERROR(SUMPRODUCT(--(INDEX(Model_Inputs_Ref_Units,,AY$51)=$E142),INDEX(Model_Inputs_Ref_Units,,AY$52)),0)","v":0},{"$f":"IFERROR(SUMPRODUCT(--(INDEX(Model_Inputs_Ref_Units,,AZ$51)=$E142),INDEX(Model_Inputs_Ref_Units,,AZ$52)),0)","v":0},{"$f":"IFERROR(SUMPRODUCT(--(INDEX(Model_Inputs_Ref_Units,,BA$51)=$E142),INDEX(Model_Inputs_Ref_Units,,BA$52)),0)","v":0},{"$f":"IFERROR(SUMPRODUCT(--(INDEX(Model_Inputs_Ref_Units,,BB$51)=$E142),INDEX(Model_Inputs_Ref_Units,,BB$52)),0)","v":0},{"$f":"IFERROR(SUMPRODUCT(--(INDEX(Model_Inputs_Ref_Units,,BC$51)=$E142),INDEX(Model_Inputs_Ref_Units,,BC$52)),0)","v":0},{"$f":"IFERROR(SUMPRODUCT(--(INDEX(Model_Inputs_Ref_Units,,BD$51)=$E142),INDEX(Model_Inputs_Ref_Units,,BD$52)),0)","v":0},{"$f":"IFERROR(SUMPRODUCT(--(INDEX(Model_Inputs_Ref_Units,,BE$51)=$E142),INDEX(Model_Inputs_Ref_Units,,BE$52)),0)","v":0},{"$f":"IFERROR(SUMPRODUCT(--(INDEX(Model_Inputs_Ref_Units,,BF$51)=$E142),INDEX(Model_Inputs_Ref_Units,,BF$52)),0)","v":0},{"$f":"IFERROR(SUMPRODUCT(--(INDEX(Model_Inputs_Ref_Units,,BG$51)=$E142),INDEX(Model_Inputs_Ref_Units,,BG$52)),0)","v":0},{"$f":"IFERROR(SUMPRODUCT(--(INDEX(Model_Inputs_Ref_Units,,BH$51)=$E142),INDEX(Model_Inputs_Ref_Units,,BH$52)),0)","v":0},{"$f":"IFERROR(SUMPRODUCT(--(INDEX(Model_Inputs_Ref_Units,,BI$51)=$E142),INDEX(Model_Inputs_Ref_Units,,BI$52)),0)","v":0},{"$f":"IFERROR(SUMPRODUCT(--(INDEX(Model_Inputs_Ref_Units,,BJ$51)=$E142),INDEX(Model_Inputs_Ref_Units,,BJ$52)),0)","v":0},{"$f":"IFERROR(SUMPRODUCT(--(INDEX(Model_Inputs_Ref_Units,,BK$51)=$E142),INDEX(Model_Inputs_Ref_Units,,BK$52)),0)","v":0},{"$f":"IFERROR(SUMPRODUCT(--(INDEX(Model_Inputs_Ref_Units,,BL$51)=$E142),INDEX(Model_Inputs_Ref_Units,,BL$52)),0)","v":0},{"$f":"IFERROR(SUMPRODUCT(--(INDEX(Model_Inputs_Ref_Units,,BM$51)=$E142),INDEX(Model_Inputs_Ref_Units,,BM$52)),0)","v":0},{"$f":"IFERROR(SUMPRODUCT(--(INDEX(Model_Inputs_Ref_Units,,BN$51)=$E142),INDEX(Model_Inputs_Ref_Units,,BN$52)),0)","v":0},{"$f":"IFERROR(SUMPRODUCT(--(INDEX(Model_Inputs_Ref_Units,,BO$51)=$E142),INDEX(Model_Inputs_Ref_Units,,BO$52)),0)","v":0},{"$f":"IFERROR(SUMPRODUCT(--(INDEX(Model_Inputs_Ref_Units,,BP$51)=$E142),INDEX(Model_Inputs_Ref_Units,,BP$52)),0)","v":0},{"$f":"IFERROR(SUMPRODUCT(--(INDEX(Model_Inputs_Ref_Units,,BQ$51)=$E142),INDEX(Model_Inputs_Ref_Units,,BQ$52)),0)","v":0},{"$f":"IFERROR(SUMPRODUCT(--(INDEX(Model_Inputs_Ref_Units,,BR$51)=$E142),INDEX(Model_Inputs_Ref_Units,,BR$52)),0)","v":0},{"$f":"IFERROR(SUMPRODUCT(--(INDEX(Model_Inputs_Ref_Units,,BS$51)=$E142),INDEX(Model_Inputs_Ref_Units,,BS$52)),0)","v":0},{"$f":"IFERROR(SUMPRODUCT(--(INDEX(Model_Inputs_Ref_Units,,BT$51)=$E142),INDEX(Model_Inputs_Ref_Units,,BT$52)),0)","v":0},{"$f":"IFERROR(SUMPRODUCT(--(INDEX(Model_Inputs_Ref_Units,,BU$51)=$E142),INDEX(Model_Inputs_Ref_Units,,BU$52)),0)","v":0},{"$f":"IFERROR(SUMPRODUCT(--(INDEX(Model_Inputs_Ref_Units,,BV$51)=$E142),INDEX(Model_Inputs_Ref_Units,,BV$52)),0)","v":0},{"$f":"IFERROR(SUMPRODUCT(--(INDEX(Model_Inputs_Ref_Units,,BW$51)=$E142),INDEX(Model_Inputs_Ref_Units,,BW$52)),0)","v":0},{"$f":"IFERROR(SUMPRODUCT(--(INDEX(Model_Inputs_Ref_Units,,BX$51)=$E142),INDEX(Model_Inputs_Ref_Units,,BX$52)),0)","v":0},{"$f":"IFERROR(SUMPRODUCT(--(INDEX(Model_Inputs_Ref_Units,,BY$51)=$E142),INDEX(Model_Inputs_Ref_Units,,BY$52)),0)","v":0},{"$f":"IFERROR(SUMPRODUCT(--(INDEX(Model_Inputs_Ref_Units,,BZ$51)=$E142),INDEX(Model_Inputs_Ref_Units,,BZ$52)),0)","v":0},{"$f":"IFERROR(SUMPRODUCT(--(INDEX(Model_Inputs_Ref_Units,,CA$51)=$E142),INDEX(Model_Inputs_Ref_Units,,CA$52)),0)","v":0},{"$f":"IFERROR(SUMPRODUCT(--(INDEX(Model_Inputs_Ref_Units,,CB$51)=$E142),INDEX(Model_Inputs_Ref_Units,,CB$52)),0)","v":0},{"$f":"IFERROR(SUMPRODUCT(--(INDEX(Model_Inputs_Ref_Units,,CC$51)=$E142),INDEX(Model_Inputs_Ref_Units,,CC$52)),0)","v":0},{"$f":"IFERROR(SUMPRODUCT(--(INDEX(Model_Inputs_Ref_Units,,CD$51)=$E142),INDEX(Model_Inputs_Ref_Units,,CD$52)),0)","v":0},{"$f":"IFERROR(SUMPRODUCT(--(INDEX(Model_Inputs_Ref_Units,,CE$51)=$E142),INDEX(Model_Inputs_Ref_Units,,CE$52)),0)","v":0},{"$f":"IFERROR(SUMPRODUCT(--(INDEX(Model_Inputs_Ref_Units,,CF$51)=$E142),INDEX(Model_Inputs_Ref_Units,,CF$52)),0)","v":0},{"$f":"IFERROR(SUMPRODUCT(--(INDEX(Model_Inputs_Ref_Units,,CG$51)=$E142),INDEX(Model_Inputs_Ref_Units,,CG$52)),0)","v":0},{"$f":"IFERROR(SUMPRODUCT(--(INDEX(Model_Inputs_Ref_Units,,CH$51)=$E142),INDEX(Model_Inputs_Ref_Units,,CH$52)),0)","v":0},{"$f":"IFERROR(SUMPRODUCT(--(INDEX(Model_Inputs_Ref_Units,,CI$51)=$E142),INDEX(Model_Inputs_Ref_Units,,CI$52)),0)","v":0},{"$f":"IFERROR(SUMPRODUCT(--(INDEX(Model_Inputs_Ref_Units,,CJ$51)=$E142),INDEX(Model_Inputs_Ref_Units,,CJ$52)),0)","v":0},{"$f":"IFERROR(SUMPRODUCT(--(INDEX(Model_Inputs_Ref_Units,,CK$51)=$E142),INDEX(Model_Inputs_Ref_Units,,CK$52)),0)","v":0},{"$f":"IFERROR(SUMPRODUCT(--(INDEX(Model_Inputs_Ref_Units,,CL$51)=$E142),INDEX(Model_Inputs_Ref_Units,,CL$52)),0)","v":0},{"$f":"IFERROR(SUMPRODUCT(--(INDEX(Model_Inputs_Ref_Units,,CM$51)=$E142),INDEX(Model_Inputs_Ref_Units,,CM$52)),0)","v":0},{"$f":"IFERROR(SUMPRODUCT(--(INDEX(Model_Inputs_Ref_Units,,CN$51)=$E142),INDEX(Model_Inputs_Ref_Units,,CN$52)),0)","v":0},{"$f":"IFERROR(SUMPRODUCT(--(INDEX(Model_Inputs_Ref_Units,,CO$51)=$E142),INDEX(Model_Inputs_Ref_Units,,CO$52)),0)","v":0},{"$f":"IFERROR(SUMPRODUCT(--(INDEX(Model_Inputs_Ref_Units,,CP$51)=$E142),INDEX(Model_Inputs_Ref_Units,,CP$52)),0)","v":0},{"$f":"IFERROR(SUMPRODUCT(--(INDEX(Model_Inputs_Ref_Units,,CQ$51)=$E142),INDEX(Model_Inputs_Ref_Units,,CQ$52)),0)","v":0},{"$f":"IFERROR(SUMPRODUCT(--(INDEX(Model_Inputs_Ref_Units,,CR$51)=$E142),INDEX(Model_Inputs_Ref_Units,,CR$52)),0)","v":0},{"$f":"IFERROR(SUMPRODUCT(--(INDEX(Model_Inputs_Ref_Units,,CS$51)=$E142),INDEX(Model_Inputs_Ref_Units,,CS$52)),0)","v":0},{"$f":"IFERROR(SUMPRODUCT(--(INDEX(Model_Inputs_Ref_Units,,CT$51)=$E142),INDEX(Model_Inputs_Ref_Units,,CT$52)),0)","v":0},{"$f":"IFERROR(SUMPRODUCT(--(INDEX(Model_Inputs_Ref_Units,,CU$51)=$E142),INDEX(Model_Inputs_Ref_Units,,CU$52)),0)","v":0},{"$f":"IFERROR(SUMPRODUCT(--(INDEX(Model_Inputs_Ref_Units,,CV$51)=$E142),INDEX(Model_Inputs_Ref_Units,,CV$52)),0)","v":0},{"$f":"IFERROR(SUMPRODUCT(--(INDEX(Model_Inputs_Ref_Units,,CW$51)=$E142),INDEX(Model_Inputs_Ref_Units,,CW$52)),0)","v":0},{"$f":"IFERROR(SUMPRODUCT(--(INDEX(Model_Inputs_Ref_Units,,CX$51)=$E142),INDEX(Model_Inputs_Ref_Units,,CX$52)),0)","v":0},{"$f":"IFERROR(SUMPRODUCT(--(INDEX(Model_Inputs_Ref_Units,,CY$51)=$E142),INDEX(Model_Inputs_Ref_Units,,CY$52)),0)","v":0},{"$f":"IFERROR(SUMPRODUCT(--(INDEX(Model_Inputs_Ref_Units,,CZ$51)=$E142),INDEX(Model_Inputs_Ref_Units,,CZ$52)),0)","v":0},{"$f":"IFERROR(SUMPRODUCT(--(INDEX(Model_Inputs_Ref_Units,,DA$51)=$E142),INDEX(Model_Inputs_Ref_Units,,DA$52)),0)","v":0},{"$f":"IFERROR(SUMPRODUCT(--(INDEX(Model_Inputs_Ref_Units,,DB$51)=$E142),INDEX(Model_Inputs_Ref_Units,,DB$52)),0)","v":0},{"$f":"IFERROR(SUMPRODUCT(--(INDEX(Model_Inputs_Ref_Units,,DC$51)=$E142),INDEX(Model_Inputs_Ref_Units,,DC$52)),0)","v":0},{"$f":"IFERROR(SUMPRODUCT(--(INDEX(Model_Inputs_Ref_Units,,DD$51)=$E142),INDEX(Model_Inputs_Ref_Units,,DD$52)),0)","v":0},{"$f":"IFERROR(SUMPRODUCT(--(INDEX(Model_Inputs_Ref_Units,,DE$51)=$E142),INDEX(Model_Inputs_Ref_Units,,DE$52)),0)","v":0},{"$f":"IFERROR(SUMPRODUCT(--(INDEX(Model_Inputs_Ref_Units,,DF$51)=$E142),INDEX(Model_Inputs_Ref_Units,,DF$52)),0)","v":0}]
[null,null,{"$error":"#DIV/0!"},null,{"$f":"IFERROR(INDEX(Ref_Data,1,F143),\"\")","v":""},90,0,0,0,0,{"$f":"IFERROR(SUMPRODUCT(--(INDEX(Model_Inputs_Ref_Units,,K$51)=$E143),INDEX(Model_Inputs_Ref_Units,,K$52)),0)","v":0},{"$f":"IFERROR(SUMPRODUCT(--(INDEX(Model_Inputs_Ref_Units,,L$51)=$E143),INDEX(Model_Inputs_Ref_Units,,L$52)),0)","v":0},{"$f":"IFERROR(SUMPRODUCT(--(INDEX(Model_Inputs_Ref_Units,,M$51)=$E143),INDEX(Model_Inputs_Ref_Units,,M$52)),0)","v":0},{"$f":"IFERROR(SUMPRODUCT(--(INDEX(Model_Inputs_Ref_Units,,N$51)=$E143),INDEX(Model_Inputs_Ref_Units,,N$52)),0)","v":0},{"$f":"IFERROR(SUMPRODUCT(--(INDEX(Model_Inputs_Ref_Units,,O$51)=$E143),INDEX(Model_Inputs_Ref_Units,,O$52)),0)","v":0},{"$f":"IFERROR(SUMPRODUCT(--(INDEX(Model_Inputs_Ref_Units,,P$51)=$E143),INDEX(Model_Inputs_Ref_Units,,P$52)),0)","v":0},{"$f":"IFERROR(SUMPRODUCT(--(INDEX(Model_Inputs_Ref_Units,,Q$51)=$E143),INDEX(Model_Inputs_Ref_Units,,Q$52)),0)","v":0},{"$f":"IFERROR(SUMPRODUCT(--(INDEX(Model_Inputs_Ref_Units,,R$51)=$E143),INDEX(Model_Inputs_Ref_Units,,R$52)),0)","v":0},{"$f":"IFERROR(SUMPRODUCT(--(INDEX(Model_Inputs_Ref_Units,,S$51)=$E143),INDEX(Model_Inputs_Ref_Units,,S$52)),0)","v":0},{"$f":"IFERROR(SUMPRODUCT(--(INDEX(Model_Inputs_Ref_Units,,T$51)=$E143),INDEX(Model_Inputs_Ref_Units,,T$52)),0)","v":0},{"$f":"IFERROR(SUMPRODUCT(--(INDEX(Model_Inputs_Ref_Units,,U$51)=$E143),INDEX(Model_Inputs_Ref_Units,,U$52)),0)","v":0},{"$f":"IFERROR(SUMPRODUCT(--(INDEX(Model_Inputs_Ref_Units,,V$51)=$E143),INDEX(Model_Inputs_Ref_Units,,V$52)),0)","v":0},{"$f":"IFERROR(SUMPRODUCT(--(INDEX(Model_Inputs_Ref_Units,,W$51)=$E143),INDEX(Model_Inputs_Ref_Units,,W$52)),0)","v":0},{"$f":"IFERROR(SUMPRODUCT(--(INDEX(Model_Inputs_Ref_Units,,X$51)=$E143),INDEX(Model_Inputs_Ref_Units,,X$52)),0)","v":0},{"$f":"IFERROR(SUMPRODUCT(--(INDEX(Model_Inputs_Ref_Units,,Y$51)=$E143),INDEX(Model_Inputs_Ref_Units,,Y$52)),0)","v":0},{"$f":"IFERROR(SUMPRODUCT(--(INDEX(Model_Inputs_Ref_Units,,Z$51)=$E143),INDEX(Model_Inputs_Ref_Units,,Z$52)),0)","v":0},{"$f":"IFERROR(SUMPRODUCT(--(INDEX(Model_Inputs_Ref_Units,,AA$51)=$E143),INDEX(Model_Inputs_Ref_Units,,AA$52)),0)","v":0},{"$f":"IFERROR(SUMPRODUCT(--(INDEX(Model_Inputs_Ref_Units,,AB$51)=$E143),INDEX(Model_Inputs_Ref_Units,,AB$52)),0)","v":0},{"$f":"IFERROR(SUMPRODUCT(--(INDEX(Model_Inputs_Ref_Units,,AC$51)=$E143),INDEX(Model_Inputs_Ref_Units,,AC$52)),0)","v":0},{"$f":"IFERROR(SUMPRODUCT(--(INDEX(Model_Inputs_Ref_Units,,AD$51)=$E143),INDEX(Model_Inputs_Ref_Units,,AD$52)),0)","v":0},{"$f":"IFERROR(SUMPRODUCT(--(INDEX(Model_Inputs_Ref_Units,,AE$51)=$E143),INDEX(Model_Inputs_Ref_Units,,AE$52)),0)","v":0},{"$f":"IFERROR(SUMPRODUCT(--(INDEX(Model_Inputs_Ref_Units,,AF$51)=$E143),INDEX(Model_Inputs_Ref_Units,,AF$52)),0)","v":0},{"$f":"IFERROR(SUMPRODUCT(--(INDEX(Model_Inputs_Ref_Units,,AG$51)=$E143),INDEX(Model_Inputs_Ref_Units,,AG$52)),0)","v":0},{"$f":"IFERROR(SUMPRODUCT(--(INDEX(Model_Inputs_Ref_Units,,AH$51)=$E143),INDEX(Model_Inputs_Ref_Units,,AH$52)),0)","v":0},{"$f":"IFERROR(SUMPRODUCT(--(INDEX(Model_Inputs_Ref_Units,,AI$51)=$E143),INDEX(Model_Inputs_Ref_Units,,AI$52)),0)","v":0},{"$f":"IFERROR(SUMPRODUCT(--(INDEX(Model_Inputs_Ref_Units,,AJ$51)=$E143),INDEX(Model_Inputs_Ref_Units,,AJ$52)),0)","v":0},{"$f":"IFERROR(SUMPRODUCT(--(INDEX(Model_Inputs_Ref_Units,,AK$51)=$E143),INDEX(Model_Inputs_Ref_Units,,AK$52)),0)","v":0},{"$f":"IFERROR(SUMPRODUCT(--(INDEX(Model_Inputs_Ref_Units,,AL$51)=$E143),INDEX(Model_Inputs_Ref_Units,,AL$52)),0)","v":0},{"$f":"IFERROR(SUMPRODUCT(--(INDEX(Model_Inputs_Ref_Units,,AM$51)=$E143),INDEX(Model_Inputs_Ref_Units,,AM$52)),0)","v":0},{"$f":"IFERROR(SUMPRODUCT(--(INDEX(Model_Inputs_Ref_Units,,AN$51)=$E143),INDEX(Model_Inputs_Ref_Units,,AN$52)),0)","v":0},{"$f":"IFERROR(SUMPRODUCT(--(INDEX(Model_Inputs_Ref_Units,,AO$51)=$E143),INDEX(Model_Inputs_Ref_Units,,AO$52)),0)","v":0},{"$f":"IFERROR(SUMPRODUCT(--(INDEX(Model_Inputs_Ref_Units,,AP$51)=$E143),INDEX(Model_Inputs_Ref_Units,,AP$52)),0)","v":0},{"$f":"IFERROR(SUMPRODUCT(--(INDEX(Model_Inputs_Ref_Units,,AQ$51)=$E143),INDEX(Model_Inputs_Ref_Units,,AQ$52)),0)","v":0},{"$f":"IFERROR(SUMPRODUCT(--(INDEX(Model_Inputs_Ref_Units,,AR$51)=$E143),INDEX(Model_Inputs_Ref_Units,,AR$52)),0)","v":0},{"$f":"IFERROR(SUMPRODUCT(--(INDEX(Model_Inputs_Ref_Units,,AS$51)=$E143),INDEX(Model_Inputs_Ref_Units,,AS$52)),0)","v":0},{"$f":"IFERROR(SUMPRODUCT(--(INDEX(Model_Inputs_Ref_Units,,AT$51)=$E143),INDEX(Model_Inputs_Ref_Units,,AT$52)),0)","v":0},{"$f":"IFERROR(SUMPRODUCT(--(INDEX(Model_Inputs_Ref_Units,,AU$51)=$E143),INDEX(Model_Inputs_Ref_Units,,AU$52)),0)","v":0},{"$f":"IFERROR(SUMPRODUCT(--(INDEX(Model_Inputs_Ref_Units,,AV$51)=$E143),INDEX(Model_Inputs_Ref_Units,,AV$52)),0)","v":0},{"$f":"IFERROR(SUMPRODUCT(--(INDEX(Model_Inputs_Ref_Units,,AW$51)=$E143),INDEX(Model_Inputs_Ref_Units,,AW$52)),0)","v":0},{"$f":"IFERROR(SUMPRODUCT(--(INDEX(Model_Inputs_Ref_Units,,AX$51)=$E143),INDEX(Model_Inputs_Ref_Units,,AX$52)),0)","v":0},{"$f":"IFERROR(SUMPRODUCT(--(INDEX(Model_Inputs_Ref_Units,,AY$51)=$E143),INDEX(Model_Inputs_Ref_Units,,AY$52)),0)","v":0},{"$f":"IFERROR(SUMPRODUCT(--(INDEX(Model_Inputs_Ref_Units,,AZ$51)=$E143),INDEX(Model_Inputs_Ref_Units,,AZ$52)),0)","v":0},{"$f":"IFERROR(SUMPRODUCT(--(INDEX(Model_Inputs_Ref_Units,,BA$51)=$E143),INDEX(Model_Inputs_Ref_Units,,BA$52)),0)","v":0},{"$f":"IFERROR(SUMPRODUCT(--(INDEX(Model_Inputs_Ref_Units,,BB$51)=$E143),INDEX(Model_Inputs_Ref_Units,,BB$52)),0)","v":0},{"$f":"IFERROR(SUMPRODUCT(--(INDEX(Model_Inputs_Ref_Units,,BC$51)=$E143),INDEX(Model_Inputs_Ref_Units,,BC$52)),0)","v":0},{"$f":"IFERROR(SUMPRODUCT(--(INDEX(Model_Inputs_Ref_Units,,BD$51)=$E143),INDEX(Model_Inputs_Ref_Units,,BD$52)),0)","v":0},{"$f":"IFERROR(SUMPRODUCT(--(INDEX(Model_Inputs_Ref_Units,,BE$51)=$E143),INDEX(Model_Inputs_Ref_Units,,BE$52)),0)","v":0},{"$f":"IFERROR(SUMPRODUCT(--(INDEX(Model_Inputs_Ref_Units,,BF$51)=$E143),INDEX(Model_Inputs_Ref_Units,,BF$52)),0)","v":0},{"$f":"IFERROR(SUMPRODUCT(--(INDEX(Model_Inputs_Ref_Units,,BG$51)=$E143),INDEX(Model_Inputs_Ref_Units,,BG$52)),0)","v":0},{"$f":"IFERROR(SUMPRODUCT(--(INDEX(Model_Inputs_Ref_Units,,BH$51)=$E143),INDEX(Model_Inputs_Ref_Units,,BH$52)),0)","v":0},{"$f":"IFERROR(SUMPRODUCT(--(INDEX(Model_Inputs_Ref_Units,,BI$51)=$E143),INDEX(Model_Inputs_Ref_Units,,BI$52)),0)","v":0},{"$f":"IFERROR(SUMPRODUCT(--(INDEX(Model_Inputs_Ref_Units,,BJ$51)=$E143),INDEX(Model_Inputs_Ref_Units,,BJ$52)),0)","v":0},{"$f":"IFERROR(SUMPRODUCT(--(INDEX(Model_Inputs_Ref_Units,,BK$51)=$E143),INDEX(Model_Inputs_Ref_Units,,BK$52)),0)","v":0},{"$f":"IFERROR(SUMPRODUCT(--(INDEX(Model_Inputs_Ref_Units,,BL$51)=$E143),INDEX(Model_Inputs_Ref_Units,,BL$52)),0)","v":0},{"$f":"IFERROR(SUMPRODUCT(--(INDEX(Model_Inputs_Ref_Units,,BM$51)=$E143),INDEX(Model_Inputs_Ref_Units,,BM$52)),0)","v":0},{"$f":"IFERROR(SUMPRODUCT(--(INDEX(Model_Inputs_Ref_Units,,BN$51)=$E143),INDEX(Model_Inputs_Ref_Units,,BN$52)),0)","v":0},{"$f":"IFERROR(SUMPRODUCT(--(INDEX(Model_Inputs_Ref_Units,,BO$51)=$E143),INDEX(Model_Inputs_Ref_Units,,BO$52)),0)","v":0},{"$f":"IFERROR(SUMPRODUCT(--(INDEX(Model_Inputs_Ref_Units,,BP$51)=$E143),INDEX(Model_Inputs_Ref_Units,,BP$52)),0)","v":0},{"$f":"IFERROR(SUMPRODUCT(--(INDEX(Model_Inputs_Ref_Units,,BQ$51)=$E143),INDEX(Model_Inputs_Ref_Units,,BQ$52)),0)","v":0},{"$f":"IFERROR(SUMPRODUCT(--(INDEX(Model_Inputs_Ref_Units,,BR$51)=$E143),INDEX(Model_Inputs_Ref_Units,,BR$52)),0)","v":0},{"$f":"IFERROR(SUMPRODUCT(--(INDEX(Model_Inputs_Ref_Units,,BS$51)=$E143),INDEX(Model_Inputs_Ref_Units,,BS$52)),0)","v":0},{"$f":"IFERROR(SUMPRODUCT(--(INDEX(Model_Inputs_Ref_Units,,BT$51)=$E143),INDEX(Model_Inputs_Ref_Units,,BT$52)),0)","v":0},{"$f":"IFERROR(SUMPRODUCT(--(INDEX(Model_Inputs_Ref_Units,,BU$51)=$E143),INDEX(Model_Inputs_Ref_Units,,BU$52)),0)","v":0},{"$f":"IFERROR(SUMPRODUCT(--(INDEX(Model_Inputs_Ref_Units,,BV$51)=$E143),INDEX(Model_Inputs_Ref_Units,,BV$52)),0)","v":0},{"$f":"IFERROR(SUMPRODUCT(--(INDEX(Model_Inputs_Ref_Units,,BW$51)=$E143),INDEX(Model_Inputs_Ref_Units,,BW$52)),0)","v":0},{"$f":"IFERROR(SUMPRODUCT(--(INDEX(Model_Inputs_Ref_Units,,BX$51)=$E143),INDEX(Model_Inputs_Ref_Units,,BX$52)),0)","v":0},{"$f":"IFERROR(SUMPRODUCT(--(INDEX(Model_Inputs_Ref_Units,,BY$51)=$E143),INDEX(Model_Inputs_Ref_Units,,BY$52)),0)","v":0},{"$f":"IFERROR(SUMPRODUCT(--(INDEX(Model_Inputs_Ref_Units,,BZ$51)=$E143),INDEX(Model_Inputs_Ref_Units,,BZ$52)),0)","v":0},{"$f":"IFERROR(SUMPRODUCT(--(INDEX(Model_Inputs_Ref_Units,,CA$51)=$E143),INDEX(Model_Inputs_Ref_Units,,CA$52)),0)","v":0},{"$f":"IFERROR(SUMPRODUCT(--(INDEX(Model_Inputs_Ref_Units,,CB$51)=$E143),INDEX(Model_Inputs_Ref_Units,,CB$52)),0)","v":0},{"$f":"IFERROR(SUMPRODUCT(--(INDEX(Model_Inputs_Ref_Units,,CC$51)=$E143),INDEX(Model_Inputs_Ref_Units,,CC$52)),0)","v":0},{"$f":"IFERROR(SUMPRODUCT(--(INDEX(Model_Inputs_Ref_Units,,CD$51)=$E143),INDEX(Model_Inputs_Ref_Units,,CD$52)),0)","v":0},{"$f":"IFERROR(SUMPRODUCT(--(INDEX(Model_Inputs_Ref_Units,,CE$51)=$E143),INDEX(Model_Inputs_Ref_Units,,CE$52)),0)","v":0},{"$f":"IFERROR(SUMPRODUCT(--(INDEX(Model_Inputs_Ref_Units,,CF$51)=$E143),INDEX(Model_Inputs_Ref_Units,,CF$52)),0)","v":0},{"$f":"IFERROR(SUMPRODUCT(--(INDEX(Model_Inputs_Ref_Units,,CG$51)=$E143),INDEX(Model_Inputs_Ref_Units,,CG$52)),0)","v":0},{"$f":"IFERROR(SUMPRODUCT(--(INDEX(Model_Inputs_Ref_Units,,CH$51)=$E143),INDEX(Model_Inputs_Ref_Units,,CH$52)),0)","v":0},{"$f":"IFERROR(SUMPRODUCT(--(INDEX(Model_Inputs_Ref_Units,,CI$51)=$E143),INDEX(Model_Inputs_Ref_Units,,CI$52)),0)","v":0},{"$f":"IFERROR(SUMPRODUCT(--(INDEX(Model_Inputs_Ref_Units,,CJ$51)=$E143),INDEX(Model_Inputs_Ref_Units,,CJ$52)),0)","v":0},{"$f":"IFERROR(SUMPRODUCT(--(INDEX(Model_Inputs_Ref_Units,,CK$51)=$E143),INDEX(Model_Inputs_Ref_Units,,CK$52)),0)","v":0},{"$f":"IFERROR(SUMPRODUCT(--(INDEX(Model_Inputs_Ref_Units,,CL$51)=$E143),INDEX(Model_Inputs_Ref_Units,,CL$52)),0)","v":0},{"$f":"IFERROR(SUMPRODUCT(--(INDEX(Model_Inputs_Ref_Units,,CM$51)=$E143),INDEX(Model_Inputs_Ref_Units,,CM$52)),0)","v":0},{"$f":"IFERROR(SUMPRODUCT(--(INDEX(Model_Inputs_Ref_Units,,CN$51)=$E143),INDEX(Model_Inputs_Ref_Units,,CN$52)),0)","v":0},{"$f":"IFERROR(SUMPRODUCT(--(INDEX(Model_Inputs_Ref_Units,,CO$51)=$E143),INDEX(Model_Inputs_Ref_Units,,CO$52)),0)","v":0},{"$f":"IFERROR(SUMPRODUCT(--(INDEX(Model_Inputs_Ref_Units,,CP$51)=$E143),INDEX(Model_Inputs_Ref_Units,,CP$52)),0)","v":0},{"$f":"IFERROR(SUMPRODUCT(--(INDEX(Model_Inputs_Ref_Units,,CQ$51)=$E143),INDEX(Model_Inputs_Ref_Units,,CQ$52)),0)","v":0},{"$f":"IFERROR(SUMPRODUCT(--(INDEX(Model_Inputs_Ref_Units,,CR$51)=$E143),INDEX(Model_Inputs_Ref_Units,,CR$52)),0)","v":0},{"$f":"IFERROR(SUMPRODUCT(--(INDEX(Model_Inputs_Ref_Units,,CS$51)=$E143),INDEX(Model_Inputs_Ref_Units,,CS$52)),0)","v":0},{"$f":"IFERROR(SUMPRODUCT(--(INDEX(Model_Inputs_Ref_Units,,CT$51)=$E143),INDEX(Model_Inputs_Ref_Units,,CT$52)),0)","v":0},{"$f":"IFERROR(SUMPRODUCT(--(INDEX(Model_Inputs_Ref_Units,,CU$51)=$E143),INDEX(Model_Inputs_Ref_Units,,CU$52)),0)","v":0},{"$f":"IFERROR(SUMPRODUCT(--(INDEX(Model_Inputs_Ref_Units,,CV$51)=$E143),INDEX(Model_Inputs_Ref_Units,,CV$52)),0)","v":0},{"$f":"IFERROR(SUMPRODUCT(--(INDEX(Model_Inputs_Ref_Units,,CW$51)=$E143),INDEX(Model_Inputs_Ref_Units,,CW$52)),0)","v":0},{"$f":"IFERROR(SUMPRODUCT(--(INDEX(Model_Inputs_Ref_Units,,CX$51)=$E143),INDEX(Model_Inputs_Ref_Units,,CX$52)),0)","v":0},{"$f":"IFERROR(SUMPRODUCT(--(INDEX(Model_Inputs_Ref_Units,,CY$51)=$E143),INDEX(Model_Inputs_Ref_Units,,CY$52)),0)","v":0},{"$f":"IFERROR(SUMPRODUCT(--(INDEX(Model_Inputs_Ref_Units,,CZ$51)=$E143),INDEX(Model_Inputs_Ref_Units,,CZ$52)),0)","v":0},{"$f":"IFERROR(SUMPRODUCT(--(INDEX(Model_Inputs_Ref_Units,,DA$51)=$E143),INDEX(Model_Inputs_Ref_Units,,DA$52)),0)","v":0},{"$f":"IFERROR(SUMPRODUCT(--(INDEX(Model_Inputs_Ref_Units,,DB$51)=$E143),INDEX(Model_Inputs_Ref_Units,,DB$52)),0)","v":0},{"$f":"IFERROR(SUMPRODUCT(--(INDEX(Model_Inputs_Ref_Units,,DC$51)=$E143),INDEX(Model_Inputs_Ref_Units,,DC$52)),0)","v":0},{"$f":"IFERROR(SUMPRODUCT(--(INDEX(Model_Inputs_Ref_Units,,DD$51)=$E143),INDEX(Model_Inputs_Ref_Units,,DD$52)),0)","v":0},{"$f":"IFERROR(SUMPRODUCT(--(INDEX(Model_Inputs_Ref_Units,,DE$51)=$E143),INDEX(Model_Inputs_Ref_Units,,DE$52)),0)","v":0},{"$f":"IFERROR(SUMPRODUCT(--(INDEX(Model_Inputs_Ref_Units,,DF$51)=$E143),INDEX(Model_Inputs_Ref_Units,,DF$52)),0)","v":0}]
[null,null,{"$error":"#DIV/0!"},null,{"$f":"IFERROR(INDEX(Ref_Data,1,F144),\"\")","v":""},91,0,0,0,0,{"$f":"IFERROR(SUMPRODUCT(--(INDEX(Model_Inputs_Ref_Units,,K$51)=$E144),INDEX(Model_Inputs_Ref_Units,,K$52)),0)","v":0},{"$f":"IFERROR(SUMPRODUCT(--(INDEX(Model_Inputs_Ref_Units,,L$51)=$E144),INDEX(Model_Inputs_Ref_Units,,L$52)),0)","v":0},{"$f":"IFERROR(SUMPRODUCT(--(INDEX(Model_Inputs_Ref_Units,,M$51)=$E144),INDEX(Model_Inputs_Ref_Units,,M$52)),0)","v":0},{"$f":"IFERROR(SUMPRODUCT(--(INDEX(Model_Inputs_Ref_Units,,N$51)=$E144),INDEX(Model_Inputs_Ref_Units,,N$52)),0)","v":0},{"$f":"IFERROR(SUMPRODUCT(--(INDEX(Model_Inputs_Ref_Units,,O$51)=$E144),INDEX(Model_Inputs_Ref_Units,,O$52)),0)","v":0},{"$f":"IFERROR(SUMPRODUCT(--(INDEX(Model_Inputs_Ref_Units,,P$51)=$E144),INDEX(Model_Inputs_Ref_Units,,P$52)),0)","v":0},{"$f":"IFERROR(SUMPRODUCT(--(INDEX(Model_Inputs_Ref_Units,,Q$51)=$E144),INDEX(Model_Inputs_Ref_Units,,Q$52)),0)","v":0},{"$f":"IFERROR(SUMPRODUCT(--(INDEX(Model_Inputs_Ref_Units,,R$51)=$E144),INDEX(Model_Inputs_Ref_Units,,R$52)),0)","v":0},{"$f":"IFERROR(SUMPRODUCT(--(INDEX(Model_Inputs_Ref_Units,,S$51)=$E144),INDEX(Model_Inputs_Ref_Units,,S$52)),0)","v":0},{"$f":"IFERROR(SUMPRODUCT(--(INDEX(Model_Inputs_Ref_Units,,T$51)=$E144),INDEX(Model_Inputs_Ref_Units,,T$52)),0)","v":0},{"$f":"IFERROR(SUMPRODUCT(--(INDEX(Model_Inputs_Ref_Units,,U$51)=$E144),INDEX(Model_Inputs_Ref_Units,,U$52)),0)","v":0},{"$f":"IFERROR(SUMPRODUCT(--(INDEX(Model_Inputs_Ref_Units,,V$51)=$E144),INDEX(Model_Inputs_Ref_Units,,V$52)),0)","v":0},{"$f":"IFERROR(SUMPRODUCT(--(INDEX(Model_Inputs_Ref_Units,,W$51)=$E144),INDEX(Model_Inputs_Ref_Units,,W$52)),0)","v":0},{"$f":"IFERROR(SUMPRODUCT(--(INDEX(Model_Inputs_Ref_Units,,X$51)=$E144),INDEX(Model_Inputs_Ref_Units,,X$52)),0)","v":0},{"$f":"IFERROR(SUMPRODUCT(--(INDEX(Model_Inputs_Ref_Units,,Y$51)=$E144),INDEX(Model_Inputs_Ref_Units,,Y$52)),0)","v":0},{"$f":"IFERROR(SUMPRODUCT(--(INDEX(Model_Inputs_Ref_Units,,Z$51)=$E144),INDEX(Model_Inputs_Ref_Units,,Z$52)),0)","v":0},{"$f":"IFERROR(SUMPRODUCT(--(INDEX(Model_Inputs_Ref_Units,,AA$51)=$E144),INDEX(Model_Inputs_Ref_Units,,AA$52)),0)","v":0},{"$f":"IFERROR(SUMPRODUCT(--(INDEX(Model_Inputs_Ref_Units,,AB$51)=$E144),INDEX(Model_Inputs_Ref_Units,,AB$52)),0)","v":0},{"$f":"IFERROR(SUMPRODUCT(--(INDEX(Model_Inputs_Ref_Units,,AC$51)=$E144),INDEX(Model_Inputs_Ref_Units,,AC$52)),0)","v":0},{"$f":"IFERROR(SUMPRODUCT(--(INDEX(Model_Inputs_Ref_Units,,AD$51)=$E144),INDEX(Model_Inputs_Ref_Units,,AD$52)),0)","v":0},{"$f":"IFERROR(SUMPRODUCT(--(INDEX(Model_Inputs_Ref_Units,,AE$51)=$E144),INDEX(Model_Inputs_Ref_Units,,AE$52)),0)","v":0},{"$f":"IFERROR(SUMPRODUCT(--(INDEX(Model_Inputs_Ref_Units,,AF$51)=$E144),INDEX(Model_Inputs_Ref_Units,,AF$52)),0)","v":0},{"$f":"IFERROR(SUMPRODUCT(--(INDEX(Model_Inputs_Ref_Units,,AG$51)=$E144),INDEX(Model_Inputs_Ref_Units,,AG$52)),0)","v":0},{"$f":"IFERROR(SUMPRODUCT(--(INDEX(Model_Inputs_Ref_Units,,AH$51)=$E144),INDEX(Model_Inputs_Ref_Units,,AH$52)),0)","v":0},{"$f":"IFERROR(SUMPRODUCT(--(INDEX(Model_Inputs_Ref_Units,,AI$51)=$E144),INDEX(Model_Inputs_Ref_Units,,AI$52)),0)","v":0},{"$f":"IFERROR(SUMPRODUCT(--(INDEX(Model_Inputs_Ref_Units,,AJ$51)=$E144),INDEX(Model_Inputs_Ref_Units,,AJ$52)),0)","v":0},{"$f":"IFERROR(SUMPRODUCT(--(INDEX(Model_Inputs_Ref_Units,,AK$51)=$E144),INDEX(Model_Inputs_Ref_Units,,AK$52)),0)","v":0},{"$f":"IFERROR(SUMPRODUCT(--(INDEX(Model_Inputs_Ref_Units,,AL$51)=$E144),INDEX(Model_Inputs_Ref_Units,,AL$52)),0)","v":0},{"$f":"IFERROR(SUMPRODUCT(--(INDEX(Model_Inputs_Ref_Units,,AM$51)=$E144),INDEX(Model_Inputs_Ref_Units,,AM$52)),0)","v":0},{"$f":"IFERROR(SUMPRODUCT(--(INDEX(Model_Inputs_Ref_Units,,AN$51)=$E144),INDEX(Model_Inputs_Ref_Units,,AN$52)),0)","v":0},{"$f":"IFERROR(SUMPRODUCT(--(INDEX(Model_Inputs_Ref_Units,,AO$51)=$E144),INDEX(Model_Inputs_Ref_Units,,AO$52)),0)","v":0},{"$f":"IFERROR(SUMPRODUCT(--(INDEX(Model_Inputs_Ref_Units,,AP$51)=$E144),INDEX(Model_Inputs_Ref_Units,,AP$52)),0)","v":0},{"$f":"IFERROR(SUMPRODUCT(--(INDEX(Model_Inputs_Ref_Units,,AQ$51)=$E144),INDEX(Model_Inputs_Ref_Units,,AQ$52)),0)","v":0},{"$f":"IFERROR(SUMPRODUCT(--(INDEX(Model_Inputs_Ref_Units,,AR$51)=$E144),INDEX(Model_Inputs_Ref_Units,,AR$52)),0)","v":0},{"$f":"IFERROR(SUMPRODUCT(--(INDEX(Model_Inputs_Ref_Units,,AS$51)=$E144),INDEX(Model_Inputs_Ref_Units,,AS$52)),0)","v":0},{"$f":"IFERROR(SUMPRODUCT(--(INDEX(Model_Inputs_Ref_Units,,AT$51)=$E144),INDEX(Model_Inputs_Ref_Units,,AT$52)),0)","v":0},{"$f":"IFERROR(SUMPRODUCT(--(INDEX(Model_Inputs_Ref_Units,,AU$51)=$E144),INDEX(Model_Inputs_Ref_Units,,AU$52)),0)","v":0},{"$f":"IFERROR(SUMPRODUCT(--(INDEX(Model_Inputs_Ref_Units,,AV$51)=$E144),INDEX(Model_Inputs_Ref_Units,,AV$52)),0)","v":0},{"$f":"IFERROR(SUMPRODUCT(--(INDEX(Model_Inputs_Ref_Units,,AW$51)=$E144),INDEX(Model_Inputs_Ref_Units,,AW$52)),0)","v":0},{"$f":"IFERROR(SUMPRODUCT(--(INDEX(Model_Inputs_Ref_Units,,AX$51)=$E144),INDEX(Model_Inputs_Ref_Units,,AX$52)),0)","v":0},{"$f":"IFERROR(SUMPRODUCT(--(INDEX(Model_Inputs_Ref_Units,,AY$51)=$E144),INDEX(Model_Inputs_Ref_Units,,AY$52)),0)","v":0},{"$f":"IFERROR(SUMPRODUCT(--(INDEX(Model_Inputs_Ref_Units,,AZ$51)=$E144),INDEX(Model_Inputs_Ref_Units,,AZ$52)),0)","v":0},{"$f":"IFERROR(SUMPRODUCT(--(INDEX(Model_Inputs_Ref_Units,,BA$51)=$E144),INDEX(Model_Inputs_Ref_Units,,BA$52)),0)","v":0},{"$f":"IFERROR(SUMPRODUCT(--(INDEX(Model_Inputs_Ref_Units,,BB$51)=$E144),INDEX(Model_Inputs_Ref_Units,,BB$52)),0)","v":0},{"$f":"IFERROR(SUMPRODUCT(--(INDEX(Model_Inputs_Ref_Units,,BC$51)=$E144),INDEX(Model_Inputs_Ref_Units,,BC$52)),0)","v":0},{"$f":"IFERROR(SUMPRODUCT(--(INDEX(Model_Inputs_Ref_Units,,BD$51)=$E144),INDEX(Model_Inputs_Ref_Units,,BD$52)),0)","v":0},{"$f":"IFERROR(SUMPRODUCT(--(INDEX(Model_Inputs_Ref_Units,,BE$51)=$E144),INDEX(Model_Inputs_Ref_Units,,BE$52)),0)","v":0},{"$f":"IFERROR(SUMPRODUCT(--(INDEX(Model_Inputs_Ref_Units,,BF$51)=$E144),INDEX(Model_Inputs_Ref_Units,,BF$52)),0)","v":0},{"$f":"IFERROR(SUMPRODUCT(--(INDEX(Model_Inputs_Ref_Units,,BG$51)=$E144),INDEX(Model_Inputs_Ref_Units,,BG$52)),0)","v":0},{"$f":"IFERROR(SUMPRODUCT(--(INDEX(Model_Inputs_Ref_Units,,BH$51)=$E144),INDEX(Model_Inputs_Ref_Units,,BH$52)),0)","v":0},{"$f":"IFERROR(SUMPRODUCT(--(INDEX(Model_Inputs_Ref_Units,,BI$51)=$E144),INDEX(Model_Inputs_Ref_Units,,BI$52)),0)","v":0},{"$f":"IFERROR(SUMPRODUCT(--(INDEX(Model_Inputs_Ref_Units,,BJ$51)=$E144),INDEX(Model_Inputs_Ref_Units,,BJ$52)),0)","v":0},{"$f":"IFERROR(SUMPRODUCT(--(INDEX(Model_Inputs_Ref_Units,,BK$51)=$E144),INDEX(Model_Inputs_Ref_Units,,BK$52)),0)","v":0},{"$f":"IFERROR(SUMPRODUCT(--(INDEX(Model_Inputs_Ref_Units,,BL$51)=$E144),INDEX(Model_Inputs_Ref_Units,,BL$52)),0)","v":0},{"$f":"IFERROR(SUMPRODUCT(--(INDEX(Model_Inputs_Ref_Units,,BM$51)=$E144),INDEX(Model_Inputs_Ref_Units,,BM$52)),0)","v":0},{"$f":"IFERROR(SUMPRODUCT(--(INDEX(Model_Inputs_Ref_Units,,BN$51)=$E144),INDEX(Model_Inputs_Ref_Units,,BN$52)),0)","v":0},{"$f":"IFERROR(SUMPRODUCT(--(INDEX(Model_Inputs_Ref_Units,,BO$51)=$E144),INDEX(Model_Inputs_Ref_Units,,BO$52)),0)","v":0},{"$f":"IFERROR(SUMPRODUCT(--(INDEX(Model_Inputs_Ref_Units,,BP$51)=$E144),INDEX(Model_Inputs_Ref_Units,,BP$52)),0)","v":0},{"$f":"IFERROR(SUMPRODUCT(--(INDEX(Model_Inputs_Ref_Units,,BQ$51)=$E144),INDEX(Model_Inputs_Ref_Units,,BQ$52)),0)","v":0},{"$f":"IFERROR(SUMPRODUCT(--(INDEX(Model_Inputs_Ref_Units,,BR$51)=$E144),INDEX(Model_Inputs_Ref_Units,,BR$52)),0)","v":0},{"$f":"IFERROR(SUMPRODUCT(--(INDEX(Model_Inputs_Ref_Units,,BS$51)=$E144),INDEX(Model_Inputs_Ref_Units,,BS$52)),0)","v":0},{"$f":"IFERROR(SUMPRODUCT(--(INDEX(Model_Inputs_Ref_Units,,BT$51)=$E144),INDEX(Model_Inputs_Ref_Units,,BT$52)),0)","v":0},{"$f":"IFERROR(SUMPRODUCT(--(INDEX(Model_Inputs_Ref_Units,,BU$51)=$E144),INDEX(Model_Inputs_Ref_Units,,BU$52)),0)","v":0},{"$f":"IFERROR(SUMPRODUCT(--(INDEX(Model_Inputs_Ref_Units,,BV$51)=$E144),INDEX(Model_Inputs_Ref_Units,,BV$52)),0)","v":0},{"$f":"IFERROR(SUMPRODUCT(--(INDEX(Model_Inputs_Ref_Units,,BW$51)=$E144),INDEX(Model_Inputs_Ref_Units,,BW$52)),0)","v":0},{"$f":"IFERROR(SUMPRODUCT(--(INDEX(Model_Inputs_Ref_Units,,BX$51)=$E144),INDEX(Model_Inputs_Ref_Units,,BX$52)),0)","v":0},{"$f":"IFERROR(SUMPRODUCT(--(INDEX(Model_Inputs_Ref_Units,,BY$51)=$E144),INDEX(Model_Inputs_Ref_Units,,BY$52)),0)","v":0},{"$f":"IFERROR(SUMPRODUCT(--(INDEX(Model_Inputs_Ref_Units,,BZ$51)=$E144),INDEX(Model_Inputs_Ref_Units,,BZ$52)),0)","v":0},{"$f":"IFERROR(SUMPRODUCT(--(INDEX(Model_Inputs_Ref_Units,,CA$51)=$E144),INDEX(Model_Inputs_Ref_Units,,CA$52)),0)","v":0},{"$f":"IFERROR(SUMPRODUCT(--(INDEX(Model_Inputs_Ref_Units,,CB$51)=$E144),INDEX(Model_Inputs_Ref_Units,,CB$52)),0)","v":0},{"$f":"IFERROR(SUMPRODUCT(--(INDEX(Model_Inputs_Ref_Units,,CC$51)=$E144),INDEX(Model_Inputs_Ref_Units,,CC$52)),0)","v":0},{"$f":"IFERROR(SUMPRODUCT(--(INDEX(Model_Inputs_Ref_Units,,CD$51)=$E144),INDEX(Model_Inputs_Ref_Units,,CD$52)),0)","v":0},{"$f":"IFERROR(SUMPRODUCT(--(INDEX(Model_Inputs_Ref_Units,,CE$51)=$E144),INDEX(Model_Inputs_Ref_Units,,CE$52)),0)","v":0},{"$f":"IFERROR(SUMPRODUCT(--(INDEX(Model_Inputs_Ref_Units,,CF$51)=$E144),INDEX(Model_Inputs_Ref_Units,,CF$52)),0)","v":0},{"$f":"IFERROR(SUMPRODUCT(--(INDEX(Model_Inputs_Ref_Units,,CG$51)=$E144),INDEX(Model_Inputs_Ref_Units,,CG$52)),0)","v":0},{"$f":"IFERROR(SUMPRODUCT(--(INDEX(Model_Inputs_Ref_Units,,CH$51)=$E144),INDEX(Model_Inputs_Ref_Units,,CH$52)),0)","v":0},{"$f":"IFERROR(SUMPRODUCT(--(INDEX(Model_Inputs_Ref_Units,,CI$51)=$E144),INDEX(Model_Inputs_Ref_Units,,CI$52)),0)","v":0},{"$f":"IFERROR(SUMPRODUCT(--(INDEX(Model_Inputs_Ref_Units,,CJ$51)=$E144),INDEX(Model_Inputs_Ref_Units,,CJ$52)),0)","v":0},{"$f":"IFERROR(SUMPRODUCT(--(INDEX(Model_Inputs_Ref_Units,,CK$51)=$E144),INDEX(Model_Inputs_Ref_Units,,CK$52)),0)","v":0},{"$f":"IFERROR(SUMPRODUCT(--(INDEX(Model_Inputs_Ref_Units,,CL$51)=$E144),INDEX(Model_Inputs_Ref_Units,,CL$52)),0)","v":0},{"$f":"IFERROR(SUMPRODUCT(--(INDEX(Model_Inputs_Ref_Units,,CM$51)=$E144),INDEX(Model_Inputs_Ref_Units,,CM$52)),0)","v":0},{"$f":"IFERROR(SUMPRODUCT(--(INDEX(Model_Inputs_Ref_Units,,CN$51)=$E144),INDEX(Model_Inputs_Ref_Units,,CN$52)),0)","v":0},{"$f":"IFERROR(SUMPRODUCT(--(INDEX(Model_Inputs_Ref_Units,,CO$51)=$E144),INDEX(Model_Inputs_Ref_Units,,CO$52)),0)","v":0},{"$f":"IFERROR(SUMPRODUCT(--(INDEX(Model_Inputs_Ref_Units,,CP$51)=$E144),INDEX(Model_Inputs_Ref_Units,,CP$52)),0)","v":0},{"$f":"IFERROR(SUMPRODUCT(--(INDEX(Model_Inputs_Ref_Units,,CQ$51)=$E144),INDEX(Model_Inputs_Ref_Units,,CQ$52)),0)","v":0},{"$f":"IFERROR(SUMPRODUCT(--(INDEX(Model_Inputs_Ref_Units,,CR$51)=$E144),INDEX(Model_Inputs_Ref_Units,,CR$52)),0)","v":0},{"$f":"IFERROR(SUMPRODUCT(--(INDEX(Model_Inputs_Ref_Units,,CS$51)=$E144),INDEX(Model_Inputs_Ref_Units,,CS$52)),0)","v":0},{"$f":"IFERROR(SUMPRODUCT(--(INDEX(Model_Inputs_Ref_Units,,CT$51)=$E144),INDEX(Model_Inputs_Ref_Units,,CT$52)),0)","v":0},{"$f":"IFERROR(SUMPRODUCT(--(INDEX(Model_Inputs_Ref_Units,,CU$51)=$E144),INDEX(Model_Inputs_Ref_Units,,CU$52)),0)","v":0},{"$f":"IFERROR(SUMPRODUCT(--(INDEX(Model_Inputs_Ref_Units,,CV$51)=$E144),INDEX(Model_Inputs_Ref_Units,,CV$52)),0)","v":0},{"$f":"IFERROR(SUMPRODUCT(--(INDEX(Model_Inputs_Ref_Units,,CW$51)=$E144),INDEX(Model_Inputs_Ref_Units,,CW$52)),0)","v":0},{"$f":"IFERROR(SUMPRODUCT(--(INDEX(Model_Inputs_Ref_Units,,CX$51)=$E144),INDEX(Model_Inputs_Ref_Units,,CX$52)),0)","v":0},{"$f":"IFERROR(SUMPRODUCT(--(INDEX(Model_Inputs_Ref_Units,,CY$51)=$E144),INDEX(Model_Inputs_Ref_Units,,CY$52)),0)","v":0},{"$f":"IFERROR(SUMPRODUCT(--(INDEX(Model_Inputs_Ref_Units,,CZ$51)=$E144),INDEX(Model_Inputs_Ref_Units,,CZ$52)),0)","v":0},{"$f":"IFERROR(SUMPRODUCT(--(INDEX(Model_Inputs_Ref_Units,,DA$51)=$E144),INDEX(Model_Inputs_Ref_Units,,DA$52)),0)","v":0},{"$f":"IFERROR(SUMPRODUCT(--(INDEX(Model_Inputs_Ref_Units,,DB$51)=$E144),INDEX(Model_Inputs_Ref_Units,,DB$52)),0)","v":0},{"$f":"IFERROR(SUMPRODUCT(--(INDEX(Model_Inputs_Ref_Units,,DC$51)=$E144),INDEX(Model_Inputs_Ref_Units,,DC$52)),0)","v":0},{"$f":"IFERROR(SUMPRODUCT(--(INDEX(Model_Inputs_Ref_Units,,DD$51)=$E144),INDEX(Model_Inputs_Ref_Units,,DD$52)),0)","v":0},{"$f":"IFERROR(SUMPRODUCT(--(INDEX(Model_Inputs_Ref_Units,,DE$51)=$E144),INDEX(Model_Inputs_Ref_Units,,DE$52)),0)","v":0},{"$f":"IFERROR(SUMPRODUCT(--(INDEX(Model_Inputs_Ref_Units,,DF$51)=$E144),INDEX(Model_Inputs_Ref_Units,,DF$52)),0)","v":0}]
[null,null,{"$error":"#DIV/0!"},null,{"$f":"IFERROR(INDEX(Ref_Data,1,F145),\"\")","v":""},92,0,0,0,0,{"$f":"IFERROR(SUMPRODUCT(--(INDEX(Model_Inputs_Ref_Units,,K$51)=$E145),INDEX(Model_Inputs_Ref_Units,,K$52)),0)","v":0},{"$f":"IFERROR(SUMPRODUCT(--(INDEX(Model_Inputs_Ref_Units,,L$51)=$E145),INDEX(Model_Inputs_Ref_Units,,L$52)),0)","v":0},{"$f":"IFERROR(SUMPRODUCT(--(INDEX(Model_Inputs_Ref_Units,,M$51)=$E145),INDEX(Model_Inputs_Ref_Units,,M$52)),0)","v":0},{"$f":"IFERROR(SUMPRODUCT(--(INDEX(Model_Inputs_Ref_Units,,N$51)=$E145),INDEX(Model_Inputs_Ref_Units,,N$52)),0)","v":0},{"$f":"IFERROR(SUMPRODUCT(--(INDEX(Model_Inputs_Ref_Units,,O$51)=$E145),INDEX(Model_Inputs_Ref_Units,,O$52)),0)","v":0},{"$f":"IFERROR(SUMPRODUCT(--(INDEX(Model_Inputs_Ref_Units,,P$51)=$E145),INDEX(Model_Inputs_Ref_Units,,P$52)),0)","v":0},{"$f":"IFERROR(SUMPRODUCT(--(INDEX(Model_Inputs_Ref_Units,,Q$51)=$E145),INDEX(Model_Inputs_Ref_Units,,Q$52)),0)","v":0},{"$f":"IFERROR(SUMPRODUCT(--(INDEX(Model_Inputs_Ref_Units,,R$51)=$E145),INDEX(Model_Inputs_Ref_Units,,R$52)),0)","v":0},{"$f":"IFERROR(SUMPRODUCT(--(INDEX(Model_Inputs_Ref_Units,,S$51)=$E145),INDEX(Model_Inputs_Ref_Units,,S$52)),0)","v":0},{"$f":"IFERROR(SUMPRODUCT(--(INDEX(Model_Inputs_Ref_Units,,T$51)=$E145),INDEX(Model_Inputs_Ref_Units,,T$52)),0)","v":0},{"$f":"IFERROR(SUMPRODUCT(--(INDEX(Model_Inputs_Ref_Units,,U$51)=$E145),INDEX(Model_Inputs_Ref_Units,,U$52)),0)","v":0},{"$f":"IFERROR(SUMPRODUCT(--(INDEX(Model_Inputs_Ref_Units,,V$51)=$E145),INDEX(Model_Inputs_Ref_Units,,V$52)),0)","v":0},{"$f":"IFERROR(SUMPRODUCT(--(INDEX(Model_Inputs_Ref_Units,,W$51)=$E145),INDEX(Model_Inputs_Ref_Units,,W$52)),0)","v":0},{"$f":"IFERROR(SUMPRODUCT(--(INDEX(Model_Inputs_Ref_Units,,X$51)=$E145),INDEX(Model_Inputs_Ref_Units,,X$52)),0)","v":0},{"$f":"IFERROR(SUMPRODUCT(--(INDEX(Model_Inputs_Ref_Units,,Y$51)=$E145),INDEX(Model_Inputs_Ref_Units,,Y$52)),0)","v":0},{"$f":"IFERROR(SUMPRODUCT(--(INDEX(Model_Inputs_Ref_Units,,Z$51)=$E145),INDEX(Model_Inputs_Ref_Units,,Z$52)),0)","v":0},{"$f":"IFERROR(SUMPRODUCT(--(INDEX(Model_Inputs_Ref_Units,,AA$51)=$E145),INDEX(Model_Inputs_Ref_Units,,AA$52)),0)","v":0},{"$f":"IFERROR(SUMPRODUCT(--(INDEX(Model_Inputs_Ref_Units,,AB$51)=$E145),INDEX(Model_Inputs_Ref_Units,,AB$52)),0)","v":0},{"$f":"IFERROR(SUMPRODUCT(--(INDEX(Model_Inputs_Ref_Units,,AC$51)=$E145),INDEX(Model_Inputs_Ref_Units,,AC$52)),0)","v":0},{"$f":"IFERROR(SUMPRODUCT(--(INDEX(Model_Inputs_Ref_Units,,AD$51)=$E145),INDEX(Model_Inputs_Ref_Units,,AD$52)),0)","v":0},{"$f":"IFERROR(SUMPRODUCT(--(INDEX(Model_Inputs_Ref_Units,,AE$51)=$E145),INDEX(Model_Inputs_Ref_Units,,AE$52)),0)","v":0},{"$f":"IFERROR(SUMPRODUCT(--(INDEX(Model_Inputs_Ref_Units,,AF$51)=$E145),INDEX(Model_Inputs_Ref_Units,,AF$52)),0)","v":0},{"$f":"IFERROR(SUMPRODUCT(--(INDEX(Model_Inputs_Ref_Units,,AG$51)=$E145),INDEX(Model_Inputs_Ref_Units,,AG$52)),0)","v":0},{"$f":"IFERROR(SUMPRODUCT(--(INDEX(Model_Inputs_Ref_Units,,AH$51)=$E145),INDEX(Model_Inputs_Ref_Units,,AH$52)),0)","v":0},{"$f":"IFERROR(SUMPRODUCT(--(INDEX(Model_Inputs_Ref_Units,,AI$51)=$E145),INDEX(Model_Inputs_Ref_Units,,AI$52)),0)","v":0},{"$f":"IFERROR(SUMPRODUCT(--(INDEX(Model_Inputs_Ref_Units,,AJ$51)=$E145),INDEX(Model_Inputs_Ref_Units,,AJ$52)),0)","v":0},{"$f":"IFERROR(SUMPRODUCT(--(INDEX(Model_Inputs_Ref_Units,,AK$51)=$E145),INDEX(Model_Inputs_Ref_Units,,AK$52)),0)","v":0},{"$f":"IFERROR(SUMPRODUCT(--(INDEX(Model_Inputs_Ref_Units,,AL$51)=$E145),INDEX(Model_Inputs_Ref_Units,,AL$52)),0)","v":0},{"$f":"IFERROR(SUMPRODUCT(--(INDEX(Model_Inputs_Ref_Units,,AM$51)=$E145),INDEX(Model_Inputs_Ref_Units,,AM$52)),0)","v":0},{"$f":"IFERROR(SUMPRODUCT(--(INDEX(Model_Inputs_Ref_Units,,AN$51)=$E145),INDEX(Model_Inputs_Ref_Units,,AN$52)),0)","v":0},{"$f":"IFERROR(SUMPRODUCT(--(INDEX(Model_Inputs_Ref_Units,,AO$51)=$E145),INDEX(Model_Inputs_Ref_Units,,AO$52)),0)","v":0},{"$f":"IFERROR(SUMPRODUCT(--(INDEX(Model_Inputs_Ref_Units,,AP$51)=$E145),INDEX(Model_Inputs_Ref_Units,,AP$52)),0)","v":0},{"$f":"IFERROR(SUMPRODUCT(--(INDEX(Model_Inputs_Ref_Units,,AQ$51)=$E145),INDEX(Model_Inputs_Ref_Units,,AQ$52)),0)","v":0},{"$f":"IFERROR(SUMPRODUCT(--(INDEX(Model_Inputs_Ref_Units,,AR$51)=$E145),INDEX(Model_Inputs_Ref_Units,,AR$52)),0)","v":0},{"$f":"IFERROR(SUMPRODUCT(--(INDEX(Model_Inputs_Ref_Units,,AS$51)=$E145),INDEX(Model_Inputs_Ref_Units,,AS$52)),0)","v":0},{"$f":"IFERROR(SUMPRODUCT(--(INDEX(Model_Inputs_Ref_Units,,AT$51)=$E145),INDEX(Model_Inputs_Ref_Units,,AT$52)),0)","v":0},{"$f":"IFERROR(SUMPRODUCT(--(INDEX(Model_Inputs_Ref_Units,,AU$51)=$E145),INDEX(Model_Inputs_Ref_Units,,AU$52)),0)","v":0},{"$f":"IFERROR(SUMPRODUCT(--(INDEX(Model_Inputs_Ref_Units,,AV$51)=$E145),INDEX(Model_Inputs_Ref_Units,,AV$52)),0)","v":0},{"$f":"IFERROR(SUMPRODUCT(--(INDEX(Model_Inputs_Ref_Units,,AW$51)=$E145),INDEX(Model_Inputs_Ref_Units,,AW$52)),0)","v":0},{"$f":"IFERROR(SUMPRODUCT(--(INDEX(Model_Inputs_Ref_Units,,AX$51)=$E145),INDEX(Model_Inputs_Ref_Units,,AX$52)),0)","v":0},{"$f":"IFERROR(SUMPRODUCT(--(INDEX(Model_Inputs_Ref_Units,,AY$51)=$E145),INDEX(Model_Inputs_Ref_Units,,AY$52)),0)","v":0},{"$f":"IFERROR(SUMPRODUCT(--(INDEX(Model_Inputs_Ref_Units,,AZ$51)=$E145),INDEX(Model_Inputs_Ref_Units,,AZ$52)),0)","v":0},{"$f":"IFERROR(SUMPRODUCT(--(INDEX(Model_Inputs_Ref_Units,,BA$51)=$E145),INDEX(Model_Inputs_Ref_Units,,BA$52)),0)","v":0},{"$f":"IFERROR(SUMPRODUCT(--(INDEX(Model_Inputs_Ref_Units,,BB$51)=$E145),INDEX(Model_Inputs_Ref_Units,,BB$52)),0)","v":0},{"$f":"IFERROR(SUMPRODUCT(--(INDEX(Model_Inputs_Ref_Units,,BC$51)=$E145),INDEX(Model_Inputs_Ref_Units,,BC$52)),0)","v":0},{"$f":"IFERROR(SUMPRODUCT(--(INDEX(Model_Inputs_Ref_Units,,BD$51)=$E145),INDEX(Model_Inputs_Ref_Units,,BD$52)),0)","v":0},{"$f":"IFERROR(SUMPRODUCT(--(INDEX(Model_Inputs_Ref_Units,,BE$51)=$E145),INDEX(Model_Inputs_Ref_Units,,BE$52)),0)","v":0},{"$f":"IFERROR(SUMPRODUCT(--(INDEX(Model_Inputs_Ref_Units,,BF$51)=$E145),INDEX(Model_Inputs_Ref_Units,,BF$52)),0)","v":0},{"$f":"IFERROR(SUMPRODUCT(--(INDEX(Model_Inputs_Ref_Units,,BG$51)=$E145),INDEX(Model_Inputs_Ref_Units,,BG$52)),0)","v":0},{"$f":"IFERROR(SUMPRODUCT(--(INDEX(Model_Inputs_Ref_Units,,BH$51)=$E145),INDEX(Model_Inputs_Ref_Units,,BH$52)),0)","v":0},{"$f":"IFERROR(SUMPRODUCT(--(INDEX(Model_Inputs_Ref_Units,,BI$51)=$E145),INDEX(Model_Inputs_Ref_Units,,BI$52)),0)","v":0},{"$f":"IFERROR(SUMPRODUCT(--(INDEX(Model_Inputs_Ref_Units,,BJ$51)=$E145),INDEX(Model_Inputs_Ref_Units,,BJ$52)),0)","v":0},{"$f":"IFERROR(SUMPRODUCT(--(INDEX(Model_Inputs_Ref_Units,,BK$51)=$E145),INDEX(Model_Inputs_Ref_Units,,BK$52)),0)","v":0},{"$f":"IFERROR(SUMPRODUCT(--(INDEX(Model_Inputs_Ref_Units,,BL$51)=$E145),INDEX(Model_Inputs_Ref_Units,,BL$52)),0)","v":0},{"$f":"IFERROR(SUMPRODUCT(--(INDEX(Model_Inputs_Ref_Units,,BM$51)=$E145),INDEX(Model_Inputs_Ref_Units,,BM$52)),0)","v":0},{"$f":"IFERROR(SUMPRODUCT(--(INDEX(Model_Inputs_Ref_Units,,BN$51)=$E145),INDEX(Model_Inputs_Ref_Units,,BN$52)),0)","v":0},{"$f":"IFERROR(SUMPRODUCT(--(INDEX(Model_Inputs_Ref_Units,,BO$51)=$E145),INDEX(Model_Inputs_Ref_Units,,BO$52)),0)","v":0},{"$f":"IFERROR(SUMPRODUCT(--(INDEX(Model_Inputs_Ref_Units,,BP$51)=$E145),INDEX(Model_Inputs_Ref_Units,,BP$52)),0)","v":0},{"$f":"IFERROR(SUMPRODUCT(--(INDEX(Model_Inputs_Ref_Units,,BQ$51)=$E145),INDEX(Model_Inputs_Ref_Units,,BQ$52)),0)","v":0},{"$f":"IFERROR(SUMPRODUCT(--(INDEX(Model_Inputs_Ref_Units,,BR$51)=$E145),INDEX(Model_Inputs_Ref_Units,,BR$52)),0)","v":0},{"$f":"IFERROR(SUMPRODUCT(--(INDEX(Model_Inputs_Ref_Units,,BS$51)=$E145),INDEX(Model_Inputs_Ref_Units,,BS$52)),0)","v":0},{"$f":"IFERROR(SUMPRODUCT(--(INDEX(Model_Inputs_Ref_Units,,BT$51)=$E145),INDEX(Model_Inputs_Ref_Units,,BT$52)),0)","v":0},{"$f":"IFERROR(SUMPRODUCT(--(INDEX(Model_Inputs_Ref_Units,,BU$51)=$E145),INDEX(Model_Inputs_Ref_Units,,BU$52)),0)","v":0},{"$f":"IFERROR(SUMPRODUCT(--(INDEX(Model_Inputs_Ref_Units,,BV$51)=$E145),INDEX(Model_Inputs_Ref_Units,,BV$52)),0)","v":0},{"$f":"IFERROR(SUMPRODUCT(--(INDEX(Model_Inputs_Ref_Units,,BW$51)=$E145),INDEX(Model_Inputs_Ref_Units,,BW$52)),0)","v":0},{"$f":"IFERROR(SUMPRODUCT(--(INDEX(Model_Inputs_Ref_Units,,BX$51)=$E145),INDEX(Model_Inputs_Ref_Units,,BX$52)),0)","v":0},{"$f":"IFERROR(SUMPRODUCT(--(INDEX(Model_Inputs_Ref_Units,,BY$51)=$E145),INDEX(Model_Inputs_Ref_Units,,BY$52)),0)","v":0},{"$f":"IFERROR(SUMPRODUCT(--(INDEX(Model_Inputs_Ref_Units,,BZ$51)=$E145),INDEX(Model_Inputs_Ref_Units,,BZ$52)),0)","v":0},{"$f":"IFERROR(SUMPRODUCT(--(INDEX(Model_Inputs_Ref_Units,,CA$51)=$E145),INDEX(Model_Inputs_Ref_Units,,CA$52)),0)","v":0},{"$f":"IFERROR(SUMPRODUCT(--(INDEX(Model_Inputs_Ref_Units,,CB$51)=$E145),INDEX(Model_Inputs_Ref_Units,,CB$52)),0)","v":0},{"$f":"IFERROR(SUMPRODUCT(--(INDEX(Model_Inputs_Ref_Units,,CC$51)=$E145),INDEX(Model_Inputs_Ref_Units,,CC$52)),0)","v":0},{"$f":"IFERROR(SUMPRODUCT(--(INDEX(Model_Inputs_Ref_Units,,CD$51)=$E145),INDEX(Model_Inputs_Ref_Units,,CD$52)),0)","v":0},{"$f":"IFERROR(SUMPRODUCT(--(INDEX(Model_Inputs_Ref_Units,,CE$51)=$E145),INDEX(Model_Inputs_Ref_Units,,CE$52)),0)","v":0},{"$f":"IFERROR(SUMPRODUCT(--(INDEX(Model_Inputs_Ref_Units,,CF$51)=$E145),INDEX(Model_Inputs_Ref_Units,,CF$52)),0)","v":0},{"$f":"IFERROR(SUMPRODUCT(--(INDEX(Model_Inputs_Ref_Units,,CG$51)=$E145),INDEX(Model_Inputs_Ref_Units,,CG$52)),0)","v":0},{"$f":"IFERROR(SUMPRODUCT(--(INDEX(Model_Inputs_Ref_Units,,CH$51)=$E145),INDEX(Model_Inputs_Ref_Units,,CH$52)),0)","v":0},{"$f":"IFERROR(SUMPRODUCT(--(INDEX(Model_Inputs_Ref_Units,,CI$51)=$E145),INDEX(Model_Inputs_Ref_Units,,CI$52)),0)","v":0},{"$f":"IFERROR(SUMPRODUCT(--(INDEX(Model_Inputs_Ref_Units,,CJ$51)=$E145),INDEX(Model_Inputs_Ref_Units,,CJ$52)),0)","v":0},{"$f":"IFERROR(SUMPRODUCT(--(INDEX(Model_Inputs_Ref_Units,,CK$51)=$E145),INDEX(Model_Inputs_Ref_Units,,CK$52)),0)","v":0},{"$f":"IFERROR(SUMPRODUCT(--(INDEX(Model_Inputs_Ref_Units,,CL$51)=$E145),INDEX(Model_Inputs_Ref_Units,,CL$52)),0)","v":0},{"$f":"IFERROR(SUMPRODUCT(--(INDEX(Model_Inputs_Ref_Units,,CM$51)=$E145),INDEX(Model_Inputs_Ref_Units,,CM$52)),0)","v":0},{"$f":"IFERROR(SUMPRODUCT(--(INDEX(Model_Inputs_Ref_Units,,CN$51)=$E145),INDEX(Model_Inputs_Ref_Units,,CN$52)),0)","v":0},{"$f":"IFERROR(SUMPRODUCT(--(INDEX(Model_Inputs_Ref_Units,,CO$51)=$E145),INDEX(Model_Inputs_Ref_Units,,CO$52)),0)","v":0},{"$f":"IFERROR(SUMPRODUCT(--(INDEX(Model_Inputs_Ref_Units,,CP$51)=$E145),INDEX(Model_Inputs_Ref_Units,,CP$52)),0)","v":0},{"$f":"IFERROR(SUMPRODUCT(--(INDEX(Model_Inputs_Ref_Units,,CQ$51)=$E145),INDEX(Model_Inputs_Ref_Units,,CQ$52)),0)","v":0},{"$f":"IFERROR(SUMPRODUCT(--(INDEX(Model_Inputs_Ref_Units,,CR$51)=$E145),INDEX(Model_Inputs_Ref_Units,,CR$52)),0)","v":0},{"$f":"IFERROR(SUMPRODUCT(--(INDEX(Model_Inputs_Ref_Units,,CS$51)=$E145),INDEX(Model_Inputs_Ref_Units,,CS$52)),0)","v":0},{"$f":"IFERROR(SUMPRODUCT(--(INDEX(Model_Inputs_Ref_Units,,CT$51)=$E145),INDEX(Model_Inputs_Ref_Units,,CT$52)),0)","v":0},{"$f":"IFERROR(SUMPRODUCT(--(INDEX(Model_Inputs_Ref_Units,,CU$51)=$E145),INDEX(Model_Inputs_Ref_Units,,CU$52)),0)","v":0},{"$f":"IFERROR(SUMPRODUCT(--(INDEX(Model_Inputs_Ref_Units,,CV$51)=$E145),INDEX(Model_Inputs_Ref_Units,,CV$52)),0)","v":0},{"$f":"IFERROR(SUMPRODUCT(--(INDEX(Model_Inputs_Ref_Units,,CW$51)=$E145),INDEX(Model_Inputs_Ref_Units,,CW$52)),0)","v":0},{"$f":"IFERROR(SUMPRODUCT(--(INDEX(Model_Inputs_Ref_Units,,CX$51)=$E145),INDEX(Model_Inputs_Ref_Units,,CX$52)),0)","v":0},{"$f":"IFERROR(SUMPRODUCT(--(INDEX(Model_Inputs_Ref_Units,,CY$51)=$E145),INDEX(Model_Inputs_Ref_Units,,CY$52)),0)","v":0},{"$f":"IFERROR(SUMPRODUCT(--(INDEX(Model_Inputs_Ref_Units,,CZ$51)=$E145),INDEX(Model_Inputs_Ref_Units,,CZ$52)),0)","v":0},{"$f":"IFERROR(SUMPRODUCT(--(INDEX(Model_Inputs_Ref_Units,,DA$51)=$E145),INDEX(Model_Inputs_Ref_Units,,DA$52)),0)","v":0},{"$f":"IFERROR(SUMPRODUCT(--(INDEX(Model_Inputs_Ref_Units,,DB$51)=$E145),INDEX(Model_Inputs_Ref_Units,,DB$52)),0)","v":0},{"$f":"IFERROR(SUMPRODUCT(--(INDEX(Model_Inputs_Ref_Units,,DC$51)=$E145),INDEX(Model_Inputs_Ref_Units,,DC$52)),0)","v":0},{"$f":"IFERROR(SUMPRODUCT(--(INDEX(Model_Inputs_Ref_Units,,DD$51)=$E145),INDEX(Model_Inputs_Ref_Units,,DD$52)),0)","v":0},{"$f":"IFERROR(SUMPRODUCT(--(INDEX(Model_Inputs_Ref_Units,,DE$51)=$E145),INDEX(Model_Inputs_Ref_Units,,DE$52)),0)","v":0},{"$f":"IFERROR(SUMPRODUCT(--(INDEX(Model_Inputs_Ref_Units,,DF$51)=$E145),INDEX(Model_Inputs_Ref_Units,,DF$52)),0)","v":0}]
[null,null,{"$error":"#DIV/0!"},null,{"$f":"IFERROR(INDEX(Ref_Data,1,F146),\"\")","v":""},93,0,0,0,0,{"$f":"IFERROR(SUMPRODUCT(--(INDEX(Model_Inputs_Ref_Units,,K$51)=$E146),INDEX(Model_Inputs_Ref_Units,,K$52)),0)","v":0},{"$f":"IFERROR(SUMPRODUCT(--(INDEX(Model_Inputs_Ref_Units,,L$51)=$E146),INDEX(Model_Inputs_Ref_Units,,L$52)),0)","v":0},{"$f":"IFERROR(SUMPRODUCT(--(INDEX(Model_Inputs_Ref_Units,,M$51)=$E146),INDEX(Model_Inputs_Ref_Units,,M$52)),0)","v":0},{"$f":"IFERROR(SUMPRODUCT(--(INDEX(Model_Inputs_Ref_Units,,N$51)=$E146),INDEX(Model_Inputs_Ref_Units,,N$52)),0)","v":0},{"$f":"IFERROR(SUMPRODUCT(--(INDEX(Model_Inputs_Ref_Units,,O$51)=$E146),INDEX(Model_Inputs_Ref_Units,,O$52)),0)","v":0},{"$f":"IFERROR(SUMPRODUCT(--(INDEX(Model_Inputs_Ref_Units,,P$51)=$E146),INDEX(Model_Inputs_Ref_Units,,P$52)),0)","v":0},{"$f":"IFERROR(SUMPRODUCT(--(INDEX(Model_Inputs_Ref_Units,,Q$51)=$E146),INDEX(Model_Inputs_Ref_Units,,Q$52)),0)","v":0},{"$f":"IFERROR(SUMPRODUCT(--(INDEX(Model_Inputs_Ref_Units,,R$51)=$E146),INDEX(Model_Inputs_Ref_Units,,R$52)),0)","v":0},{"$f":"IFERROR(SUMPRODUCT(--(INDEX(Model_Inputs_Ref_Units,,S$51)=$E146),INDEX(Model_Inputs_Ref_Units,,S$52)),0)","v":0},{"$f":"IFERROR(SUMPRODUCT(--(INDEX(Model_Inputs_Ref_Units,,T$51)=$E146),INDEX(Model_Inputs_Ref_Units,,T$52)),0)","v":0},{"$f":"IFERROR(SUMPRODUCT(--(INDEX(Model_Inputs_Ref_Units,,U$51)=$E146),INDEX(Model_Inputs_Ref_Units,,U$52)),0)","v":0},{"$f":"IFERROR(SUMPRODUCT(--(INDEX(Model_Inputs_Ref_Units,,V$51)=$E146),INDEX(Model_Inputs_Ref_Units,,V$52)),0)","v":0},{"$f":"IFERROR(SUMPRODUCT(--(INDEX(Model_Inputs_Ref_Units,,W$51)=$E146),INDEX(Model_Inputs_Ref_Units,,W$52)),0)","v":0},{"$f":"IFERROR(SUMPRODUCT(--(INDEX(Model_Inputs_Ref_Units,,X$51)=$E146),INDEX(Model_Inputs_Ref_Units,,X$52)),0)","v":0},{"$f":"IFERROR(SUMPRODUCT(--(INDEX(Model_Inputs_Ref_Units,,Y$51)=$E146),INDEX(Model_Inputs_Ref_Units,,Y$52)),0)","v":0},{"$f":"IFERROR(SUMPRODUCT(--(INDEX(Model_Inputs_Ref_Units,,Z$51)=$E146),INDEX(Model_Inputs_Ref_Units,,Z$52)),0)","v":0},{"$f":"IFERROR(SUMPRODUCT(--(INDEX(Model_Inputs_Ref_Units,,AA$51)=$E146),INDEX(Model_Inputs_Ref_Units,,AA$52)),0)","v":0},{"$f":"IFERROR(SUMPRODUCT(--(INDEX(Model_Inputs_Ref_Units,,AB$51)=$E146),INDEX(Model_Inputs_Ref_Units,,AB$52)),0)","v":0},{"$f":"IFERROR(SUMPRODUCT(--(INDEX(Model_Inputs_Ref_Units,,AC$51)=$E146),INDEX(Model_Inputs_Ref_Units,,AC$52)),0)","v":0},{"$f":"IFERROR(SUMPRODUCT(--(INDEX(Model_Inputs_Ref_Units,,AD$51)=$E146),INDEX(Model_Inputs_Ref_Units,,AD$52)),0)","v":0},{"$f":"IFERROR(SUMPRODUCT(--(INDEX(Model_Inputs_Ref_Units,,AE$51)=$E146),INDEX(Model_Inputs_Ref_Units,,AE$52)),0)","v":0},{"$f":"IFERROR(SUMPRODUCT(--(INDEX(Model_Inputs_Ref_Units,,AF$51)=$E146),INDEX(Model_Inputs_Ref_Units,,AF$52)),0)","v":0},{"$f":"IFERROR(SUMPRODUCT(--(INDEX(Model_Inputs_Ref_Units,,AG$51)=$E146),INDEX(Model_Inputs_Ref_Units,,AG$52)),0)","v":0},{"$f":"IFERROR(SUMPRODUCT(--(INDEX(Model_Inputs_Ref_Units,,AH$51)=$E146),INDEX(Model_Inputs_Ref_Units,,AH$52)),0)","v":0},{"$f":"IFERROR(SUMPRODUCT(--(INDEX(Model_Inputs_Ref_Units,,AI$51)=$E146),INDEX(Model_Inputs_Ref_Units,,AI$52)),0)","v":0},{"$f":"IFERROR(SUMPRODUCT(--(INDEX(Model_Inputs_Ref_Units,,AJ$51)=$E146),INDEX(Model_Inputs_Ref_Units,,AJ$52)),0)","v":0},{"$f":"IFERROR(SUMPRODUCT(--(INDEX(Model_Inputs_Ref_Units,,AK$51)=$E146),INDEX(Model_Inputs_Ref_Units,,AK$52)),0)","v":0},{"$f":"IFERROR(SUMPRODUCT(--(INDEX(Model_Inputs_Ref_Units,,AL$51)=$E146),INDEX(Model_Inputs_Ref_Units,,AL$52)),0)","v":0},{"$f":"IFERROR(SUMPRODUCT(--(INDEX(Model_Inputs_Ref_Units,,AM$51)=$E146),INDEX(Model_Inputs_Ref_Units,,AM$52)),0)","v":0},{"$f":"IFERROR(SUMPRODUCT(--(INDEX(Model_Inputs_Ref_Units,,AN$51)=$E146),INDEX(Model_Inputs_Ref_Units,,AN$52)),0)","v":0},{"$f":"IFERROR(SUMPRODUCT(--(INDEX(Model_Inputs_Ref_Units,,AO$51)=$E146),INDEX(Model_Inputs_Ref_Units,,AO$52)),0)","v":0},{"$f":"IFERROR(SUMPRODUCT(--(INDEX(Model_Inputs_Ref_Units,,AP$51)=$E146),INDEX(Model_Inputs_Ref_Units,,AP$52)),0)","v":0},{"$f":"IFERROR(SUMPRODUCT(--(INDEX(Model_Inputs_Ref_Units,,AQ$51)=$E146),INDEX(Model_Inputs_Ref_Units,,AQ$52)),0)","v":0},{"$f":"IFERROR(SUMPRODUCT(--(INDEX(Model_Inputs_Ref_Units,,AR$51)=$E146),INDEX(Model_Inputs_Ref_Units,,AR$52)),0)","v":0},{"$f":"IFERROR(SUMPRODUCT(--(INDEX(Model_Inputs_Ref_Units,,AS$51)=$E146),INDEX(Model_Inputs_Ref_Units,,AS$52)),0)","v":0},{"$f":"IFERROR(SUMPRODUCT(--(INDEX(Model_Inputs_Ref_Units,,AT$51)=$E146),INDEX(Model_Inputs_Ref_Units,,AT$52)),0)","v":0},{"$f":"IFERROR(SUMPRODUCT(--(INDEX(Model_Inputs_Ref_Units,,AU$51)=$E146),INDEX(Model_Inputs_Ref_Units,,AU$52)),0)","v":0},{"$f":"IFERROR(SUMPRODUCT(--(INDEX(Model_Inputs_Ref_Units,,AV$51)=$E146),INDEX(Model_Inputs_Ref_Units,,AV$52)),0)","v":0},{"$f":"IFERROR(SUMPRODUCT(--(INDEX(Model_Inputs_Ref_Units,,AW$51)=$E146),INDEX(Model_Inputs_Ref_Units,,AW$52)),0)","v":0},{"$f":"IFERROR(SUMPRODUCT(--(INDEX(Model_Inputs_Ref_Units,,AX$51)=$E146),INDEX(Model_Inputs_Ref_Units,,AX$52)),0)","v":0},{"$f":"IFERROR(SUMPRODUCT(--(INDEX(Model_Inputs_Ref_Units,,AY$51)=$E146),INDEX(Model_Inputs_Ref_Units,,AY$52)),0)","v":0},{"$f":"IFERROR(SUMPRODUCT(--(INDEX(Model_Inputs_Ref_Units,,AZ$51)=$E146),INDEX(Model_Inputs_Ref_Units,,AZ$52)),0)","v":0},{"$f":"IFERROR(SUMPRODUCT(--(INDEX(Model_Inputs_Ref_Units,,BA$51)=$E146),INDEX(Model_Inputs_Ref_Units,,BA$52)),0)","v":0},{"$f":"IFERROR(SUMPRODUCT(--(INDEX(Model_Inputs_Ref_Units,,BB$51)=$E146),INDEX(Model_Inputs_Ref_Units,,BB$52)),0)","v":0},{"$f":"IFERROR(SUMPRODUCT(--(INDEX(Model_Inputs_Ref_Units,,BC$51)=$E146),INDEX(Model_Inputs_Ref_Units,,BC$52)),0)","v":0},{"$f":"IFERROR(SUMPRODUCT(--(INDEX(Model_Inputs_Ref_Units,,BD$51)=$E146),INDEX(Model_Inputs_Ref_Units,,BD$52)),0)","v":0},{"$f":"IFERROR(SUMPRODUCT(--(INDEX(Model_Inputs_Ref_Units,,BE$51)=$E146),INDEX(Model_Inputs_Ref_Units,,BE$52)),0)","v":0},{"$f":"IFERROR(SUMPRODUCT(--(INDEX(Model_Inputs_Ref_Units,,BF$51)=$E146),INDEX(Model_Inputs_Ref_Units,,BF$52)),0)","v":0},{"$f":"IFERROR(SUMPRODUCT(--(INDEX(Model_Inputs_Ref_Units,,BG$51)=$E146),INDEX(Model_Inputs_Ref_Units,,BG$52)),0)","v":0},{"$f":"IFERROR(SUMPRODUCT(--(INDEX(Model_Inputs_Ref_Units,,BH$51)=$E146),INDEX(Model_Inputs_Ref_Units,,BH$52)),0)","v":0},{"$f":"IFERROR(SUMPRODUCT(--(INDEX(Model_Inputs_Ref_Units,,BI$51)=$E146),INDEX(Model_Inputs_Ref_Units,,BI$52)),0)","v":0},{"$f":"IFERROR(SUMPRODUCT(--(INDEX(Model_Inputs_Ref_Units,,BJ$51)=$E146),INDEX(Model_Inputs_Ref_Units,,BJ$52)),0)","v":0},{"$f":"IFERROR(SUMPRODUCT(--(INDEX(Model_Inputs_Ref_Units,,BK$51)=$E146),INDEX(Model_Inputs_Ref_Units,,BK$52)),0)","v":0},{"$f":"IFERROR(SUMPRODUCT(--(INDEX(Model_Inputs_Ref_Units,,BL$51)=$E146),INDEX(Model_Inputs_Ref_Units,,BL$52)),0)","v":0},{"$f":"IFERROR(SUMPRODUCT(--(INDEX(Model_Inputs_Ref_Units,,BM$51)=$E146),INDEX(Model_Inputs_Ref_Units,,BM$52)),0)","v":0},{"$f":"IFERROR(SUMPRODUCT(--(INDEX(Model_Inputs_Ref_Units,,BN$51)=$E146),INDEX(Model_Inputs_Ref_Units,,BN$52)),0)","v":0},{"$f":"IFERROR(SUMPRODUCT(--(INDEX(Model_Inputs_Ref_Units,,BO$51)=$E146),INDEX(Model_Inputs_Ref_Units,,BO$52)),0)","v":0},{"$f":"IFERROR(SUMPRODUCT(--(INDEX(Model_Inputs_Ref_Units,,BP$51)=$E146),INDEX(Model_Inputs_Ref_Units,,BP$52)),0)","v":0},{"$f":"IFERROR(SUMPRODUCT(--(INDEX(Model_Inputs_Ref_Units,,BQ$51)=$E146),INDEX(Model_Inputs_Ref_Units,,BQ$52)),0)","v":0},{"$f":"IFERROR(SUMPRODUCT(--(INDEX(Model_Inputs_Ref_Units,,BR$51)=$E146),INDEX(Model_Inputs_Ref_Units,,BR$52)),0)","v":0},{"$f":"IFERROR(SUMPRODUCT(--(INDEX(Model_Inputs_Ref_Units,,BS$51)=$E146),INDEX(Model_Inputs_Ref_Units,,BS$52)),0)","v":0},{"$f":"IFERROR(SUMPRODUCT(--(INDEX(Model_Inputs_Ref_Units,,BT$51)=$E146),INDEX(Model_Inputs_Ref_Units,,BT$52)),0)","v":0},{"$f":"IFERROR(SUMPRODUCT(--(INDEX(Model_Inputs_Ref_Units,,BU$51)=$E146),INDEX(Model_Inputs_Ref_Units,,BU$52)),0)","v":0},{"$f":"IFERROR(SUMPRODUCT(--(INDEX(Model_Inputs_Ref_Units,,BV$51)=$E146),INDEX(Model_Inputs_Ref_Units,,BV$52)),0)","v":0},{"$f":"IFERROR(SUMPRODUCT(--(INDEX(Model_Inputs_Ref_Units,,BW$51)=$E146),INDEX(Model_Inputs_Ref_Units,,BW$52)),0)","v":0},{"$f":"IFERROR(SUMPRODUCT(--(INDEX(Model_Inputs_Ref_Units,,BX$51)=$E146),INDEX(Model_Inputs_Ref_Units,,BX$52)),0)","v":0},{"$f":"IFERROR(SUMPRODUCT(--(INDEX(Model_Inputs_Ref_Units,,BY$51)=$E146),INDEX(Model_Inputs_Ref_Units,,BY$52)),0)","v":0},{"$f":"IFERROR(SUMPRODUCT(--(INDEX(Model_Inputs_Ref_Units,,BZ$51)=$E146),INDEX(Model_Inputs_Ref_Units,,BZ$52)),0)","v":0},{"$f":"IFERROR(SUMPRODUCT(--(INDEX(Model_Inputs_Ref_Units,,CA$51)=$E146),INDEX(Model_Inputs_Ref_Units,,CA$52)),0)","v":0},{"$f":"IFERROR(SUMPRODUCT(--(INDEX(Model_Inputs_Ref_Units,,CB$51)=$E146),INDEX(Model_Inputs_Ref_Units,,CB$52)),0)","v":0},{"$f":"IFERROR(SUMPRODUCT(--(INDEX(Model_Inputs_Ref_Units,,CC$51)=$E146),INDEX(Model_Inputs_Ref_Units,,CC$52)),0)","v":0},{"$f":"IFERROR(SUMPRODUCT(--(INDEX(Model_Inputs_Ref_Units,,CD$51)=$E146),INDEX(Model_Inputs_Ref_Units,,CD$52)),0)","v":0},{"$f":"IFERROR(SUMPRODUCT(--(INDEX(Model_Inputs_Ref_Units,,CE$51)=$E146),INDEX(Model_Inputs_Ref_Units,,CE$52)),0)","v":0},{"$f":"IFERROR(SUMPRODUCT(--(INDEX(Model_Inputs_Ref_Units,,CF$51)=$E146),INDEX(Model_Inputs_Ref_Units,,CF$52)),0)","v":0},{"$f":"IFERROR(SUMPRODUCT(--(INDEX(Model_Inputs_Ref_Units,,CG$51)=$E146),INDEX(Model_Inputs_Ref_Units,,CG$52)),0)","v":0},{"$f":"IFERROR(SUMPRODUCT(--(INDEX(Model_Inputs_Ref_Units,,CH$51)=$E146),INDEX(Model_Inputs_Ref_Units,,CH$52)),0)","v":0},{"$f":"IFERROR(SUMPRODUCT(--(INDEX(Model_Inputs_Ref_Units,,CI$51)=$E146),INDEX(Model_Inputs_Ref_Units,,CI$52)),0)","v":0},{"$f":"IFERROR(SUMPRODUCT(--(INDEX(Model_Inputs_Ref_Units,,CJ$51)=$E146),INDEX(Model_Inputs_Ref_Units,,CJ$52)),0)","v":0},{"$f":"IFERROR(SUMPRODUCT(--(INDEX(Model_Inputs_Ref_Units,,CK$51)=$E146),INDEX(Model_Inputs_Ref_Units,,CK$52)),0)","v":0},{"$f":"IFERROR(SUMPRODUCT(--(INDEX(Model_Inputs_Ref_Units,,CL$51)=$E146),INDEX(Model_Inputs_Ref_Units,,CL$52)),0)","v":0},{"$f":"IFERROR(SUMPRODUCT(--(INDEX(Model_Inputs_Ref_Units,,CM$51)=$E146),INDEX(Model_Inputs_Ref_Units,,CM$52)),0)","v":0},{"$f":"IFERROR(SUMPRODUCT(--(INDEX(Model_Inputs_Ref_Units,,CN$51)=$E146),INDEX(Model_Inputs_Ref_Units,,CN$52)),0)","v":0},{"$f":"IFERROR(SUMPRODUCT(--(INDEX(Model_Inputs_Ref_Units,,CO$51)=$E146),INDEX(Model_Inputs_Ref_Units,,CO$52)),0)","v":0},{"$f":"IFERROR(SUMPRODUCT(--(INDEX(Model_Inputs_Ref_Units,,CP$51)=$E146),INDEX(Model_Inputs_Ref_Units,,CP$52)),0)","v":0},{"$f":"IFERROR(SUMPRODUCT(--(INDEX(Model_Inputs_Ref_Units,,CQ$51)=$E146),INDEX(Model_Inputs_Ref_Units,,CQ$52)),0)","v":0},{"$f":"IFERROR(SUMPRODUCT(--(INDEX(Model_Inputs_Ref_Units,,CR$51)=$E146),INDEX(Model_Inputs_Ref_Units,,CR$52)),0)","v":0},{"$f":"IFERROR(SUMPRODUCT(--(INDEX(Model_Inputs_Ref_Units,,CS$51)=$E146),INDEX(Model_Inputs_Ref_Units,,CS$52)),0)","v":0},{"$f":"IFERROR(SUMPRODUCT(--(INDEX(Model_Inputs_Ref_Units,,CT$51)=$E146),INDEX(Model_Inputs_Ref_Units,,CT$52)),0)","v":0},{"$f":"IFERROR(SUMPRODUCT(--(INDEX(Model_Inputs_Ref_Units,,CU$51)=$E146),INDEX(Model_Inputs_Ref_Units,,CU$52)),0)","v":0},{"$f":"IFERROR(SUMPRODUCT(--(INDEX(Model_Inputs_Ref_Units,,CV$51)=$E146),INDEX(Model_Inputs_Ref_Units,,CV$52)),0)","v":0},{"$f":"IFERROR(SUMPRODUCT(--(INDEX(Model_Inputs_Ref_Units,,CW$51)=$E146),INDEX(Model_Inputs_Ref_Units,,CW$52)),0)","v":0},{"$f":"IFERROR(SUMPRODUCT(--(INDEX(Model_Inputs_Ref_Units,,CX$51)=$E146),INDEX(Model_Inputs_Ref_Units,,CX$52)),0)","v":0},{"$f":"IFERROR(SUMPRODUCT(--(INDEX(Model_Inputs_Ref_Units,,CY$51)=$E146),INDEX(Model_Inputs_Ref_Units,,CY$52)),0)","v":0},{"$f":"IFERROR(SUMPRODUCT(--(INDEX(Model_Inputs_Ref_Units,,CZ$51)=$E146),INDEX(Model_Inputs_Ref_Units,,CZ$52)),0)","v":0},{"$f":"IFERROR(SUMPRODUCT(--(INDEX(Model_Inputs_Ref_Units,,DA$51)=$E146),INDEX(Model_Inputs_Ref_Units,,DA$52)),0)","v":0},{"$f":"IFERROR(SUMPRODUCT(--(INDEX(Model_Inputs_Ref_Units,,DB$51)=$E146),INDEX(Model_Inputs_Ref_Units,,DB$52)),0)","v":0},{"$f":"IFERROR(SUMPRODUCT(--(INDEX(Model_Inputs_Ref_Units,,DC$51)=$E146),INDEX(Model_Inputs_Ref_Units,,DC$52)),0)","v":0},{"$f":"IFERROR(SUMPRODUCT(--(INDEX(Model_Inputs_Ref_Units,,DD$51)=$E146),INDEX(Model_Inputs_Ref_Units,,DD$52)),0)","v":0},{"$f":"IFERROR(SUMPRODUCT(--(INDEX(Model_Inputs_Ref_Units,,DE$51)=$E146),INDEX(Model_Inputs_Ref_Units,,DE$52)),0)","v":0},{"$f":"IFERROR(SUMPRODUCT(--(INDEX(Model_Inputs_Ref_Units,,DF$51)=$E146),INDEX(Model_Inputs_Ref_Units,,DF$52)),0)","v":0}]
[null,null,{"$error":"#DIV/0!"},null,{"$f":"IFERROR(INDEX(Ref_Data,1,F147),\"\")","v":""},94,0,0,0,0,{"$f":"IFERROR(SUMPRODUCT(--(INDEX(Model_Inputs_Ref_Units,,K$51)=$E147),INDEX(Model_Inputs_Ref_Units,,K$52)),0)","v":0},{"$f":"IFERROR(SUMPRODUCT(--(INDEX(Model_Inputs_Ref_Units,,L$51)=$E147),INDEX(Model_Inputs_Ref_Units,,L$52)),0)","v":0},{"$f":"IFERROR(SUMPRODUCT(--(INDEX(Model_Inputs_Ref_Units,,M$51)=$E147),INDEX(Model_Inputs_Ref_Units,,M$52)),0)","v":0},{"$f":"IFERROR(SUMPRODUCT(--(INDEX(Model_Inputs_Ref_Units,,N$51)=$E147),INDEX(Model_Inputs_Ref_Units,,N$52)),0)","v":0},{"$f":"IFERROR(SUMPRODUCT(--(INDEX(Model_Inputs_Ref_Units,,O$51)=$E147),INDEX(Model_Inputs_Ref_Units,,O$52)),0)","v":0},{"$f":"IFERROR(SUMPRODUCT(--(INDEX(Model_Inputs_Ref_Units,,P$51)=$E147),INDEX(Model_Inputs_Ref_Units,,P$52)),0)","v":0},{"$f":"IFERROR(SUMPRODUCT(--(INDEX(Model_Inputs_Ref_Units,,Q$51)=$E147),INDEX(Model_Inputs_Ref_Units,,Q$52)),0)","v":0},{"$f":"IFERROR(SUMPRODUCT(--(INDEX(Model_Inputs_Ref_Units,,R$51)=$E147),INDEX(Model_Inputs_Ref_Units,,R$52)),0)","v":0},{"$f":"IFERROR(SUMPRODUCT(--(INDEX(Model_Inputs_Ref_Units,,S$51)=$E147),INDEX(Model_Inputs_Ref_Units,,S$52)),0)","v":0},{"$f":"IFERROR(SUMPRODUCT(--(INDEX(Model_Inputs_Ref_Units,,T$51)=$E147),INDEX(Model_Inputs_Ref_Units,,T$52)),0)","v":0},{"$f":"IFERROR(SUMPRODUCT(--(INDEX(Model_Inputs_Ref_Units,,U$51)=$E147),INDEX(Model_Inputs_Ref_Units,,U$52)),0)","v":0},{"$f":"IFERROR(SUMPRODUCT(--(INDEX(Model_Inputs_Ref_Units,,V$51)=$E147),INDEX(Model_Inputs_Ref_Units,,V$52)),0)","v":0},{"$f":"IFERROR(SUMPRODUCT(--(INDEX(Model_Inputs_Ref_Units,,W$51)=$E147),INDEX(Model_Inputs_Ref_Units,,W$52)),0)","v":0},{"$f":"IFERROR(SUMPRODUCT(--(INDEX(Model_Inputs_Ref_Units,,X$51)=$E147),INDEX(Model_Inputs_Ref_Units,,X$52)),0)","v":0},{"$f":"IFERROR(SUMPRODUCT(--(INDEX(Model_Inputs_Ref_Units,,Y$51)=$E147),INDEX(Model_Inputs_Ref_Units,,Y$52)),0)","v":0},{"$f":"IFERROR(SUMPRODUCT(--(INDEX(Model_Inputs_Ref_Units,,Z$51)=$E147),INDEX(Model_Inputs_Ref_Units,,Z$52)),0)","v":0},{"$f":"IFERROR(SUMPRODUCT(--(INDEX(Model_Inputs_Ref_Units,,AA$51)=$E147),INDEX(Model_Inputs_Ref_Units,,AA$52)),0)","v":0},{"$f":"IFERROR(SUMPRODUCT(--(INDEX(Model_Inputs_Ref_Units,,AB$51)=$E147),INDEX(Model_Inputs_Ref_Units,,AB$52)),0)","v":0},{"$f":"IFERROR(SUMPRODUCT(--(INDEX(Model_Inputs_Ref_Units,,AC$51)=$E147),INDEX(Model_Inputs_Ref_Units,,AC$52)),0)","v":0},{"$f":"IFERROR(SUMPRODUCT(--(INDEX(Model_Inputs_Ref_Units,,AD$51)=$E147),INDEX(Model_Inputs_Ref_Units,,AD$52)),0)","v":0},{"$f":"IFERROR(SUMPRODUCT(--(INDEX(Model_Inputs_Ref_Units,,AE$51)=$E147),INDEX(Model_Inputs_Ref_Units,,AE$52)),0)","v":0},{"$f":"IFERROR(SUMPRODUCT(--(INDEX(Model_Inputs_Ref_Units,,AF$51)=$E147),INDEX(Model_Inputs_Ref_Units,,AF$52)),0)","v":0},{"$f":"IFERROR(SUMPRODUCT(--(INDEX(Model_Inputs_Ref_Units,,AG$51)=$E147),INDEX(Model_Inputs_Ref_Units,,AG$52)),0)","v":0},{"$f":"IFERROR(SUMPRODUCT(--(INDEX(Model_Inputs_Ref_Units,,AH$51)=$E147),INDEX(Model_Inputs_Ref_Units,,AH$52)),0)","v":0},{"$f":"IFERROR(SUMPRODUCT(--(INDEX(Model_Inputs_Ref_Units,,AI$51)=$E147),INDEX(Model_Inputs_Ref_Units,,AI$52)),0)","v":0},{"$f":"IFERROR(SUMPRODUCT(--(INDEX(Model_Inputs_Ref_Units,,AJ$51)=$E147),INDEX(Model_Inputs_Ref_Units,,AJ$52)),0)","v":0},{"$f":"IFERROR(SUMPRODUCT(--(INDEX(Model_Inputs_Ref_Units,,AK$51)=$E147),INDEX(Model_Inputs_Ref_Units,,AK$52)),0)","v":0},{"$f":"IFERROR(SUMPRODUCT(--(INDEX(Model_Inputs_Ref_Units,,AL$51)=$E147),INDEX(Model_Inputs_Ref_Units,,AL$52)),0)","v":0},{"$f":"IFERROR(SUMPRODUCT(--(INDEX(Model_Inputs_Ref_Units,,AM$51)=$E147),INDEX(Model_Inputs_Ref_Units,,AM$52)),0)","v":0},{"$f":"IFERROR(SUMPRODUCT(--(INDEX(Model_Inputs_Ref_Units,,AN$51)=$E147),INDEX(Model_Inputs_Ref_Units,,AN$52)),0)","v":0},{"$f":"IFERROR(SUMPRODUCT(--(INDEX(Model_Inputs_Ref_Units,,AO$51)=$E147),INDEX(Model_Inputs_Ref_Units,,AO$52)),0)","v":0},{"$f":"IFERROR(SUMPRODUCT(--(INDEX(Model_Inputs_Ref_Units,,AP$51)=$E147),INDEX(Model_Inputs_Ref_Units,,AP$52)),0)","v":0},{"$f":"IFERROR(SUMPRODUCT(--(INDEX(Model_Inputs_Ref_Units,,AQ$51)=$E147),INDEX(Model_Inputs_Ref_Units,,AQ$52)),0)","v":0},{"$f":"IFERROR(SUMPRODUCT(--(INDEX(Model_Inputs_Ref_Units,,AR$51)=$E147),INDEX(Model_Inputs_Ref_Units,,AR$52)),0)","v":0},{"$f":"IFERROR(SUMPRODUCT(--(INDEX(Model_Inputs_Ref_Units,,AS$51)=$E147),INDEX(Model_Inputs_Ref_Units,,AS$52)),0)","v":0},{"$f":"IFERROR(SUMPRODUCT(--(INDEX(Model_Inputs_Ref_Units,,AT$51)=$E147),INDEX(Model_Inputs_Ref_Units,,AT$52)),0)","v":0},{"$f":"IFERROR(SUMPRODUCT(--(INDEX(Model_Inputs_Ref_Units,,AU$51)=$E147),INDEX(Model_Inputs_Ref_Units,,AU$52)),0)","v":0},{"$f":"IFERROR(SUMPRODUCT(--(INDEX(Model_Inputs_Ref_Units,,AV$51)=$E147),INDEX(Model_Inputs_Ref_Units,,AV$52)),0)","v":0},{"$f":"IFERROR(SUMPRODUCT(--(INDEX(Model_Inputs_Ref_Units,,AW$51)=$E147),INDEX(Model_Inputs_Ref_Units,,AW$52)),0)","v":0},{"$f":"IFERROR(SUMPRODUCT(--(INDEX(Model_Inputs_Ref_Units,,AX$51)=$E147),INDEX(Model_Inputs_Ref_Units,,AX$52)),0)","v":0},{"$f":"IFERROR(SUMPRODUCT(--(INDEX(Model_Inputs_Ref_Units,,AY$51)=$E147),INDEX(Model_Inputs_Ref_Units,,AY$52)),0)","v":0},{"$f":"IFERROR(SUMPRODUCT(--(INDEX(Model_Inputs_Ref_Units,,AZ$51)=$E147),INDEX(Model_Inputs_Ref_Units,,AZ$52)),0)","v":0},{"$f":"IFERROR(SUMPRODUCT(--(INDEX(Model_Inputs_Ref_Units,,BA$51)=$E147),INDEX(Model_Inputs_Ref_Units,,BA$52)),0)","v":0},{"$f":"IFERROR(SUMPRODUCT(--(INDEX(Model_Inputs_Ref_Units,,BB$51)=$E147),INDEX(Model_Inputs_Ref_Units,,BB$52)),0)","v":0},{"$f":"IFERROR(SUMPRODUCT(--(INDEX(Model_Inputs_Ref_Units,,BC$51)=$E147),INDEX(Model_Inputs_Ref_Units,,BC$52)),0)","v":0},{"$f":"IFERROR(SUMPRODUCT(--(INDEX(Model_Inputs_Ref_Units,,BD$51)=$E147),INDEX(Model_Inputs_Ref_Units,,BD$52)),0)","v":0},{"$f":"IFERROR(SUMPRODUCT(--(INDEX(Model_Inputs_Ref_Units,,BE$51)=$E147),INDEX(Model_Inputs_Ref_Units,,BE$52)),0)","v":0},{"$f":"IFERROR(SUMPRODUCT(--(INDEX(Model_Inputs_Ref_Units,,BF$51)=$E147),INDEX(Model_Inputs_Ref_Units,,BF$52)),0)","v":0},{"$f":"IFERROR(SUMPRODUCT(--(INDEX(Model_Inputs_Ref_Units,,BG$51)=$E147),INDEX(Model_Inputs_Ref_Units,,BG$52)),0)","v":0},{"$f":"IFERROR(SUMPRODUCT(--(INDEX(Model_Inputs_Ref_Units,,BH$51)=$E147),INDEX(Model_Inputs_Ref_Units,,BH$52)),0)","v":0},{"$f":"IFERROR(SUMPRODUCT(--(INDEX(Model_Inputs_Ref_Units,,BI$51)=$E147),INDEX(Model_Inputs_Ref_Units,,BI$52)),0)","v":0},{"$f":"IFERROR(SUMPRODUCT(--(INDEX(Model_Inputs_Ref_Units,,BJ$51)=$E147),INDEX(Model_Inputs_Ref_Units,,BJ$52)),0)","v":0},{"$f":"IFERROR(SUMPRODUCT(--(INDEX(Model_Inputs_Ref_Units,,BK$51)=$E147),INDEX(Model_Inputs_Ref_Units,,BK$52)),0)","v":0},{"$f":"IFERROR(SUMPRODUCT(--(INDEX(Model_Inputs_Ref_Units,,BL$51)=$E147),INDEX(Model_Inputs_Ref_Units,,BL$52)),0)","v":0},{"$f":"IFERROR(SUMPRODUCT(--(INDEX(Model_Inputs_Ref_Units,,BM$51)=$E147),INDEX(Model_Inputs_Ref_Units,,BM$52)),0)","v":0},{"$f":"IFERROR(SUMPRODUCT(--(INDEX(Model_Inputs_Ref_Units,,BN$51)=$E147),INDEX(Model_Inputs_Ref_Units,,BN$52)),0)","v":0},{"$f":"IFERROR(SUMPRODUCT(--(INDEX(Model_Inputs_Ref_Units,,BO$51)=$E147),INDEX(Model_Inputs_Ref_Units,,BO$52)),0)","v":0},{"$f":"IFERROR(SUMPRODUCT(--(INDEX(Model_Inputs_Ref_Units,,BP$51)=$E147),INDEX(Model_Inputs_Ref_Units,,BP$52)),0)","v":0},{"$f":"IFERROR(SUMPRODUCT(--(INDEX(Model_Inputs_Ref_Units,,BQ$51)=$E147),INDEX(Model_Inputs_Ref_Units,,BQ$52)),0)","v":0},{"$f":"IFERROR(SUMPRODUCT(--(INDEX(Model_Inputs_Ref_Units,,BR$51)=$E147),INDEX(Model_Inputs_Ref_Units,,BR$52)),0)","v":0},{"$f":"IFERROR(SUMPRODUCT(--(INDEX(Model_Inputs_Ref_Units,,BS$51)=$E147),INDEX(Model_Inputs_Ref_Units,,BS$52)),0)","v":0},{"$f":"IFERROR(SUMPRODUCT(--(INDEX(Model_Inputs_Ref_Units,,BT$51)=$E147),INDEX(Model_Inputs_Ref_Units,,BT$52)),0)","v":0},{"$f":"IFERROR(SUMPRODUCT(--(INDEX(Model_Inputs_Ref_Units,,BU$51)=$E147),INDEX(Model_Inputs_Ref_Units,,BU$52)),0)","v":0},{"$f":"IFERROR(SUMPRODUCT(--(INDEX(Model_Inputs_Ref_Units,,BV$51)=$E147),INDEX(Model_Inputs_Ref_Units,,BV$52)),0)","v":0},{"$f":"IFERROR(SUMPRODUCT(--(INDEX(Model_Inputs_Ref_Units,,BW$51)=$E147),INDEX(Model_Inputs_Ref_Units,,BW$52)),0)","v":0},{"$f":"IFERROR(SUMPRODUCT(--(INDEX(Model_Inputs_Ref_Units,,BX$51)=$E147),INDEX(Model_Inputs_Ref_Units,,BX$52)),0)","v":0},{"$f":"IFERROR(SUMPRODUCT(--(INDEX(Model_Inputs_Ref_Units,,BY$51)=$E147),INDEX(Model_Inputs_Ref_Units,,BY$52)),0)","v":0},{"$f":"IFERROR(SUMPRODUCT(--(INDEX(Model_Inputs_Ref_Units,,BZ$51)=$E147),INDEX(Model_Inputs_Ref_Units,,BZ$52)),0)","v":0},{"$f":"IFERROR(SUMPRODUCT(--(INDEX(Model_Inputs_Ref_Units,,CA$51)=$E147),INDEX(Model_Inputs_Ref_Units,,CA$52)),0)","v":0},{"$f":"IFERROR(SUMPRODUCT(--(INDEX(Model_Inputs_Ref_Units,,CB$51)=$E147),INDEX(Model_Inputs_Ref_Units,,CB$52)),0)","v":0},{"$f":"IFERROR(SUMPRODUCT(--(INDEX(Model_Inputs_Ref_Units,,CC$51)=$E147),INDEX(Model_Inputs_Ref_Units,,CC$52)),0)","v":0},{"$f":"IFERROR(SUMPRODUCT(--(INDEX(Model_Inputs_Ref_Units,,CD$51)=$E147),INDEX(Model_Inputs_Ref_Units,,CD$52)),0)","v":0},{"$f":"IFERROR(SUMPRODUCT(--(INDEX(Model_Inputs_Ref_Units,,CE$51)=$E147),INDEX(Model_Inputs_Ref_Units,,CE$52)),0)","v":0},{"$f":"IFERROR(SUMPRODUCT(--(INDEX(Model_Inputs_Ref_Units,,CF$51)=$E147),INDEX(Model_Inputs_Ref_Units,,CF$52)),0)","v":0},{"$f":"IFERROR(SUMPRODUCT(--(INDEX(Model_Inputs_Ref_Units,,CG$51)=$E147),INDEX(Model_Inputs_Ref_Units,,CG$52)),0)","v":0},{"$f":"IFERROR(SUMPRODUCT(--(INDEX(Model_Inputs_Ref_Units,,CH$51)=$E147),INDEX(Model_Inputs_Ref_Units,,CH$52)),0)","v":0},{"$f":"IFERROR(SUMPRODUCT(--(INDEX(Model_Inputs_Ref_Units,,CI$51)=$E147),INDEX(Model_Inputs_Ref_Units,,CI$52)),0)","v":0},{"$f":"IFERROR(SUMPRODUCT(--(INDEX(Model_Inputs_Ref_Units,,CJ$51)=$E147),INDEX(Model_Inputs_Ref_Units,,CJ$52)),0)","v":0},{"$f":"IFERROR(SUMPRODUCT(--(INDEX(Model_Inputs_Ref_Units,,CK$51)=$E147),INDEX(Model_Inputs_Ref_Units,,CK$52)),0)","v":0},{"$f":"IFERROR(SUMPRODUCT(--(INDEX(Model_Inputs_Ref_Units,,CL$51)=$E147),INDEX(Model_Inputs_Ref_Units,,CL$52)),0)","v":0},{"$f":"IFERROR(SUMPRODUCT(--(INDEX(Model_Inputs_Ref_Units,,CM$51)=$E147),INDEX(Model_Inputs_Ref_Units,,CM$52)),0)","v":0},{"$f":"IFERROR(SUMPRODUCT(--(INDEX(Model_Inputs_Ref_Units,,CN$51)=$E147),INDEX(Model_Inputs_Ref_Units,,CN$52)),0)","v":0},{"$f":"IFERROR(SUMPRODUCT(--(INDEX(Model_Inputs_Ref_Units,,CO$51)=$E147),INDEX(Model_Inputs_Ref_Units,,CO$52)),0)","v":0},{"$f":"IFERROR(SUMPRODUCT(--(INDEX(Model_Inputs_Ref_Units,,CP$51)=$E147),INDEX(Model_Inputs_Ref_Units,,CP$52)),0)","v":0},{"$f":"IFERROR(SUMPRODUCT(--(INDEX(Model_Inputs_Ref_Units,,CQ$51)=$E147),INDEX(Model_Inputs_Ref_Units,,CQ$52)),0)","v":0},{"$f":"IFERROR(SUMPRODUCT(--(INDEX(Model_Inputs_Ref_Units,,CR$51)=$E147),INDEX(Model_Inputs_Ref_Units,,CR$52)),0)","v":0},{"$f":"IFERROR(SUMPRODUCT(--(INDEX(Model_Inputs_Ref_Units,,CS$51)=$E147),INDEX(Model_Inputs_Ref_Units,,CS$52)),0)","v":0},{"$f":"IFERROR(SUMPRODUCT(--(INDEX(Model_Inputs_Ref_Units,,CT$51)=$E147),INDEX(Model_Inputs_Ref_Units,,CT$52)),0)","v":0},{"$f":"IFERROR(SUMPRODUCT(--(INDEX(Model_Inputs_Ref_Units,,CU$51)=$E147),INDEX(Model_Inputs_Ref_Units,,CU$52)),0)","v":0},{"$f":"IFERROR(SUMPRODUCT(--(INDEX(Model_Inputs_Ref_Units,,CV$51)=$E147),INDEX(Model_Inputs_Ref_Units,,CV$52)),0)","v":0},{"$f":"IFERROR(SUMPRODUCT(--(INDEX(Model_Inputs_Ref_Units,,CW$51)=$E147),INDEX(Model_Inputs_Ref_Units,,CW$52)),0)","v":0},{"$f":"IFERROR(SUMPRODUCT(--(INDEX(Model_Inputs_Ref_Units,,CX$51)=$E147),INDEX(Model_Inputs_Ref_Units,,CX$52)),0)","v":0},{"$f":"IFERROR(SUMPRODUCT(--(INDEX(Model_Inputs_Ref_Units,,CY$51)=$E147),INDEX(Model_Inputs_Ref_Units,,CY$52)),0)","v":0},{"$f":"IFERROR(SUMPRODUCT(--(INDEX(Model_Inputs_Ref_Units,,CZ$51)=$E147),INDEX(Model_Inputs_Ref_Units,,CZ$52)),0)","v":0},{"$f":"IFERROR(SUMPRODUCT(--(INDEX(Model_Inputs_Ref_Units,,DA$51)=$E147),INDEX(Model_Inputs_Ref_Units,,DA$52)),0)","v":0},{"$f":"IFERROR(SUMPRODUCT(--(INDEX(Model_Inputs_Ref_Units,,DB$51)=$E147),INDEX(Model_Inputs_Ref_Units,,DB$52)),0)","v":0},{"$f":"IFERROR(SUMPRODUCT(--(INDEX(Model_Inputs_Ref_Units,,DC$51)=$E147),INDEX(Model_Inputs_Ref_Units,,DC$52)),0)","v":0},{"$f":"IFERROR(SUMPRODUCT(--(INDEX(Model_Inputs_Ref_Units,,DD$51)=$E147),INDEX(Model_Inputs_Ref_Units,,DD$52)),0)","v":0},{"$f":"IFERROR(SUMPRODUCT(--(INDEX(Model_Inputs_Ref_Units,,DE$51)=$E147),INDEX(Model_Inputs_Ref_Units,,DE$52)),0)","v":0},{"$f":"IFERROR(SUMPRODUCT(--(INDEX(Model_Inputs_Ref_Units,,DF$51)=$E147),INDEX(Model_Inputs_Ref_Units,,DF$52)),0)","v":0}]
[null,null,{"$error":"#DIV/0!"},null,{"$f":"IFERROR(INDEX(Ref_Data,1,F148),\"\")","v":""},95,0,0,0,0,{"$f":"IFERROR(SUMPRODUCT(--(INDEX(Model_Inputs_Ref_Units,,K$51)=$E148),INDEX(Model_Inputs_Ref_Units,,K$52)),0)","v":0},{"$f":"IFERROR(SUMPRODUCT(--(INDEX(Model_Inputs_Ref_Units,,L$51)=$E148),INDEX(Model_Inputs_Ref_Units,,L$52)),0)","v":0},{"$f":"IFERROR(SUMPRODUCT(--(INDEX(Model_Inputs_Ref_Units,,M$51)=$E148),INDEX(Model_Inputs_Ref_Units,,M$52)),0)","v":0},{"$f":"IFERROR(SUMPRODUCT(--(INDEX(Model_Inputs_Ref_Units,,N$51)=$E148),INDEX(Model_Inputs_Ref_Units,,N$52)),0)","v":0},{"$f":"IFERROR(SUMPRODUCT(--(INDEX(Model_Inputs_Ref_Units,,O$51)=$E148),INDEX(Model_Inputs_Ref_Units,,O$52)),0)","v":0},{"$f":"IFERROR(SUMPRODUCT(--(INDEX(Model_Inputs_Ref_Units,,P$51)=$E148),INDEX(Model_Inputs_Ref_Units,,P$52)),0)","v":0},{"$f":"IFERROR(SUMPRODUCT(--(INDEX(Model_Inputs_Ref_Units,,Q$51)=$E148),INDEX(Model_Inputs_Ref_Units,,Q$52)),0)","v":0},{"$f":"IFERROR(SUMPRODUCT(--(INDEX(Model_Inputs_Ref_Units,,R$51)=$E148),INDEX(Model_Inputs_Ref_Units,,R$52)),0)","v":0},{"$f":"IFERROR(SUMPRODUCT(--(INDEX(Model_Inputs_Ref_Units,,S$51)=$E148),INDEX(Model_Inputs_Ref_Units,,S$52)),0)","v":0},{"$f":"IFERROR(SUMPRODUCT(--(INDEX(Model_Inputs_Ref_Units,,T$51)=$E148),INDEX(Model_Inputs_Ref_Units,,T$52)),0)","v":0},{"$f":"IFERROR(SUMPRODUCT(--(INDEX(Model_Inputs_Ref_Units,,U$51)=$E148),INDEX(Model_Inputs_Ref_Units,,U$52)),0)","v":0},{"$f":"IFERROR(SUMPRODUCT(--(INDEX(Model_Inputs_Ref_Units,,V$51)=$E148),INDEX(Model_Inputs_Ref_Units,,V$52)),0)","v":0},{"$f":"IFERROR(SUMPRODUCT(--(INDEX(Model_Inputs_Ref_Units,,W$51)=$E148),INDEX(Model_Inputs_Ref_Units,,W$52)),0)","v":0},{"$f":"IFERROR(SUMPRODUCT(--(INDEX(Model_Inputs_Ref_Units,,X$51)=$E148),INDEX(Model_Inputs_Ref_Units,,X$52)),0)","v":0},{"$f":"IFERROR(SUMPRODUCT(--(INDEX(Model_Inputs_Ref_Units,,Y$51)=$E148),INDEX(Model_Inputs_Ref_Units,,Y$52)),0)","v":0},{"$f":"IFERROR(SUMPRODUCT(--(INDEX(Model_Inputs_Ref_Units,,Z$51)=$E148),INDEX(Model_Inputs_Ref_Units,,Z$52)),0)","v":0},{"$f":"IFERROR(SUMPRODUCT(--(INDEX(Model_Inputs_Ref_Units,,AA$51)=$E148),INDEX(Model_Inputs_Ref_Units,,AA$52)),0)","v":0},{"$f":"IFERROR(SUMPRODUCT(--(INDEX(Model_Inputs_Ref_Units,,AB$51)=$E148),INDEX(Model_Inputs_Ref_Units,,AB$52)),0)","v":0},{"$f":"IFERROR(SUMPRODUCT(--(INDEX(Model_Inputs_Ref_Units,,AC$51)=$E148),INDEX(Model_Inputs_Ref_Units,,AC$52)),0)","v":0},{"$f":"IFERROR(SUMPRODUCT(--(INDEX(Model_Inputs_Ref_Units,,AD$51)=$E148),INDEX(Model_Inputs_Ref_Units,,AD$52)),0)","v":0},{"$f":"IFERROR(SUMPRODUCT(--(INDEX(Model_Inputs_Ref_Units,,AE$51)=$E148),INDEX(Model_Inputs_Ref_Units,,AE$52)),0)","v":0},{"$f":"IFERROR(SUMPRODUCT(--(INDEX(Model_Inputs_Ref_Units,,AF$51)=$E148),INDEX(Model_Inputs_Ref_Units,,AF$52)),0)","v":0},{"$f":"IFERROR(SUMPRODUCT(--(INDEX(Model_Inputs_Ref_Units,,AG$51)=$E148),INDEX(Model_Inputs_Ref_Units,,AG$52)),0)","v":0},{"$f":"IFERROR(SUMPRODUCT(--(INDEX(Model_Inputs_Ref_Units,,AH$51)=$E148),INDEX(Model_Inputs_Ref_Units,,AH$52)),0)","v":0},{"$f":"IFERROR(SUMPRODUCT(--(INDEX(Model_Inputs_Ref_Units,,AI$51)=$E148),INDEX(Model_Inputs_Ref_Units,,AI$52)),0)","v":0},{"$f":"IFERROR(SUMPRODUCT(--(INDEX(Model_Inputs_Ref_Units,,AJ$51)=$E148),INDEX(Model_Inputs_Ref_Units,,AJ$52)),0)","v":0},{"$f":"IFERROR(SUMPRODUCT(--(INDEX(Model_Inputs_Ref_Units,,AK$51)=$E148),INDEX(Model_Inputs_Ref_Units,,AK$52)),0)","v":0},{"$f":"IFERROR(SUMPRODUCT(--(INDEX(Model_Inputs_Ref_Units,,AL$51)=$E148),INDEX(Model_Inputs_Ref_Units,,AL$52)),0)","v":0},{"$f":"IFERROR(SUMPRODUCT(--(INDEX(Model_Inputs_Ref_Units,,AM$51)=$E148),INDEX(Model_Inputs_Ref_Units,,AM$52)),0)","v":0},{"$f":"IFERROR(SUMPRODUCT(--(INDEX(Model_Inputs_Ref_Units,,AN$51)=$E148),INDEX(Model_Inputs_Ref_Units,,AN$52)),0)","v":0},{"$f":"IFERROR(SUMPRODUCT(--(INDEX(Model_Inputs_Ref_Units,,AO$51)=$E148),INDEX(Model_Inputs_Ref_Units,,AO$52)),0)","v":0},{"$f":"IFERROR(SUMPRODUCT(--(INDEX(Model_Inputs_Ref_Units,,AP$51)=$E148),INDEX(Model_Inputs_Ref_Units,,AP$52)),0)","v":0},{"$f":"IFERROR(SUMPRODUCT(--(INDEX(Model_Inputs_Ref_Units,,AQ$51)=$E148),INDEX(Model_Inputs_Ref_Units,,AQ$52)),0)","v":0},{"$f":"IFERROR(SUMPRODUCT(--(INDEX(Model_Inputs_Ref_Units,,AR$51)=$E148),INDEX(Model_Inputs_Ref_Units,,AR$52)),0)","v":0},{"$f":"IFERROR(SUMPRODUCT(--(INDEX(Model_Inputs_Ref_Units,,AS$51)=$E148),INDEX(Model_Inputs_Ref_Units,,AS$52)),0)","v":0},{"$f":"IFERROR(SUMPRODUCT(--(INDEX(Model_Inputs_Ref_Units,,AT$51)=$E148),INDEX(Model_Inputs_Ref_Units,,AT$52)),0)","v":0},{"$f":"IFERROR(SUMPRODUCT(--(INDEX(Model_Inputs_Ref_Units,,AU$51)=$E148),INDEX(Model_Inputs_Ref_Units,,AU$52)),0)","v":0},{"$f":"IFERROR(SUMPRODUCT(--(INDEX(Model_Inputs_Ref_Units,,AV$51)=$E148),INDEX(Model_Inputs_Ref_Units,,AV$52)),0)","v":0},{"$f":"IFERROR(SUMPRODUCT(--(INDEX(Model_Inputs_Ref_Units,,AW$51)=$E148),INDEX(Model_Inputs_Ref_Units,,AW$52)),0)","v":0},{"$f":"IFERROR(SUMPRODUCT(--(INDEX(Model_Inputs_Ref_Units,,AX$51)=$E148),INDEX(Model_Inputs_Ref_Units,,AX$52)),0)","v":0},{"$f":"IFERROR(SUMPRODUCT(--(INDEX(Model_Inputs_Ref_Units,,AY$51)=$E148),INDEX(Model_Inputs_Ref_Units,,AY$52)),0)","v":0},{"$f":"IFERROR(SUMPRODUCT(--(INDEX(Model_Inputs_Ref_Units,,AZ$51)=$E148),INDEX(Model_Inputs_Ref_Units,,AZ$52)),0)","v":0},{"$f":"IFERROR(SUMPRODUCT(--(INDEX(Model_Inputs_Ref_Units,,BA$51)=$E148),INDEX(Model_Inputs_Ref_Units,,BA$52)),0)","v":0},{"$f":"IFERROR(SUMPRODUCT(--(INDEX(Model_Inputs_Ref_Units,,BB$51)=$E148),INDEX(Model_Inputs_Ref_Units,,BB$52)),0)","v":0},{"$f":"IFERROR(SUMPRODUCT(--(INDEX(Model_Inputs_Ref_Units,,BC$51)=$E148),INDEX(Model_Inputs_Ref_Units,,BC$52)),0)","v":0},{"$f":"IFERROR(SUMPRODUCT(--(INDEX(Model_Inputs_Ref_Units,,BD$51)=$E148),INDEX(Model_Inputs_Ref_Units,,BD$52)),0)","v":0},{"$f":"IFERROR(SUMPRODUCT(--(INDEX(Model_Inputs_Ref_Units,,BE$51)=$E148),INDEX(Model_Inputs_Ref_Units,,BE$52)),0)","v":0},{"$f":"IFERROR(SUMPRODUCT(--(INDEX(Model_Inputs_Ref_Units,,BF$51)=$E148),INDEX(Model_Inputs_Ref_Units,,BF$52)),0)","v":0},{"$f":"IFERROR(SUMPRODUCT(--(INDEX(Model_Inputs_Ref_Units,,BG$51)=$E148),INDEX(Model_Inputs_Ref_Units,,BG$52)),0)","v":0},{"$f":"IFERROR(SUMPRODUCT(--(INDEX(Model_Inputs_Ref_Units,,BH$51)=$E148),INDEX(Model_Inputs_Ref_Units,,BH$52)),0)","v":0},{"$f":"IFERROR(SUMPRODUCT(--(INDEX(Model_Inputs_Ref_Units,,BI$51)=$E148),INDEX(Model_Inputs_Ref_Units,,BI$52)),0)","v":0},{"$f":"IFERROR(SUMPRODUCT(--(INDEX(Model_Inputs_Ref_Units,,BJ$51)=$E148),INDEX(Model_Inputs_Ref_Units,,BJ$52)),0)","v":0},{"$f":"IFERROR(SUMPRODUCT(--(INDEX(Model_Inputs_Ref_Units,,BK$51)=$E148),INDEX(Model_Inputs_Ref_Units,,BK$52)),0)","v":0},{"$f":"IFERROR(SUMPRODUCT(--(INDEX(Model_Inputs_Ref_Units,,BL$51)=$E148),INDEX(Model_Inputs_Ref_Units,,BL$52)),0)","v":0},{"$f":"IFERROR(SUMPRODUCT(--(INDEX(Model_Inputs_Ref_Units,,BM$51)=$E148),INDEX(Model_Inputs_Ref_Units,,BM$52)),0)","v":0},{"$f":"IFERROR(SUMPRODUCT(--(INDEX(Model_Inputs_Ref_Units,,BN$51)=$E148),INDEX(Model_Inputs_Ref_Units,,BN$52)),0)","v":0},{"$f":"IFERROR(SUMPRODUCT(--(INDEX(Model_Inputs_Ref_Units,,BO$51)=$E148),INDEX(Model_Inputs_Ref_Units,,BO$52)),0)","v":0},{"$f":"IFERROR(SUMPRODUCT(--(INDEX(Model_Inputs_Ref_Units,,BP$51)=$E148),INDEX(Model_Inputs_Ref_Units,,BP$52)),0)","v":0},{"$f":"IFERROR(SUMPRODUCT(--(INDEX(Model_Inputs_Ref_Units,,BQ$51)=$E148),INDEX(Model_Inputs_Ref_Units,,BQ$52)),0)","v":0},{"$f":"IFERROR(SUMPRODUCT(--(INDEX(Model_Inputs_Ref_Units,,BR$51)=$E148),INDEX(Model_Inputs_Ref_Units,,BR$52)),0)","v":0},{"$f":"IFERROR(SUMPRODUCT(--(INDEX(Model_Inputs_Ref_Units,,BS$51)=$E148),INDEX(Model_Inputs_Ref_Units,,BS$52)),0)","v":0},{"$f":"IFERROR(SUMPRODUCT(--(INDEX(Model_Inputs_Ref_Units,,BT$51)=$E148),INDEX(Model_Inputs_Ref_Units,,BT$52)),0)","v":0},{"$f":"IFERROR(SUMPRODUCT(--(INDEX(Model_Inputs_Ref_Units,,BU$51)=$E148),INDEX(Model_Inputs_Ref_Units,,BU$52)),0)","v":0},{"$f":"IFERROR(SUMPRODUCT(--(INDEX(Model_Inputs_Ref_Units,,BV$51)=$E148),INDEX(Model_Inputs_Ref_Units,,BV$52)),0)","v":0},{"$f":"IFERROR(SUMPRODUCT(--(INDEX(Model_Inputs_Ref_Units,,BW$51)=$E148),INDEX(Model_Inputs_Ref_Units,,BW$52)),0)","v":0},{"$f":"IFERROR(SUMPRODUCT(--(INDEX(Model_Inputs_Ref_Units,,BX$51)=$E148),INDEX(Model_Inputs_Ref_Units,,BX$52)),0)","v":0},{"$f":"IFERROR(SUMPRODUCT(--(INDEX(Model_Inputs_Ref_Units,,BY$51)=$E148),INDEX(Model_Inputs_Ref_Units,,BY$52)),0)","v":0},{"$f":"IFERROR(SUMPRODUCT(--(INDEX(Model_Inputs_Ref_Units,,BZ$51)=$E148),INDEX(Model_Inputs_Ref_Units,,BZ$52)),0)","v":0},{"$f":"IFERROR(SUMPRODUCT(--(INDEX(Model_Inputs_Ref_Units,,CA$51)=$E148),INDEX(Model_Inputs_Ref_Units,,CA$52)),0)","v":0},{"$f":"IFERROR(SUMPRODUCT(--(INDEX(Model_Inputs_Ref_Units,,CB$51)=$E148),INDEX(Model_Inputs_Ref_Units,,CB$52)),0)","v":0},{"$f":"IFERROR(SUMPRODUCT(--(INDEX(Model_Inputs_Ref_Units,,CC$51)=$E148),INDEX(Model_Inputs_Ref_Units,,CC$52)),0)","v":0},{"$f":"IFERROR(SUMPRODUCT(--(INDEX(Model_Inputs_Ref_Units,,CD$51)=$E148),INDEX(Model_Inputs_Ref_Units,,CD$52)),0)","v":0},{"$f":"IFERROR(SUMPRODUCT(--(INDEX(Model_Inputs_Ref_Units,,CE$51)=$E148),INDEX(Model_Inputs_Ref_Units,,CE$52)),0)","v":0},{"$f":"IFERROR(SUMPRODUCT(--(INDEX(Model_Inputs_Ref_Units,,CF$51)=$E148),INDEX(Model_Inputs_Ref_Units,,CF$52)),0)","v":0},{"$f":"IFERROR(SUMPRODUCT(--(INDEX(Model_Inputs_Ref_Units,,CG$51)=$E148),INDEX(Model_Inputs_Ref_Units,,CG$52)),0)","v":0},{"$f":"IFERROR(SUMPRODUCT(--(INDEX(Model_Inputs_Ref_Units,,CH$51)=$E148),INDEX(Model_Inputs_Ref_Units,,CH$52)),0)","v":0},{"$f":"IFERROR(SUMPRODUCT(--(INDEX(Model_Inputs_Ref_Units,,CI$51)=$E148),INDEX(Model_Inputs_Ref_Units,,CI$52)),0)","v":0},{"$f":"IFERROR(SUMPRODUCT(--(INDEX(Model_Inputs_Ref_Units,,CJ$51)=$E148),INDEX(Model_Inputs_Ref_Units,,CJ$52)),0)","v":0},{"$f":"IFERROR(SUMPRODUCT(--(INDEX(Model_Inputs_Ref_Units,,CK$51)=$E148),INDEX(Model_Inputs_Ref_Units,,CK$52)),0)","v":0},{"$f":"IFERROR(SUMPRODUCT(--(INDEX(Model_Inputs_Ref_Units,,CL$51)=$E148),INDEX(Model_Inputs_Ref_Units,,CL$52)),0)","v":0},{"$f":"IFERROR(SUMPRODUCT(--(INDEX(Model_Inputs_Ref_Units,,CM$51)=$E148),INDEX(Model_Inputs_Ref_Units,,CM$52)),0)","v":0},{"$f":"IFERROR(SUMPRODUCT(--(INDEX(Model_Inputs_Ref_Units,,CN$51)=$E148),INDEX(Model_Inputs_Ref_Units,,CN$52)),0)","v":0},{"$f":"IFERROR(SUMPRODUCT(--(INDEX(Model_Inputs_Ref_Units,,CO$51)=$E148),INDEX(Model_Inputs_Ref_Units,,CO$52)),0)","v":0},{"$f":"IFERROR(SUMPRODUCT(--(INDEX(Model_Inputs_Ref_Units,,CP$51)=$E148),INDEX(Model_Inputs_Ref_Units,,CP$52)),0)","v":0},{"$f":"IFERROR(SUMPRODUCT(--(INDEX(Model_Inputs_Ref_Units,,CQ$51)=$E148),INDEX(Model_Inputs_Ref_Units,,CQ$52)),0)","v":0},{"$f":"IFERROR(SUMPRODUCT(--(INDEX(Model_Inputs_Ref_Units,,CR$51)=$E148),INDEX(Model_Inputs_Ref_Units,,CR$52)),0)","v":0},{"$f":"IFERROR(SUMPRODUCT(--(INDEX(Model_Inputs_Ref_Units,,CS$51)=$E148),INDEX(Model_Inputs_Ref_Units,,CS$52)),0)","v":0},{"$f":"IFERROR(SUMPRODUCT(--(INDEX(Model_Inputs_Ref_Units,,CT$51)=$E148),INDEX(Model_Inputs_Ref_Units,,CT$52)),0)","v":0},{"$f":"IFERROR(SUMPRODUCT(--(INDEX(Model_Inputs_Ref_Units,,CU$51)=$E148),INDEX(Model_Inputs_Ref_Units,,CU$52)),0)","v":0},{"$f":"IFERROR(SUMPRODUCT(--(INDEX(Model_Inputs_Ref_Units,,CV$51)=$E148),INDEX(Model_Inputs_Ref_Units,,CV$52)),0)","v":0},{"$f":"IFERROR(SUMPRODUCT(--(INDEX(Model_Inputs_Ref_Units,,CW$51)=$E148),INDEX(Model_Inputs_Ref_Units,,CW$52)),0)","v":0},{"$f":"IFERROR(SUMPRODUCT(--(INDEX(Model_Inputs_Ref_Units,,CX$51)=$E148),INDEX(Model_Inputs_Ref_Units,,CX$52)),0)","v":0},{"$f":"IFERROR(SUMPRODUCT(--(INDEX(Model_Inputs_Ref_Units,,CY$51)=$E148),INDEX(Model_Inputs_Ref_Units,,CY$52)),0)","v":0},{"$f":"IFERROR(SUMPRODUCT(--(INDEX(Model_Inputs_Ref_Units,,CZ$51)=$E148),INDEX(Model_Inputs_Ref_Units,,CZ$52)),0)","v":0},{"$f":"IFERROR(SUMPRODUCT(--(INDEX(Model_Inputs_Ref_Units,,DA$51)=$E148),INDEX(Model_Inputs_Ref_Units,,DA$52)),0)","v":0},{"$f":"IFERROR(SUMPRODUCT(--(INDEX(Model_Inputs_Ref_Units,,DB$51)=$E148),INDEX(Model_Inputs_Ref_Units,,DB$52)),0)","v":0},{"$f":"IFERROR(SUMPRODUCT(--(INDEX(Model_Inputs_Ref_Units,,DC$51)=$E148),INDEX(Model_Inputs_Ref_Units,,DC$52)),0)","v":0},{"$f":"IFERROR(SUMPRODUCT(--(INDEX(Model_Inputs_Ref_Units,,DD$51)=$E148),INDEX(Model_Inputs_Ref_Units,,DD$52)),0)","v":0},{"$f":"IFERROR(SUMPRODUCT(--(INDEX(Model_Inputs_Ref_Units,,DE$51)=$E148),INDEX(Model_Inputs_Ref_Units,,DE$52)),0)","v":0},{"$f":"IFERROR(SUMPRODUCT(--(INDEX(Model_Inputs_Ref_Units,,DF$51)=$E148),INDEX(Model_Inputs_Ref_Units,,DF$52)),0)","v":0}]
[null,null,{"$error":"#DIV/0!"},null,{"$f":"IFERROR(INDEX(Ref_Data,1,F149),\"\")","v":""},96,0,0,0,0,{"$f":"IFERROR(SUMPRODUCT(--(INDEX(Model_Inputs_Ref_Units,,K$51)=$E149),INDEX(Model_Inputs_Ref_Units,,K$52)),0)","v":0},{"$f":"IFERROR(SUMPRODUCT(--(INDEX(Model_Inputs_Ref_Units,,L$51)=$E149),INDEX(Model_Inputs_Ref_Units,,L$52)),0)","v":0},{"$f":"IFERROR(SUMPRODUCT(--(INDEX(Model_Inputs_Ref_Units,,M$51)=$E149),INDEX(Model_Inputs_Ref_Units,,M$52)),0)","v":0},{"$f":"IFERROR(SUMPRODUCT(--(INDEX(Model_Inputs_Ref_Units,,N$51)=$E149),INDEX(Model_Inputs_Ref_Units,,N$52)),0)","v":0},{"$f":"IFERROR(SUMPRODUCT(--(INDEX(Model_Inputs_Ref_Units,,O$51)=$E149),INDEX(Model_Inputs_Ref_Units,,O$52)),0)","v":0},{"$f":"IFERROR(SUMPRODUCT(--(INDEX(Model_Inputs_Ref_Units,,P$51)=$E149),INDEX(Model_Inputs_Ref_Units,,P$52)),0)","v":0},{"$f":"IFERROR(SUMPRODUCT(--(INDEX(Model_Inputs_Ref_Units,,Q$51)=$E149),INDEX(Model_Inputs_Ref_Units,,Q$52)),0)","v":0},{"$f":"IFERROR(SUMPRODUCT(--(INDEX(Model_Inputs_Ref_Units,,R$51)=$E149),INDEX(Model_Inputs_Ref_Units,,R$52)),0)","v":0},{"$f":"IFERROR(SUMPRODUCT(--(INDEX(Model_Inputs_Ref_Units,,S$51)=$E149),INDEX(Model_Inputs_Ref_Units,,S$52)),0)","v":0},{"$f":"IFERROR(SUMPRODUCT(--(INDEX(Model_Inputs_Ref_Units,,T$51)=$E149),INDEX(Model_Inputs_Ref_Units,,T$52)),0)","v":0},{"$f":"IFERROR(SUMPRODUCT(--(INDEX(Model_Inputs_Ref_Units,,U$51)=$E149),INDEX(Model_Inputs_Ref_Units,,U$52)),0)","v":0},{"$f":"IFERROR(SUMPRODUCT(--(INDEX(Model_Inputs_Ref_Units,,V$51)=$E149),INDEX(Model_Inputs_Ref_Units,,V$52)),0)","v":0},{"$f":"IFERROR(SUMPRODUCT(--(INDEX(Model_Inputs_Ref_Units,,W$51)=$E149),INDEX(Model_Inputs_Ref_Units,,W$52)),0)","v":0},{"$f":"IFERROR(SUMPRODUCT(--(INDEX(Model_Inputs_Ref_Units,,X$51)=$E149),INDEX(Model_Inputs_Ref_Units,,X$52)),0)","v":0},{"$f":"IFERROR(SUMPRODUCT(--(INDEX(Model_Inputs_Ref_Units,,Y$51)=$E149),INDEX(Model_Inputs_Ref_Units,,Y$52)),0)","v":0},{"$f":"IFERROR(SUMPRODUCT(--(INDEX(Model_Inputs_Ref_Units,,Z$51)=$E149),INDEX(Model_Inputs_Ref_Units,,Z$52)),0)","v":0},{"$f":"IFERROR(SUMPRODUCT(--(INDEX(Model_Inputs_Ref_Units,,AA$51)=$E149),INDEX(Model_Inputs_Ref_Units,,AA$52)),0)","v":0},{"$f":"IFERROR(SUMPRODUCT(--(INDEX(Model_Inputs_Ref_Units,,AB$51)=$E149),INDEX(Model_Inputs_Ref_Units,,AB$52)),0)","v":0},{"$f":"IFERROR(SUMPRODUCT(--(INDEX(Model_Inputs_Ref_Units,,AC$51)=$E149),INDEX(Model_Inputs_Ref_Units,,AC$52)),0)","v":0},{"$f":"IFERROR(SUMPRODUCT(--(INDEX(Model_Inputs_Ref_Units,,AD$51)=$E149),INDEX(Model_Inputs_Ref_Units,,AD$52)),0)","v":0},{"$f":"IFERROR(SUMPRODUCT(--(INDEX(Model_Inputs_Ref_Units,,AE$51)=$E149),INDEX(Model_Inputs_Ref_Units,,AE$52)),0)","v":0},{"$f":"IFERROR(SUMPRODUCT(--(INDEX(Model_Inputs_Ref_Units,,AF$51)=$E149),INDEX(Model_Inputs_Ref_Units,,AF$52)),0)","v":0},{"$f":"IFERROR(SUMPRODUCT(--(INDEX(Model_Inputs_Ref_Units,,AG$51)=$E149),INDEX(Model_Inputs_Ref_Units,,AG$52)),0)","v":0},{"$f":"IFERROR(SUMPRODUCT(--(INDEX(Model_Inputs_Ref_Units,,AH$51)=$E149),INDEX(Model_Inputs_Ref_Units,,AH$52)),0)","v":0},{"$f":"IFERROR(SUMPRODUCT(--(INDEX(Model_Inputs_Ref_Units,,AI$51)=$E149),INDEX(Model_Inputs_Ref_Units,,AI$52)),0)","v":0},{"$f":"IFERROR(SUMPRODUCT(--(INDEX(Model_Inputs_Ref_Units,,AJ$51)=$E149),INDEX(Model_Inputs_Ref_Units,,AJ$52)),0)","v":0},{"$f":"IFERROR(SUMPRODUCT(--(INDEX(Model_Inputs_Ref_Units,,AK$51)=$E149),INDEX(Model_Inputs_Ref_Units,,AK$52)),0)","v":0},{"$f":"IFERROR(SUMPRODUCT(--(INDEX(Model_Inputs_Ref_Units,,AL$51)=$E149),INDEX(Model_Inputs_Ref_Units,,AL$52)),0)","v":0},{"$f":"IFERROR(SUMPRODUCT(--(INDEX(Model_Inputs_Ref_Units,,AM$51)=$E149),INDEX(Model_Inputs_Ref_Units,,AM$52)),0)","v":0},{"$f":"IFERROR(SUMPRODUCT(--(INDEX(Model_Inputs_Ref_Units,,AN$51)=$E149),INDEX(Model_Inputs_Ref_Units,,AN$52)),0)","v":0},{"$f":"IFERROR(SUMPRODUCT(--(INDEX(Model_Inputs_Ref_Units,,AO$51)=$E149),INDEX(Model_Inputs_Ref_Units,,AO$52)),0)","v":0},{"$f":"IFERROR(SUMPRODUCT(--(INDEX(Model_Inputs_Ref_Units,,AP$51)=$E149),INDEX(Model_Inputs_Ref_Units,,AP$52)),0)","v":0},{"$f":"IFERROR(SUMPRODUCT(--(INDEX(Model_Inputs_Ref_Units,,AQ$51)=$E149),INDEX(Model_Inputs_Ref_Units,,AQ$52)),0)","v":0},{"$f":"IFERROR(SUMPRODUCT(--(INDEX(Model_Inputs_Ref_Units,,AR$51)=$E149),INDEX(Model_Inputs_Ref_Units,,AR$52)),0)","v":0},{"$f":"IFERROR(SUMPRODUCT(--(INDEX(Model_Inputs_Ref_Units,,AS$51)=$E149),INDEX(Model_Inputs_Ref_Units,,AS$52)),0)","v":0},{"$f":"IFERROR(SUMPRODUCT(--(INDEX(Model_Inputs_Ref_Units,,AT$51)=$E149),INDEX(Model_Inputs_Ref_Units,,AT$52)),0)","v":0},{"$f":"IFERROR(SUMPRODUCT(--(INDEX(Model_Inputs_Ref_Units,,AU$51)=$E149),INDEX(Model_Inputs_Ref_Units,,AU$52)),0)","v":0},{"$f":"IFERROR(SUMPRODUCT(--(INDEX(Model_Inputs_Ref_Units,,AV$51)=$E149),INDEX(Model_Inputs_Ref_Units,,AV$52)),0)","v":0},{"$f":"IFERROR(SUMPRODUCT(--(INDEX(Model_Inputs_Ref_Units,,AW$51)=$E149),INDEX(Model_Inputs_Ref_Units,,AW$52)),0)","v":0},{"$f":"IFERROR(SUMPRODUCT(--(INDEX(Model_Inputs_Ref_Units,,AX$51)=$E149),INDEX(Model_Inputs_Ref_Units,,AX$52)),0)","v":0},{"$f":"IFERROR(SUMPRODUCT(--(INDEX(Model_Inputs_Ref_Units,,AY$51)=$E149),INDEX(Model_Inputs_Ref_Units,,AY$52)),0)","v":0},{"$f":"IFERROR(SUMPRODUCT(--(INDEX(Model_Inputs_Ref_Units,,AZ$51)=$E149),INDEX(Model_Inputs_Ref_Units,,AZ$52)),0)","v":0},{"$f":"IFERROR(SUMPRODUCT(--(INDEX(Model_Inputs_Ref_Units,,BA$51)=$E149),INDEX(Model_Inputs_Ref_Units,,BA$52)),0)","v":0},{"$f":"IFERROR(SUMPRODUCT(--(INDEX(Model_Inputs_Ref_Units,,BB$51)=$E149),INDEX(Model_Inputs_Ref_Units,,BB$52)),0)","v":0},{"$f":"IFERROR(SUMPRODUCT(--(INDEX(Model_Inputs_Ref_Units,,BC$51)=$E149),INDEX(Model_Inputs_Ref_Units,,BC$52)),0)","v":0},{"$f":"IFERROR(SUMPRODUCT(--(INDEX(Model_Inputs_Ref_Units,,BD$51)=$E149),INDEX(Model_Inputs_Ref_Units,,BD$52)),0)","v":0},{"$f":"IFERROR(SUMPRODUCT(--(INDEX(Model_Inputs_Ref_Units,,BE$51)=$E149),INDEX(Model_Inputs_Ref_Units,,BE$52)),0)","v":0},{"$f":"IFERROR(SUMPRODUCT(--(INDEX(Model_Inputs_Ref_Units,,BF$51)=$E149),INDEX(Model_Inputs_Ref_Units,,BF$52)),0)","v":0},{"$f":"IFERROR(SUMPRODUCT(--(INDEX(Model_Inputs_Ref_Units,,BG$51)=$E149),INDEX(Model_Inputs_Ref_Units,,BG$52)),0)","v":0},{"$f":"IFERROR(SUMPRODUCT(--(INDEX(Model_Inputs_Ref_Units,,BH$51)=$E149),INDEX(Model_Inputs_Ref_Units,,BH$52)),0)","v":0},{"$f":"IFERROR(SUMPRODUCT(--(INDEX(Model_Inputs_Ref_Units,,BI$51)=$E149),INDEX(Model_Inputs_Ref_Units,,BI$52)),0)","v":0},{"$f":"IFERROR(SUMPRODUCT(--(INDEX(Model_Inputs_Ref_Units,,BJ$51)=$E149),INDEX(Model_Inputs_Ref_Units,,BJ$52)),0)","v":0},{"$f":"IFERROR(SUMPRODUCT(--(INDEX(Model_Inputs_Ref_Units,,BK$51)=$E149),INDEX(Model_Inputs_Ref_Units,,BK$52)),0)","v":0},{"$f":"IFERROR(SUMPRODUCT(--(INDEX(Model_Inputs_Ref_Units,,BL$51)=$E149),INDEX(Model_Inputs_Ref_Units,,BL$52)),0)","v":0},{"$f":"IFERROR(SUMPRODUCT(--(INDEX(Model_Inputs_Ref_Units,,BM$51)=$E149),INDEX(Model_Inputs_Ref_Units,,BM$52)),0)","v":0},{"$f":"IFERROR(SUMPRODUCT(--(INDEX(Model_Inputs_Ref_Units,,BN$51)=$E149),INDEX(Model_Inputs_Ref_Units,,BN$52)),0)","v":0},{"$f":"IFERROR(SUMPRODUCT(--(INDEX(Model_Inputs_Ref_Units,,BO$51)=$E149),INDEX(Model_Inputs_Ref_Units,,BO$52)),0)","v":0},{"$f":"IFERROR(SUMPRODUCT(--(INDEX(Model_Inputs_Ref_Units,,BP$51)=$E149),INDEX(Model_Inputs_Ref_Units,,BP$52)),0)","v":0},{"$f":"IFERROR(SUMPRODUCT(--(INDEX(Model_Inputs_Ref_Units,,BQ$51)=$E149),INDEX(Model_Inputs_Ref_Units,,BQ$52)),0)","v":0},{"$f":"IFERROR(SUMPRODUCT(--(INDEX(Model_Inputs_Ref_Units,,BR$51)=$E149),INDEX(Model_Inputs_Ref_Units,,BR$52)),0)","v":0},{"$f":"IFERROR(SUMPRODUCT(--(INDEX(Model_Inputs_Ref_Units,,BS$51)=$E149),INDEX(Model_Inputs_Ref_Units,,BS$52)),0)","v":0},{"$f":"IFERROR(SUMPRODUCT(--(INDEX(Model_Inputs_Ref_Units,,BT$51)=$E149),INDEX(Model_Inputs_Ref_Units,,BT$52)),0)","v":0},{"$f":"IFERROR(SUMPRODUCT(--(INDEX(Model_Inputs_Ref_Units,,BU$51)=$E149),INDEX(Model_Inputs_Ref_Units,,BU$52)),0)","v":0},{"$f":"IFERROR(SUMPRODUCT(--(INDEX(Model_Inputs_Ref_Units,,BV$51)=$E149),INDEX(Model_Inputs_Ref_Units,,BV$52)),0)","v":0},{"$f":"IFERROR(SUMPRODUCT(--(INDEX(Model_Inputs_Ref_Units,,BW$51)=$E149),INDEX(Model_Inputs_Ref_Units,,BW$52)),0)","v":0},{"$f":"IFERROR(SUMPRODUCT(--(INDEX(Model_Inputs_Ref_Units,,BX$51)=$E149),INDEX(Model_Inputs_Ref_Units,,BX$52)),0)","v":0},{"$f":"IFERROR(SUMPRODUCT(--(INDEX(Model_Inputs_Ref_Units,,BY$51)=$E149),INDEX(Model_Inputs_Ref_Units,,BY$52)),0)","v":0},{"$f":"IFERROR(SUMPRODUCT(--(INDEX(Model_Inputs_Ref_Units,,BZ$51)=$E149),INDEX(Model_Inputs_Ref_Units,,BZ$52)),0)","v":0},{"$f":"IFERROR(SUMPRODUCT(--(INDEX(Model_Inputs_Ref_Units,,CA$51)=$E149),INDEX(Model_Inputs_Ref_Units,,CA$52)),0)","v":0},{"$f":"IFERROR(SUMPRODUCT(--(INDEX(Model_Inputs_Ref_Units,,CB$51)=$E149),INDEX(Model_Inputs_Ref_Units,,CB$52)),0)","v":0},{"$f":"IFERROR(SUMPRODUCT(--(INDEX(Model_Inputs_Ref_Units,,CC$51)=$E149),INDEX(Model_Inputs_Ref_Units,,CC$52)),0)","v":0},{"$f":"IFERROR(SUMPRODUCT(--(INDEX(Model_Inputs_Ref_Units,,CD$51)=$E149),INDEX(Model_Inputs_Ref_Units,,CD$52)),0)","v":0},{"$f":"IFERROR(SUMPRODUCT(--(INDEX(Model_Inputs_Ref_Units,,CE$51)=$E149),INDEX(Model_Inputs_Ref_Units,,CE$52)),0)","v":0},{"$f":"IFERROR(SUMPRODUCT(--(INDEX(Model_Inputs_Ref_Units,,CF$51)=$E149),INDEX(Model_Inputs_Ref_Units,,CF$52)),0)","v":0},{"$f":"IFERROR(SUMPRODUCT(--(INDEX(Model_Inputs_Ref_Units,,CG$51)=$E149),INDEX(Model_Inputs_Ref_Units,,CG$52)),0)","v":0},{"$f":"IFERROR(SUMPRODUCT(--(INDEX(Model_Inputs_Ref_Units,,CH$51)=$E149),INDEX(Model_Inputs_Ref_Units,,CH$52)),0)","v":0},{"$f":"IFERROR(SUMPRODUCT(--(INDEX(Model_Inputs_Ref_Units,,CI$51)=$E149),INDEX(Model_Inputs_Ref_Units,,CI$52)),0)","v":0},{"$f":"IFERROR(SUMPRODUCT(--(INDEX(Model_Inputs_Ref_Units,,CJ$51)=$E149),INDEX(Model_Inputs_Ref_Units,,CJ$52)),0)","v":0},{"$f":"IFERROR(SUMPRODUCT(--(INDEX(Model_Inputs_Ref_Units,,CK$51)=$E149),INDEX(Model_Inputs_Ref_Units,,CK$52)),0)","v":0},{"$f":"IFERROR(SUMPRODUCT(--(INDEX(Model_Inputs_Ref_Units,,CL$51)=$E149),INDEX(Model_Inputs_Ref_Units,,CL$52)),0)","v":0},{"$f":"IFERROR(SUMPRODUCT(--(INDEX(Model_Inputs_Ref_Units,,CM$51)=$E149),INDEX(Model_Inputs_Ref_Units,,CM$52)),0)","v":0},{"$f":"IFERROR(SUMPRODUCT(--(INDEX(Model_Inputs_Ref_Units,,CN$51)=$E149),INDEX(Model_Inputs_Ref_Units,,CN$52)),0)","v":0},{"$f":"IFERROR(SUMPRODUCT(--(INDEX(Model_Inputs_Ref_Units,,CO$51)=$E149),INDEX(Model_Inputs_Ref_Units,,CO$52)),0)","v":0},{"$f":"IFERROR(SUMPRODUCT(--(INDEX(Model_Inputs_Ref_Units,,CP$51)=$E149),INDEX(Model_Inputs_Ref_Units,,CP$52)),0)","v":0},{"$f":"IFERROR(SUMPRODUCT(--(INDEX(Model_Inputs_Ref_Units,,CQ$51)=$E149),INDEX(Model_Inputs_Ref_Units,,CQ$52)),0)","v":0},{"$f":"IFERROR(SUMPRODUCT(--(INDEX(Model_Inputs_Ref_Units,,CR$51)=$E149),INDEX(Model_Inputs_Ref_Units,,CR$52)),0)","v":0},{"$f":"IFERROR(SUMPRODUCT(--(INDEX(Model_Inputs_Ref_Units,,CS$51)=$E149),INDEX(Model_Inputs_Ref_Units,,CS$52)),0)","v":0},{"$f":"IFERROR(SUMPRODUCT(--(INDEX(Model_Inputs_Ref_Units,,CT$51)=$E149),INDEX(Model_Inputs_Ref_Units,,CT$52)),0)","v":0},{"$f":"IFERROR(SUMPRODUCT(--(INDEX(Model_Inputs_Ref_Units,,CU$51)=$E149),INDEX(Model_Inputs_Ref_Units,,CU$52)),0)","v":0},{"$f":"IFERROR(SUMPRODUCT(--(INDEX(Model_Inputs_Ref_Units,,CV$51)=$E149),INDEX(Model_Inputs_Ref_Units,,CV$52)),0)","v":0},{"$f":"IFERROR(SUMPRODUCT(--(INDEX(Model_Inputs_Ref_Units,,CW$51)=$E149),INDEX(Model_Inputs_Ref_Units,,CW$52)),0)","v":0},{"$f":"IFERROR(SUMPRODUCT(--(INDEX(Model_Inputs_Ref_Units,,CX$51)=$E149),INDEX(Model_Inputs_Ref_Units,,CX$52)),0)","v":0},{"$f":"IFERROR(SUMPRODUCT(--(INDEX(Model_Inputs_Ref_Units,,CY$51)=$E149),INDEX(Model_Inputs_Ref_Units,,CY$52)),0)","v":0},{"$f":"IFERROR(SUMPRODUCT(--(INDEX(Model_Inputs_Ref_Units,,CZ$51)=$E149),INDEX(Model_Inputs_Ref_Units,,CZ$52)),0)","v":0},{"$f":"IFERROR(SUMPRODUCT(--(INDEX(Model_Inputs_Ref_Units,,DA$51)=$E149),INDEX(Model_Inputs_Ref_Units,,DA$52)),0)","v":0},{"$f":"IFERROR(SUMPRODUCT(--(INDEX(Model_Inputs_Ref_Units,,DB$51)=$E149),INDEX(Model_Inputs_Ref_Units,,DB$52)),0)","v":0},{"$f":"IFERROR(SUMPRODUCT(--(INDEX(Model_Inputs_Ref_Units,,DC$51)=$E149),INDEX(Model_Inputs_Ref_Units,,DC$52)),0)","v":0},{"$f":"IFERROR(SUMPRODUCT(--(INDEX(Model_Inputs_Ref_Units,,DD$51)=$E149),INDEX(Model_Inputs_Ref_Units,,DD$52)),0)","v":0},{"$f":"IFERROR(SUMPRODUCT(--(INDEX(Model_Inputs_Ref_Units,,DE$51)=$E149),INDEX(Model_Inputs_Ref_Units,,DE$52)),0)","v":0},{"$f":"IFERROR(SUMPRODUCT(--(INDEX(Model_Inputs_Ref_Units,,DF$51)=$E149),INDEX(Model_Inputs_Ref_Units,,DF$52)),0)","v":0}]
[null,null,{"$error":"#DIV/0!"},null,{"$f":"IFERROR(INDEX(Ref_Data,1,F150),\"\")","v":""},97,0,0,0,0,{"$f":"IFERROR(SUMPRODUCT(--(INDEX(Model_Inputs_Ref_Units,,K$51)=$E150),INDEX(Model_Inputs_Ref_Units,,K$52)),0)","v":0},{"$f":"IFERROR(SUMPRODUCT(--(INDEX(Model_Inputs_Ref_Units,,L$51)=$E150),INDEX(Model_Inputs_Ref_Units,,L$52)),0)","v":0},{"$f":"IFERROR(SUMPRODUCT(--(INDEX(Model_Inputs_Ref_Units,,M$51)=$E150),INDEX(Model_Inputs_Ref_Units,,M$52)),0)","v":0},{"$f":"IFERROR(SUMPRODUCT(--(INDEX(Model_Inputs_Ref_Units,,N$51)=$E150),INDEX(Model_Inputs_Ref_Units,,N$52)),0)","v":0},{"$f":"IFERROR(SUMPRODUCT(--(INDEX(Model_Inputs_Ref_Units,,O$51)=$E150),INDEX(Model_Inputs_Ref_Units,,O$52)),0)","v":0},{"$f":"IFERROR(SUMPRODUCT(--(INDEX(Model_Inputs_Ref_Units,,P$51)=$E150),INDEX(Model_Inputs_Ref_Units,,P$52)),0)","v":0},{"$f":"IFERROR(SUMPRODUCT(--(INDEX(Model_Inputs_Ref_Units,,Q$51)=$E150),INDEX(Model_Inputs_Ref_Units,,Q$52)),0)","v":0},{"$f":"IFERROR(SUMPRODUCT(--(INDEX(Model_Inputs_Ref_Units,,R$51)=$E150),INDEX(Model_Inputs_Ref_Units,,R$52)),0)","v":0},{"$f":"IFERROR(SUMPRODUCT(--(INDEX(Model_Inputs_Ref_Units,,S$51)=$E150),INDEX(Model_Inputs_Ref_Units,,S$52)),0)","v":0},{"$f":"IFERROR(SUMPRODUCT(--(INDEX(Model_Inputs_Ref_Units,,T$51)=$E150),INDEX(Model_Inputs_Ref_Units,,T$52)),0)","v":0},{"$f":"IFERROR(SUMPRODUCT(--(INDEX(Model_Inputs_Ref_Units,,U$51)=$E150),INDEX(Model_Inputs_Ref_Units,,U$52)),0)","v":0},{"$f":"IFERROR(SUMPRODUCT(--(INDEX(Model_Inputs_Ref_Units,,V$51)=$E150),INDEX(Model_Inputs_Ref_Units,,V$52)),0)","v":0},{"$f":"IFERROR(SUMPRODUCT(--(INDEX(Model_Inputs_Ref_Units,,W$51)=$E150),INDEX(Model_Inputs_Ref_Units,,W$52)),0)","v":0},{"$f":"IFERROR(SUMPRODUCT(--(INDEX(Model_Inputs_Ref_Units,,X$51)=$E150),INDEX(Model_Inputs_Ref_Units,,X$52)),0)","v":0},{"$f":"IFERROR(SUMPRODUCT(--(INDEX(Model_Inputs_Ref_Units,,Y$51)=$E150),INDEX(Model_Inputs_Ref_Units,,Y$52)),0)","v":0},{"$f":"IFERROR(SUMPRODUCT(--(INDEX(Model_Inputs_Ref_Units,,Z$51)=$E150),INDEX(Model_Inputs_Ref_Units,,Z$52)),0)","v":0},{"$f":"IFERROR(SUMPRODUCT(--(INDEX(Model_Inputs_Ref_Units,,AA$51)=$E150),INDEX(Model_Inputs_Ref_Units,,AA$52)),0)","v":0},{"$f":"IFERROR(SUMPRODUCT(--(INDEX(Model_Inputs_Ref_Units,,AB$51)=$E150),INDEX(Model_Inputs_Ref_Units,,AB$52)),0)","v":0},{"$f":"IFERROR(SUMPRODUCT(--(INDEX(Model_Inputs_Ref_Units,,AC$51)=$E150),INDEX(Model_Inputs_Ref_Units,,AC$52)),0)","v":0},{"$f":"IFERROR(SUMPRODUCT(--(INDEX(Model_Inputs_Ref_Units,,AD$51)=$E150),INDEX(Model_Inputs_Ref_Units,,AD$52)),0)","v":0},{"$f":"IFERROR(SUMPRODUCT(--(INDEX(Model_Inputs_Ref_Units,,AE$51)=$E150),INDEX(Model_Inputs_Ref_Units,,AE$52)),0)","v":0},{"$f":"IFERROR(SUMPRODUCT(--(INDEX(Model_Inputs_Ref_Units,,AF$51)=$E150),INDEX(Model_Inputs_Ref_Units,,AF$52)),0)","v":0},{"$f":"IFERROR(SUMPRODUCT(--(INDEX(Model_Inputs_Ref_Units,,AG$51)=$E150),INDEX(Model_Inputs_Ref_Units,,AG$52)),0)","v":0},{"$f":"IFERROR(SUMPRODUCT(--(INDEX(Model_Inputs_Ref_Units,,AH$51)=$E150),INDEX(Model_Inputs_Ref_Units,,AH$52)),0)","v":0},{"$f":"IFERROR(SUMPRODUCT(--(INDEX(Model_Inputs_Ref_Units,,AI$51)=$E150),INDEX(Model_Inputs_Ref_Units,,AI$52)),0)","v":0},{"$f":"IFERROR(SUMPRODUCT(--(INDEX(Model_Inputs_Ref_Units,,AJ$51)=$E150),INDEX(Model_Inputs_Ref_Units,,AJ$52)),0)","v":0},{"$f":"IFERROR(SUMPRODUCT(--(INDEX(Model_Inputs_Ref_Units,,AK$51)=$E150),INDEX(Model_Inputs_Ref_Units,,AK$52)),0)","v":0},{"$f":"IFERROR(SUMPRODUCT(--(INDEX(Model_Inputs_Ref_Units,,AL$51)=$E150),INDEX(Model_Inputs_Ref_Units,,AL$52)),0)","v":0},{"$f":"IFERROR(SUMPRODUCT(--(INDEX(Model_Inputs_Ref_Units,,AM$51)=$E150),INDEX(Model_Inputs_Ref_Units,,AM$52)),0)","v":0},{"$f":"IFERROR(SUMPRODUCT(--(INDEX(Model_Inputs_Ref_Units,,AN$51)=$E150),INDEX(Model_Inputs_Ref_Units,,AN$52)),0)","v":0},{"$f":"IFERROR(SUMPRODUCT(--(INDEX(Model_Inputs_Ref_Units,,AO$51)=$E150),INDEX(Model_Inputs_Ref_Units,,AO$52)),0)","v":0},{"$f":"IFERROR(SUMPRODUCT(--(INDEX(Model_Inputs_Ref_Units,,AP$51)=$E150),INDEX(Model_Inputs_Ref_Units,,AP$52)),0)","v":0},{"$f":"IFERROR(SUMPRODUCT(--(INDEX(Model_Inputs_Ref_Units,,AQ$51)=$E150),INDEX(Model_Inputs_Ref_Units,,AQ$52)),0)","v":0},{"$f":"IFERROR(SUMPRODUCT(--(INDEX(Model_Inputs_Ref_Units,,AR$51)=$E150),INDEX(Model_Inputs_Ref_Units,,AR$52)),0)","v":0},{"$f":"IFERROR(SUMPRODUCT(--(INDEX(Model_Inputs_Ref_Units,,AS$51)=$E150),INDEX(Model_Inputs_Ref_Units,,AS$52)),0)","v":0},{"$f":"IFERROR(SUMPRODUCT(--(INDEX(Model_Inputs_Ref_Units,,AT$51)=$E150),INDEX(Model_Inputs_Ref_Units,,AT$52)),0)","v":0},{"$f":"IFERROR(SUMPRODUCT(--(INDEX(Model_Inputs_Ref_Units,,AU$51)=$E150),INDEX(Model_Inputs_Ref_Units,,AU$52)),0)","v":0},{"$f":"IFERROR(SUMPRODUCT(--(INDEX(Model_Inputs_Ref_Units,,AV$51)=$E150),INDEX(Model_Inputs_Ref_Units,,AV$52)),0)","v":0},{"$f":"IFERROR(SUMPRODUCT(--(INDEX(Model_Inputs_Ref_Units,,AW$51)=$E150),INDEX(Model_Inputs_Ref_Units,,AW$52)),0)","v":0},{"$f":"IFERROR(SUMPRODUCT(--(INDEX(Model_Inputs_Ref_Units,,AX$51)=$E150),INDEX(Model_Inputs_Ref_Units,,AX$52)),0)","v":0},{"$f":"IFERROR(SUMPRODUCT(--(INDEX(Model_Inputs_Ref_Units,,AY$51)=$E150),INDEX(Model_Inputs_Ref_Units,,AY$52)),0)","v":0},{"$f":"IFERROR(SUMPRODUCT(--(INDEX(Model_Inputs_Ref_Units,,AZ$51)=$E150),INDEX(Model_Inputs_Ref_Units,,AZ$52)),0)","v":0},{"$f":"IFERROR(SUMPRODUCT(--(INDEX(Model_Inputs_Ref_Units,,BA$51)=$E150),INDEX(Model_Inputs_Ref_Units,,BA$52)),0)","v":0},{"$f":"IFERROR(SUMPRODUCT(--(INDEX(Model_Inputs_Ref_Units,,BB$51)=$E150),INDEX(Model_Inputs_Ref_Units,,BB$52)),0)","v":0},{"$f":"IFERROR(SUMPRODUCT(--(INDEX(Model_Inputs_Ref_Units,,BC$51)=$E150),INDEX(Model_Inputs_Ref_Units,,BC$52)),0)","v":0},{"$f":"IFERROR(SUMPRODUCT(--(INDEX(Model_Inputs_Ref_Units,,BD$51)=$E150),INDEX(Model_Inputs_Ref_Units,,BD$52)),0)","v":0},{"$f":"IFERROR(SUMPRODUCT(--(INDEX(Model_Inputs_Ref_Units,,BE$51)=$E150),INDEX(Model_Inputs_Ref_Units,,BE$52)),0)","v":0},{"$f":"IFERROR(SUMPRODUCT(--(INDEX(Model_Inputs_Ref_Units,,BF$51)=$E150),INDEX(Model_Inputs_Ref_Units,,BF$52)),0)","v":0},{"$f":"IFERROR(SUMPRODUCT(--(INDEX(Model_Inputs_Ref_Units,,BG$51)=$E150),INDEX(Model_Inputs_Ref_Units,,BG$52)),0)","v":0},{"$f":"IFERROR(SUMPRODUCT(--(INDEX(Model_Inputs_Ref_Units,,BH$51)=$E150),INDEX(Model_Inputs_Ref_Units,,BH$52)),0)","v":0},{"$f":"IFERROR(SUMPRODUCT(--(INDEX(Model_Inputs_Ref_Units,,BI$51)=$E150),INDEX(Model_Inputs_Ref_Units,,BI$52)),0)","v":0},{"$f":"IFERROR(SUMPRODUCT(--(INDEX(Model_Inputs_Ref_Units,,BJ$51)=$E150),INDEX(Model_Inputs_Ref_Units,,BJ$52)),0)","v":0},{"$f":"IFERROR(SUMPRODUCT(--(INDEX(Model_Inputs_Ref_Units,,BK$51)=$E150),INDEX(Model_Inputs_Ref_Units,,BK$52)),0)","v":0},{"$f":"IFERROR(SUMPRODUCT(--(INDEX(Model_Inputs_Ref_Units,,BL$51)=$E150),INDEX(Model_Inputs_Ref_Units,,BL$52)),0)","v":0},{"$f":"IFERROR(SUMPRODUCT(--(INDEX(Model_Inputs_Ref_Units,,BM$51)=$E150),INDEX(Model_Inputs_Ref_Units,,BM$52)),0)","v":0},{"$f":"IFERROR(SUMPRODUCT(--(INDEX(Model_Inputs_Ref_Units,,BN$51)=$E150),INDEX(Model_Inputs_Ref_Units,,BN$52)),0)","v":0},{"$f":"IFERROR(SUMPRODUCT(--(INDEX(Model_Inputs_Ref_Units,,BO$51)=$E150),INDEX(Model_Inputs_Ref_Units,,BO$52)),0)","v":0},{"$f":"IFERROR(SUMPRODUCT(--(INDEX(Model_Inputs_Ref_Units,,BP$51)=$E150),INDEX(Model_Inputs_Ref_Units,,BP$52)),0)","v":0},{"$f":"IFERROR(SUMPRODUCT(--(INDEX(Model_Inputs_Ref_Units,,BQ$51)=$E150),INDEX(Model_Inputs_Ref_Units,,BQ$52)),0)","v":0},{"$f":"IFERROR(SUMPRODUCT(--(INDEX(Model_Inputs_Ref_Units,,BR$51)=$E150),INDEX(Model_Inputs_Ref_Units,,BR$52)),0)","v":0},{"$f":"IFERROR(SUMPRODUCT(--(INDEX(Model_Inputs_Ref_Units,,BS$51)=$E150),INDEX(Model_Inputs_Ref_Units,,BS$52)),0)","v":0},{"$f":"IFERROR(SUMPRODUCT(--(INDEX(Model_Inputs_Ref_Units,,BT$51)=$E150),INDEX(Model_Inputs_Ref_Units,,BT$52)),0)","v":0},{"$f":"IFERROR(SUMPRODUCT(--(INDEX(Model_Inputs_Ref_Units,,BU$51)=$E150),INDEX(Model_Inputs_Ref_Units,,BU$52)),0)","v":0},{"$f":"IFERROR(SUMPRODUCT(--(INDEX(Model_Inputs_Ref_Units,,BV$51)=$E150),INDEX(Model_Inputs_Ref_Units,,BV$52)),0)","v":0},{"$f":"IFERROR(SUMPRODUCT(--(INDEX(Model_Inputs_Ref_Units,,BW$51)=$E150),INDEX(Model_Inputs_Ref_Units,,BW$52)),0)","v":0},{"$f":"IFERROR(SUMPRODUCT(--(INDEX(Model_Inputs_Ref_Units,,BX$51)=$E150),INDEX(Model_Inputs_Ref_Units,,BX$52)),0)","v":0},{"$f":"IFERROR(SUMPRODUCT(--(INDEX(Model_Inputs_Ref_Units,,BY$51)=$E150),INDEX(Model_Inputs_Ref_Units,,BY$52)),0)","v":0},{"$f":"IFERROR(SUMPRODUCT(--(INDEX(Model_Inputs_Ref_Units,,BZ$51)=$E150),INDEX(Model_Inputs_Ref_Units,,BZ$52)),0)","v":0},{"$f":"IFERROR(SUMPRODUCT(--(INDEX(Model_Inputs_Ref_Units,,CA$51)=$E150),INDEX(Model_Inputs_Ref_Units,,CA$52)),0)","v":0},{"$f":"IFERROR(SUMPRODUCT(--(INDEX(Model_Inputs_Ref_Units,,CB$51)=$E150),INDEX(Model_Inputs_Ref_Units,,CB$52)),0)","v":0},{"$f":"IFERROR(SUMPRODUCT(--(INDEX(Model_Inputs_Ref_Units,,CC$51)=$E150),INDEX(Model_Inputs_Ref_Units,,CC$52)),0)","v":0},{"$f":"IFERROR(SUMPRODUCT(--(INDEX(Model_Inputs_Ref_Units,,CD$51)=$E150),INDEX(Model_Inputs_Ref_Units,,CD$52)),0)","v":0},{"$f":"IFERROR(SUMPRODUCT(--(INDEX(Model_Inputs_Ref_Units,,CE$51)=$E150),INDEX(Model_Inputs_Ref_Units,,CE$52)),0)","v":0},{"$f":"IFERROR(SUMPRODUCT(--(INDEX(Model_Inputs_Ref_Units,,CF$51)=$E150),INDEX(Model_Inputs_Ref_Units,,CF$52)),0)","v":0},{"$f":"IFERROR(SUMPRODUCT(--(INDEX(Model_Inputs_Ref_Units,,CG$51)=$E150),INDEX(Model_Inputs_Ref_Units,,CG$52)),0)","v":0},{"$f":"IFERROR(SUMPRODUCT(--(INDEX(Model_Inputs_Ref_Units,,CH$51)=$E150),INDEX(Model_Inputs_Ref_Units,,CH$52)),0)","v":0},{"$f":"IFERROR(SUMPRODUCT(--(INDEX(Model_Inputs_Ref_Units,,CI$51)=$E150),INDEX(Model_Inputs_Ref_Units,,CI$52)),0)","v":0},{"$f":"IFERROR(SUMPRODUCT(--(INDEX(Model_Inputs_Ref_Units,,CJ$51)=$E150),INDEX(Model_Inputs_Ref_Units,,CJ$52)),0)","v":0},{"$f":"IFERROR(SUMPRODUCT(--(INDEX(Model_Inputs_Ref_Units,,CK$51)=$E150),INDEX(Model_Inputs_Ref_Units,,CK$52)),0)","v":0},{"$f":"IFERROR(SUMPRODUCT(--(INDEX(Model_Inputs_Ref_Units,,CL$51)=$E150),INDEX(Model_Inputs_Ref_Units,,CL$52)),0)","v":0},{"$f":"IFERROR(SUMPRODUCT(--(INDEX(Model_Inputs_Ref_Units,,CM$51)=$E150),INDEX(Model_Inputs_Ref_Units,,CM$52)),0)","v":0},{"$f":"IFERROR(SUMPRODUCT(--(INDEX(Model_Inputs_Ref_Units,,CN$51)=$E150),INDEX(Model_Inputs_Ref_Units,,CN$52)),0)","v":0},{"$f":"IFERROR(SUMPRODUCT(--(INDEX(Model_Inputs_Ref_Units,,CO$51)=$E150),INDEX(Model_Inputs_Ref_Units,,CO$52)),0)","v":0},{"$f":"IFERROR(SUMPRODUCT(--(INDEX(Model_Inputs_Ref_Units,,CP$51)=$E150),INDEX(Model_Inputs_Ref_Units,,CP$52)),0)","v":0},{"$f":"IFERROR(SUMPRODUCT(--(INDEX(Model_Inputs_Ref_Units,,CQ$51)=$E150),INDEX(Model_Inputs_Ref_Units,,CQ$52)),0)","v":0},{"$f":"IFERROR(SUMPRODUCT(--(INDEX(Model_Inputs_Ref_Units,,CR$51)=$E150),INDEX(Model_Inputs_Ref_Units,,CR$52)),0)","v":0},{"$f":"IFERROR(SUMPRODUCT(--(INDEX(Model_Inputs_Ref_Units,,CS$51)=$E150),INDEX(Model_Inputs_Ref_Units,,CS$52)),0)","v":0},{"$f":"IFERROR(SUMPRODUCT(--(INDEX(Model_Inputs_Ref_Units,,CT$51)=$E150),INDEX(Model_Inputs_Ref_Units,,CT$52)),0)","v":0},{"$f":"IFERROR(SUMPRODUCT(--(INDEX(Model_Inputs_Ref_Units,,CU$51)=$E150),INDEX(Model_Inputs_Ref_Units,,CU$52)),0)","v":0},{"$f":"IFERROR(SUMPRODUCT(--(INDEX(Model_Inputs_Ref_Units,,CV$51)=$E150),INDEX(Model_Inputs_Ref_Units,,CV$52)),0)","v":0},{"$f":"IFERROR(SUMPRODUCT(--(INDEX(Model_Inputs_Ref_Units,,CW$51)=$E150),INDEX(Model_Inputs_Ref_Units,,CW$52)),0)","v":0},{"$f":"IFERROR(SUMPRODUCT(--(INDEX(Model_Inputs_Ref_Units,,CX$51)=$E150),INDEX(Model_Inputs_Ref_Units,,CX$52)),0)","v":0},{"$f":"IFERROR(SUMPRODUCT(--(INDEX(Model_Inputs_Ref_Units,,CY$51)=$E150),INDEX(Model_Inputs_Ref_Units,,CY$52)),0)","v":0},{"$f":"IFERROR(SUMPRODUCT(--(INDEX(Model_Inputs_Ref_Units,,CZ$51)=$E150),INDEX(Model_Inputs_Ref_Units,,CZ$52)),0)","v":0},{"$f":"IFERROR(SUMPRODUCT(--(INDEX(Model_Inputs_Ref_Units,,DA$51)=$E150),INDEX(Model_Inputs_Ref_Units,,DA$52)),0)","v":0},{"$f":"IFERROR(SUMPRODUCT(--(INDEX(Model_Inputs_Ref_Units,,DB$51)=$E150),INDEX(Model_Inputs_Ref_Units,,DB$52)),0)","v":0},{"$f":"IFERROR(SUMPRODUCT(--(INDEX(Model_Inputs_Ref_Units,,DC$51)=$E150),INDEX(Model_Inputs_Ref_Units,,DC$52)),0)","v":0},{"$f":"IFERROR(SUMPRODUCT(--(INDEX(Model_Inputs_Ref_Units,,DD$51)=$E150),INDEX(Model_Inputs_Ref_Units,,DD$52)),0)","v":0},{"$f":"IFERROR(SUMPRODUCT(--(INDEX(Model_Inputs_Ref_Units,,DE$51)=$E150),INDEX(Model_Inputs_Ref_Units,,DE$52)),0)","v":0},{"$f":"IFERROR(SUMPRODUCT(--(INDEX(Model_Inputs_Ref_Units,,DF$51)=$E150),INDEX(Model_Inputs_Ref_Units,,DF$52)),0)","v":0}]
[null,null,{"$error":"#DIV/0!"},null,{"$f":"IFERROR(INDEX(Ref_Data,1,F151),\"\")","v":""},98,0,0,0,0,{"$f":"IFERROR(SUMPRODUCT(--(INDEX(Model_Inputs_Ref_Units,,K$51)=$E151),INDEX(Model_Inputs_Ref_Units,,K$52)),0)","v":0},{"$f":"IFERROR(SUMPRODUCT(--(INDEX(Model_Inputs_Ref_Units,,L$51)=$E151),INDEX(Model_Inputs_Ref_Units,,L$52)),0)","v":0},{"$f":"IFERROR(SUMPRODUCT(--(INDEX(Model_Inputs_Ref_Units,,M$51)=$E151),INDEX(Model_Inputs_Ref_Units,,M$52)),0)","v":0},{"$f":"IFERROR(SUMPRODUCT(--(INDEX(Model_Inputs_Ref_Units,,N$51)=$E151),INDEX(Model_Inputs_Ref_Units,,N$52)),0)","v":0},{"$f":"IFERROR(SUMPRODUCT(--(INDEX(Model_Inputs_Ref_Units,,O$51)=$E151),INDEX(Model_Inputs_Ref_Units,,O$52)),0)","v":0},{"$f":"IFERROR(SUMPRODUCT(--(INDEX(Model_Inputs_Ref_Units,,P$51)=$E151),INDEX(Model_Inputs_Ref_Units,,P$52)),0)","v":0},{"$f":"IFERROR(SUMPRODUCT(--(INDEX(Model_Inputs_Ref_Units,,Q$51)=$E151),INDEX(Model_Inputs_Ref_Units,,Q$52)),0)","v":0},{"$f":"IFERROR(SUMPRODUCT(--(INDEX(Model_Inputs_Ref_Units,,R$51)=$E151),INDEX(Model_Inputs_Ref_Units,,R$52)),0)","v":0},{"$f":"IFERROR(SUMPRODUCT(--(INDEX(Model_Inputs_Ref_Units,,S$51)=$E151),INDEX(Model_Inputs_Ref_Units,,S$52)),0)","v":0},{"$f":"IFERROR(SUMPRODUCT(--(INDEX(Model_Inputs_Ref_Units,,T$51)=$E151),INDEX(Model_Inputs_Ref_Units,,T$52)),0)","v":0},{"$f":"IFERROR(SUMPRODUCT(--(INDEX(Model_Inputs_Ref_Units,,U$51)=$E151),INDEX(Model_Inputs_Ref_Units,,U$52)),0)","v":0},{"$f":"IFERROR(SUMPRODUCT(--(INDEX(Model_Inputs_Ref_Units,,V$51)=$E151),INDEX(Model_Inputs_Ref_Units,,V$52)),0)","v":0},{"$f":"IFERROR(SUMPRODUCT(--(INDEX(Model_Inputs_Ref_Units,,W$51)=$E151),INDEX(Model_Inputs_Ref_Units,,W$52)),0)","v":0},{"$f":"IFERROR(SUMPRODUCT(--(INDEX(Model_Inputs_Ref_Units,,X$51)=$E151),INDEX(Model_Inputs_Ref_Units,,X$52)),0)","v":0},{"$f":"IFERROR(SUMPRODUCT(--(INDEX(Model_Inputs_Ref_Units,,Y$51)=$E151),INDEX(Model_Inputs_Ref_Units,,Y$52)),0)","v":0},{"$f":"IFERROR(SUMPRODUCT(--(INDEX(Model_Inputs_Ref_Units,,Z$51)=$E151),INDEX(Model_Inputs_Ref_Units,,Z$52)),0)","v":0},{"$f":"IFERROR(SUMPRODUCT(--(INDEX(Model_Inputs_Ref_Units,,AA$51)=$E151),INDEX(Model_Inputs_Ref_Units,,AA$52)),0)","v":0},{"$f":"IFERROR(SUMPRODUCT(--(INDEX(Model_Inputs_Ref_Units,,AB$51)=$E151),INDEX(Model_Inputs_Ref_Units,,AB$52)),0)","v":0},{"$f":"IFERROR(SUMPRODUCT(--(INDEX(Model_Inputs_Ref_Units,,AC$51)=$E151),INDEX(Model_Inputs_Ref_Units,,AC$52)),0)","v":0},{"$f":"IFERROR(SUMPRODUCT(--(INDEX(Model_Inputs_Ref_Units,,AD$51)=$E151),INDEX(Model_Inputs_Ref_Units,,AD$52)),0)","v":0},{"$f":"IFERROR(SUMPRODUCT(--(INDEX(Model_Inputs_Ref_Units,,AE$51)=$E151),INDEX(Model_Inputs_Ref_Units,,AE$52)),0)","v":0},{"$f":"IFERROR(SUMPRODUCT(--(INDEX(Model_Inputs_Ref_Units,,AF$51)=$E151),INDEX(Model_Inputs_Ref_Units,,AF$52)),0)","v":0},{"$f":"IFERROR(SUMPRODUCT(--(INDEX(Model_Inputs_Ref_Units,,AG$51)=$E151),INDEX(Model_Inputs_Ref_Units,,AG$52)),0)","v":0},{"$f":"IFERROR(SUMPRODUCT(--(INDEX(Model_Inputs_Ref_Units,,AH$51)=$E151),INDEX(Model_Inputs_Ref_Units,,AH$52)),0)","v":0},{"$f":"IFERROR(SUMPRODUCT(--(INDEX(Model_Inputs_Ref_Units,,AI$51)=$E151),INDEX(Model_Inputs_Ref_Units,,AI$52)),0)","v":0},{"$f":"IFERROR(SUMPRODUCT(--(INDEX(Model_Inputs_Ref_Units,,AJ$51)=$E151),INDEX(Model_Inputs_Ref_Units,,AJ$52)),0)","v":0},{"$f":"IFERROR(SUMPRODUCT(--(INDEX(Model_Inputs_Ref_Units,,AK$51)=$E151),INDEX(Model_Inputs_Ref_Units,,AK$52)),0)","v":0},{"$f":"IFERROR(SUMPRODUCT(--(INDEX(Model_Inputs_Ref_Units,,AL$51)=$E151),INDEX(Model_Inputs_Ref_Units,,AL$52)),0)","v":0},{"$f":"IFERROR(SUMPRODUCT(--(INDEX(Model_Inputs_Ref_Units,,AM$51)=$E151),INDEX(Model_Inputs_Ref_Units,,AM$52)),0)","v":0},{"$f":"IFERROR(SUMPRODUCT(--(INDEX(Model_Inputs_Ref_Units,,AN$51)=$E151),INDEX(Model_Inputs_Ref_Units,,AN$52)),0)","v":0},{"$f":"IFERROR(SUMPRODUCT(--(INDEX(Model_Inputs_Ref_Units,,AO$51)=$E151),INDEX(Model_Inputs_Ref_Units,,AO$52)),0)","v":0},{"$f":"IFERROR(SUMPRODUCT(--(INDEX(Model_Inputs_Ref_Units,,AP$51)=$E151),INDEX(Model_Inputs_Ref_Units,,AP$52)),0)","v":0},{"$f":"IFERROR(SUMPRODUCT(--(INDEX(Model_Inputs_Ref_Units,,AQ$51)=$E151),INDEX(Model_Inputs_Ref_Units,,AQ$52)),0)","v":0},{"$f":"IFERROR(SUMPRODUCT(--(INDEX(Model_Inputs_Ref_Units,,AR$51)=$E151),INDEX(Model_Inputs_Ref_Units,,AR$52)),0)","v":0},{"$f":"IFERROR(SUMPRODUCT(--(INDEX(Model_Inputs_Ref_Units,,AS$51)=$E151),INDEX(Model_Inputs_Ref_Units,,AS$52)),0)","v":0},{"$f":"IFERROR(SUMPRODUCT(--(INDEX(Model_Inputs_Ref_Units,,AT$51)=$E151),INDEX(Model_Inputs_Ref_Units,,AT$52)),0)","v":0},{"$f":"IFERROR(SUMPRODUCT(--(INDEX(Model_Inputs_Ref_Units,,AU$51)=$E151),INDEX(Model_Inputs_Ref_Units,,AU$52)),0)","v":0},{"$f":"IFERROR(SUMPRODUCT(--(INDEX(Model_Inputs_Ref_Units,,AV$51)=$E151),INDEX(Model_Inputs_Ref_Units,,AV$52)),0)","v":0},{"$f":"IFERROR(SUMPRODUCT(--(INDEX(Model_Inputs_Ref_Units,,AW$51)=$E151),INDEX(Model_Inputs_Ref_Units,,AW$52)),0)","v":0},{"$f":"IFERROR(SUMPRODUCT(--(INDEX(Model_Inputs_Ref_Units,,AX$51)=$E151),INDEX(Model_Inputs_Ref_Units,,AX$52)),0)","v":0},{"$f":"IFERROR(SUMPRODUCT(--(INDEX(Model_Inputs_Ref_Units,,AY$51)=$E151),INDEX(Model_Inputs_Ref_Units,,AY$52)),0)","v":0},{"$f":"IFERROR(SUMPRODUCT(--(INDEX(Model_Inputs_Ref_Units,,AZ$51)=$E151),INDEX(Model_Inputs_Ref_Units,,AZ$52)),0)","v":0},{"$f":"IFERROR(SUMPRODUCT(--(INDEX(Model_Inputs_Ref_Units,,BA$51)=$E151),INDEX(Model_Inputs_Ref_Units,,BA$52)),0)","v":0},{"$f":"IFERROR(SUMPRODUCT(--(INDEX(Model_Inputs_Ref_Units,,BB$51)=$E151),INDEX(Model_Inputs_Ref_Units,,BB$52)),0)","v":0},{"$f":"IFERROR(SUMPRODUCT(--(INDEX(Model_Inputs_Ref_Units,,BC$51)=$E151),INDEX(Model_Inputs_Ref_Units,,BC$52)),0)","v":0},{"$f":"IFERROR(SUMPRODUCT(--(INDEX(Model_Inputs_Ref_Units,,BD$51)=$E151),INDEX(Model_Inputs_Ref_Units,,BD$52)),0)","v":0},{"$f":"IFERROR(SUMPRODUCT(--(INDEX(Model_Inputs_Ref_Units,,BE$51)=$E151),INDEX(Model_Inputs_Ref_Units,,BE$52)),0)","v":0},{"$f":"IFERROR(SUMPRODUCT(--(INDEX(Model_Inputs_Ref_Units,,BF$51)=$E151),INDEX(Model_Inputs_Ref_Units,,BF$52)),0)","v":0},{"$f":"IFERROR(SUMPRODUCT(--(INDEX(Model_Inputs_Ref_Units,,BG$51)=$E151),INDEX(Model_Inputs_Ref_Units,,BG$52)),0)","v":0},{"$f":"IFERROR(SUMPRODUCT(--(INDEX(Model_Inputs_Ref_Units,,BH$51)=$E151),INDEX(Model_Inputs_Ref_Units,,BH$52)),0)","v":0},{"$f":"IFERROR(SUMPRODUCT(--(INDEX(Model_Inputs_Ref_Units,,BI$51)=$E151),INDEX(Model_Inputs_Ref_Units,,BI$52)),0)","v":0},{"$f":"IFERROR(SUMPRODUCT(--(INDEX(Model_Inputs_Ref_Units,,BJ$51)=$E151),INDEX(Model_Inputs_Ref_Units,,BJ$52)),0)","v":0},{"$f":"IFERROR(SUMPRODUCT(--(INDEX(Model_Inputs_Ref_Units,,BK$51)=$E151),INDEX(Model_Inputs_Ref_Units,,BK$52)),0)","v":0},{"$f":"IFERROR(SUMPRODUCT(--(INDEX(Model_Inputs_Ref_Units,,BL$51)=$E151),INDEX(Model_Inputs_Ref_Units,,BL$52)),0)","v":0},{"$f":"IFERROR(SUMPRODUCT(--(INDEX(Model_Inputs_Ref_Units,,BM$51)=$E151),INDEX(Model_Inputs_Ref_Units,,BM$52)),0)","v":0},{"$f":"IFERROR(SUMPRODUCT(--(INDEX(Model_Inputs_Ref_Units,,BN$51)=$E151),INDEX(Model_Inputs_Ref_Units,,BN$52)),0)","v":0},{"$f":"IFERROR(SUMPRODUCT(--(INDEX(Model_Inputs_Ref_Units,,BO$51)=$E151),INDEX(Model_Inputs_Ref_Units,,BO$52)),0)","v":0},{"$f":"IFERROR(SUMPRODUCT(--(INDEX(Model_Inputs_Ref_Units,,BP$51)=$E151),INDEX(Model_Inputs_Ref_Units,,BP$52)),0)","v":0},{"$f":"IFERROR(SUMPRODUCT(--(INDEX(Model_Inputs_Ref_Units,,BQ$51)=$E151),INDEX(Model_Inputs_Ref_Units,,BQ$52)),0)","v":0},{"$f":"IFERROR(SUMPRODUCT(--(INDEX(Model_Inputs_Ref_Units,,BR$51)=$E151),INDEX(Model_Inputs_Ref_Units,,BR$52)),0)","v":0},{"$f":"IFERROR(SUMPRODUCT(--(INDEX(Model_Inputs_Ref_Units,,BS$51)=$E151),INDEX(Model_Inputs_Ref_Units,,BS$52)),0)","v":0},{"$f":"IFERROR(SUMPRODUCT(--(INDEX(Model_Inputs_Ref_Units,,BT$51)=$E151),INDEX(Model_Inputs_Ref_Units,,BT$52)),0)","v":0},{"$f":"IFERROR(SUMPRODUCT(--(INDEX(Model_Inputs_Ref_Units,,BU$51)=$E151),INDEX(Model_Inputs_Ref_Units,,BU$52)),0)","v":0},{"$f":"IFERROR(SUMPRODUCT(--(INDEX(Model_Inputs_Ref_Units,,BV$51)=$E151),INDEX(Model_Inputs_Ref_Units,,BV$52)),0)","v":0},{"$f":"IFERROR(SUMPRODUCT(--(INDEX(Model_Inputs_Ref_Units,,BW$51)=$E151),INDEX(Model_Inputs_Ref_Units,,BW$52)),0)","v":0},{"$f":"IFERROR(SUMPRODUCT(--(INDEX(Model_Inputs_Ref_Units,,BX$51)=$E151),INDEX(Model_Inputs_Ref_Units,,BX$52)),0)","v":0},{"$f":"IFERROR(SUMPRODUCT(--(INDEX(Model_Inputs_Ref_Units,,BY$51)=$E151),INDEX(Model_Inputs_Ref_Units,,BY$52)),0)","v":0},{"$f":"IFERROR(SUMPRODUCT(--(INDEX(Model_Inputs_Ref_Units,,BZ$51)=$E151),INDEX(Model_Inputs_Ref_Units,,BZ$52)),0)","v":0},{"$f":"IFERROR(SUMPRODUCT(--(INDEX(Model_Inputs_Ref_Units,,CA$51)=$E151),INDEX(Model_Inputs_Ref_Units,,CA$52)),0)","v":0},{"$f":"IFERROR(SUMPRODUCT(--(INDEX(Model_Inputs_Ref_Units,,CB$51)=$E151),INDEX(Model_Inputs_Ref_Units,,CB$52)),0)","v":0},{"$f":"IFERROR(SUMPRODUCT(--(INDEX(Model_Inputs_Ref_Units,,CC$51)=$E151),INDEX(Model_Inputs_Ref_Units,,CC$52)),0)","v":0},{"$f":"IFERROR(SUMPRODUCT(--(INDEX(Model_Inputs_Ref_Units,,CD$51)=$E151),INDEX(Model_Inputs_Ref_Units,,CD$52)),0)","v":0},{"$f":"IFERROR(SUMPRODUCT(--(INDEX(Model_Inputs_Ref_Units,,CE$51)=$E151),INDEX(Model_Inputs_Ref_Units,,CE$52)),0)","v":0},{"$f":"IFERROR(SUMPRODUCT(--(INDEX(Model_Inputs_Ref_Units,,CF$51)=$E151),INDEX(Model_Inputs_Ref_Units,,CF$52)),0)","v":0},{"$f":"IFERROR(SUMPRODUCT(--(INDEX(Model_Inputs_Ref_Units,,CG$51)=$E151),INDEX(Model_Inputs_Ref_Units,,CG$52)),0)","v":0},{"$f":"IFERROR(SUMPRODUCT(--(INDEX(Model_Inputs_Ref_Units,,CH$51)=$E151),INDEX(Model_Inputs_Ref_Units,,CH$52)),0)","v":0},{"$f":"IFERROR(SUMPRODUCT(--(INDEX(Model_Inputs_Ref_Units,,CI$51)=$E151),INDEX(Model_Inputs_Ref_Units,,CI$52)),0)","v":0},{"$f":"IFERROR(SUMPRODUCT(--(INDEX(Model_Inputs_Ref_Units,,CJ$51)=$E151),INDEX(Model_Inputs_Ref_Units,,CJ$52)),0)","v":0},{"$f":"IFERROR(SUMPRODUCT(--(INDEX(Model_Inputs_Ref_Units,,CK$51)=$E151),INDEX(Model_Inputs_Ref_Units,,CK$52)),0)","v":0},{"$f":"IFERROR(SUMPRODUCT(--(INDEX(Model_Inputs_Ref_Units,,CL$51)=$E151),INDEX(Model_Inputs_Ref_Units,,CL$52)),0)","v":0},{"$f":"IFERROR(SUMPRODUCT(--(INDEX(Model_Inputs_Ref_Units,,CM$51)=$E151),INDEX(Model_Inputs_Ref_Units,,CM$52)),0)","v":0},{"$f":"IFERROR(SUMPRODUCT(--(INDEX(Model_Inputs_Ref_Units,,CN$51)=$E151),INDEX(Model_Inputs_Ref_Units,,CN$52)),0)","v":0},{"$f":"IFERROR(SUMPRODUCT(--(INDEX(Model_Inputs_Ref_Units,,CO$51)=$E151),INDEX(Model_Inputs_Ref_Units,,CO$52)),0)","v":0},{"$f":"IFERROR(SUMPRODUCT(--(INDEX(Model_Inputs_Ref_Units,,CP$51)=$E151),INDEX(Model_Inputs_Ref_Units,,CP$52)),0)","v":0},{"$f":"IFERROR(SUMPRODUCT(--(INDEX(Model_Inputs_Ref_Units,,CQ$51)=$E151),INDEX(Model_Inputs_Ref_Units,,CQ$52)),0)","v":0},{"$f":"IFERROR(SUMPRODUCT(--(INDEX(Model_Inputs_Ref_Units,,CR$51)=$E151),INDEX(Model_Inputs_Ref_Units,,CR$52)),0)","v":0},{"$f":"IFERROR(SUMPRODUCT(--(INDEX(Model_Inputs_Ref_Units,,CS$51)=$E151),INDEX(Model_Inputs_Ref_Units,,CS$52)),0)","v":0},{"$f":"IFERROR(SUMPRODUCT(--(INDEX(Model_Inputs_Ref_Units,,CT$51)=$E151),INDEX(Model_Inputs_Ref_Units,,CT$52)),0)","v":0},{"$f":"IFERROR(SUMPRODUCT(--(INDEX(Model_Inputs_Ref_Units,,CU$51)=$E151),INDEX(Model_Inputs_Ref_Units,,CU$52)),0)","v":0},{"$f":"IFERROR(SUMPRODUCT(--(INDEX(Model_Inputs_Ref_Units,,CV$51)=$E151),INDEX(Model_Inputs_Ref_Units,,CV$52)),0)","v":0},{"$f":"IFERROR(SUMPRODUCT(--(INDEX(Model_Inputs_Ref_Units,,CW$51)=$E151),INDEX(Model_Inputs_Ref_Units,,CW$52)),0)","v":0},{"$f":"IFERROR(SUMPRODUCT(--(INDEX(Model_Inputs_Ref_Units,,CX$51)=$E151),INDEX(Model_Inputs_Ref_Units,,CX$52)),0)","v":0},{"$f":"IFERROR(SUMPRODUCT(--(INDEX(Model_Inputs_Ref_Units,,CY$51)=$E151),INDEX(Model_Inputs_Ref_Units,,CY$52)),0)","v":0},{"$f":"IFERROR(SUMPRODUCT(--(INDEX(Model_Inputs_Ref_Units,,CZ$51)=$E151),INDEX(Model_Inputs_Ref_Units,,CZ$52)),0)","v":0},{"$f":"IFERROR(SUMPRODUCT(--(INDEX(Model_Inputs_Ref_Units,,DA$51)=$E151),INDEX(Model_Inputs_Ref_Units,,DA$52)),0)","v":0},{"$f":"IFERROR(SUMPRODUCT(--(INDEX(Model_Inputs_Ref_Units,,DB$51)=$E151),INDEX(Model_Inputs_Ref_Units,,DB$52)),0)","v":0},{"$f":"IFERROR(SUMPRODUCT(--(INDEX(Model_Inputs_Ref_Units,,DC$51)=$E151),INDEX(Model_Inputs_Ref_Units,,DC$52)),0)","v":0},{"$f":"IFERROR(SUMPRODUCT(--(INDEX(Model_Inputs_Ref_Units,,DD$51)=$E151),INDEX(Model_Inputs_Ref_Units,,DD$52)),0)","v":0},{"$f":"IFERROR(SUMPRODUCT(--(INDEX(Model_Inputs_Ref_Units,,DE$51)=$E151),INDEX(Model_Inputs_Ref_Units,,DE$52)),0)","v":0},{"$f":"IFERROR(SUMPRODUCT(--(INDEX(Model_Inputs_Ref_Units,,DF$51)=$E151),INDEX(Model_Inputs_Ref_Units,,DF$52)),0)","v":0}]
[null,null,{"$error":"#DIV/0!"},null,{"$f":"IFERROR(INDEX(Ref_Data,1,F152),\"\")","v":""},99,0,0,0,0,{"$f":"IFERROR(SUMPRODUCT(--(INDEX(Model_Inputs_Ref_Units,,K$51)=$E152),INDEX(Model_Inputs_Ref_Units,,K$52)),0)","v":0},{"$f":"IFERROR(SUMPRODUCT(--(INDEX(Model_Inputs_Ref_Units,,L$51)=$E152),INDEX(Model_Inputs_Ref_Units,,L$52)),0)","v":0},{"$f":"IFERROR(SUMPRODUCT(--(INDEX(Model_Inputs_Ref_Units,,M$51)=$E152),INDEX(Model_Inputs_Ref_Units,,M$52)),0)","v":0},{"$f":"IFERROR(SUMPRODUCT(--(INDEX(Model_Inputs_Ref_Units,,N$51)=$E152),INDEX(Model_Inputs_Ref_Units,,N$52)),0)","v":0},{"$f":"IFERROR(SUMPRODUCT(--(INDEX(Model_Inputs_Ref_Units,,O$51)=$E152),INDEX(Model_Inputs_Ref_Units,,O$52)),0)","v":0},{"$f":"IFERROR(SUMPRODUCT(--(INDEX(Model_Inputs_Ref_Units,,P$51)=$E152),INDEX(Model_Inputs_Ref_Units,,P$52)),0)","v":0},{"$f":"IFERROR(SUMPRODUCT(--(INDEX(Model_Inputs_Ref_Units,,Q$51)=$E152),INDEX(Model_Inputs_Ref_Units,,Q$52)),0)","v":0},{"$f":"IFERROR(SUMPRODUCT(--(INDEX(Model_Inputs_Ref_Units,,R$51)=$E152),INDEX(Model_Inputs_Ref_Units,,R$52)),0)","v":0},{"$f":"IFERROR(SUMPRODUCT(--(INDEX(Model_Inputs_Ref_Units,,S$51)=$E152),INDEX(Model_Inputs_Ref_Units,,S$52)),0)","v":0},{"$f":"IFERROR(SUMPRODUCT(--(INDEX(Model_Inputs_Ref_Units,,T$51)=$E152),INDEX(Model_Inputs_Ref_Units,,T$52)),0)","v":0},{"$f":"IFERROR(SUMPRODUCT(--(INDEX(Model_Inputs_Ref_Units,,U$51)=$E152),INDEX(Model_Inputs_Ref_Units,,U$52)),0)","v":0},{"$f":"IFERROR(SUMPRODUCT(--(INDEX(Model_Inputs_Ref_Units,,V$51)=$E152),INDEX(Model_Inputs_Ref_Units,,V$52)),0)","v":0},{"$f":"IFERROR(SUMPRODUCT(--(INDEX(Model_Inputs_Ref_Units,,W$51)=$E152),INDEX(Model_Inputs_Ref_Units,,W$52)),0)","v":0},{"$f":"IFERROR(SUMPRODUCT(--(INDEX(Model_Inputs_Ref_Units,,X$51)=$E152),INDEX(Model_Inputs_Ref_Units,,X$52)),0)","v":0},{"$f":"IFERROR(SUMPRODUCT(--(INDEX(Model_Inputs_Ref_Units,,Y$51)=$E152),INDEX(Model_Inputs_Ref_Units,,Y$52)),0)","v":0},{"$f":"IFERROR(SUMPRODUCT(--(INDEX(Model_Inputs_Ref_Units,,Z$51)=$E152),INDEX(Model_Inputs_Ref_Units,,Z$52)),0)","v":0},{"$f":"IFERROR(SUMPRODUCT(--(INDEX(Model_Inputs_Ref_Units,,AA$51)=$E152),INDEX(Model_Inputs_Ref_Units,,AA$52)),0)","v":0},{"$f":"IFERROR(SUMPRODUCT(--(INDEX(Model_Inputs_Ref_Units,,AB$51)=$E152),INDEX(Model_Inputs_Ref_Units,,AB$52)),0)","v":0},{"$f":"IFERROR(SUMPRODUCT(--(INDEX(Model_Inputs_Ref_Units,,AC$51)=$E152),INDEX(Model_Inputs_Ref_Units,,AC$52)),0)","v":0},{"$f":"IFERROR(SUMPRODUCT(--(INDEX(Model_Inputs_Ref_Units,,AD$51)=$E152),INDEX(Model_Inputs_Ref_Units,,AD$52)),0)","v":0},{"$f":"IFERROR(SUMPRODUCT(--(INDEX(Model_Inputs_Ref_Units,,AE$51)=$E152),INDEX(Model_Inputs_Ref_Units,,AE$52)),0)","v":0},{"$f":"IFERROR(SUMPRODUCT(--(INDEX(Model_Inputs_Ref_Units,,AF$51)=$E152),INDEX(Model_Inputs_Ref_Units,,AF$52)),0)","v":0},{"$f":"IFERROR(SUMPRODUCT(--(INDEX(Model_Inputs_Ref_Units,,AG$51)=$E152),INDEX(Model_Inputs_Ref_Units,,AG$52)),0)","v":0},{"$f":"IFERROR(SUMPRODUCT(--(INDEX(Model_Inputs_Ref_Units,,AH$51)=$E152),INDEX(Model_Inputs_Ref_Units,,AH$52)),0)","v":0},{"$f":"IFERROR(SUMPRODUCT(--(INDEX(Model_Inputs_Ref_Units,,AI$51)=$E152),INDEX(Model_Inputs_Ref_Units,,AI$52)),0)","v":0},{"$f":"IFERROR(SUMPRODUCT(--(INDEX(Model_Inputs_Ref_Units,,AJ$51)=$E152),INDEX(Model_Inputs_Ref_Units,,AJ$52)),0)","v":0},{"$f":"IFERROR(SUMPRODUCT(--(INDEX(Model_Inputs_Ref_Units,,AK$51)=$E152),INDEX(Model_Inputs_Ref_Units,,AK$52)),0)","v":0},{"$f":"IFERROR(SUMPRODUCT(--(INDEX(Model_Inputs_Ref_Units,,AL$51)=$E152),INDEX(Model_Inputs_Ref_Units,,AL$52)),0)","v":0},{"$f":"IFERROR(SUMPRODUCT(--(INDEX(Model_Inputs_Ref_Units,,AM$51)=$E152),INDEX(Model_Inputs_Ref_Units,,AM$52)),0)","v":0},{"$f":"IFERROR(SUMPRODUCT(--(INDEX(Model_Inputs_Ref_Units,,AN$51)=$E152),INDEX(Model_Inputs_Ref_Units,,AN$52)),0)","v":0},{"$f":"IFERROR(SUMPRODUCT(--(INDEX(Model_Inputs_Ref_Units,,AO$51)=$E152),INDEX(Model_Inputs_Ref_Units,,AO$52)),0)","v":0},{"$f":"IFERROR(SUMPRODUCT(--(INDEX(Model_Inputs_Ref_Units,,AP$51)=$E152),INDEX(Model_Inputs_Ref_Units,,AP$52)),0)","v":0},{"$f":"IFERROR(SUMPRODUCT(--(INDEX(Model_Inputs_Ref_Units,,AQ$51)=$E152),INDEX(Model_Inputs_Ref_Units,,AQ$52)),0)","v":0},{"$f":"IFERROR(SUMPRODUCT(--(INDEX(Model_Inputs_Ref_Units,,AR$51)=$E152),INDEX(Model_Inputs_Ref_Units,,AR$52)),0)","v":0},{"$f":"IFERROR(SUMPRODUCT(--(INDEX(Model_Inputs_Ref_Units,,AS$51)=$E152),INDEX(Model_Inputs_Ref_Units,,AS$52)),0)","v":0},{"$f":"IFERROR(SUMPRODUCT(--(INDEX(Model_Inputs_Ref_Units,,AT$51)=$E152),INDEX(Model_Inputs_Ref_Units,,AT$52)),0)","v":0},{"$f":"IFERROR(SUMPRODUCT(--(INDEX(Model_Inputs_Ref_Units,,AU$51)=$E152),INDEX(Model_Inputs_Ref_Units,,AU$52)),0)","v":0},{"$f":"IFERROR(SUMPRODUCT(--(INDEX(Model_Inputs_Ref_Units,,AV$51)=$E152),INDEX(Model_Inputs_Ref_Units,,AV$52)),0)","v":0},{"$f":"IFERROR(SUMPRODUCT(--(INDEX(Model_Inputs_Ref_Units,,AW$51)=$E152),INDEX(Model_Inputs_Ref_Units,,AW$52)),0)","v":0},{"$f":"IFERROR(SUMPRODUCT(--(INDEX(Model_Inputs_Ref_Units,,AX$51)=$E152),INDEX(Model_Inputs_Ref_Units,,AX$52)),0)","v":0},{"$f":"IFERROR(SUMPRODUCT(--(INDEX(Model_Inputs_Ref_Units,,AY$51)=$E152),INDEX(Model_Inputs_Ref_Units,,AY$52)),0)","v":0},{"$f":"IFERROR(SUMPRODUCT(--(INDEX(Model_Inputs_Ref_Units,,AZ$51)=$E152),INDEX(Model_Inputs_Ref_Units,,AZ$52)),0)","v":0},{"$f":"IFERROR(SUMPRODUCT(--(INDEX(Model_Inputs_Ref_Units,,BA$51)=$E152),INDEX(Model_Inputs_Ref_Units,,BA$52)),0)","v":0},{"$f":"IFERROR(SUMPRODUCT(--(INDEX(Model_Inputs_Ref_Units,,BB$51)=$E152),INDEX(Model_Inputs_Ref_Units,,BB$52)),0)","v":0},{"$f":"IFERROR(SUMPRODUCT(--(INDEX(Model_Inputs_Ref_Units,,BC$51)=$E152),INDEX(Model_Inputs_Ref_Units,,BC$52)),0)","v":0},{"$f":"IFERROR(SUMPRODUCT(--(INDEX(Model_Inputs_Ref_Units,,BD$51)=$E152),INDEX(Model_Inputs_Ref_Units,,BD$52)),0)","v":0},{"$f":"IFERROR(SUMPRODUCT(--(INDEX(Model_Inputs_Ref_Units,,BE$51)=$E152),INDEX(Model_Inputs_Ref_Units,,BE$52)),0)","v":0},{"$f":"IFERROR(SUMPRODUCT(--(INDEX(Model_Inputs_Ref_Units,,BF$51)=$E152),INDEX(Model_Inputs_Ref_Units,,BF$52)),0)","v":0},{"$f":"IFERROR(SUMPRODUCT(--(INDEX(Model_Inputs_Ref_Units,,BG$51)=$E152),INDEX(Model_Inputs_Ref_Units,,BG$52)),0)","v":0},{"$f":"IFERROR(SUMPRODUCT(--(INDEX(Model_Inputs_Ref_Units,,BH$51)=$E152),INDEX(Model_Inputs_Ref_Units,,BH$52)),0)","v":0},{"$f":"IFERROR(SUMPRODUCT(--(INDEX(Model_Inputs_Ref_Units,,BI$51)=$E152),INDEX(Model_Inputs_Ref_Units,,BI$52)),0)","v":0},{"$f":"IFERROR(SUMPRODUCT(--(INDEX(Model_Inputs_Ref_Units,,BJ$51)=$E152),INDEX(Model_Inputs_Ref_Units,,BJ$52)),0)","v":0},{"$f":"IFERROR(SUMPRODUCT(--(INDEX(Model_Inputs_Ref_Units,,BK$51)=$E152),INDEX(Model_Inputs_Ref_Units,,BK$52)),0)","v":0},{"$f":"IFERROR(SUMPRODUCT(--(INDEX(Model_Inputs_Ref_Units,,BL$51)=$E152),INDEX(Model_Inputs_Ref_Units,,BL$52)),0)","v":0},{"$f":"IFERROR(SUMPRODUCT(--(INDEX(Model_Inputs_Ref_Units,,BM$51)=$E152),INDEX(Model_Inputs_Ref_Units,,BM$52)),0)","v":0},{"$f":"IFERROR(SUMPRODUCT(--(INDEX(Model_Inputs_Ref_Units,,BN$51)=$E152),INDEX(Model_Inputs_Ref_Units,,BN$52)),0)","v":0},{"$f":"IFERROR(SUMPRODUCT(--(INDEX(Model_Inputs_Ref_Units,,BO$51)=$E152),INDEX(Model_Inputs_Ref_Units,,BO$52)),0)","v":0},{"$f":"IFERROR(SUMPRODUCT(--(INDEX(Model_Inputs_Ref_Units,,BP$51)=$E152),INDEX(Model_Inputs_Ref_Units,,BP$52)),0)","v":0},{"$f":"IFERROR(SUMPRODUCT(--(INDEX(Model_Inputs_Ref_Units,,BQ$51)=$E152),INDEX(Model_Inputs_Ref_Units,,BQ$52)),0)","v":0},{"$f":"IFERROR(SUMPRODUCT(--(INDEX(Model_Inputs_Ref_Units,,BR$51)=$E152),INDEX(Model_Inputs_Ref_Units,,BR$52)),0)","v":0},{"$f":"IFERROR(SUMPRODUCT(--(INDEX(Model_Inputs_Ref_Units,,BS$51)=$E152),INDEX(Model_Inputs_Ref_Units,,BS$52)),0)","v":0},{"$f":"IFERROR(SUMPRODUCT(--(INDEX(Model_Inputs_Ref_Units,,BT$51)=$E152),INDEX(Model_Inputs_Ref_Units,,BT$52)),0)","v":0},{"$f":"IFERROR(SUMPRODUCT(--(INDEX(Model_Inputs_Ref_Units,,BU$51)=$E152),INDEX(Model_Inputs_Ref_Units,,BU$52)),0)","v":0},{"$f":"IFERROR(SUMPRODUCT(--(INDEX(Model_Inputs_Ref_Units,,BV$51)=$E152),INDEX(Model_Inputs_Ref_Units,,BV$52)),0)","v":0},{"$f":"IFERROR(SUMPRODUCT(--(INDEX(Model_Inputs_Ref_Units,,BW$51)=$E152),INDEX(Model_Inputs_Ref_Units,,BW$52)),0)","v":0},{"$f":"IFERROR(SUMPRODUCT(--(INDEX(Model_Inputs_Ref_Units,,BX$51)=$E152),INDEX(Model_Inputs_Ref_Units,,BX$52)),0)","v":0},{"$f":"IFERROR(SUMPRODUCT(--(INDEX(Model_Inputs_Ref_Units,,BY$51)=$E152),INDEX(Model_Inputs_Ref_Units,,BY$52)),0)","v":0},{"$f":"IFERROR(SUMPRODUCT(--(INDEX(Model_Inputs_Ref_Units,,BZ$51)=$E152),INDEX(Model_Inputs_Ref_Units,,BZ$52)),0)","v":0},{"$f":"IFERROR(SUMPRODUCT(--(INDEX(Model_Inputs_Ref_Units,,CA$51)=$E152),INDEX(Model_Inputs_Ref_Units,,CA$52)),0)","v":0},{"$f":"IFERROR(SUMPRODUCT(--(INDEX(Model_Inputs_Ref_Units,,CB$51)=$E152),INDEX(Model_Inputs_Ref_Units,,CB$52)),0)","v":0},{"$f":"IFERROR(SUMPRODUCT(--(INDEX(Model_Inputs_Ref_Units,,CC$51)=$E152),INDEX(Model_Inputs_Ref_Units,,CC$52)),0)","v":0},{"$f":"IFERROR(SUMPRODUCT(--(INDEX(Model_Inputs_Ref_Units,,CD$51)=$E152),INDEX(Model_Inputs_Ref_Units,,CD$52)),0)","v":0},{"$f":"IFERROR(SUMPRODUCT(--(INDEX(Model_Inputs_Ref_Units,,CE$51)=$E152),INDEX(Model_Inputs_Ref_Units,,CE$52)),0)","v":0},{"$f":"IFERROR(SUMPRODUCT(--(INDEX(Model_Inputs_Ref_Units,,CF$51)=$E152),INDEX(Model_Inputs_Ref_Units,,CF$52)),0)","v":0},{"$f":"IFERROR(SUMPRODUCT(--(INDEX(Model_Inputs_Ref_Units,,CG$51)=$E152),INDEX(Model_Inputs_Ref_Units,,CG$52)),0)","v":0},{"$f":"IFERROR(SUMPRODUCT(--(INDEX(Model_Inputs_Ref_Units,,CH$51)=$E152),INDEX(Model_Inputs_Ref_Units,,CH$52)),0)","v":0},{"$f":"IFERROR(SUMPRODUCT(--(INDEX(Model_Inputs_Ref_Units,,CI$51)=$E152),INDEX(Model_Inputs_Ref_Units,,CI$52)),0)","v":0},{"$f":"IFERROR(SUMPRODUCT(--(INDEX(Model_Inputs_Ref_Units,,CJ$51)=$E152),INDEX(Model_Inputs_Ref_Units,,CJ$52)),0)","v":0},{"$f":"IFERROR(SUMPRODUCT(--(INDEX(Model_Inputs_Ref_Units,,CK$51)=$E152),INDEX(Model_Inputs_Ref_Units,,CK$52)),0)","v":0},{"$f":"IFERROR(SUMPRODUCT(--(INDEX(Model_Inputs_Ref_Units,,CL$51)=$E152),INDEX(Model_Inputs_Ref_Units,,CL$52)),0)","v":0},{"$f":"IFERROR(SUMPRODUCT(--(INDEX(Model_Inputs_Ref_Units,,CM$51)=$E152),INDEX(Model_Inputs_Ref_Units,,CM$52)),0)","v":0},{"$f":"IFERROR(SUMPRODUCT(--(INDEX(Model_Inputs_Ref_Units,,CN$51)=$E152),INDEX(Model_Inputs_Ref_Units,,CN$52)),0)","v":0},{"$f":"IFERROR(SUMPRODUCT(--(INDEX(Model_Inputs_Ref_Units,,CO$51)=$E152),INDEX(Model_Inputs_Ref_Units,,CO$52)),0)","v":0},{"$f":"IFERROR(SUMPRODUCT(--(INDEX(Model_Inputs_Ref_Units,,CP$51)=$E152),INDEX(Model_Inputs_Ref_Units,,CP$52)),0)","v":0},{"$f":"IFERROR(SUMPRODUCT(--(INDEX(Model_Inputs_Ref_Units,,CQ$51)=$E152),INDEX(Model_Inputs_Ref_Units,,CQ$52)),0)","v":0},{"$f":"IFERROR(SUMPRODUCT(--(INDEX(Model_Inputs_Ref_Units,,CR$51)=$E152),INDEX(Model_Inputs_Ref_Units,,CR$52)),0)","v":0},{"$f":"IFERROR(SUMPRODUCT(--(INDEX(Model_Inputs_Ref_Units,,CS$51)=$E152),INDEX(Model_Inputs_Ref_Units,,CS$52)),0)","v":0},{"$f":"IFERROR(SUMPRODUCT(--(INDEX(Model_Inputs_Ref_Units,,CT$51)=$E152),INDEX(Model_Inputs_Ref_Units,,CT$52)),0)","v":0},{"$f":"IFERROR(SUMPRODUCT(--(INDEX(Model_Inputs_Ref_Units,,CU$51)=$E152),INDEX(Model_Inputs_Ref_Units,,CU$52)),0)","v":0},{"$f":"IFERROR(SUMPRODUCT(--(INDEX(Model_Inputs_Ref_Units,,CV$51)=$E152),INDEX(Model_Inputs_Ref_Units,,CV$52)),0)","v":0},{"$f":"IFERROR(SUMPRODUCT(--(INDEX(Model_Inputs_Ref_Units,,CW$51)=$E152),INDEX(Model_Inputs_Ref_Units,,CW$52)),0)","v":0},{"$f":"IFERROR(SUMPRODUCT(--(INDEX(Model_Inputs_Ref_Units,,CX$51)=$E152),INDEX(Model_Inputs_Ref_Units,,CX$52)),0)","v":0},{"$f":"IFERROR(SUMPRODUCT(--(INDEX(Model_Inputs_Ref_Units,,CY$51)=$E152),INDEX(Model_Inputs_Ref_Units,,CY$52)),0)","v":0},{"$f":"IFERROR(SUMPRODUCT(--(INDEX(Model_Inputs_Ref_Units,,CZ$51)=$E152),INDEX(Model_Inputs_Ref_Units,,CZ$52)),0)","v":0},{"$f":"IFERROR(SUMPRODUCT(--(INDEX(Model_Inputs_Ref_Units,,DA$51)=$E152),INDEX(Model_Inputs_Ref_Units,,DA$52)),0)","v":0},{"$f":"IFERROR(SUMPRODUCT(--(INDEX(Model_Inputs_Ref_Units,,DB$51)=$E152),INDEX(Model_Inputs_Ref_Units,,DB$52)),0)","v":0},{"$f":"IFERROR(SUMPRODUCT(--(INDEX(Model_Inputs_Ref_Units,,DC$51)=$E152),INDEX(Model_Inputs_Ref_Units,,DC$52)),0)","v":0},{"$f":"IFERROR(SUMPRODUCT(--(INDEX(Model_Inputs_Ref_Units,,DD$51)=$E152),INDEX(Model_Inputs_Ref_Units,,DD$52)),0)","v":0},{"$f":"IFERROR(SUMPRODUCT(--(INDEX(Model_Inputs_Ref_Units,,DE$51)=$E152),INDEX(Model_Inputs_Ref_Units,,DE$52)),0)","v":0},{"$f":"IFERROR(SUMPRODUCT(--(INDEX(Model_Inputs_Ref_Units,,DF$51)=$E152),INDEX(Model_Inputs_Ref_Units,,DF$52)),0)","v":0}]
[null,null,{"$error":"#DIV/0!"},null,{"$f":"IFERROR(INDEX(Ref_Data,1,F153),\"\")","v":""},100,0,0,0,0,{"$f":"IFERROR(SUMPRODUCT(--(INDEX(Model_Inputs_Ref_Units,,K$51)=$E153),INDEX(Model_Inputs_Ref_Units,,K$52)),0)","v":0},{"$f":"IFERROR(SUMPRODUCT(--(INDEX(Model_Inputs_Ref_Units,,L$51)=$E153),INDEX(Model_Inputs_Ref_Units,,L$52)),0)","v":0},{"$f":"IFERROR(SUMPRODUCT(--(INDEX(Model_Inputs_Ref_Units,,M$51)=$E153),INDEX(Model_Inputs_Ref_Units,,M$52)),0)","v":0},{"$f":"IFERROR(SUMPRODUCT(--(INDEX(Model_Inputs_Ref_Units,,N$51)=$E153),INDEX(Model_Inputs_Ref_Units,,N$52)),0)","v":0},{"$f":"IFERROR(SUMPRODUCT(--(INDEX(Model_Inputs_Ref_Units,,O$51)=$E153),INDEX(Model_Inputs_Ref_Units,,O$52)),0)","v":0},{"$f":"IFERROR(SUMPRODUCT(--(INDEX(Model_Inputs_Ref_Units,,P$51)=$E153),INDEX(Model_Inputs_Ref_Units,,P$52)),0)","v":0},{"$f":"IFERROR(SUMPRODUCT(--(INDEX(Model_Inputs_Ref_Units,,Q$51)=$E153),INDEX(Model_Inputs_Ref_Units,,Q$52)),0)","v":0},{"$f":"IFERROR(SUMPRODUCT(--(INDEX(Model_Inputs_Ref_Units,,R$51)=$E153),INDEX(Model_Inputs_Ref_Units,,R$52)),0)","v":0},{"$f":"IFERROR(SUMPRODUCT(--(INDEX(Model_Inputs_Ref_Units,,S$51)=$E153),INDEX(Model_Inputs_Ref_Units,,S$52)),0)","v":0},{"$f":"IFERROR(SUMPRODUCT(--(INDEX(Model_Inputs_Ref_Units,,T$51)=$E153),INDEX(Model_Inputs_Ref_Units,,T$52)),0)","v":0},{"$f":"IFERROR(SUMPRODUCT(--(INDEX(Model_Inputs_Ref_Units,,U$51)=$E153),INDEX(Model_Inputs_Ref_Units,,U$52)),0)","v":0},{"$f":"IFERROR(SUMPRODUCT(--(INDEX(Model_Inputs_Ref_Units,,V$51)=$E153),INDEX(Model_Inputs_Ref_Units,,V$52)),0)","v":0},{"$f":"IFERROR(SUMPRODUCT(--(INDEX(Model_Inputs_Ref_Units,,W$51)=$E153),INDEX(Model_Inputs_Ref_Units,,W$52)),0)","v":0},{"$f":"IFERROR(SUMPRODUCT(--(INDEX(Model_Inputs_Ref_Units,,X$51)=$E153),INDEX(Model_Inputs_Ref_Units,,X$52)),0)","v":0},{"$f":"IFERROR(SUMPRODUCT(--(INDEX(Model_Inputs_Ref_Units,,Y$51)=$E153),INDEX(Model_Inputs_Ref_Units,,Y$52)),0)","v":0},{"$f":"IFERROR(SUMPRODUCT(--(INDEX(Model_Inputs_Ref_Units,,Z$51)=$E153),INDEX(Model_Inputs_Ref_Units,,Z$52)),0)","v":0},{"$f":"IFERROR(SUMPRODUCT(--(INDEX(Model_Inputs_Ref_Units,,AA$51)=$E153),INDEX(Model_Inputs_Ref_Units,,AA$52)),0)","v":0},{"$f":"IFERROR(SUMPRODUCT(--(INDEX(Model_Inputs_Ref_Units,,AB$51)=$E153),INDEX(Model_Inputs_Ref_Units,,AB$52)),0)","v":0},{"$f":"IFERROR(SUMPRODUCT(--(INDEX(Model_Inputs_Ref_Units,,AC$51)=$E153),INDEX(Model_Inputs_Ref_Units,,AC$52)),0)","v":0},{"$f":"IFERROR(SUMPRODUCT(--(INDEX(Model_Inputs_Ref_Units,,AD$51)=$E153),INDEX(Model_Inputs_Ref_Units,,AD$52)),0)","v":0},{"$f":"IFERROR(SUMPRODUCT(--(INDEX(Model_Inputs_Ref_Units,,AE$51)=$E153),INDEX(Model_Inputs_Ref_Units,,AE$52)),0)","v":0},{"$f":"IFERROR(SUMPRODUCT(--(INDEX(Model_Inputs_Ref_Units,,AF$51)=$E153),INDEX(Model_Inputs_Ref_Units,,AF$52)),0)","v":0},{"$f":"IFERROR(SUMPRODUCT(--(INDEX(Model_Inputs_Ref_Units,,AG$51)=$E153),INDEX(Model_Inputs_Ref_Units,,AG$52)),0)","v":0},{"$f":"IFERROR(SUMPRODUCT(--(INDEX(Model_Inputs_Ref_Units,,AH$51)=$E153),INDEX(Model_Inputs_Ref_Units,,AH$52)),0)","v":0},{"$f":"IFERROR(SUMPRODUCT(--(INDEX(Model_Inputs_Ref_Units,,AI$51)=$E153),INDEX(Model_Inputs_Ref_Units,,AI$52)),0)","v":0},{"$f":"IFERROR(SUMPRODUCT(--(INDEX(Model_Inputs_Ref_Units,,AJ$51)=$E153),INDEX(Model_Inputs_Ref_Units,,AJ$52)),0)","v":0},{"$f":"IFERROR(SUMPRODUCT(--(INDEX(Model_Inputs_Ref_Units,,AK$51)=$E153),INDEX(Model_Inputs_Ref_Units,,AK$52)),0)","v":0},{"$f":"IFERROR(SUMPRODUCT(--(INDEX(Model_Inputs_Ref_Units,,AL$51)=$E153),INDEX(Model_Inputs_Ref_Units,,AL$52)),0)","v":0},{"$f":"IFERROR(SUMPRODUCT(--(INDEX(Model_Inputs_Ref_Units,,AM$51)=$E153),INDEX(Model_Inputs_Ref_Units,,AM$52)),0)","v":0},{"$f":"IFERROR(SUMPRODUCT(--(INDEX(Model_Inputs_Ref_Units,,AN$51)=$E153),INDEX(Model_Inputs_Ref_Units,,AN$52)),0)","v":0},{"$f":"IFERROR(SUMPRODUCT(--(INDEX(Model_Inputs_Ref_Units,,AO$51)=$E153),INDEX(Model_Inputs_Ref_Units,,AO$52)),0)","v":0},{"$f":"IFERROR(SUMPRODUCT(--(INDEX(Model_Inputs_Ref_Units,,AP$51)=$E153),INDEX(Model_Inputs_Ref_Units,,AP$52)),0)","v":0},{"$f":"IFERROR(SUMPRODUCT(--(INDEX(Model_Inputs_Ref_Units,,AQ$51)=$E153),INDEX(Model_Inputs_Ref_Units,,AQ$52)),0)","v":0},{"$f":"IFERROR(SUMPRODUCT(--(INDEX(Model_Inputs_Ref_Units,,AR$51)=$E153),INDEX(Model_Inputs_Ref_Units,,AR$52)),0)","v":0},{"$f":"IFERROR(SUMPRODUCT(--(INDEX(Model_Inputs_Ref_Units,,AS$51)=$E153),INDEX(Model_Inputs_Ref_Units,,AS$52)),0)","v":0},{"$f":"IFERROR(SUMPRODUCT(--(INDEX(Model_Inputs_Ref_Units,,AT$51)=$E153),INDEX(Model_Inputs_Ref_Units,,AT$52)),0)","v":0},{"$f":"IFERROR(SUMPRODUCT(--(INDEX(Model_Inputs_Ref_Units,,AU$51)=$E153),INDEX(Model_Inputs_Ref_Units,,AU$52)),0)","v":0},{"$f":"IFERROR(SUMPRODUCT(--(INDEX(Model_Inputs_Ref_Units,,AV$51)=$E153),INDEX(Model_Inputs_Ref_Units,,AV$52)),0)","v":0},{"$f":"IFERROR(SUMPRODUCT(--(INDEX(Model_Inputs_Ref_Units,,AW$51)=$E153),INDEX(Model_Inputs_Ref_Units,,AW$52)),0)","v":0},{"$f":"IFERROR(SUMPRODUCT(--(INDEX(Model_Inputs_Ref_Units,,AX$51)=$E153),INDEX(Model_Inputs_Ref_Units,,AX$52)),0)","v":0},{"$f":"IFERROR(SUMPRODUCT(--(INDEX(Model_Inputs_Ref_Units,,AY$51)=$E153),INDEX(Model_Inputs_Ref_Units,,AY$52)),0)","v":0},{"$f":"IFERROR(SUMPRODUCT(--(INDEX(Model_Inputs_Ref_Units,,AZ$51)=$E153),INDEX(Model_Inputs_Ref_Units,,AZ$52)),0)","v":0},{"$f":"IFERROR(SUMPRODUCT(--(INDEX(Model_Inputs_Ref_Units,,BA$51)=$E153),INDEX(Model_Inputs_Ref_Units,,BA$52)),0)","v":0},{"$f":"IFERROR(SUMPRODUCT(--(INDEX(Model_Inputs_Ref_Units,,BB$51)=$E153),INDEX(Model_Inputs_Ref_Units,,BB$52)),0)","v":0},{"$f":"IFERROR(SUMPRODUCT(--(INDEX(Model_Inputs_Ref_Units,,BC$51)=$E153),INDEX(Model_Inputs_Ref_Units,,BC$52)),0)","v":0},{"$f":"IFERROR(SUMPRODUCT(--(INDEX(Model_Inputs_Ref_Units,,BD$51)=$E153),INDEX(Model_Inputs_Ref_Units,,BD$52)),0)","v":0},{"$f":"IFERROR(SUMPRODUCT(--(INDEX(Model_Inputs_Ref_Units,,BE$51)=$E153),INDEX(Model_Inputs_Ref_Units,,BE$52)),0)","v":0},{"$f":"IFERROR(SUMPRODUCT(--(INDEX(Model_Inputs_Ref_Units,,BF$51)=$E153),INDEX(Model_Inputs_Ref_Units,,BF$52)),0)","v":0},{"$f":"IFERROR(SUMPRODUCT(--(INDEX(Model_Inputs_Ref_Units,,BG$51)=$E153),INDEX(Model_Inputs_Ref_Units,,BG$52)),0)","v":0},{"$f":"IFERROR(SUMPRODUCT(--(INDEX(Model_Inputs_Ref_Units,,BH$51)=$E153),INDEX(Model_Inputs_Ref_Units,,BH$52)),0)","v":0},{"$f":"IFERROR(SUMPRODUCT(--(INDEX(Model_Inputs_Ref_Units,,BI$51)=$E153),INDEX(Model_Inputs_Ref_Units,,BI$52)),0)","v":0},{"$f":"IFERROR(SUMPRODUCT(--(INDEX(Model_Inputs_Ref_Units,,BJ$51)=$E153),INDEX(Model_Inputs_Ref_Units,,BJ$52)),0)","v":0},{"$f":"IFERROR(SUMPRODUCT(--(INDEX(Model_Inputs_Ref_Units,,BK$51)=$E153),INDEX(Model_Inputs_Ref_Units,,BK$52)),0)","v":0},{"$f":"IFERROR(SUMPRODUCT(--(INDEX(Model_Inputs_Ref_Units,,BL$51)=$E153),INDEX(Model_Inputs_Ref_Units,,BL$52)),0)","v":0},{"$f":"IFERROR(SUMPRODUCT(--(INDEX(Model_Inputs_Ref_Units,,BM$51)=$E153),INDEX(Model_Inputs_Ref_Units,,BM$52)),0)","v":0},{"$f":"IFERROR(SUMPRODUCT(--(INDEX(Model_Inputs_Ref_Units,,BN$51)=$E153),INDEX(Model_Inputs_Ref_Units,,BN$52)),0)","v":0},{"$f":"IFERROR(SUMPRODUCT(--(INDEX(Model_Inputs_Ref_Units,,BO$51)=$E153),INDEX(Model_Inputs_Ref_Units,,BO$52)),0)","v":0},{"$f":"IFERROR(SUMPRODUCT(--(INDEX(Model_Inputs_Ref_Units,,BP$51)=$E153),INDEX(Model_Inputs_Ref_Units,,BP$52)),0)","v":0},{"$f":"IFERROR(SUMPRODUCT(--(INDEX(Model_Inputs_Ref_Units,,BQ$51)=$E153),INDEX(Model_Inputs_Ref_Units,,BQ$52)),0)","v":0},{"$f":"IFERROR(SUMPRODUCT(--(INDEX(Model_Inputs_Ref_Units,,BR$51)=$E153),INDEX(Model_Inputs_Ref_Units,,BR$52)),0)","v":0},{"$f":"IFERROR(SUMPRODUCT(--(INDEX(Model_Inputs_Ref_Units,,BS$51)=$E153),INDEX(Model_Inputs_Ref_Units,,BS$52)),0)","v":0},{"$f":"IFERROR(SUMPRODUCT(--(INDEX(Model_Inputs_Ref_Units,,BT$51)=$E153),INDEX(Model_Inputs_Ref_Units,,BT$52)),0)","v":0},{"$f":"IFERROR(SUMPRODUCT(--(INDEX(Model_Inputs_Ref_Units,,BU$51)=$E153),INDEX(Model_Inputs_Ref_Units,,BU$52)),0)","v":0},{"$f":"IFERROR(SUMPRODUCT(--(INDEX(Model_Inputs_Ref_Units,,BV$51)=$E153),INDEX(Model_Inputs_Ref_Units,,BV$52)),0)","v":0},{"$f":"IFERROR(SUMPRODUCT(--(INDEX(Model_Inputs_Ref_Units,,BW$51)=$E153),INDEX(Model_Inputs_Ref_Units,,BW$52)),0)","v":0},{"$f":"IFERROR(SUMPRODUCT(--(INDEX(Model_Inputs_Ref_Units,,BX$51)=$E153),INDEX(Model_Inputs_Ref_Units,,BX$52)),0)","v":0},{"$f":"IFERROR(SUMPRODUCT(--(INDEX(Model_Inputs_Ref_Units,,BY$51)=$E153),INDEX(Model_Inputs_Ref_Units,,BY$52)),0)","v":0},{"$f":"IFERROR(SUMPRODUCT(--(INDEX(Model_Inputs_Ref_Units,,BZ$51)=$E153),INDEX(Model_Inputs_Ref_Units,,BZ$52)),0)","v":0},{"$f":"IFERROR(SUMPRODUCT(--(INDEX(Model_Inputs_Ref_Units,,CA$51)=$E153),INDEX(Model_Inputs_Ref_Units,,CA$52)),0)","v":0},{"$f":"IFERROR(SUMPRODUCT(--(INDEX(Model_Inputs_Ref_Units,,CB$51)=$E153),INDEX(Model_Inputs_Ref_Units,,CB$52)),0)","v":0},{"$f":"IFERROR(SUMPRODUCT(--(INDEX(Model_Inputs_Ref_Units,,CC$51)=$E153),INDEX(Model_Inputs_Ref_Units,,CC$52)),0)","v":0},{"$f":"IFERROR(SUMPRODUCT(--(INDEX(Model_Inputs_Ref_Units,,CD$51)=$E153),INDEX(Model_Inputs_Ref_Units,,CD$52)),0)","v":0},{"$f":"IFERROR(SUMPRODUCT(--(INDEX(Model_Inputs_Ref_Units,,CE$51)=$E153),INDEX(Model_Inputs_Ref_Units,,CE$52)),0)","v":0},{"$f":"IFERROR(SUMPRODUCT(--(INDEX(Model_Inputs_Ref_Units,,CF$51)=$E153),INDEX(Model_Inputs_Ref_Units,,CF$52)),0)","v":0},{"$f":"IFERROR(SUMPRODUCT(--(INDEX(Model_Inputs_Ref_Units,,CG$51)=$E153),INDEX(Model_Inputs_Ref_Units,,CG$52)),0)","v":0},{"$f":"IFERROR(SUMPRODUCT(--(INDEX(Model_Inputs_Ref_Units,,CH$51)=$E153),INDEX(Model_Inputs_Ref_Units,,CH$52)),0)","v":0},{"$f":"IFERROR(SUMPRODUCT(--(INDEX(Model_Inputs_Ref_Units,,CI$51)=$E153),INDEX(Model_Inputs_Ref_Units,,CI$52)),0)","v":0},{"$f":"IFERROR(SUMPRODUCT(--(INDEX(Model_Inputs_Ref_Units,,CJ$51)=$E153),INDEX(Model_Inputs_Ref_Units,,CJ$52)),0)","v":0},{"$f":"IFERROR(SUMPRODUCT(--(INDEX(Model_Inputs_Ref_Units,,CK$51)=$E153),INDEX(Model_Inputs_Ref_Units,,CK$52)),0)","v":0},{"$f":"IFERROR(SUMPRODUCT(--(INDEX(Model_Inputs_Ref_Units,,CL$51)=$E153),INDEX(Model_Inputs_Ref_Units,,CL$52)),0)","v":0},{"$f":"IFERROR(SUMPRODUCT(--(INDEX(Model_Inputs_Ref_Units,,CM$51)=$E153),INDEX(Model_Inputs_Ref_Units,,CM$52)),0)","v":0},{"$f":"IFERROR(SUMPRODUCT(--(INDEX(Model_Inputs_Ref_Units,,CN$51)=$E153),INDEX(Model_Inputs_Ref_Units,,CN$52)),0)","v":0},{"$f":"IFERROR(SUMPRODUCT(--(INDEX(Model_Inputs_Ref_Units,,CO$51)=$E153),INDEX(Model_Inputs_Ref_Units,,CO$52)),0)","v":0},{"$f":"IFERROR(SUMPRODUCT(--(INDEX(Model_Inputs_Ref_Units,,CP$51)=$E153),INDEX(Model_Inputs_Ref_Units,,CP$52)),0)","v":0},{"$f":"IFERROR(SUMPRODUCT(--(INDEX(Model_Inputs_Ref_Units,,CQ$51)=$E153),INDEX(Model_Inputs_Ref_Units,,CQ$52)),0)","v":0},{"$f":"IFERROR(SUMPRODUCT(--(INDEX(Model_Inputs_Ref_Units,,CR$51)=$E153),INDEX(Model_Inputs_Ref_Units,,CR$52)),0)","v":0},{"$f":"IFERROR(SUMPRODUCT(--(INDEX(Model_Inputs_Ref_Units,,CS$51)=$E153),INDEX(Model_Inputs_Ref_Units,,CS$52)),0)","v":0},{"$f":"IFERROR(SUMPRODUCT(--(INDEX(Model_Inputs_Ref_Units,,CT$51)=$E153),INDEX(Model_Inputs_Ref_Units,,CT$52)),0)","v":0},{"$f":"IFERROR(SUMPRODUCT(--(INDEX(Model_Inputs_Ref_Units,,CU$51)=$E153),INDEX(Model_Inputs_Ref_Units,,CU$52)),0)","v":0},{"$f":"IFERROR(SUMPRODUCT(--(INDEX(Model_Inputs_Ref_Units,,CV$51)=$E153),INDEX(Model_Inputs_Ref_Units,,CV$52)),0)","v":0},{"$f":"IFERROR(SUMPRODUCT(--(INDEX(Model_Inputs_Ref_Units,,CW$51)=$E153),INDEX(Model_Inputs_Ref_Units,,CW$52)),0)","v":0},{"$f":"IFERROR(SUMPRODUCT(--(INDEX(Model_Inputs_Ref_Units,,CX$51)=$E153),INDEX(Model_Inputs_Ref_Units,,CX$52)),0)","v":0},{"$f":"IFERROR(SUMPRODUCT(--(INDEX(Model_Inputs_Ref_Units,,CY$51)=$E153),INDEX(Model_Inputs_Ref_Units,,CY$52)),0)","v":0},{"$f":"IFERROR(SUMPRODUCT(--(INDEX(Model_Inputs_Ref_Units,,CZ$51)=$E153),INDEX(Model_Inputs_Ref_Units,,CZ$52)),0)","v":0},{"$f":"IFERROR(SUMPRODUCT(--(INDEX(Model_Inputs_Ref_Units,,DA$51)=$E153),INDEX(Model_Inputs_Ref_Units,,DA$52)),0)","v":0},{"$f":"IFERROR(SUMPRODUCT(--(INDEX(Model_Inputs_Ref_Units,,DB$51)=$E153),INDEX(Model_Inputs_Ref_Units,,DB$52)),0)","v":0},{"$f":"IFERROR(SUMPRODUCT(--(INDEX(Model_Inputs_Ref_Units,,DC$51)=$E153),INDEX(Model_Inputs_Ref_Units,,DC$52)),0)","v":0},{"$f":"IFERROR(SUMPRODUCT(--(INDEX(Model_Inputs_Ref_Units,,DD$51)=$E153),INDEX(Model_Inputs_Ref_Units,,DD$52)),0)","v":0},{"$f":"IFERROR(SUMPRODUCT(--(INDEX(Model_Inputs_Ref_Units,,DE$51)=$E153),INDEX(Model_Inputs_Ref_Units,,DE$52)),0)","v":0},{"$f":"IFERROR(SUMPRODUCT(--(INDEX(Model_Inputs_Ref_Units,,DF$51)=$E153),INDEX(Model_Inputs_Ref_Units,,DF$52)),0)","v":0}]

{"sheet":"AHRI 1200 Data Format","index":4,"n_rows":2,"n_cols":1,"rows_kept":2,"cut":false,"hidden":false,"merged":[]}
[]
["See AHRI 1200 for further details."]

{"sheet":"Ref_Instructions","index":5,"n_rows":23,"n_cols":14,"rows_kept":23,"cut":false,"hidden":true,"merged":[]}
["Optional"]
["Cell Location","Tab Name","Not Used","Button name","Find","Title","Notes","Not Used","Height","Width","Height","Width","Left","Top"]
[null,"Ref Data Entry",null,"Button 40",{"$f":"B3&D3","v":"Ref Data EntryButton 40"},"Mapping from Table G3.1.10.1","Per ASHRAE 90.1 Table G3.10.1 Commercial Refrigerators and Freezers\nMapping on the \"Ref Data Entry\" tab\nRefrigerator with solid doors -->Self-Contained Commercial Refrigerators and Commercial Freezers With and Without Doors, Vertical Closed Solid, 38F (Medium)\n\nRefrigerator with transparent doors -->Self-Contained Commercial Refrigerators and Commercial Freezers With and Without Doors, Vertical Closed Transparent, 38F (Medium)\n\nFreezers with solid doors -->Self-Contained Commercial Refrigerators and Commercial Freezers With and Without Doors, Vertical Closed Solid, 0F (Low)\n\nFreezers with transparent doors -->Self-Contained Commercial Refrigerators and Commercial Freezers With and Without Doors, Vertical Closed Transparent, 0F (Low)\n\nRefrigerators/freezers with solid doors-->Refrigerators/freezers with solid doors,n/a,Holding temperature\n\nCommercial refrigerators-->Self-Contained Commercial Refrigerators with Transparent Doors for Pull-Down Temperature Applications,Pull-Down,38F (Medium)",null,330,368.25,249.75,342,{"$f":"J3-98","v":270.25},{"$f":"I3-65","v":265}]
[null,"Ref Data Entry",null,"Button 49",{"$f":"B4&D4","v":"Ref Data EntryButton 49"},"Refrigeration Help","Per Equation (5) in the Performance Rating Method Reference Manual, https://www.pnnl.gov/main/publications/external/technical_reports/PNNL-26917.pdf for Self-Contained Only.\n\nQ = [(1-F)xkW - (FxkWxCOP)]x3.413\n\nQ = The rate of heat removal from the space due to the continuous operation of the refrigeration system (kBtu/h). A negative number means that heat is being removed from the space; a positive number means that heat is being added.\nkW = The power of the refrigeration system determined by using the DOE performance rating method (kW)\nF = The remote condenser fraction (unitless), remote condensers F = 1 and for self-contained condensers F = 0\nCOP = The coefficient of performance of the refrigeration system (unitless), for refrigerators COP = 3.6 and for freezers COP = 1.8\n\nFor Remote (if the refrigeration load for the unit is not provided):\nQ = [(CEC*COP*3.413) - (((kWhday/24 hours)-CEC)*3.413)] * LFadj * LLadj * Refcred\n\nWhere\nCEC = kWhday/22 hours\nkWhday = proposed design unit AHRI kWh per day from manufacturer\nLFadj = load factor adjustment, 84% for medium temperature units and 92% for low temperature units\nLLadj = applied to remove latent load, 91% for reach-in units, 73% for open medium temperature units, and 80% for open low temperature units\nRefcred = refrigeration credit, 0.45 for reach-ins and 0.6 for open units (credit for cooling, penalty for heating)\n\nFor Remote (if the refrigeration load for the unit is provided):\n\nQ = Refload *Credit\n\nRefload = refrigeration load per design documents\nCredit = refrigeration credit, 0.13 for reach-ins and 0.32 for open units (credit for cooling, penalty for heating)",null,330,368.25,249.75,342,{"$f":"J4-98","v":270.25},{"$f":"I4-65","v":265}]
[null,"Ref Data Entry",null,"Button 50","Ref Data EntryButton 50","Refrigeration Help","Per Equation (5) in the Performance Rating Method Reference Manual, https://www.pnnl.gov/main/publications/external/technical_reports/PNNL-26917.pdf for Self-Contained Only.\n\nQ = [(1-F)xkW - (FxkWxCOP)]x3.413\n\nQ = The rate of heat removal from the space due to the continuous operation of the refrigeration system (kBtu/h). A negative number means that heat is being removed from the space; a positive number means that heat is being added.\nkW = The power of the refrigeration system determined by using the DOE performance rating method (kW)\nF = The remote condenser fraction (unitless), remote condensers F = 1 and for self-contained condensers F = 0\nCOP = The coefficient of performance of the refrigeration system (unitless), for refrigerators COP = 3.6 and for freezers COP = 1.8\n\nFor Remote (if the refrigeration load for the unit is not provided):\nQ = [(CEC*COP*3.413) - (((kWhday/24 hours)-CEC)*3.413)] * LFadj * LLadj * Refcred\n\nWhere\nCEC = kWhday/22 hours\nkWhday = proposed design unit AHRI kWh per day from manufacturer\nLFadj = load factor adjustment, 84% for medium temperature units and 92% for low temperature units\nLLadj = applied to remove latent load, 91% for reach-in units, 73% for open medium temperature units, and 80% for open low temperature units\nRefcred = refrigeration credit, 0.45 for reach-ins and 0.6 for open units (credit for cooling, penalty for heating)\n\nFor Remote (if the refrigeration load for the unit is provided):\n\nQ = Refload *Credit\n\nRefload = refrigeration load per design documents\nCredit = refrigeration credit, 0.13 for reach-ins and 0.32 for open units (credit for cooling, penalty for heating)",null,330,368.25,249.75,342,270.25,265]
[null,"Ref Data Entry",null,"Button 51","Ref Data EntryButton 51","Refrigeration Help","Per page 3.66 in the Performance Rating Method Reference Manual, https://www.pnnl.gov/main/publications/external/technical_reports/PNNL-26917.pdf.\n\nF = The fraction of condenser heat that is rejected to the outdoors. For self-contained refrigeration casework, this value will be zero. For remote condenser systems, this value is 1.0. For combination systems, the value should be weighted according to refrigeration capacity.",null,330,368.25,249.75,342,270.25,265]
[null,"Ref Data Entry",null,"Button 52","Ref Data EntryButton 52","Refrigeration Help","Per page 3.67 in the Performance Rating Method Reference Manual, https://www.pnnl.gov/main/publications/external/technical_reports/PNNL-26917.pdf.\n\nCOP is prescribed to be 3.6 for refrigerators and 1.8 for freezers.\n\nThe coefficient of performance (COP) of the refrigeration system. This is used only to determine the heat removed or added to the space, not to determine the refrigeration power or energy.",null,330,368.25,249.75,342,{"$f":"J7-98","v":270.25},{"$f":"I7-65","v":265}]
[null,"Ref Data Entry",null,"Button 53","Ref Data EntryButton 53","Refrigeration Help","Per page 3.66 in the Performance Rating Method Reference Manual, https://www.pnnl.gov/main/publications/external/technical_reports/PNNL-26917.pdf.\n\nWith the performance rating method, refrigeration power is estimated by dividing kWh/day for all the refrigeration equipment in the space by 24 hours.",null,330,368.25,249.75,342,270.25,265]
[null,"Ref Data Entry",null,"Button 54","Ref Data EntryButton 54","Refrigeration Help","Per page 3.66 in the Performance Rating Method Reference Manual, https://www.pnnl.gov/main/publications/external/technical_reports/PNNL-26917.pdf.\n\nWith the performance rating method, refrigeration power is estimated by dividing kWh/day for all the refrigeration equipment in the space by 24 hours.",null,330,368.25,249.75,342,270.25,265]
[null,"Ref Data Entry",null,"Button 106","Ref Data EntryButton 106","Refrigeration Help","Please include all the information used to determine TDA or V.",null,330,368.25,249.75,342,{"$f":"J10-98","v":270.25},{"$f":"I10-65","v":265}]
[null,"Ref Data Entry",null,"Button 55","Ref Data EntryButton 55","Refrigeration Help","Per Equation (5) in the Performance Rating Method Reference Manual, https://www.pnnl.gov/main/publications/external/technical_reports/PNNL-26917.pdf for Self-Contained Only.\n\nQ = [(1-F)xkW - (FxkWxCOP)]x3.413\n\nQ = The rate of heat removal from the space due to the continuous operation of the refrigeration system (kBtu/h). A negative number means that heat is being removed from the space; a positive number means that heat is being added.\nkW = The power of the refrigeration system determined by using the DOE performance rating method (kW)\nF = The remote condenser fraction (unitless), remote condensers F = 1 and for self-contained condensers F = 0\nCOP = The coefficient of performance of the refrigeration system (unitless), for refrigerators COP = 3.6 and for freezers COP = 1.8\n\nFor Remote (if the refrigeration load for the unit is not provided):\nQ = [(CEC*COP*3.413) - (((kWhday/24 hours)-CEC)*3.413)] * LFadj * LLadj * Refcred\n\nWhere\nCEC = kWhday/22 hours\nkWhday = proposed design unit AHRI kWh per day from manufacturer\nLFadj = load factor adjustment, 84% for medium temperature units and 92% for low temperature units\nLLadj = applied to remove latent load, 91% for reach-in units, 73% for open medium temperature units, and 80% for open low temperature units\nRefcred = refrigeration credit, 0.45 for reach-ins and 0.6 for open units (credit for cooling, penalty for heating)\n\nFor Remote (if the refrigeration load for the unit is provided):\n\nQ = Refload *Credit\n\nRefload = refrigeration load per design documents\nCredit = refrigeration credit, 0.13 for reach-ins and 0.32 for open units (credit for cooling, penalty for heating)",null,330,368.25,249.75,342,270.25,265]
[null,"Ref Data Entry",null,"Button 56","Ref Data EntryButton 56","Refrigeration Help","Per Equation (5) in the Performance Rating Method Reference Manual, https://www.pnnl.gov/main/publications/external/technical_reports/PNNL-26917.pdf for Self-Contained Only.\n\nQ = [(1-F)xkW - (FxkWxCOP)]x3.413\n\nQ = The rate of heat removal from the space due to the continuous operation of the refrigeration system (kBtu/h). A negative number means that heat is being removed from the space; a positive number means that heat is being added.\nkW = The power of the refrigeration system determined by using the DOE performance rating method (kW)\nF = The remote condenser fraction (unitless), remote condensers F = 1 and for self-contained condensers F = 0\nCOP = The coefficient of performance of the refrigeration system (unitless), for refrigerators COP = 3.6 and for freezers COP = 1.8\n\nFor Remote (if the refrigeration load for the unit is not provided):\nQ = [(CEC*COP*3.413) - (((kWhday/24 hours)-CEC)*3.413)] * LFadj * LLadj * Refcred\n\nWhere\nCEC = kWhday/22 hours\nkWhday = proposed design unit AHRI kWh per day from manufacturer\nLFadj = load factor adjustment, 84% for medium temperature units and 92% for low temperature units\nLLadj = applied to remove latent load, 91% for reach-in units, 73% for open medium temperature units, and 80% for open low temperature units\nRefcred = refrigeration credit, 0.45 for reach-ins and 0.6 for open units (credit for cooling, penalty for heating)\n\nFor Remote (if the refrigeration load for the unit is provided):\n\nQ = Refload *Credit\n\nRefload = refrigeration load per design documents\nCredit = refrigeration credit, 0.13 for reach-ins and 0.32 for open units (credit for cooling, penalty for heating)",null,330,368.25,249.75,342,270.25,265]
[null,"Ref Data Entry",null,"Button 75","Ref Data EntryButton 75","Refrigeration Help","Per Table 12 in the Performance Rating Method Reference Manual, https://www.pnnl.gov/main/publications/external/technical_reports/PNNL-26917.pdf.\n\nDefault baseline = proposed.  Provide an explanation in the notes section below if this values is overridden.",null,330,368.25,249.75,342,270.25,265]
[null,"Ref Data Entry",null,"Button 93",{"$f":"B14&D14","v":"Ref Data EntryButton 93"},"Refrigeration Help","Requirement per ASHRAE 90.1 Section 6 Tables 6.8.1-12 and 6.8.1-13.",null,330,368.25,249.75,342,{"$f":"J14-98","v":270.25},{"$f":"I14-65","v":265}]
[null,"Ref Data Entry",null,"Button 79",{"$f":"B15&D15","v":"Ref Data EntryButton 79"},"Refrigeration Help","If the proposed AHRI 1200 kWh/day information is unavailable in the AHRI database or from the manufacturer then the baseline and proposed kWh/day must both be modeled identically and equal to the prescriptive kWh/day value required per the reference edition of ASHRAE 90.1. ",null,330,368.25,249.75,342,{"$f":"J15-98","v":270.25},{"$f":"I15-65","v":265}]
[null,"Ref Data Entry",null,"Button 104",{"$f":"B16&D16","v":"Ref Data EntryButton 104"},"Refrigeration Help","Temperature definitions from AHRI 1200-2013:\n\n3.13 Product Temperature. Commercial Refrigerated Display Merchandisers or Storage Cabinets shall be tested with one or more of the following Integrated Average Temperatures:\n3.13.1 Ice Cream Applications. Commercial Refrigerated Display Merchandisers and Storage Cabinets intended specifically for the storage, display or dispensing of ice cream and so labeled by the manufacturer shall have an Integrated Average Product Temperature of -15.0°F ± 2.0°F.\n3.13.2 Low Temperature Applications. Commercial Refrigerated Display Merchandisers and Storage Cabinets intended for Low Temperature Applications to include storing and displaying frozen foods, as well as ice cream products, shall have an Integrated Average Product Temperature of 0.0°F ± 2.0°F.\n3.13.3 Medium Temperature Applications. Commercial Refrigerated Display Merchandisers and Storage Cabinets intended for Medium Temperature Applications, shall have an Integrated Average Temperature of 38°F ± 2.0°F.\n3.13.4 Application Product Temperature. This test allows Integrated Average Temperatures other than 3.13.1, 3.13.2 and 3.13.3.\n\nNote: Requirement 3.13.1 is defined to address products designed and labeled explicitly for Ice Cream Applications as defined in the United States Code of Federal Regulations 10 CFR Part 431 Section IV.B.5. Freezer display merchandisers and storage cabinets that are designed for use in both low temperature (frozen food) and Ice Cream Applications by making set point adjustments will be rated as a low temperature application (3.13.2).",null,330,368.25,249.75,342,270.25,265]
[null,"Ref Data Entry",null,"Button 105",{"$f":"B17&D17","v":"Ref Data EntryButton 105"},"Refrigeration Help","Copy and paste the link below in your browser and see appendices C and D for the methodologies for determining V and TDA.\n\n http://www.ahrinet.org/App_Content/ahri/files/STANDARDS/ANSI/ANSI_AHRI_Standard_1200_I-P_2013.pdf\n\nThe Department of Energy database located at:\n https://www.regulations.doe.gov/certification-data/CCMS-4-Refrigeration_Equipment_-_Commercial__Single_Compartment.html#q=Product_Group_s%3A%22Refrigeration%20Equipment%20-%20Commercial%2C%20Single%20Compartment%22 \nmay be useful is establishing both the TDA, V, and the AHRI kWh/day values.",null,330,368.25,249.75,342,{"$f":"J17-98","v":270.25},{"$f":"I17-65","v":265}]
[null,"Ref Data Entry",null,"Button 76","Ref Data EntryButton 76","Refrigeration Help","Per Table 12 in the Performance Rating Method Reference Manual, https://www.pnnl.gov/main/publications/external/technical_reports/PNNL-26917.pdf.\n\nDefault baseline = proposed.  Provide an explanation in the notes section below if this values is overridden.",null,330,368.25,249.75,342,270.25,265]
[null,"Ref Data Entry",null,"Button 124",{"$f":"B19&D19","v":"Ref Data EntryButton 124"},"Refrigeration Help","Enter the total quantity of this type of refrigeration unit in the project.\n\nOn the \"Model Inputs\" tab you will then assign the quantity of each refrigeration unit associated with each thermal zone. Ensure that the quantity assigned to each thermal zone on the \"Model Inputs\" tab sums to the total quantity entered here.",null,330,368.25,249.75,342,270.25,265]
[null,"Ref Data Entry",null,"Button 107","Ref Data EntryButton 107","Refrigeration Help","The Department of Energy database located at:\n https://www.regulations.doe.gov/certification-data/CCMS-4-Refrigeration_Equipment_-_Commercial__Single_Compartment.html#q=Product_Group_s%3A%22Refrigeration%20Equipment%20-%20Commercial%2C%20Single%20Compartment%22 \nmay be useful is establishing both the TDA, V, and the AHRI kWh/day values.\n\nBold red text indicates that the entered kWh/day value may be out of the the typical range and that the entries for TDA/V and kWh/day should be rechecked for accuracy.",null,330,368.25,249.75,342,270.25,265]
[null,"Ref Data Entry",null,"Button 123",{"$f":"B21&D21","v":"Ref Data EntryButton 123"},"Refrigeration Help","Entry is not optional for \"Other-unregulated\" or for remote refrigeration units that are regulated but where AHRI information is unavailable.\n\nIf optional and entered then the heat gain to the space will be calculated using the entered refrigeration load otherwise it will be calculated based upon the entered kWh/day proposed.",null,330,368.25,249.75,342,{"$f":"J21-98","v":270.25},{"$f":"I21-65","v":265}]
[null,"Ref Data Entry",null,"Button 77","Ref Data EntryButton 77","Refrigeration Help","Per Table 12 in the Performance Rating Method Reference Manual, https://www.pnnl.gov/main/publications/external/technical_reports/PNNL-26917.pdf.\n\nDefault baseline = proposed.  Provide an explanation in the notes section below if this values is overridden.",null,330,368.25,249.75,342,270.25,265]
[null,"Ref Data Entry",null,"Button 78","Ref Data EntryButton 78","Refrigeration Help","Per Table 12 in the Performance Rating Method Reference Manual, https://www.pnnl.gov/main/publications/external/technical_reports/PNNL-26917.pdf.\n\nDefault baseline = proposed.  Provide an explanation in the notes section below if this values is overridden.",null,330,368.25,249.75,342,{"$f":"J23-98","v":270.25},{"$f":"I23-65","v":265}]

{"sheet":"Appendix G 2016","index":6,"n_rows":91,"n_cols":47,"rows_kept":91,"cut":false,"hidden":true,"merged":[]}
[null,null,null,"=mapped from 2019"]
[null,null,null,"=no applicable equipment for mapping",null,null,null,null,null,null,null,null,null,null,null,null,null,null,null,null,19,20,21,22,23,24,25,26]
[null,null,"Equipment Category","Condensing Unit Configuration","Equipment Family","Rating Temp, F","Operating Temperature","Equipment Classification","Maximum Daily Energy Consumption",null,null,null,null,null,null,null,"Year","Operating Temperature Adj","Lookup",null,"2016 V or TDA","2016 Slope","2016 Intercept","2013 V or TDA","2013 Slope","2013 Intercept","Low kWh/day Flag, average minus one standard deviation","High kWh/day Flag, average plus 2 standard deviations",null,null,null,null,"Equipment Category",null,null,null,null,null,null,null,null,null,"Table 12 PRM RM 2016"]
[null,"VOP.RC.M","Remote Condensing Commercial Refrigerators and Commercial Freezers","Remote (RC)","Vertical Open (VOP)","38 (M)","≥32",{"$f":"B4&\" Table G3.10.2\"","v":"VOP.RC.M Table G3.10.2"},null,1.01,"×","TDA","+",4.07,"AHRI",1200,2016,"38F (Medium)",{"$f":"C4&E4&D4&R4&Q4","v":"Remote Condensing Commercial Refrigerators and Commercial FreezersVertical Open (VOP)Remote (RC)38F (Medium)2016"},"x","TDA",0.82,4.07,"TDA",0.82,4.07,0.54700000000000004,0.94,null,null,null,null,"Remote Condensing Commercial Refrigerators and Commercial Freezers","Self-Contained Commercial Refrigerators and Commercial Freezers With and Without Doors","Self-Contained Commercial Refrigerators with Transparent Doors for Pull-Down Temperature Applications","Commercial Ice-Cream Freezers","Refrigerators/freezers with solid doors","Walk-In Refrigerator","Walk-In Freezer","Other-Unregulated",null,null,"Floor Area",null,"Refrigerator","Freezer","Row"]
[null,"SVO.RC.M","Remote Condensing Commercial Refrigerators and Commercial Freezers","Remote (RC)","Semivertical Open (SVO)","38 (M)","≥32",{"$f":"B5&\" Table G3.10.2\"","v":"SVO.RC.M Table G3.10.2"},null,1.01,"×","TDA","+",3.18,"AHRI",1200,2016,"38F (Medium)",{"$f":"C5&E5&D5&R5&Q5","v":"Remote Condensing Commercial Refrigerators and Commercial FreezersSemivertical Open (SVO)Remote (RC)38F (Medium)2016"},"x","TDA",0.83,3.18,"TDA",0.83,3.18,{"$f":"AA4","v":0.54700000000000004},{"$f":"AB4","v":0.94},null,"=first entries for a particular category",null,null,"Horizontal Closed Solid (HCS)","Horizontal Open (HZO)","Pull-Down (PD)","Horizontal Closed Solid (HCS)","n/a","n/a","n/a","n/a",null,null,1,2,3,4,5]
[null,"HZO.RC.M","Remote Condensing Commercial Refrigerators and Commercial Freezers","Remote (RC)","Horizontal Open (HZO)","38 (M)","≥32","HZO.RC.M Table G3.10.2",null,0.51,"×","TDA","+",2.88,"AHRI",1200,2016,"38F (Medium)","Remote Condensing Commercial Refrigerators and Commercial FreezersHorizontal Open (HZO)Remote (RC)38F (Medium)2016","x","TDA",0.35,2.88,"TDA",0.35,2.88,{"$f":"AA5","v":0.54700000000000004},{"$f":"AB5","v":0.94},null,null,null,null,"Horizontal Closed Transparent (HCT)","Semivertical Open (SVO)",null,"Horizontal Closed Transparent (HCT)",null,null,null,null,null,null,0,100.499,8,16,1]
[null,"VOP.RC.L","Remote Condensing Commercial Refrigerators and Commercial Freezers","Remote (RC)","Vertical Open (VOP)","0 (L)","<32","VOP.RC.L Table G3.10.2",null,2.84,"×","TDA","+",6.85,"AHRI",1200,2016,"0F (Low)","Remote Condensing Commercial Refrigerators and Commercial FreezersVertical Open (VOP)Remote (RC)0F (Low)2016","x","TDA",2.27,6.85,"TDA",2.27,6.85,0.35,1.94,"large range",null,null,null,"Horizontal Open (HZO)","Vertical Closed Solid (VCS)",null,"Horizontal Open (HZO)",null,null,null,null,null,null,100.4999,250.499,6,12,2]
[null,"HZO.RC.L","Remote Condensing Commercial Refrigerators and Commercial Freezers","Remote (RC)","Horizontal Open (HZO)","0 (L)","<32","HZO.RC.L Table G3.10.2",null,0.68,"×","TDA","+",6.88,"AHRI",1200,2016,"0F (Low)","Remote Condensing Commercial Refrigerators and Commercial FreezersHorizontal Open (HZO)Remote (RC)0F (Low)2016","x","TDA",0.56999999999999995,6.88,"TDA",0.56999999999999995,6.88,{"$f":"AA7","v":0.35},{"$f":"AB7","v":1.94},"large range",null,null,null,"Semivertical Open (SVO)","Vertical Closed Transparent (VCT)",null,"Semivertical Open (SVO)",null,null,null,null,null,null,250.4999,450.49900000000002,5,9.5,3]
[null,"VCT.RC.M","Remote Condensing Commercial Refrigerators and Commercial Freezers","Remote (RC)","Vertical Closed Transparent (VCT)","38 (M)","≥32","VCT.RC.M Table G3.10.2",null,0.48,"×","TDA","+",1.95,"AHRI",1200,2016,"38F (Medium)","Remote Condensing Commercial Refrigerators and Commercial FreezersVertical Closed Transparent (VCT)Remote (RC)38F (Medium)2016","x","TDA",0.22,1.95,"TDA",0.22,1.95,0.11,0.27,null,null,null,null,"Service Over Counter (SOC)","Vertical Open (VOP)",null,"Service Over Counter (SOC)",null,null,null,null,null,null,450.49990000000003,650.49900000000002,4.5,8,4]
[null,"VCT.RC.L","Remote Condensing Commercial Refrigerators and Commercial Freezers","Remote (RC)","Vertical Closed Transparent (VCT)","0 (L)","<32","VCT.RC.L Table G3.10.2",null,1.03,"×","TDA","+",2.61,"AHRI",1200,2016,"0F (Low)","Remote Condensing Commercial Refrigerators and Commercial FreezersVertical Closed Transparent (VCT)Remote (RC)0F (Low)2016","x","TDA",0.56000000000000005,2.61,"TDA",0.56000000000000005,2.61,0.41099999999999998,0.68700000000000006,null,null,null,null,"Vertical Closed Solid (VCS)",null,null,"Vertical Closed Solid (VCS)",null,null,null,null,null,null,650.49990000000003,800.49900000000002,4,7,5]
[null,"SOC.RC.M","Remote Condensing Commercial Refrigerators and Commercial Freezers","Remote (RC)","Service Over Counter (SOC)","38 (M)","≥32","SOC.RC.M Table G3.10.2",null,0.62,"×","TDA","+",0.11,"AHRI",1200,2016,"38F (Medium)","Remote Condensing Commercial Refrigerators and Commercial FreezersService Over Counter (SOC)Remote (RC)38F (Medium)2016","x","TDA",0.51,0.11,"TDA",0.51,0.11,0.27,0.54,null,null,null,null,"Vertical Closed Transparent (VCT)",null,null,"Vertical Closed Transparent (VCT)",null,null,null,null,null,null,800.49990000000003,1000.000001,3.5,6.5,6]
[null,"VOP.SC.M","Self-Contained Commercial Refrigerators and Commercial Freezers With and Without Doors","Self-Contained (SC)","Vertical Open (VOP)","38 (M)","≥32","VOP.SC.M Table G3.10.2",null,2.34,"×","TDA","+",4.71,"AHRI",1200,2016,"38F (Medium)","Self-Contained Commercial Refrigerators and Commercial Freezers With and Without DoorsVertical Open (VOP)Self-Contained (SC)38F (Medium)2016","x","TDA",1.74,4.71,"TDA",1.74,4.71,1.27,2.42,null,null,null,null,"Vertical Open (VOP)",null,null,"Vertical Open (VOP)",null,null,null,null,null,null,1000.000002,10000000000,3,6,7]
[null,"SVO.SC.M","Self-Contained Commercial Refrigerators and Commercial Freezers With and Without Doors","Self-Contained (SC)","Semivertical Open (SVO)","38 (M)","≥32","SVO.SC.M Table G3.10.2",null,2.23,"×","TDA","+",4.59,"AHRI",1200,2016,"38F (Medium)","Self-Contained Commercial Refrigerators and Commercial Freezers With and Without DoorsSemivertical Open (SVO)Self-Contained (SC)38F (Medium)2016","x","TDA",1.73,4.59,"TDA",1.73,4.59,{"$f":"AA12","v":1.27},{"$f":"AB12","v":2.42},null,null,null,null,"Remote (RC)","Self-Contained (SC)","Self-Contained (SC)","Remote (RC)","Self-Contained (SC)","Remote (RC)","Remote (RC)","Remote (RC)"]
[null,"HZO.SC.M","Self-Contained Commercial Refrigerators and Commercial Freezers With and Without Doors","Self-Contained (SC)","Horizontal Open (HZO)","38 (M)","≥32","HZO.SC.M Table G3.10.2",null,1.1399999999999999,"×","TDA","+",5.55,"AHRI",1200,2016,"38F (Medium)","Self-Contained Commercial Refrigerators and Commercial Freezers With and Without DoorsHorizontal Open (HZO)Self-Contained (SC)38F (Medium)2016","x","TDA",0.77,5.55,"TDA",0.77,5.55,{"$f":"AA13","v":1.27},{"$f":"AB13","v":2.42},null,null,null,null,null,null,null,"Self-Contained (SC)",null,null,null,"Self-Contained (SC)"]
[null,"HZO.SC.L","Self-Contained Commercial Refrigerators and Commercial Freezers With and Without Doors","Self-Contained (SC)","Horizontal Open (HZO)","0 (L)","<32","HZO.SC.L Table G3.10.2",null,2.63,"×","TDA","+",7.08,"AHRI",1200,2016,"0F (Low)","Self-Contained Commercial Refrigerators and Commercial Freezers With and Without DoorsHorizontal Open (HZO)Self-Contained (SC)0F (Low)2016","x","TDA",1.92,7.08,"TDA",1.92,7.08,1.1200000000000001,3.35,null,null,null,null,"0F (Low)","0F (Low)","38F (Medium)","-15F","Holding temperature","35F (Medium)","-10F","-10F"]
[null,"VCT.SC.I","Commercial Ice-Cream Freezers","Self-Contained (SC)","Vertical Closed Transparent (VCT)","– 15","≤–5","VCT.SC.I Table G3.10.2",null,1.63,"×","TDA","+",3.29,"AHRI",1200,2016,"-15F","Commercial Ice-Cream FreezersVertical Closed Transparent (VCT)Self-Contained (SC)-15F2016","x","TDA",0.67,3.29,"TDA",0.67,3.29,0.34,1.1100000000000001,null,null,null,null,"38F (Medium)","38F (Medium)",null,null,null,null,null,"-15F"]
[null,"VCS.SC.I","Commercial Ice-Cream Freezers","Self-Contained (SC)","Vertical Closed Solid (VCS)","– 15","≤–5","VCS.SC.I Table G3.10.2",null,0.55000000000000004,"×","V","+",0.88,"AHRI",1200,2016,"-15F","Commercial Ice-Cream FreezersVertical Closed Solid (VCS)Self-Contained (SC)-15F2016","x","V",0.38,0.88,"V",0.38,0.88,0.13800000000000001,0.60599999999999998,null,null,null,null,null,null,null,null,null,null,null,"0F (Low)"]
[null,"HCT.SC.I","Commercial Ice-Cream Freezers","Self-Contained (SC)","Horizontal Closed Transparent (HCT)","– 15","≤–5","HCT.SC.I Table G3.10.2",null,1.33,"×","TDA","+",0.43,"AHRI",1200,2016,"-15F","Commercial Ice-Cream FreezersHorizontal Closed Transparent (HCT)Self-Contained (SC)-15F2016","x","TDA",0.56000000000000005,0.43,"TDA",0.56000000000000005,0.43,{"$f":"AA16","v":0.34},{"$f":"AB16","v":1.1100000000000001},null,null,null,null,null,null,null,null,null,null,null,"38F (Medium)"]
[null,"SVO.RC.L","Remote Condensing Commercial Refrigerators and Commercial Freezers","Remote (RC)","Semivertical Open (SVO)","0 (L)","<32","SVO.RC.L Table G3.10.2",null,2.84,"×","TDA","+",6.85,"AHRI",1200,2016,"0F (Low)","Remote Condensing Commercial Refrigerators and Commercial FreezersSemivertical Open (SVO)Remote (RC)0F (Low)2016","x","TDA",2.27,6.85,"TDA",2.27,6.85,{"$f":"$AA$7","v":0.35},{"$f":"$AB$7","v":1.94},"large range",null,null,null,null,null,null,null,null,null,null,"Holding temperature"]
[null,"VOP.RC.I","Commercial Ice-Cream Freezers","Remote (RC)","Vertical Open (VOP)","– 15","≤–5","VOP.RC.I Table G3.10.2",null,3.6,"×","TDA","+",8.6999999999999993,"AHRI",1200,2016,"-15F","Commercial Ice-Cream FreezersVertical Open (VOP)Remote (RC)-15F2016","x","TDA",2.89,8.6999999999999993,"TDA",2.89,8.6999999999999993,{"$f":"$AA$7","v":0.35},{"$f":"$AB$7","v":1.94},"large range"]
[null,"SVO.RC.I","Commercial Ice-Cream Freezers","Remote (RC)","Semivertical Open (SVO)","– 15","≤–5","SVO.RC.I Table G3.10.2",null,3.6,"×","TDA","+",8.6999999999999993,"AHRI",1200,2016,"-15F","Commercial Ice-Cream FreezersSemivertical Open (SVO)Remote (RC)-15F2016","x","TDA",2.89,8.6999999999999993,"TDA",2.89,8.6999999999999993,0.35,1.94,"large range",null,null,null,"Remote Condensing Commercial Refrigerators and Commercial Freezers","Self-Contained Commercial Refrigerators and Commercial Freezers With and Without Doors","Remote Condensing Commercial Refrigerators and Commercial Freezers","Remote (RC)"]
[null,"HZO.RC.I","Commercial Ice-Cream Freezers","Remote (RC)","Horizontal Open (HZO)","– 15","≤–5","HZO.RC.I Table G3.10.2",null,0.87,"×","TDA","+",8.74,"AHRI",1200,2016,"-15F","Commercial Ice-Cream FreezersHorizontal Open (HZO)Remote (RC)-15F2016","x","TDA",0.72,8.74,"TDA",0.72,8.74,0.35,1.94,"large range",null,null,null,"Commercial Ice-Cream Freezers","Self-Contained Commercial Refrigerators with Transparent Doors for Pull-Down Temperature Applications","Self-Contained Commercial Refrigerators and Commercial Freezers With and Without Doors","Self-Contained (SC)"]
[null,"VCT.RC.I","Commercial Ice-Cream Freezers","Remote (RC)","Vertical Closed Transparent (VCT)","– 15","≤–5","VCT.RC.I Table G3.10.2",null,1.2,"×","TDA","+",3.05,"AHRI",1200,2016,"-15F","Commercial Ice-Cream FreezersVertical Closed Transparent (VCT)Remote (RC)-15F2016","x","TDA",0.66,3.05,"TDA",0.66,3.05,{"$f":"AA10","v":0.41099999999999998},{"$f":"AB10","v":0.68700000000000006},null,null,null,null,null,"Commercial Ice-Cream Freezers","Self-Contained Commercial Refrigerators with Transparent Doors for Pull-Down Temperature Applications","Self-Contained (SC)"]
[null,"HCT.RC.M","Remote Condensing Commercial Refrigerators and Commercial Freezers","Remote (RC)","Horizontal Closed Transparent (HCT)","38 (M)","≥32","HCT.RC.M Table G3.10.2",null,0.39,"×","TDA","+",0.13,"AHRI",1200,2016,"38F (Medium)","Remote Condensing Commercial Refrigerators and Commercial FreezersHorizontal Closed Transparent (HCT)Remote (RC)38F (Medium)2016","x","TDA",0.16,0.13,"TDA",0.16,0.13,{"$f":"AA9","v":0.11},{"$f":"AB9","v":0.27},null,null,null,null,null,"Refrigerators/freezers with solid doors","Commercial Ice-Cream Freezers"]
[null,"HCT.RC.L","Remote Condensing Commercial Refrigerators and Commercial Freezers","Remote (RC)","Horizontal Closed Transparent (HCT)","0 (L)","<32","HCT.RC.L Table G3.10.2",null,0.81,"×","TDA","+",0.26,"AHRI",1200,2016,"0F (Low)","Remote Condensing Commercial Refrigerators and Commercial FreezersHorizontal Closed Transparent (HCT)Remote (RC)0F (Low)2016","x","TDA",0.34,0.26,"TDA",0.34,0.26,{"$f":"AA10","v":0.41099999999999998},{"$f":"AB10","v":0.68700000000000006},null,null,null,null,null,null,"Refrigerators/freezers with solid doors","Self-Contained (SC)"]
[null,"HCT.RC.I","Commercial Ice-Cream Freezers","Remote (RC)","Horizontal Closed Transparent (HCT)","– 15","≤–5","HCT.RC.I Table G3.10.2",null,0.95,"×","TDA","+",0.31,"AHRI",1200,2016,"-15F","Commercial Ice-Cream FreezersHorizontal Closed Transparent (HCT)Remote (RC)-15F2016","x","TDA",0.4,0.31,"TDA",0.4,0.31,{"$f":"AA25","v":0.41099999999999998},{"$f":"AB25","v":0.68700000000000006},null,null,null,null,null,null,"Walk-In Refrigerator"]
[null,"VCS.RC.M","Remote Condensing Commercial Refrigerators and Commercial Freezers","Remote (RC)","Vertical Closed Solid (VCS)","38 (M)","≥32","VCS.RC.M Table G3.10.2",null,0.16,"×","V","+",0.26,"AHRI",1200,2016,"38F (Medium)","Remote Condensing Commercial Refrigerators and Commercial FreezersVertical Closed Solid (VCS)Remote (RC)38F (Medium)2016","x","V",0.11,0.26,"V",0.11,0.26,8.5999999999999993E-2,0.13,null,null,null,null,null,null,"Walk-In Freezer"]
[null,"VCS.RC.L","Remote Condensing Commercial Refrigerators and Commercial Freezers","Remote (RC)","Vertical Closed Solid (VCS)","0 (L)","<32","VCS.RC.L Table G3.10.2",null,0.33,"×","V","+",0.54,"AHRI",1200,2016,"0F (Low)","Remote Condensing Commercial Refrigerators and Commercial FreezersVertical Closed Solid (VCS)Remote (RC)0F (Low)2016","x","V",0.23,0.54,"V",0.23,0.54,0.16850000000000001,0.28000000000000003,null,null,null,null,null,null,"Other-Unregulated"]
[null,"VCS.RC.I","Commercial Ice-Cream Freezers","Remote (RC)","Vertical Closed Solid (VCS)","– 15","≤–5","VCS.RC.I Table G3.10.2",null,0.39,"×","V","+",0.63,"AHRI",1200,2016,"-15F","Commercial Ice-Cream FreezersVertical Closed Solid (VCS)Remote (RC)-15F2016","x","V",0.27,0.63,"V",0.27,0.63,{"$f":"AA28","v":0.16850000000000001},{"$f":"AB28","v":0.28000000000000003}]
[null,"HCS.RC.M","Remote Condensing Commercial Refrigerators and Commercial Freezers","Remote (RC)","Horizontal Closed Solid (HCS)","38 (M)","≥32","HCS.RC.M Table G3.10.2",null,0.16,"×","V","+",0.26,"AHRI",1200,2016,"38F (Medium)","Remote Condensing Commercial Refrigerators and Commercial FreezersHorizontal Closed Solid (HCS)Remote (RC)38F (Medium)2016","x","V",0.11,0.26,"V",0.11,0.26,{"$f":"AA27","v":8.5999999999999993E-2},{"$f":"AB27","v":0.13}]
[null,"HCS.RC.L","Remote Condensing Commercial Refrigerators and Commercial Freezers","Remote (RC)","Horizontal Closed Solid (HCS)","0 (L)","<32","HCS.RC.L Table G3.10.2",null,0.33,"×","V","+",0.54,"AHRI",1200,2016,"0F (Low)","Remote Condensing Commercial Refrigerators and Commercial FreezersHorizontal Closed Solid (HCS)Remote (RC)0F (Low)2016","x","V",0.23,0.54,"V",0.23,0.54,{"$f":"AA28","v":0.16850000000000001},{"$f":"AB28","v":0.28000000000000003}]
[null,"HCS.RC.I","Commercial Ice-Cream Freezers","Remote (RC)","Horizontal Closed Solid (HCS)","– 15","≤–5","HCS.RC.I Table G3.10.2",null,0.39,"×","V","+",0.63,"AHRI",1200,2016,"-15F","Commercial Ice-Cream FreezersHorizontal Closed Solid (HCS)Remote (RC)-15F2016","x","V",0.27,0.63,"V",0.27,0.63,{"$f":"AA31","v":0.16850000000000001},{"$f":"AB31","v":0.28000000000000003}]
[null,"HCS.RC.I","Commercial Ice-Cream Freezers","Remote (RC)","Horizontal Closed Solid (HCS)","– 15","≤–5","HCS.RC.I Table G3.10.2",null,0.39,"×","V","+",0.63,"AHRI",1200,2016,"-15F","Commercial Ice-Cream FreezersHorizontal Closed Solid (HCS)Remote (RC)-15F2016","x","V",0.27,0.63,"V",0.27,0.63,{"$f":"AA32","v":0.16850000000000001},{"$f":"AB32","v":0.28000000000000003}]
[null,"SOC.RC.L","Remote Condensing Commercial Refrigerators and Commercial Freezers","Remote (RC)","Service Over Counter (SOC)","0 (L)","<32","SOC.RC.L Table G3.10.2",null,1.3,"×","TDA","+",0.22,"AHRI",1200,2016,"0F (Low)","Remote Condensing Commercial Refrigerators and Commercial FreezersService Over Counter (SOC)Remote (RC)0F (Low)2016","x","TDA",1.08,0.22,"TDA",1.08,0.22,0.78600000000000003,1.04]
[null,"SOC.RC.I","Commercial Ice-Cream Freezers","Remote (RC)","Service Over Counter (SOC)","– 15","≤–5","SOC.RC.I Table G3.10.2",null,1.52,"×","TDA","+",0.26,"AHRI",1200,2016,"-15F","Commercial Ice-Cream FreezersService Over Counter (SOC)Remote (RC)-15F2016","x","TDA",1.26,0.26,"TDA",1.26,0.26,{"$f":"AA34","v":0.78600000000000003},{"$f":"AB34","v":1.04}]
[null,"VOP.SC.L","Self-Contained Commercial Refrigerators and Commercial Freezers With and Without Doors","Self-Contained (SC)","Vertical Open (VOP)","0 (L)","<32","VOP.SC.L Table G3.10.2",null,5.87,"×","TDA","+",11.82,"AHRI",1200,2016,"0F (Low)","Self-Contained Commercial Refrigerators and Commercial Freezers With and Without DoorsVertical Open (VOP)Self-Contained (SC)0F (Low)2016","x","TDA",4.37,11.82,"TDA",4.37,11.82,{"$f":"AA15","v":1.1200000000000001},{"$f":"AB15","v":3.35}]
[null,"VOP.SC.I","Commercial Ice-Cream Freezers","Self-Contained (SC)","Vertical Open (VOP)","– 15","≤–5","VOP.SC.I Table G3.10.2",null,7.45,"×","TDA","+",15.02,"AHRI",1200,2016,"-15F","Commercial Ice-Cream FreezersVertical Open (VOP)Self-Contained (SC)-15F2016","x","TDA",5.55,15.02,"TDA",5.55,15.02,{"$f":"AA36","v":1.1200000000000001},{"$f":"AB36","v":3.35}]
[null,"SVO.SC.L","Self-Contained Commercial Refrigerators and Commercial Freezers With and Without Doors","Self-Contained (SC)","Semivertical Open (SVO)","0 (L)","<32","SVO.SC.L Table G3.10.2",null,5.59,"×","TDA","+",11.51,"AHRI",1200,2016,"0F (Low)","Self-Contained Commercial Refrigerators and Commercial Freezers With and Without DoorsSemivertical Open (SVO)Self-Contained (SC)0F (Low)2016","x","TDA",4.34,11.51,"TDA",4.34,11.51,{"$f":"$AA$36","v":1.1200000000000001},{"$f":"$AB$36","v":3.35}]
[null,"SVO.SC.I","Commercial Ice-Cream Freezers","Self-Contained (SC)","Semivertical Open (SVO)","– 15","≤–5","SVO.SC.I Table G3.10.2",null,7.11,"×","TDA","+",14.63,"AHRI",1200,2016,"-15F","Commercial Ice-Cream FreezersSemivertical Open (SVO)Self-Contained (SC)-15F2016","x","TDA",5.52,14.63,"TDA",5.52,14.63,{"$f":"$AA$36","v":1.1200000000000001},{"$f":"$AB$36","v":3.35}]
[null,"HZO.SC.I","Commercial Ice-Cream Freezers","Self-Contained (SC)","Horizontal Open (HZO)","– 15","≤–5","HZO.SC.I Table G3.10.2",null,3.35,"×","TDA","+",9,"AHRI",1200,2016,"-15F","Commercial Ice-Cream FreezersHorizontal Open (HZO)Self-Contained (SC)-15F2016","x","TDA",2.44,9,"TDA",2.44,9,1.1200000000000001,3.35]
[null,"SOC.SC.I","Commercial Ice-Cream Freezers","Self-Contained (SC)","Service Over Counter (SOC)","– 15","≤–5","SOC.SC.I Table G3.10.2",null,2.13,"×","TDA","+",0.36,"AHRI",1200,2016,"-15F","Commercial Ice-Cream FreezersService Over Counter (SOC)Self-Contained (SC)-15F2016","x","TDA",1.76,0.36,"TDA",1.76,0.36,0.33,2.0499999999999998]
[null,"HCS.SC.I","Commercial Ice-Cream Freezers","Self-Contained (SC)","Horizontal Closed Solid (HCS)","– 15","≤–5","HCS.SC.I Table G3.10.2",null,0.55000000000000004,"×","V","+",0.88,"AHRI",1200,2016,"-15F","Commercial Ice-Cream FreezersHorizontal Closed Solid (HCS)Self-Contained (SC)-15F2016","x","V",0.38,0.88,"V",0.38,0.88,{"$f":"AA17","v":0.13800000000000001},{"$f":"AB17","v":0.60599999999999998}]
[null,null,"Self-Contained Commercial Refrigerators and Commercial Freezers With and Without Doors","Self-Contained (SC)","Vertical Closed Solid (VCS)","38 (M)","≥32","n/a, Table G3.10.1",null,0.125,"×","V","+",2.76,"AHRI",1200,2016,"38F (Medium)","Self-Contained Commercial Refrigerators and Commercial Freezers With and Without DoorsVertical Closed Solid (VCS)Self-Contained (SC)38F (Medium)2016","x","V",0.1,2.04,"V",0.1,2.04,3.7999999999999999E-2,0.27500000000000002]
[null,null,"Self-Contained Commercial Refrigerators and Commercial Freezers With and Without Doors","Self-Contained (SC)","Vertical Closed Transparent (VCT)","38 (M)","≥32","n/a, Table G3.10.1",null,0.17199999999999999,"×","V","+",4.7699999999999996,"AHRI",1200,2016,"38F (Medium)","Self-Contained Commercial Refrigerators and Commercial Freezers With and Without DoorsVertical Closed Transparent (VCT)Self-Contained (SC)38F (Medium)2016","x","V",0.12,3.34,"V",0.12,3.34,{"$f":"AA43","v":3.7999999999999999E-2},{"$f":"AB43","v":0.27500000000000002}]
[null,null,"Self-Contained Commercial Refrigerators and Commercial Freezers With and Without Doors","Self-Contained (SC)","Vertical Closed Solid (VCS)","0 (L)","<32","n/a, Table G3.10.1",null,0.39800000000000002,"×","V","+",2.2799999999999998,"AHRI",1200,2016,"0F (Low)","Self-Contained Commercial Refrigerators and Commercial Freezers With and Without DoorsVertical Closed Solid (VCS)Self-Contained (SC)0F (Low)2016","x","V",0.4,1.38,"V",0.4,1.38,{"$f":"AA17","v":0.13800000000000001},{"$f":"AB17","v":0.60599999999999998}]
[null,null,"Self-Contained Commercial Refrigerators and Commercial Freezers With and Without Doors","Self-Contained (SC)","Vertical Closed Transparent (VCT)","0 (L)","<32","n/a, Table G3.10.1",null,0.94,"×","V","+",5.0999999999999996,"AHRI",1200,2016,"0F (Low)","Self-Contained Commercial Refrigerators and Commercial Freezers With and Without DoorsVertical Closed Transparent (VCT)Self-Contained (SC)0F (Low)2016","x","V",0.75,4.0999999999999996,"V",0.75,4.0999999999999996,{"$f":"AA45","v":0.13800000000000001},{"$f":"AB45","v":0.60599999999999998}]
[null,null,"Refrigerators/freezers with solid doors","Self-Contained (SC)","n/a","Holding temperature","Holding temp.","n/a, Table G3.10.1",null,0.12,"×","V","+",4.7699999999999996,"AHRI",1200,2016,"Holding temperature","Refrigerators/freezers with solid doorsn/aSelf-Contained (SC)Holding temperature2016","x","V",0.12,3.34,"V",0.12,3.34,{"$f":"AA48","v":3.7999999999999999E-2},{"$f":"AB48","v":0.27500000000000002}]
[null,null,"Self-Contained Commercial Refrigerators with Transparent Doors for Pull-Down Temperature Applications","Self-Contained (SC)","Pull-Down (PD)","38 (M)","≥32","n/a, Table G3.10.1",null,0.18099999999999999,"×","V","+",5.01,"AHRI",1200,2016,"38F (Medium)","Self-Contained Commercial Refrigerators with Transparent Doors for Pull-Down Temperature ApplicationsPull-Down (PD)Self-Contained (SC)38F (Medium)2016","x","V",0.126,3.51,"V",0.126,3.51,{"$f":"AA43","v":3.7999999999999999E-2},{"$f":"AB43","v":0.27500000000000002}]
[]
[null,null,"Not Used"]
[null,null,"Table G3.10.2 Performance Rating Method Commercial Refrigeration (TDA = total display area ft, the sum of the projected area(s) for visible product, ft2) (V = volume of case, equals the gross refrigerated area (Ar) multiplied by the length of refrigerated space (L),)",null,null,null,null,null,null,null,null,null,null,null,null,null,"Table G3.10.1 Performance Rating Method Commercial Refrigerators and Freezers"]
[null,null,"Equipment Class","Family Code","Operating Mode","Rating Temperature","kWh/day",null,null,null,null,null,"Test","Lookup code",null,null,null,null,null,null,null,null,null,null,null,"Lookup"]
[null,null,"VOP.RC.M","Vertical open","Remote condensing","Medium temperature",1.01,"×","TDA","+",4.07,"AHRI",1200,{"$f":"\"Commercial Refrigeration\"&D53&E53&F53","v":"Commercial RefrigerationVertical openRemote condensingMedium temperature"},null,null,"Refrigerator with solid doors","Holding temperature",0.125,"×","V","+",2.76,"AHRI",1200,{"$f":"\"Commercial Refrigerator & Freezers\"&Q53&R53&\"N/A\"","v":"Commercial Refrigerator & FreezersRefrigerator with solid doorsHolding temperatureN/A"}]
[null,null,"SVO.RC.M","Semivertical open","Remote condensing","Medium temperature",1.01,"×","TDA","+",3.18,"AHRI",1200,{"$f":"\"Commercial Refrigeration\"&D54&E54&F54","v":"Commercial RefrigerationSemivertical openRemote condensingMedium temperature"},null,null,"Refrigerator with transparent doors","Holding temperature",0.17199999999999999,"×","V","+",4.7699999999999996,"AHRI",1200,{"$f":"\"Commercial Refrigerator & Freezers\"&Q54&R54&\"N/A\"","v":"Commercial Refrigerator & FreezersRefrigerator with transparent doorsHolding temperatureN/A"}]
[null,null,"HZO.RC.M","Horizontal open","Remote condensing","Medium temperature",0.51,"×","TDA","+",2.88,"AHRI",1200,"Commercial RefrigerationHorizontal openRemote condensingMedium temperature",null,null,"Freezers with solid doors","Holding temperature",0.39800000000000002,"×","V","+",2.2799999999999998,"AHRI",1200,"Commercial Refrigerator & FreezersFreezers with solid doorsHolding temperatureN/A"]
[null,null,"VOP.RC.L","Vertical open","Remote condensing","Low temperature",2.84,"×","TDA","+",6.85,"AHRI",1200,"Commercial RefrigerationVertical openRemote condensingLow temperature",null,null,"Freezers with transparent doors","Holding temperature",0.94,"×","V","+",5.0999999999999996,"AHRI",1200,"Commercial Refrigerator & FreezersFreezers with transparent doorsHolding temperatureN/A"]
[null,null,"HZO.RC.L","Horizontal open","Remote condensing","Low temperature",0.68,"×","TDA","+",6.88,"AHRI",1200,"Commercial RefrigerationHorizontal openRemote condensingLow temperature",null,null,"Refrigerators/freezers with solid doors","Holding temperature",0.12,"×","V","+",4.7699999999999996,"AHRI",1200,"Commercial Refrigerator & FreezersRefrigerators/freezers with solid doorsHolding temperatureN/A"]
[null,null,"VCT.RC.M","Vertical transparent door","Remote condensing","Medium temperature",0.48,"×","TDA","+",1.95,"AHRI",1200,"Commercial RefrigerationVertical transparent doorRemote condensingMedium temperature",null,null,"Commercial refrigerators","Pulldown",0.18099999999999999,"×","V","+",5.01,"AHRI",1201,"Commercial Refrigerator & FreezersCommercial refrigeratorsPulldownN/A"]
[null,null,"VCT.RC.L","Vertical transparent door","Remote condensing","Low temperature",1.03,"×","TDA","+",2.61,"AHRI",1200,"Commercial RefrigerationVertical transparent doorRemote condensingLow temperature"]
[null,null,"SOC.RC.M","Service over counter","Remote condensing","Medium temperature",0.62,"×","TDA","+",0.11,"AHRI",1200,"Commercial RefrigerationService over counterRemote condensingMedium temperature"]
[null,null,"VOP.SC.M","Vertical open","Self contained","Medium temperature",2.34,"×","TDA","+",4.71,"AHRI",1200,"Commercial RefrigerationVertical openSelf containedMedium temperature"]
[null,null,"SVO.SC.M","Semivertical open","Self contained","Medium temperature",2.23,"×","TDA","+",4.59,"AHRI",1200,"Commercial RefrigerationSemivertical openSelf containedMedium temperature"]
[null,null,"HZO.SC.M","Horizontal open","Self contained","Medium temperature",1.1399999999999999,"×","TDA","+",5.55,"AHRI",1200,"Commercial RefrigerationHorizontal openSelf containedMedium temperature"]
[null,null,"HZO.SC.L","Horizontal open","Self contained","Low temperature",2.63,"×","TDA","+",7.08,"AHRI",1200,"Commercial RefrigerationHorizontal openSelf containedLow temperature"]
[null,null,"VCT.SC.I","Vertical transparent door","Self contained","Ice cream",1.63,"×","TDA","+",3.29,"AHRI",1200,"Commercial RefrigerationVertical transparent doorSelf containedIce cream"]
[null,null,"VCS.SC.I","Vertical solid door","Self contained","Ice cream",0.55000000000000004,"×","V","+",0.88,"AHRI",1200,"Commercial RefrigerationVertical solid doorSelf containedIce cream"]
[null,null,"HCT.SC.I","Horizontal transparent door","Self contained","Ice cream",1.33,"×","TDA","+",0.43,"AHRI",1200,"Commercial RefrigerationHorizontal transparent doorSelf containedIce cream"]
[null,null,"SVO.RC.L","Semivertical open","Remote condensing","Low temperature",2.84,"×","TDA","+",6.85,"AHRI",1200,"Commercial RefrigerationSemivertical openRemote condensingLow temperature"]
[null,null,"VOP.RC.I","Vertical open","Remote condensing","Ice cream",3.6,"×","TDA","+",8.6999999999999993,"AHRI",1200,"Commercial RefrigerationVertical openRemote condensingIce cream"]
[null,null,"SVO.RC.I","Semivertical open","Remote condensing","Ice cream",3.6,"×","TDA","+",8.6999999999999993,"AHRI",1200,"Commercial RefrigerationSemivertical openRemote condensingIce cream"]
[null,null,"HZO.RC.I","Horizontal open","Remote condensing","Ice cream",0.87,"×","TDA","+",8.74,"AHRI",1200,"Commercial RefrigerationHorizontal openRemote condensingIce cream"]
[null,null,"VCT.RC.I","Vertical transparent door","Remote condensing","Ice cream",1.2,"×","TDA","+",3.05,"AHRI",1200,"Commercial RefrigerationVertical transparent doorRemote condensingIce cream"]
[null,null,"HCT.RC.M","Horizontal transparent door","Remote condensing","Medium temperature",0.39,"×","TDA","+",0.13,"AHRI",1200,"Commercial RefrigerationHorizontal transparent doorRemote condensingMedium temperature"]
[null,null,"HCT.RC.L","Horizontal transparent door","Remote condensing","Low temperature",0.81,"×","TDA","+",0.26,"AHRI",1200,"Commercial RefrigerationHorizontal transparent doorRemote condensingLow temperature"]
[null,null,"HCT.RC.I","Horizontal transparent door","Remote condensing","Ice cream",0.95,"×","TDA","+",0.31,"AHRI",1200,"Commercial RefrigerationHorizontal transparent doorRemote condensingIce cream"]
[null,null,"VCS.RC.M","Vertical solid door","Remote condensing","Medium temperature",0.16,"×","V","+",0.26,"AHRI",1200,"Commercial RefrigerationVertical solid doorRemote condensingMedium temperature"]
[null,null,"VCS.RC.L","Vertical solid door","Remote condensing","Low temperature",0.33,"×","V","+",0.54,"AHRI",1200,"Commercial RefrigerationVertical solid doorRemote condensingLow temperature"]
[null,null,"VCS.RC.I","Vertical solid door","Remote condensing","Ice cream",0.39,"×","V","+",0.63,"AHRI",1200,"Commercial RefrigerationVertical solid doorRemote condensingIce cream"]
[null,null,"HCS.RC.M","Horizontal solid door","Remote condensing","Medium temperature",0.16,"×","V","+",0.26,"AHRI",1200,"Commercial RefrigerationHorizontal solid doorRemote condensingMedium temperature"]
[null,null,"HCS.RC.L","Horizontal solid door","Remote condensing","Low temperature",0.33,"×","V","+",0.54,"AHRI",1200,"Commercial RefrigerationHorizontal solid doorRemote condensingLow temperature"]
[null,null,"HCS.RC.I","Horizontal solid door","Remote condensing","Ice cream",0.39,"×","V","+",0.63,"AHRI",1200,"Commercial RefrigerationHorizontal solid doorRemote condensingIce cream"]
[null,null,"HCS.RC.I","Horizontal solid door","Remote condensing","Ice cream",0.39,"×","V","+",0.63,"AHRI",1200,"Commercial RefrigerationHorizontal solid doorRemote condensingIce cream"]
[null,null,"SOC.RC.L","Service over counter","Remote condensing","Low temperature",1.3,"×","TDA","+",0.22,"AHRI",1200,"Commercial RefrigerationService over counterRemote condensingLow temperature"]
[null,null,"SOC.RC.I","Service over counter","Remote condensing","Ice cream",1.52,"×","TDA","+",0.26,"AHRI",1200,"Commercial RefrigerationService over counterRemote condensingIce cream"]
[null,null,"VOP.SC.L","Vertical open","Self contained","Low temperature",5.87,"×","TDA","+",11.82,"AHRI",1200,"Commercial RefrigerationVertical openSelf containedLow temperature"]
[null,null,"VOP.SC.I","Vertical open","Self contained","Ice cream",7.45,"×","TDA","+",15.02,"AHRI",1200,"Commercial RefrigerationVertical openSelf containedIce cream"]
[null,null,"SVO.SC.L","Semivertical open","Self contained","Low temperature",5.59,"×","TDA","+",11.51,"AHRI",1200,"Commercial RefrigerationSemivertical openSelf containedLow temperature"]
[null,null,"SVO.SC.I","Semivertical open","Self contained","Ice cream",7.11,"×","TDA","+",14.63,"AHRI",1200,"Commercial RefrigerationSemivertical openSelf containedIce cream"]
[null,null,"HZO.SC.I","Horizontal open","Self contained","Ice cream",3.35,"×","TDA","+",9,"AHRI",1200,"Commercial RefrigerationHorizontal openSelf containedIce cream"]
[null,null,"SOC.SC.I","Service over counter","Self contained","Ice cream",2.13,"×","TDA","+",0.36,"AHRI",1200,"Commercial RefrigerationService over counterSelf containedIce cream"]
[null,null,"HCS.SC.I","Horizontal solid door","Self contained","Ice cream",0.55000000000000004,"×","V","+",0.88,"AHRI",1200,"Commercial RefrigerationHorizontal solid doorSelf containedIce cream"]

{"sheet":"Constants","index":7,"n_rows":20,"n_cols":10,"rows_kept":20,"cut":false,"hidden":true,"merged":[]}
[]
[]
[]
[]
[]
[null,null,0.4,"% total kWh CEC for reach-ins per analysis of Hill Pheonix data"]
[null,null,0.85,"% total kWh CEC for open units per analysis of Hill Pheonix data"]
[]
[null,null,0.84,"Load factor, adjustment medium temp"]
[null,null,0.92,"Load factor, adjustment low temp"]
[]
[null,null,0.91,"Adjustment factor to remove latent loads for reach-ins, PNNL RM suggests ignoring latent loads, manufacturer literature also ignores latent loads"]
[null,null,0.73,"Adjustment factor to remove latent loads for open medium temp, PNNL RM suggests ignoring latent loads, manufacturer literature also ignores latent loads"]
[null,null,0.8,"Adjustment factor to remove latent loads for open low temp, PNNL RM suggests ignoring latent loads, manufacturer literature also ignores latent loads"]
[]
[null,null,0.45,"Ref credit reach-ins, based on manufacturer literature",null,null,null,null,null,"Consistent with manufacturer cooling credit and based upon modeling tests"]
[null,null,0.6,"Ref credit open units, based on manufacturer literature"]
[]
[null,null,0.13,"Ref credit reach-ins, based on manufacturer literature applied to ref load if provided"]
[null,null,0.32,"Ref credit open units, based on manufacturer literature applied to ref load if provided"]